Report for AppleII-LibA2-0.200

Back
From: metabase:user:30977d10-2aae-11df-837a-5e0a49663a4f
Subject: PASS AppleII-LibA2-0.200 v5.12.4 GNU/Linux
Date: 2015-08-05T08:56:54Z

This distribution has been tested as part of the CPAN Testers
project, supporting the Perl programming language.  See
http://wiki.cpantesters.org/ for more information or email
questions to cpan-testers-discuss@perl.org


--
Dear Christopher J. Madsen,

This is a computer-generated report for AppleII-LibA2-0.200
on perl 5.12.4, created by CPAN-Reporter-1.2014.

Thank you for uploading your work to CPAN.  Congratulations!
All tests were successful.

Sections of this report:

    * Tester comments
    * Program output
    * Prerequisites
    * Environment and other context

------------------------------
TESTER COMMENTS
------------------------------

Additional comments from tester:

this report is from an automated smoke testing program
and was not reviewed by a human for accuracy

------------------------------
PROGRAM OUTPUT
------------------------------

Output from './Build test':

# Listing %INC
#           AutoLoader 5.70
#                 Carp 1.36
#               Config undef
#           DynaLoader 1.10
#             Exporter 5.72
#                Fcntl 1.06
#           File::Glob 1.07
#           File::Spec 3.47
#     File::Spec::Unix 3.47
#         Getopt::Long 2.47
#                   IO 1.25_02
#             IO::File 1.14
#           IO::Handle 1.28
#         IO::Seekable 1.1
#                POSIX 1.19
#          SelectSaver 1.02
#               Symbol 1.07
#       Term::ReadLine 1.05
# Term::ReadLine::Perl 1.0303
#            Tie::Hash 1.03
#             XSLoader 0.10
#             constant 1.20
#             overload 1.10
#               strict 1.04
#                 vars 1.01
#             warnings 1.09
#   warnings::register 1.01
t/00-all_prereqs.t .. ok
t/10_Disk.t ......... ok
t/20_ProDOS.t ....... ok
t/30_PDsubs.t ....... ok
All tests successful.
Files=4, Tests=118,  0 wallclock secs ( 0.02 usr  0.00 sys +  0.10 cusr  0.00 csys =  0.12 CPU)
Result: PASS

------------------------------
PREREQUISITES
------------------------------

Prerequisite modules loaded:

requires:

    Module         Need  Have    
    -------------- ----- --------
    Carp           0     1.36    
    Exporter       5.57  5.72    
    File::Glob     0     1.07    
    Getopt::Long   2.10  2.47    
    IO::File       0     1.14    
    perl           5.006 5.012004
    POSIX          0     1.19    
    Term::ReadLine 0     1.05    

build_requires:

    Module         Need  Have    
    -------------- ----- --------
    FindBin        0     1.50    
    Module::Build  0     0.4214  
    Test::More     0     1.001014

configure_requires:

    Module         Need  Have    
    -------------- ----- --------
    Cwd            0     3.47    
    Module::Build  0.21  0.4214  
    perl           5.006 5.012004


------------------------------
ENVIRONMENT AND OTHER CONTEXT
------------------------------

Environment variables:

    AUTOMATED_TESTING = 1
    LANG = en_US.UTF-8
    PATH = /usr/local/bin:/usr/bin:/bin:/usr/local/games:/usr/games
    PERL5LIB = 
    PERL5OPT = 
    PERL5_CPANPLUS_IS_RUNNING = 30779
    PERL5_CPAN_IS_RUNNING = 30779
    PERL5_CPAN_IS_RUNNING_IN_RECURSION = 6135,30779
    PERL_CR_SMOKER_CURRENT = AppleII-LibA2-0.200
    PERL_EXTUTILS_AUTOINSTALL = --defaultdeps
    PERL_MM_USE_DEFAULT = 1
    SHELL = /bin/bash
    TERM = xterm

Perl special variables (and OS-specific diagnostics, for MSWin32):

    $^X = /home/stro/perl/5.12.4m/bin/perl
    $UID/$EUID = 1000 / 1000
    $GID = 1000 24 25 29 30 44 46 108 114 1000
    $EGID = 1000 24 25 29 30 44 46 108 114 1000

Perl module toolchain versions installed:

    Module              Have    
    ------------------- --------
    CPAN                1.94_56 
    CPAN::Meta          2.150005
    Cwd                 3.47    
    ExtUtils::CBuilder  0.280223
    ExtUtils::Command   1.16    
    ExtUtils::Install   1.55    
    ExtUtils::MakeMaker 7.04    
    ExtUtils::Manifest  1.70    
    ExtUtils::ParseXS   3.24    
    File::Spec          3.47    
    JSON                2.90    
    JSON::PP            2.27203 
    Module::Build       0.4214  
    Module::Signature   n/a     
    Parse::CPAN::Meta   1.4417  
    Test::Harness       3.35    
    Test::More          1.001014
    YAML                1.15    
    YAML::Syck          1.29    
    version             0.9912  


--

Summary of my perl5 (revision 5 version 12 subversion 4) configuration:
   
  Platform:
    osname=linux, osvers=3.16.0-4-amd64, archname=x86_64-linux-multi
    uname='linux vm-debian-001 3.16.0-4-amd64 #1 smp debian 3.16.7-ckt11-1 (2015-05-24) x86_64 gnulinux '
    config_args=''
    hint=recommended, useposix=true, d_sigaction=define
    useithreads=undef, usemultiplicity=define
    useperlio=define, d_sfio=undef, uselargefiles=define, usesocks=undef
    use64bitint=define, use64bitall=define, uselongdouble=undef
    usemymalloc=n, bincompat5005=undef
  Compiler:
    cc='cc', ccflags ='-fno-strict-aliasing -pipe -fstack-protector -I/usr/local/include -D_LARGEFILE_SOURCE -D_FILE_OFFSET_BITS=64',
    optimize='-O2',
    cppflags='-fno-strict-aliasing -pipe -fstack-protector -I/usr/local/include'
    ccversion='', gccversion='4.9.2', gccosandvers=''
    intsize=4, longsize=8, ptrsize=8, doublesize=8, byteorder=12345678
    d_longlong=define, longlongsize=8, d_longdbl=define, longdblsize=16
    ivtype='long', ivsize=8, nvtype='double', nvsize=8, Off_t='off_t', lseeksize=8
    alignbytes=8, prototype=define
  Linker and Libraries:
    ld='cc', ldflags =' -fstack-protector -L/usr/local/lib'
    libpth=/usr/local/lib /lib/x86_64-linux-gnu /lib/../lib /usr/lib/x86_64-linux-gnu /usr/lib/../lib /lib /usr/lib
    libs=-lnsl -ldl -lm -lcrypt -lutil -lc
    perllibs=-lnsl -ldl -lm -lcrypt -lutil -lc
    libc=, so=so, useshrplib=false, libperl=libperl.a
    gnulibc_version='2.19'
  Dynamic Linking:
    dlsrc=dl_dlopen.xs, dlext=so, d_dlsymun=undef, ccdlflags='-Wl,-E'
    cccdlflags='-fPIC', lddlflags='-shared -O2 -L/usr/local/lib -fstack-protector'


Characteristics of this binary (from libperl): 
  Compile-time options: MULTIPLICITY PERL_DONT_CREATE_GVSV
                        PERL_IMPLICIT_CONTEXT PERL_MALLOC_WRAP USE_64_BIT_ALL
                        USE_64_BIT_INT USE_LARGE_FILES USE_PERLIO
                        USE_PERL_ATOF
  Built under linux
  Compiled at Jul 17 2015 17:06:07
  %ENV:
    PERL5LIB=""
    PERL5OPT=""
    PERL5_CPANPLUS_IS_RUNNING="30779"
    PERL5_CPAN_IS_RUNNING="30779"
    PERL5_CPAN_IS_RUNNING_IN_RECURSION="6135,30779"
    PERL_CR_SMOKER_CURRENT="AppleII-LibA2-0.200"
    PERL_EXTUTILS_AUTOINSTALL="--defaultdeps"
    PERL_MM_USE_DEFAULT="1"
  @INC:
    /home/stro/perl/5.12.4m/lib/site_perl/5.12.4/x86_64-linux-multi
    /home/stro/perl/5.12.4m/lib/site_perl/5.12.4
    /home/stro/perl/5.12.4m/lib/5.12.4/x86_64-linux-multi
    /home/stro/perl/5.12.4m/lib/5.12.4
    .