Back
From: metabase:user:553c21ce-8d47-11df-9de5-e28c4c42590d
Subject: PASS Test-Pod-LinkCheck-0.008 v5.22.0 GNU/Linux
Date: 2015-07-10T18:17:26Z
This distribution has been tested as part of the CPAN Testers
project, supporting the Perl programming language. See
http://wiki.cpantesters.org/ for more information or email
questions to cpan-testers-discuss@perl.org
--
Dear APOCAL,
This is a computer-generated report for Test-Pod-LinkCheck-0.008
on perl 5.22.0, created by App::cpanminus::reporter 0.13 (1.7039).
Thank you for uploading your work to CPAN. Congratulations!
All tests were successful.
Sections of this report:
* Tester comments
* Program output
* Prerequisites
* Environment and other context
------------------------------
TESTER COMMENTS
------------------------------
Additional comments from tester:
none provided
------------------------------
PROGRAM OUTPUT
------------------------------
Output from '':
Building and testing Test-Pod-LinkCheck-0.008
cp lib/Test/Pod/LinkCheck.pm blib/lib/Test/Pod/LinkCheck.pm
#
You should load Test::Tester before Test::Builder (or anything that loads Test::Builder) at /home/ioanrogers/.plenv/versions/5.22.0/lib/perl5/5.22.0/Test/Tester.pm line 9.
#
# Generated by Dist::Zilla::Plugin::ReportVersions::Tiny v1.10
# perl: 5.022000 (wanted 5.006) on linux from /home/ioanrogers/.plenv/versions/5.22.0/bin/perl5.22.0
#
# App::PodLinkCheck::ParseLinks => 12 (want 4)
# App::PodLinkCheck::ParseSections => 12 (want any version)
# Capture::Tiny => 0.30 (want any version)
# Exporter => 5.72 (want any version)
# ExtUtils::MakeMaker => 7.0401 (want any version)
# File::Spec => 3.56 (want any version)
# File::Temp => 0.2304 (want any version)
# IO::Handle => 1.35 (want any version)
# IPC::Open3 => 1.18 (want any version)
# Module::Build::Tiny => 0.039 (want 0.039)
# Moose => 2.1405 (want 1.01)
# Moose::Util::TypeConstraints => 2.1405 (want 1.01)
# Pod::Find => 1.63 (want any version)
# Test::Builder => 1.001014 (want 0.94)
# Test::More => 1.001014 (want 0.88)
# Test::Pod => 1.51 (want 1.44)
# Test::Tester => 0.114 (want any version)
# parent => 0.232 (want any version)
# strict => 1.09 (want any version)
# warnings => 1.32 (want any version)
#
# Thanks for using my code. I hope it works for you.
# If not, please try and include this output in the bug report.
# That will help me reproduce the issue and solve your problem.
#
t/apocalypse.t ................ skipped: Test::Apocalypse required for validating the distribution
t/00-compile.t ................ ok
t/functions.t ................. ok
t/000-report-versions-tiny.t .. ok
t/cpan_backend.t .............. ok
t/simple.t .................... ok
All tests successful.
Test Summary Report
-------------------
t/cpan_backend.t (Wstat: 0 Tests: 24 Failed: 0)
TODO passed: 21-24
Files=6, Tests=130, 2 wallclock secs ( 0.05 usr 0.01 sys + 2.12 cusr 0.22 csys = 2.40 CPU)
Result: PASS
------------------------------
PREREQUISITES
------------------------------
Prerequisite modules loaded:
No requirements found
------------------------------
ENVIRONMENT AND OTHER CONTEXT
------------------------------
Environment variables:
LANG = en_CA.UTF-8
PATH = /home/ioanrogers/.plenv/versions/5.22.0/bin:/home/ioanrogers/.plenv/libexec:/home/ioanrogers/.plenv/plugins/perl-build/bin:/home/ioanrogers/.plenv/shims:~/.plenv/bin::/usr/local/bin:/usr/bin:/bin:/usr/local/sbin:/sbin:/usr/sbin:/usr/games
PERL_CPANM_OPT = --prompt --no-man-pages --verify --mirror http://mirrors.gossamer-threads.com/CPAN/
SHELL = /bin/bash
TERM = screen
Perl special variables (and OS-specific diagnostics, for MSWin32):
EGID = 21795 17289 21795 21796 33101
EUID = 58684
EXECUTABLE_NAME = /home/ioanrogers/.plenv/versions/5.22.0/bin/perl5.22.0
GID = 21795 17289 21795 21796 33101
UID = 58684
Perl module toolchain versions installed:
Module Have
------------------- --------
CPAN 2.11
CPAN::Meta 2.150001
Cwd 3.56
ExtUtils::CBuilder 0.280221
ExtUtils::Command 1.20
ExtUtils::Install 2.04
ExtUtils::MakeMaker 7.04_01
ExtUtils::Manifest 1.70
ExtUtils::ParseXS 3.28
File::Spec 3.56
JSON 2.90
JSON::PP 2.27300
Module::Build 0.4214
Module::Signature 0.79
Parse::CPAN::Meta 1.4414
Test::Harness 3.35
Test::More 1.001014
YAML 1.15
YAML::Syck n/a
version 0.9909
--
Summary of my perl5 (revision 5 version 22 subversion 0) configuration:
Platform:
osname=linux, osvers=3.18.11-gentoo, archname=x86_64-linux-ld
uname='linux ioan-debian1 3.18.11-gentoo #1 smp tue may 5 18:16:41 utc 2015 x86_64 gnulinux '
config_args='-Dprefix=/home/ioanrogers/.plenv/versions/5.22.0 -de -Dusedevel -Dman1dir=none -Dman3dir=none -Duselongdouble -Doptimize=-O3 -Dccflags-Wall -march=native -Dman1dir=none -Dman3dir=none -A'eval:scriptdir=/home/ioanrogers/.plenv/versions/5.22.0/bin''
hint=recommended, useposix=true, d_sigaction=define
useithreads=undef, usemultiplicity=undef
use64bitint=define, use64bitall=define, uselongdouble=define
usemymalloc=n, bincompat5005=undef
Compiler:
cc='cc', ccflags ='-fwrapv -fno-strict-aliasing -pipe -fstack-protector-strong -I/usr/local/include -D_LARGEFILE_SOURCE -D_FILE_OFFSET_BITS=64 -D_FORTIFY_SOURCE=2',
optimize='-O3',
cppflags='-fwrapv -fno-strict-aliasing -pipe -fstack-protector-strong -I/usr/local/include'
ccversion='', gccversion='4.9.2', gccosandvers=''
intsize=4, longsize=8, ptrsize=8, doublesize=8, byteorder=12345678, doublekind=3
d_longlong=define, longlongsize=8, d_longdbl=define, longdblsize=16, longdblkind=3
ivtype='long', ivsize=8, nvtype='long double', nvsize=16, Off_t='off_t', lseeksize=8
alignbytes=16, prototype=define
Linker and Libraries:
ld='cc', ldflags =' -fstack-protector-strong -L/usr/local/lib'
libpth=/usr/local/lib /usr/lib/gcc/x86_64-linux-gnu/4.9/include-fixed /usr/include/x86_64-linux-gnu /usr/lib /lib/x86_64-linux-gnu /lib/../lib /usr/lib/x86_64-linux-gnu /usr/lib/../lib /lib
libs=-lpthread -lnsl -ldl -lm -lcrypt -lutil -lc
perllibs=-lpthread -lnsl -ldl -lm -lcrypt -lutil -lc
libc=libc-2.19.so, so=so, useshrplib=false, libperl=libperl.a
gnulibc_version='2.19'
Dynamic Linking:
dlsrc=dl_dlopen.xs, dlext=so, d_dlsymun=undef, ccdlflags='-Wl,-E'
cccdlflags='-fPIC', lddlflags='-shared -O3 -L/usr/local/lib -fstack-protector-strong'
Characteristics of this binary (from libperl):
Compile-time options: HAS_TIMES PERLIO_LAYERS PERL_DONT_CREATE_GVSV
PERL_HASH_FUNC_ONE_AT_A_TIME_HARD PERL_MALLOC_WRAP
PERL_NEW_COPY_ON_WRITE PERL_PRESERVE_IVUV
PERL_USE_DEVEL USE_64_BIT_ALL USE_64_BIT_INT
USE_LARGE_FILES USE_LOCALE USE_LOCALE_COLLATE
USE_LOCALE_CTYPE USE_LOCALE_NUMERIC USE_LOCALE_TIME
USE_LONG_DOUBLE USE_PERLIO USE_PERL_ATOF
Locally applied patches:
Devel::PatchPerl 1.30
Built under linux
Compiled at Jul 10 2015 08:25:40
%ENV:
PERL_CPANM_OPT="--prompt --no-man-pages --verify --mirror http://mirrors.gossamer-threads.com/CPAN/"
@INC:
/home/ioanrogers/.plenv/versions/5.22.0/lib/perl5/site_perl/5.22.0/x86_64-linux-ld
/home/ioanrogers/.plenv/versions/5.22.0/lib/perl5/site_perl/5.22.0
/home/ioanrogers/.plenv/versions/5.22.0/lib/perl5/5.22.0/x86_64-linux-ld
/home/ioanrogers/.plenv/versions/5.22.0/lib/perl5/5.22.0
.