Back
From: metabase:user:314402c4-2aae-11df-837a-5e0a49663a4f
Subject: PASS WWW-Mechanize-Shell-0.53 v5.20.1 FreeBSD
Date: 2015-04-25T22:53:41Z
This distribution has been tested as part of the CPAN Testers
project, supporting the Perl programming language. See
http://wiki.cpantesters.org/ for more information or email
questions to cpan-testers-discuss@perl.org
--
Dear Max Maischein,
This is a computer-generated report for WWW-Mechanize-Shell-0.53
on perl 5.20.1, created by CPAN-Reporter-1.2011.
Thank you for uploading your work to CPAN. Congratulations!
All tests were successful.
Sections of this report:
* Tester comments
* Program output
* Prerequisites
* Environment and other context
------------------------------
TESTER COMMENTS
------------------------------
Additional comments from tester:
none provided
------------------------------
PROGRAM OUTPUT
------------------------------
Output from '/usr/bin/make test':
PERL_DL_NONLAZY=1 "/usr/perl5.20.1Dp/bin/perl" "-MExtUtils::Command::MM" "-MTest::Harness" "-e" "undef *Test::Harness::Switches; test_harness(0, 'blib/lib', 'blib/arch')" t/*.t
# Running under 5.020001
# Using 'WWW::Mechanize' version 1.74
# Using 'LWP::UserAgent' version 6.10
t/00-use.t ......................... ok
t/00a-Term-Shell-catch-smry.t ...... ok
t/01-fallback-Win32-OLE.t .......... ok
t/02-fallback-HTML-TableExtract.t .. ok
t/02-fallback-Pod-Constant.t ....... ok
t/03-documentation.t ............... ok
t/04-history-invariant.t ........... ok
t/05-options.t ..................... ok
t/06-valid-output.t ................ ok
t/07-history-items.t ............... ok
t/08-unknown-command.t ............. ok
t/09-invalid-filename.t ............ ok
t/11-browse-without-request.t ...... ok
t/12-comments.t .................... ok
# get http://foo:bar@cvrsnica-freebsd-101.herceg.de:47589/thisshouldpass
# get http://cvrsnica-freebsd-101.herceg.de:47589/thisshouldfail
# Credentials are foo bar
# Credentials are foo bar
Use of uninitialized value in string ne at t/13-command-au.t line 98.
# Shutting down test server at http://cvrsnica-freebsd-101.herceg.de:47589/
t/13-command-au.t .................. ok
# Loading HTTP::Daemon
# Spawning local test server
# on port 24522
CGI::param called in list context from package main line 64, this can lead to vulnerabilities. See the warning in "Fetching the value or values of a single named parameter" at /usr/perl5.20.1Dp/lib/site_perl/5.20.1/CGI.pm line 437, <DATA> line 32.
CGI::param called in list context from package main line 64, this can lead to vulnerabilities. See the warning in "Fetching the value or values of a single named parameter" at /usr/perl5.20.1Dp/lib/site_perl/5.20.1/CGI.pm line 437, <DATA> line 32.
CGI::param called in list context from package main line 64, this can lead to vulnerabilities. See the warning in "Fetching the value or values of a single named parameter" at /usr/perl5.20.1Dp/lib/site_perl/5.20.1/CGI.pm line 437, <DATA> line 32.
CGI::param called in list context from package main line 64, this can lead to vulnerabilities. See the warning in "Fetching the value or values of a single named parameter" at /usr/perl5.20.1Dp/lib/site_perl/5.20.1/CGI.pm line 437, <DATA> line 32.
CGI::param called in list context from package main line 64, this can lead to vulnerabilities. See the warning in "Fetching the value or values of a single named parameter" at /usr/perl5.20.1Dp/lib/site_perl/5.20.1/CGI.pm line 437, <DATA> line 32.
CGI::param called in list context from package main line 64, this can lead to vulnerabilities. See the warning in "Fetching the value or values of a single named parameter" at /usr/perl5.20.1Dp/lib/site_perl/5.20.1/CGI.pm line 437, <DATA> line 32.
CGI::param called in list context from package main line 64, this can lead to vulnerabilities. See the warning in "Fetching the value or values of a single named parameter" at /usr/perl5.20.1Dp/lib/site_perl/5.20.1/CGI.pm line 437, <DATA> line 32.
CGI::param called in list context from package main line 64, this can lead to vulnerabilities. See the warning in "Fetching the value or values of a single named parameter" at /usr/perl5.20.1Dp/lib/site_perl/5.20.1/CGI.pm line 437, <DATA> line 32.
CGI::param called in list context from package main line 64, this can lead to vulnerabilities. See the warning in "Fetching the value or values of a single named parameter" at /usr/perl5.20.1Dp/lib/site_perl/5.20.1/CGI.pm line 437, <DATA> line 32.
CGI::param called in list context from package main line 64, this can lead to vulnerabilities. See the warning in "Fetching the value or values of a single named parameter" at /usr/perl5.20.1Dp/lib/site_perl/5.20.1/CGI.pm line 437, <DATA> line 32.
CGI::param called in list context from package main line 64, this can lead to vulnerabilities. See the warning in "Fetching the value or values of a single named parameter" at /usr/perl5.20.1Dp/lib/site_perl/5.20.1/CGI.pm line 437, <DATA> line 32.
CGI::param called in list context from package main line 64, this can lead to vulnerabilities. See the warning in "Fetching the value or values of a single named parameter" at /usr/perl5.20.1Dp/lib/site_perl/5.20.1/CGI.pm line 437, <DATA> line 32.
CGI::param called in list context from package main line 64, this can lead to vulnerabilities. See the warning in "Fetching the value or values of a single named parameter" at /usr/perl5.20.1Dp/lib/site_perl/5.20.1/CGI.pm line 437, <DATA> line 32.
CGI::param called in list context from package main line 64, this can lead to vulnerabilities. See the warning in "Fetching the value or values of a single named parameter" at /usr/perl5.20.1Dp/lib/site_perl/5.20.1/CGI.pm line 437, <DATA> line 32.
CGI::param called in list context from package main line 64, this can lead to vulnerabilities. See the warning in "Fetching the value or values of a single named parameter" at /usr/perl5.20.1Dp/lib/site_perl/5.20.1/CGI.pm line 437, <DATA> line 32.
CGI::param called in list context from package main line 64, this can lead to vulnerabilities. See the warning in "Fetching the value or values of a single named parameter" at /usr/perl5.20.1Dp/lib/site_perl/5.20.1/CGI.pm line 437, <DATA> line 32.
CGI::param called in list context from package main line 64, this can lead to vulnerabilities. See the warning in "Fetching the value or values of a single named parameter" at /usr/perl5.20.1Dp/lib/site_perl/5.20.1/CGI.pm line 437, <DATA> line 32.
CGI::param called in list context from package main line 64, this can lead to vulnerabilities. See the warning in "Fetching the value or values of a single named parameter" at /usr/perl5.20.1Dp/lib/site_perl/5.20.1/CGI.pm line 437, <DATA> line 32.
CGI::param called in list context from package main line 64, this can lead to vulnerabilities. See the warning in "Fetching the value or values of a single named parameter" at /usr/perl5.20.1Dp/lib/site_perl/5.20.1/CGI.pm line 437, <DATA> line 32.
CGI::param called in list context from package main line 64, this can lead to vulnerabilities. See the warning in "Fetching the value or values of a single named parameter" at /usr/perl5.20.1Dp/lib/site_perl/5.20.1/CGI.pm line 437, <DATA> line 32.
CGI::param called in list context from package main line 64, this can lead to vulnerabilities. See the warning in "Fetching the value or values of a single named parameter" at /usr/perl5.20.1Dp/lib/site_perl/5.20.1/CGI.pm line 437, <DATA> line 32.
CGI::param called in list context from package main line 64, this can lead to vulnerabilities. See the warning in "Fetching the value or values of a single named parameter" at /usr/perl5.20.1Dp/lib/site_perl/5.20.1/CGI.pm line 437, <DATA> line 32.
CGI::param called in list context from package main line 64, this can lead to vulnerabilities. See the warning in "Fetching the value or values of a single named parameter" at /usr/perl5.20.1Dp/lib/site_perl/5.20.1/CGI.pm line 437, <DATA> line 32.
CGI::param called in list context from package main line 64, this can lead to vulnerabilities. See the warning in "Fetching the value or values of a single named parameter" at /usr/perl5.20.1Dp/lib/site_perl/5.20.1/CGI.pm line 437, <DATA> line 32.
CGI::param called in list context from package main line 64, this can lead to vulnerabilities. See the warning in "Fetching the value or values of a single named parameter" at /usr/perl5.20.1Dp/lib/site_perl/5.20.1/CGI.pm line 437, <DATA> line 32.
CGI::param called in list context from package main line 64, this can lead to vulnerabilities. See the warning in "Fetching the value or values of a single named parameter" at /usr/perl5.20.1Dp/lib/site_perl/5.20.1/CGI.pm line 437, <DATA> line 32.
CGI::param called in list context from package main line 64, this can lead to vulnerabilities. See the warning in "Fetching the value or values of a single named parameter" at /usr/perl5.20.1Dp/lib/site_perl/5.20.1/CGI.pm line 437, <DATA> line 32.
CGI::param called in list context from package main line 64, this can lead to vulnerabilities. See the warning in "Fetching the value or values of a single named parameter" at /usr/perl5.20.1Dp/lib/site_perl/5.20.1/CGI.pm line 437, <DATA> line 32.
CGI::param called in list context from package main line 64, this can lead to vulnerabilities. See the warning in "Fetching the value or values of a single named parameter" at /usr/perl5.20.1Dp/lib/site_perl/5.20.1/CGI.pm line 437, <DATA> line 32.
CGI::param called in list context from package main line 64, this can lead to vulnerabilities. See the warning in "Fetching the value or values of a single named parameter" at /usr/perl5.20.1Dp/lib/site_perl/5.20.1/CGI.pm line 437, <DATA> line 32.
CGI::param called in list context from package main line 64, this can lead to vulnerabilities. See the warning in "Fetching the value or values of a single named parameter" at /usr/perl5.20.1Dp/lib/site_perl/5.20.1/CGI.pm line 437, <DATA> line 32.
CGI::param called in list context from package main line 64, this can lead to vulnerabilities. See the warning in "Fetching the value or values of a single named parameter" at /usr/perl5.20.1Dp/lib/site_perl/5.20.1/CGI.pm line 437, <DATA> line 32.
CGI::param called in list context from package main line 64, this can lead to vulnerabilities. See the warning in "Fetching the value or values of a single named parameter" at /usr/perl5.20.1Dp/lib/site_perl/5.20.1/CGI.pm line 437, <DATA> line 32.
CGI::param called in list context from package main line 64, this can lead to vulnerabilities. See the warning in "Fetching the value or values of a single named parameter" at /usr/perl5.20.1Dp/lib/site_perl/5.20.1/CGI.pm line 437, <DATA> line 32.
CGI::param called in list context from package main line 64, this can lead to vulnerabilities. See the warning in "Fetching the value or values of a single named parameter" at /usr/perl5.20.1Dp/lib/site_perl/5.20.1/CGI.pm line 437, <DATA> line 32.
CGI::param called in list context from package main line 64, this can lead to vulnerabilities. See the warning in "Fetching the value or values of a single named parameter" at /usr/perl5.20.1Dp/lib/site_perl/5.20.1/CGI.pm line 437, <DATA> line 32.
CGI::param called in list context from package main line 64, this can lead to vulnerabilities. See the warning in "Fetching the value or values of a single named parameter" at /usr/perl5.20.1Dp/lib/site_perl/5.20.1/CGI.pm line 437, <DATA> line 32.
CGI::param called in list context from package main line 64, this can lead to vulnerabilities. See the warning in "Fetching the value or values of a single named parameter" at /usr/perl5.20.1Dp/lib/site_perl/5.20.1/CGI.pm line 437, <DATA> line 32.
CGI::param called in list context from package main line 64, this can lead to vulnerabilities. See the warning in "Fetching the value or values of a single named parameter" at /usr/perl5.20.1Dp/lib/site_perl/5.20.1/CGI.pm line 437, <DATA> line 32.
CGI::param called in list context from package main line 64, this can lead to vulnerabilities. See the warning in "Fetching the value or values of a single named parameter" at /usr/perl5.20.1Dp/lib/site_perl/5.20.1/CGI.pm line 437, <DATA> line 32.
t/14-command-identity.t ............ ok
t/15-history-save.t ................ ok
t/16-form-fillout.t ................ ok
t/17-eval-multiline.t .............. ok
CGI::param called in list context from package main line 64, this can lead to vulnerabilities. See the warning in "Fetching the value or values of a single named parameter" at /usr/perl5.20.1Dp/lib/site_perl/5.20.1/CGI.pm line 437, <DATA> line 32.
CGI::param called in list context from package main line 64, this can lead to vulnerabilities. See the warning in "Fetching the value or values of a single named parameter" at /usr/perl5.20.1Dp/lib/site_perl/5.20.1/CGI.pm line 437, <DATA> line 32.
CGI::param called in list context from package main line 64, this can lead to vulnerabilities. See the warning in "Fetching the value or values of a single named parameter" at /usr/perl5.20.1Dp/lib/site_perl/5.20.1/CGI.pm line 437, <DATA> line 32.
t/18-browser-autosync.t ............ ok
t/19-value-multi.t ................. ok
t/20-restart-without-script.t ...... ok
t/21-autofill-re.t ................. ok
t/22-complete-command.t ............ ok
t/23-check-dumpresponses.t ......... ok
t/24-source-file.t ................. ok
t/25-save-file-nolink.t ............ ok
t/26-form-no-form.t ................ ok
t/27-form_number.t ................. ok
t/28-cmd-headers.t ................. ok
t/28-cmd-title.t ................... ok
t/28-html-tableextract.t ........... ok
t/29-launch-shell.t ................ ok
t/98-bin.t ......................... ok
# Checking for version 0.53
t/99-changes.t ..................... ok
t/99-manifest.t .................... ok
t/99-pod.t ......................... ok
t/99-todo.t ........................ ok
t/99-unix-text.t ................... ok
# Checking for $VERSION = '0.53';
t/99-versions.t .................... ok
All tests successful.
Files=40, Tests=778, 111 wallclock secs ( 0.63 usr 0.21 sys + 88.47 cusr 18.20 csys = 107.52 CPU)
Result: PASS
------------------------------
PREREQUISITES
------------------------------
Prerequisite modules loaded:
requires:
Module Need Have
-------------------------- ---- -----
Hook::LexWrap 0.2 0.25
HTML::Display 0 0.40
HTML::TokeParser::Simple 2 3.16
LWP 5.69 6.10
parent 0 0.228
Term::Shell 0.02 0.06
Test::Harness 2.3 3.30
URI::URL 0 5.04
WWW::Mechanize 1.2 1.74
WWW::Mechanize::FormFiller 0.05 0.11
build_requires:
Module Need Have
-------------------------- ---- -----
ExtUtils::MakeMaker 0 7.04
configure_requires:
Module Need Have
-------------------------- ---- -----
ExtUtils::MakeMaker 0 7.04
------------------------------
ENVIRONMENT AND OTHER CONTEXT
------------------------------
Environment variables:
DBIC_NO_WARN_BAD_PERL = 1
LC_ALL = de_DE.ISO8859-1
PATH = /usr/local/bin:/usr/bin:/bin:/usr/local/sbin:/usr/sbin:/sbin:/home/cpansand/bin/freebsd10.0:/home/cpansand/bin/sh:/home/cpansand/bin:/usr/games:/home/cpansand/devel:/home/eserte/src/srezic-misc/scripts
PERL5LIB = /home/cpansand/.cpan/build/HTML-Display-0.40-ROTe8i/blib/arch:/home/cpansand/.cpan/build/HTML-Display-0.40-ROTe8i/blib/lib:/home/cpansand/.cpan/build/WebService-Shutterstock-0.006-499zql/blib/arch:/home/cpansand/.cpan/build/WebService-Shutterstock-0.006-499zql/blib/lib:/home/cpansand/.cpan/build/REST-Client-272-Ft753R/blib/arch:/home/cpansand/.cpan/build/REST-Client-272-Ft753R/blib/lib:/home/cpansand/.cpan/build/Crypt-SSLeay-0.72-yfbwW2/blib/arch:/home/cpansand/.cpan/build/Crypt-SSLeay-0.72-yfbwW2/blib/lib:/home/cpansand/.cpan/build/GSSAPI-0.28-vkcDD2/blib/arch:/home/cpansand/.cpan/build/GSSAPI-0.28-vkcDD2/blib/lib
PERL5OPT =
PERL5_CPANPLUS_IS_RUNNING = 17829
PERL5_CPAN_IS_RUNNING = 17829
PERL5_CPAN_IS_RUNNING_IN_RECURSION = 2467,17829
PERLDOC = -MPod::Perldoc::ToTextOverstrike
PERL_BATCH = yes
PERL_CPAN_REPORTER_CONFIG = /var/tmp/cpansmoker-1023/cpanreporter_005_config.ini
PERL_EXTUTILS_AUTOINSTALL = --defaultdeps
PERL_HTML_DISPLAY_CLASS = HTML::Display::Mozilla
SHELL = /usr/local/bin/zsh
TERM = screen
TMPDIR = /var/tmp/cpansmoker-1023
Perl special variables (and OS-specific diagnostics, for MSWin32):
$^X = /usr/perl5.20.1Dp/bin/perl
$UID/$EUID = 1023 / 1023
$GID = 1023 1023
$EGID = 1023 1023
Perl module toolchain versions installed:
Module Have
------------------- --------
CPAN 2.05
CPAN::Meta 2.143240
Cwd 3.48
ExtUtils::CBuilder 0.280217
ExtUtils::Command 1.18
ExtUtils::Install 1.67
ExtUtils::MakeMaker 7.04
ExtUtils::Manifest 1.70
ExtUtils::ParseXS 3.24
File::Spec 3.48
JSON 2.90
JSON::PP 2.27203
Module::Build 0.4211
Module::Signature n/a
Parse::CPAN::Meta 1.4414
Test::Harness 3.30
Test::More 1.001014
YAML 1.14
YAML::Syck 1.29
version 0.9909
--
Summary of my perl5 (revision 5 version 20 subversion 1) configuration:
Platform:
osname=freebsd, osvers=10.1-release, archname=amd64-freebsd-ld
uname='freebsd cvrsnica-freebsd-101.herceg.de 10.1-release freebsd 10.1-release #0 r274401: tue nov 11 21:02:49 utc 2014 root@releng1.nyi.freebsd.org:usrobjusrsrcsysgeneric amd64 '
config_args='-ds -e -Dprefix=/usr/perl5.20.1Dp -Duselongdouble'
hint=recommended, useposix=true, d_sigaction=define
useithreads=undef, usemultiplicity=undef
use64bitint=define, use64bitall=define, uselongdouble=define
usemymalloc=n, bincompat5005=undef
Compiler:
cc='cc', ccflags ='-DHAS_FPSETMASK -DHAS_FLOATINGPOINT_H -fno-strict-aliasing -pipe -fstack-protector -I/usr/local/include',
optimize='-O',
cppflags='-DHAS_FPSETMASK -DHAS_FLOATINGPOINT_H -fno-strict-aliasing -pipe -fstack-protector -I/usr/local/include'
ccversion='', gccversion='4.2.1 Compatible FreeBSD Clang 3.4.1 (tags/RELEASE_34/dot1-final 208032)', gccosandvers=''
intsize=4, longsize=8, ptrsize=8, doublesize=8, byteorder=12345678
d_longlong=define, longlongsize=8, d_longdbl=define, longdblsize=16
ivtype='long', ivsize=8, nvtype='long double', nvsize=16, Off_t='off_t', lseeksize=8
alignbytes=16, prototype=define
Linker and Libraries:
ld='cc', ldflags ='-pthread -Wl,-E -fstack-protector -L/usr/local/lib'
libpth=/usr/lib /usr/local/lib /usr/include/clang/3.4.1 /usr/lib
libs=-lgdbm -lm -lcrypt -lutil -lc
perllibs=-lm -lcrypt -lutil -lc
libc=, so=so, useshrplib=false, libperl=libperl.a
gnulibc_version=''
Dynamic Linking:
dlsrc=dl_dlopen.xs, dlext=so, d_dlsymun=undef, ccdlflags=' '
cccdlflags='-DPIC -fPIC', lddlflags='-shared -L/usr/local/lib -fstack-protector'
Characteristics of this binary (from libperl):
Compile-time options: HAS_TIMES PERLIO_LAYERS PERL_DONT_CREATE_GVSV
PERL_HASH_FUNC_ONE_AT_A_TIME_HARD PERL_MALLOC_WRAP
PERL_NEW_COPY_ON_WRITE PERL_PRESERVE_IVUV
USE_64_BIT_ALL USE_64_BIT_INT USE_LARGE_FILES
USE_LOCALE USE_LOCALE_COLLATE USE_LOCALE_CTYPE
USE_LOCALE_NUMERIC USE_LONG_DOUBLE USE_PERLIO
USE_PERL_ATOF
Built under freebsd
Compiled at Feb 13 2015 08:17:27
%ENV:
PERL5LIB="/home/cpansand/.cpan/build/HTML-Display-0.40-ROTe8i/blib/arch:/home/cpansand/.cpan/build/HTML-Display-0.40-ROTe8i/blib/lib:/home/cpansand/.cpan/build/WebService-Shutterstock-0.006-499zql/blib/arch:/home/cpansand/.cpan/build/WebService-Shutterstock-0.006-499zql/blib/lib:/home/cpansand/.cpan/build/REST-Client-272-Ft753R/blib/arch:/home/cpansand/.cpan/build/REST-Client-272-Ft753R/blib/lib:/home/cpansand/.cpan/build/Crypt-SSLeay-0.72-yfbwW2/blib/arch:/home/cpansand/.cpan/build/Crypt-SSLeay-0.72-yfbwW2/blib/lib:/home/cpansand/.cpan/build/GSSAPI-0.28-vkcDD2/blib/arch:/home/cpansand/.cpan/build/GSSAPI-0.28-vkcDD2/blib/lib"
PERL5OPT=""
PERL5_CPANPLUS_IS_RUNNING="17829"
PERL5_CPAN_IS_RUNNING="17829"
PERL5_CPAN_IS_RUNNING_IN_RECURSION="2467,17829"
PERLDOC="-MPod::Perldoc::ToTextOverstrike"
PERL_BATCH="yes"
PERL_CPAN_REPORTER_CONFIG="/var/tmp/cpansmoker-1023/cpanreporter_005_config.ini"
PERL_EXTUTILS_AUTOINSTALL="--defaultdeps"
PERL_HTML_DISPLAY_CLASS="HTML::Display::Mozilla"
@INC:
/home/cpansand/.cpan/build/HTML-Display-0.40-ROTe8i/blib/arch
/home/cpansand/.cpan/build/HTML-Display-0.40-ROTe8i/blib/lib
/home/cpansand/.cpan/build/WebService-Shutterstock-0.006-499zql/blib/arch
/home/cpansand/.cpan/build/WebService-Shutterstock-0.006-499zql/blib/lib
/home/cpansand/.cpan/build/REST-Client-272-Ft753R/blib/arch
/home/cpansand/.cpan/build/REST-Client-272-Ft753R/blib/lib
/home/cpansand/.cpan/build/Crypt-SSLeay-0.72-yfbwW2/blib/arch
/home/cpansand/.cpan/build/Crypt-SSLeay-0.72-yfbwW2/blib/lib
/home/cpansand/.cpan/build/GSSAPI-0.28-vkcDD2/blib/arch
/home/cpansand/.cpan/build/GSSAPI-0.28-vkcDD2/blib/lib
/usr/perl5.20.1Dp/lib/site_perl/5.20.1/amd64-freebsd-ld
/usr/perl5.20.1Dp/lib/site_perl/5.20.1
/usr/perl5.20.1Dp/lib/5.20.1/amd64-freebsd-ld
/usr/perl5.20.1Dp/lib/5.20.1
.