Back
From: metabase:user:31dd1d2e-2aae-11df-837a-5e0a49663a4f
Subject: PASS Class-Method-Modifiers-Fast-0.041 v5.16.3
Date: 2013-09-08T15:35:39Z
This distribution has been tested as part of the CPAN Testers
project, supporting the Perl programming language. See
http://wiki.cpantesters.org/ for more information or email
questions to cpan-testers-discuss@perl.org
--
Dear dann,
This is a computer-generated report for Class-Method-Modifiers-Fast-0.041
on perl 5.16.3, created by CPAN-Reporter-1.2010.
Thank you for uploading your work to CPAN. Congratulations!
All tests were successful.
Sections of this report:
* Tester comments
* Program output
* Prerequisites
* Environment and other context
------------------------------
TESTER COMMENTS
------------------------------
Additional comments from tester:
this report is from an automated smoke testing program
and was not reviewed by a human for accuracy
------------------------------
PROGRAM OUTPUT
------------------------------
Output from 'c:\Perl1664\site\bin\dmake.exe test':
C:\Perl1664\bin\perl.exe "-MExtUtils::Command::MM" "-e" "test_harness(0, 'inc', 'blib\lib', 'blib\arch')" t/*.t
t/000-load.t ........................ ok
t/001-error.t ....................... ok
t/003-basic.t ....................... ok
t/004-around.t ...................... ok
t/005-return.t ...................... ok
t/010-before-args.t ................. ok
t/011-after-args.t .................. ok
t/012-around-args.t ................. ok
t/020-multiple-inheritance.t ........ ok
t/030-multiple-before.t ............. ok
t/031-multiple-after.t .............. ok
t/032-multiple-around.t ............. ok
t/034-multiple-everything.t ......... ok
t/035-multiple-everything-twice.t ... ok
t/040-twice-orig.t .................. ok
t/041-modify-parent.t ............... ok
t/051-undef-list-ctxt.t ............. ok
t/060-caller.t ...................... ok
t/070-modify-multiple-at-once.t ..... ok
t/080-multiple-modifiers.t .......... ok
t/081-sub-and-modifier.t ............ ok
t/090-diamond.t ..................... ok
t/100-class-mop-method-modifiers.t .. ok
t/101-bank-account.t ................ ok
All tests successful.
Test Summary Report
-------------------
t/060-caller.t (Wstat: 0 Tests: 5 Failed: 0)
TODO passed: 3-5
Files=24, Tests=112, 2 wallclock secs ( 0.13 usr + 0.05 sys = 0.17 CPU)
Result: PASS
------------------------------
PREREQUISITES
------------------------------
Prerequisite modules loaded:
requires:
Module Need Have
------------------- ---- -------
Data::Util 0.55 0.62
ExtUtils::MakeMaker 6.42 6.63_02
Filter::Util::Call 0 1.40
Test::Exception 0 0.31
Test::More 0 0.98
build_requires:
Module Need Have
------------------- ---- -------
ExtUtils::MakeMaker 0 6.63_02
configure_requires:
Module Need Have
------------------- ---- -------
ExtUtils::MakeMaker 6.42 6.63_02
------------------------------
ENVIRONMENT AND OTHER CONTEXT
------------------------------
Environment variables:
ACTIVEPERL_CONFIG_SILENT = 1
AUTOMATED_TESTING = 1
COMSPEC = C:\Windows\system32\cmd.exe
NUMBER_OF_PROCESSORS = 2
PATH = c:\Perl1664\site\bin;c:\Perl1664\bin;C:\Program Files (x86)\NVIDIA Corporation\PhysX\Common;%CommonProgramFiles%\Microsoft Shared\Windows Live;C:\Program Files (x86)\ActiveState Komodo IDE 6\;C:\Program Files (x86)\PC Connectivity Solution\;C:\Windows\system32;C:\Windows;C:\Windows\System32\Wbem;C:\Windows\System32\WindowsPowerShell\v1.0\;C:\Program Files\TortoiseSVN\bin;C:\Program Files (x86)\Git\cmd;C:\Program Files\TortoiseGit\bin;C:\Program Files (x86)\OpenVPN\bin
PERL5LIB = C:\perl1664\cpan\build\Data-Util-0.62-Rioi6V/blib/arch;C:\perl1664\cpan\build\Data-Util-0.62-Rioi6V/blib/lib;C:\perl1664\cpan\build\Hash-Util-FieldHash-Compat-0.03-9tegCX/blib/arch;C:\perl1664\cpan\build\Hash-Util-FieldHash-Compat-0.03-9tegCX/blib/lib;C:\perl1664\cpan\build\Hash-FieldHash-0.14-Rmlzs2/blib/arch;C:\perl1664\cpan\build\Hash-FieldHash-0.14-Rmlzs2/blib/lib;C:\perl1664\cpan\build\Test-use-ok-0.11-RltMOI/blib/arch;C:\perl1664\cpan\build\Test-use-ok-0.11-RltMOI/blib/lib
PERL5OPT =
PERL5_CPANPLUS_IS_RUNNING = 2480
PERL5_CPAN_IS_RUNNING = 2480
PERL5_CPAN_IS_RUNNING_IN_RECURSION = 2768,2480
PERL_CR_SMOKER_CURRENT = Test-Double-0.05
PERL_EXTUTILS_AUTOINSTALL = --defaultdeps
PERL_MM_USE_DEFAULT = 1
PROCESSOR_IDENTIFIER = AMD64 Family 16 Model 4 Stepping 2, AuthenticAMD
TEMP = C:\Users\Mithaldu\AppData\Local\Temp
TERM = dumb
Perl special variables (and OS-specific diagnostics, for MSWin32):
$^X = c:\Perl1664\bin\perl.exe
$UID/$EUID = 0 / 0
$GID = 0
$EGID = 0
Win32::GetOSName = Win7
Win32::GetOSVersion = Service Pack 1, 6, 1, 7601, 2, 1, 0, 256, 1
Win32::FsType = NTFS
Win32::IsAdminUser = 0
Perl module toolchain versions installed:
Module Have
------------------- --------
CPAN 1.9800
CPAN::Meta 2.132140
Cwd 3.40
ExtUtils::CBuilder 0.280206
ExtUtils::Command 1.17
ExtUtils::Install 1.54
ExtUtils::MakeMaker 6.63_02
ExtUtils::Manifest 1.61
ExtUtils::ParseXS 3.18
File::Spec 3.40
JSON 2.53
JSON::PP 2.27200
Module::Build 0.4003
Module::Signature n/a
Parse::CPAN::Meta 1.4405
Test::Harness 3.26
Test::More 0.98
YAML 0.84
YAML::Syck n/a
version 0.9902
--
Summary of my perl5 (revision 5 version 16 subversion 3) configuration:
Platform:
osname=MSWin32, osvers=5.2, archname=MSWin32-x64-multi-thread
uname=''
config_args='undef'
hint=recommended, useposix=true, d_sigaction=undef
useithreads=define, usemultiplicity=define
useperlio=define, d_sfio=undef, uselargefiles=define, usesocks=undef
use64bitint=define, use64bitall=undef, uselongdouble=undef
usemymalloc=n, bincompat5005=undef
Compiler:
cc='c:\Perl1664\site\bin\gcc.exe', ccflags ='-DNDEBUG -DWIN32 -D_CONSOLE -DNO_STRICT -DWIN64 -DCONSERVATIVE -DPERL_TEXTMODE_SCRIPTS -DUSE_SITECUSTOMIZE -DPERL_IMPLICIT_CONTEXT -DPERL_IMPLICIT_SYS -DUSE_PERLIO -DHASATTRIBUTE -fno-strict-aliasing -mms-bitfields',
optimize='-O2',
cppflags='-DWIN32'
ccversion='', gccversion='gcc.exe (rubenvb-4.5.4) 4.5.4', gccosandvers=''
intsize=4, longsize=4, ptrsize=8, doublesize=8, byteorder=12345678
d_longlong=undef, longlongsize=8, d_longdbl=define, longdblsize=8
ivtype='__int64', ivsize=8, nvtype='double', nvsize=8, Off_t='__int64', lseeksize=8
alignbytes=8, prototype=define
Linker and Libraries:
ld='c:\Perl1664\site\bin\g++.exe', ldflags ='-L"c:\perl1664\lib\CORE"'
libpth=\lib
libs=-lkernel32 -luser32 -lgdi32 -lwinspool -lcomdlg32 -ladvapi32 -lshell32 -lole32 -loleaut32 -lnetapi32 -luuid -lws2_32 -lmpr -lwinmm -lversion -lodbc32 -lodbccp32 -lcomctl32 -lmsvcrt
perllibs=-lkernel32 -luser32 -lgdi32 -lwinspool -lcomdlg32 -ladvapi32 -lshell32 -lole32 -loleaut32 -lnetapi32 -luuid -lws2_32 -lmpr -lwinmm -lversion -lodbc32 -lodbccp32 -lcomctl32 -lmsvcrt
libc=msvcrt.lib, so=dll, useshrplib=true, libperl=perl516.lib
gnulibc_version=''
Dynamic Linking:
dlsrc=dl_win32.xs, dlext=dll, d_dlsymun=undef, ccdlflags=' '
cccdlflags=' ', lddlflags='-mdll -L"c:\perl1664\lib\CORE"'
Characteristics of this binary (from libperl):
Compile-time options: HAS_TIMES HAVE_INTERP_INTERN MULTIPLICITY
PERLIO_LAYERS PERL_DONT_CREATE_GVSV
PERL_IMPLICIT_CONTEXT PERL_IMPLICIT_SYS
PERL_MALLOC_WRAP PERL_PRESERVE_IVUV PL_OP_SLAB_ALLOC
USE_64_BIT_INT USE_ITHREADS USE_LARGE_FILES
USE_LOCALE USE_LOCALE_COLLATE USE_LOCALE_CTYPE
USE_LOCALE_NUMERIC USE_PERLIO USE_PERL_ATOF
USE_SITECUSTOMIZE
Locally applied patches:
ActivePerl Build 1603 [296746]
Built under MSWin32
Compiled at Mar 13 2013 13:31:10
%ENV:
PERL5LIB="C:\perl1664\cpan\build\Data-Util-0.62-Rioi6V/blib/arch;C:\perl1664\cpan\build\Data-Util-0.62-Rioi6V/blib/lib;C:\perl1664\cpan\build\Hash-Util-FieldHash-Compat-0.03-9tegCX/blib/arch;C:\perl1664\cpan\build\Hash-Util-FieldHash-Compat-0.03-9tegCX/blib/lib;C:\perl1664\cpan\build\Hash-FieldHash-0.14-Rmlzs2/blib/arch;C:\perl1664\cpan\build\Hash-FieldHash-0.14-Rmlzs2/blib/lib;C:\perl1664\cpan\build\Test-use-ok-0.11-RltMOI/blib/arch;C:\perl1664\cpan\build\Test-use-ok-0.11-RltMOI/blib/lib"
PERL5_CPANPLUS_IS_RUNNING="2480"
PERL5_CPAN_IS_RUNNING="2480"
PERL5_CPAN_IS_RUNNING_IN_RECURSION="2768,2480"
PERL_CR_SMOKER_CURRENT="Test-Double-0.05"
PERL_EXTUTILS_AUTOINSTALL="--defaultdeps"
PERL_MM_USE_DEFAULT="1"
@INC:
C:\perl1664\cpan\build\Data-Util-0.62-Rioi6V/blib/arch
C:\perl1664\cpan\build\Data-Util-0.62-Rioi6V/blib/lib
C:\perl1664\cpan\build\Hash-Util-FieldHash-Compat-0.03-9tegCX/blib/arch
C:\perl1664\cpan\build\Hash-Util-FieldHash-Compat-0.03-9tegCX/blib/lib
C:\perl1664\cpan\build\Hash-FieldHash-0.14-Rmlzs2/blib/arch
C:\perl1664\cpan\build\Hash-FieldHash-0.14-Rmlzs2/blib/lib
C:\perl1664\cpan\build\Test-use-ok-0.11-RltMOI/blib/arch
C:\perl1664\cpan\build\Test-use-ok-0.11-RltMOI/blib/lib
c:/Perl1664/site/lib
c:/Perl1664/lib
.