Report for Test-Log-Dispatch-0.03

Back
From: metabase:user:31cd6f96-2aae-11df-837a-5e0a49663a4f
Subject: PASS Test-Log-Dispatch-0.03 v5.14.1 Mac OS X
Date: 2012-08-01T00:22:02Z

This distribution has been tested as part of the CPAN Testers
project, supporting the Perl programming language.  See
http://wiki.cpantesters.org/ for more information or email
questions to cpan-testers-discuss@perl.org


--
Dear Jonathan Swartz,

This is a computer-generated report for Test-Log-Dispatch-0.03
on perl 5.14.1, created by CPAN-Reporter-1.2002.

Thank you for uploading your work to CPAN.  Congratulations!
All tests were successful.

Sections of this report:

    * Tester comments
    * Program output
    * Prerequisites
    * Environment and other context

------------------------------
TESTER COMMENTS
------------------------------

Additional comments from tester:

none provided

------------------------------
PROGRAM OUTPUT
------------------------------

Output from '/usr/bin/make test':

PERL_DL_NONLAZY=1 /Users/schwern/perl5/perlbrew/perls/perl-5.14.1/bin/perl "-MExtUtils::Command::MM" "-e" "test_harness(0, 'inc', 'blib/lib', 'blib/arch')" t/00-load.t t/01-basic.t t/02-params.t t/03-defaults.t
# Testing Test::Log::Dispatch 0.03, Perl 5.014001, /Users/schwern/perl5/perlbrew/perls/perl-5.14.1/bin/perl
t/00-load.t ...... ok
t/01-basic.t ..... ok
t/02-params.t .... ok
t/03-defaults.t .. ok
All tests successful.
Files=4, Tests=65,  0 wallclock secs ( 0.03 usr  0.01 sys +  0.14 cusr  0.02 csys =  0.20 CPU)
Result: PASS

------------------------------
PREREQUISITES
------------------------------

Prerequisite modules loaded:

requires:

    Module               Need Have 
    -------------------- ---- -----
    ExtUtils::MakeMaker  6.42 6.62 
    List::MoreUtils      0    0.33 
    Log::Dispatch::Array 0    1.001
    Test::More           0    0.98 

build_requires:

    Module               Need Have 
    -------------------- ---- -----
    ExtUtils::MakeMaker  0    6.62 

configure_requires:

    Module               Need Have 
    -------------------- ---- -----
    ExtUtils::MakeMaker  6.42 6.62 


------------------------------
ENVIRONMENT AND OTHER CONTEXT
------------------------------

Environment variables:

    GITPERLLIB = /Users/schwern/devel/git/perl/blib/lib/
    LANG = en_US.UTF-8
    LC_CTYPE = en_US.UTF-8
    PATH = /usr/local/svn-1.6.18/bin:/usr/local/svn-1.6.18/bin:/Users/schwern/perl5/perlbrew/bin:/Users/schwern/perl5/perlbrew/perls/perl-5.14.1/bin:/Users/schwern/bin:/Users/schwern/devel/git-achievements:/usr/local/bin:/opt/local/bin:/opt/local/sbin:/opt/local/libexec/gnubin/:/usr/bin:/bin:/usr/sbin:/sbin:/usr/local/bin:/usr/X11/bin:/Users/schwern/.rvm/bin
    PATH_WITHOUT_PERLBREW = /Users/schwern/bin:/Users/schwern/devel/git-achievements:/usr/local/bin:/opt/local/bin:/opt/local/sbin:/opt/local/libexec/gnubin/:/usr/bin:/bin:/usr/sbin:/sbin:/usr/local/bin:/usr/X11/bin
    PERL5LIB = /usr/local/svn-1.6.18/perl/lib/perl5/darwin-thread-multi-2level/:/usr/local/svn-1.6.18/perl/lib/perl5/darwin-thread-multi-2level/:
    PERL5OPT = 
    PERL5_CPANPLUS_IS_RUNNING = 78709
    PERL5_CPAN_IS_RUNNING = 78709
    PERLBREW_HOME = /Users/schwern/.perlbrew
    PERLBREW_PATH = /Users/schwern/perl5/perlbrew/bin:/Users/schwern/perl5/perlbrew/perls/perl-5.14.1/bin
    PERLBREW_PERL = perl-5.14.1
    PERLBREW_ROOT = /Users/schwern/perl5/perlbrew
    PERLBREW_VERSION = 0.28
    PERL_AUTOINSTALL = --defaultdeps
    PERL_PATH = /Users/schwern/bin/perl-git-svn
    SHELL = /bin/bash
    TERM = xterm-color
    TMPDIR = /var/folders/n5/gxz1dkfj4998g1d49ng5jnvm0000gn/T/

Perl special variables (and OS-specific diagnostics, for MSWin32):

    $^X = /Users/schwern/perl5/perlbrew/perls/perl-5.14.1/bin/perl
    $UID/$EUID = 501 / 501
    $GID = 501 501 0 12 33 61 80 98 100 204 401
    $EGID = 501 501 0 12 33 61 80 98 100 204 401

Perl module toolchain versions installed:

    Module              Have    
    ------------------- --------
    CPAN                1.9800  
    CPAN::Meta          2.112621
    Cwd                 3.36    
    ExtUtils::CBuilder  0.280203
    ExtUtils::Command   1.17    
    ExtUtils::Install   1.56    
    ExtUtils::MakeMaker 6.62    
    ExtUtils::Manifest  1.58    
    ExtUtils::ParseXS   2.2210  
    File::Spec          3.33    
    JSON                2.53    
    JSON::PP            2.27200 
    Module::Build       0.3800  
    Module::Signature   0.68    
    Parse::CPAN::Meta   1.4401  
    Test::Harness       3.23    
    Test::More          0.98    
    YAML                0.73    
    YAML::Syck          1.19    
    version             0.95    


--

Summary of my perl5 (revision 5 version 14 subversion 1) configuration:
   
  Platform:
    osname=darwin, osvers=10.8.0, archname=darwin-thread-multi-2level
    uname='darwin windhund.local 10.8.0 darwin kernel version 10.8.0: tue jun 7 16:32:41 pdt 2011; root:xnu-1504.15.3~1release_x86_64 x86_64 i386 macbookpro8,1 darwin '
    config_args='-de -Dprefix=/Users/schwern/perl5/perlbrew/perls/perl-5.14.1 -Dusethreads -Duselargefiles -Dcf_email=schwern@pobox.com -Duse64bitall'
    hint=recommended, useposix=true, d_sigaction=define
    useithreads=define, usemultiplicity=define
    useperlio=define, d_sfio=undef, uselargefiles=define, usesocks=undef
    use64bitint=define, use64bitall=define, uselongdouble=undef
    usemymalloc=n, bincompat5005=undef
  Compiler:
    cc='cc', ccflags ='-fno-common -DPERL_DARWIN -arch x86_64 -fno-strict-aliasing -pipe -fstack-protector -I/usr/local/include -I/opt/local/include',
    optimize='-O3',
    cppflags='-arch x86_64 -fno-common -DPERL_DARWIN -arch x86_64 -fno-strict-aliasing -pipe -fstack-protector -I/usr/local/include -I/opt/local/include'
    ccversion='', gccversion='4.2.1 (Based on Apple Inc. build 5658) (LLVM build 2335.9)', gccosandvers=''
    intsize=4, longsize=8, ptrsize=8, doublesize=8, byteorder=12345678
    d_longlong=define, longlongsize=8, d_longdbl=define, longdblsize=16
    ivtype='long', ivsize=8, nvtype='double', nvsize=8, Off_t='off_t', lseeksize=8
    alignbytes=8, prototype=define
  Linker and Libraries:
    ld='env MACOSX_DEPLOYMENT_TARGET=10.3 cc -arch x86_64', ldflags =' -arch x86_64 -fstack-protector -L/usr/local/lib -L/opt/local/lib'
    libpth=/usr/local/lib /opt/local/lib /usr/lib
    libs=-lgdbm -ldbm -ldl -lm -lutil -lc
    perllibs=-ldl -lm -lutil -lc
    libc=, so=dylib, useshrplib=false, libperl=libperl.a
    gnulibc_version=''
  Dynamic Linking:
    dlsrc=dl_dlopen.xs, dlext=bundle, d_dlsymun=undef, ccdlflags=' '
    cccdlflags=' ', lddlflags=' -bundle -undefined dynamic_lookup -L/usr/local/lib -L/opt/local/lib -fstack-protector'


Characteristics of this binary (from libperl): 
  Compile-time options: MULTIPLICITY PERL_DONT_CREATE_GVSV
                        PERL_IMPLICIT_CONTEXT PERL_MALLOC_WRAP
                        PERL_PRESERVE_IVUV USE_64_BIT_ALL USE_64_BIT_INT
                        USE_ITHREADS USE_LARGE_FILES USE_PERLIO USE_PERL_ATOF
                        USE_REENTRANT_API
  Built under darwin
  Compiled at Sep 14 2011 16:59:11
  %ENV:
    PERL5LIB="/usr/local/svn-1.6.18/perl/lib/perl5/darwin-thread-multi-2level/:/usr/local/svn-1.6.18/perl/lib/perl5/darwin-thread-multi-2level/:"
    PERL5OPT=""
    PERL5_CPANPLUS_IS_RUNNING="78709"
    PERL5_CPAN_IS_RUNNING="78709"
    PERLBREW_HOME="/Users/schwern/.perlbrew"
    PERLBREW_PATH="/Users/schwern/perl5/perlbrew/bin:/Users/schwern/perl5/perlbrew/perls/perl-5.14.1/bin"
    PERLBREW_PERL="perl-5.14.1"
    PERLBREW_ROOT="/Users/schwern/perl5/perlbrew"
    PERLBREW_VERSION="0.28"
    PERL_AUTOINSTALL="--defaultdeps"
    PERL_PATH="/Users/schwern/bin/perl-git-svn"
  @INC:
    /usr/local/svn-1.6.18/perl/lib/perl5/darwin-thread-multi-2level/
    /usr/local/svn-1.6.18/perl/lib/perl5/darwin-thread-multi-2level/
    /Users/schwern/perl5/perlbrew/perls/perl-5.14.1/lib/site_perl/5.14.1/darwin-thread-multi-2level
    /Users/schwern/perl5/perlbrew/perls/perl-5.14.1/lib/site_perl/5.14.1
    /Users/schwern/perl5/perlbrew/perls/perl-5.14.1/lib/5.14.1/darwin-thread-multi-2level
    /Users/schwern/perl5/perlbrew/perls/perl-5.14.1/lib/5.14.1
    .