Back
From: metabase:user:320bfe00-2aae-11df-837a-5e0a49663a4f
Subject: PASS Data-TreeValidator-0.04 v5.10.0 GNU/Linux
Date: 2017-07-24T16:26:58Z
This distribution has been tested as part of the CPAN Testers
project, supporting the Perl programming language. See
http://wiki.cpantesters.org/ for more information or email
questions to cpan-testers-discuss@perl.org
--
Dear Oliver Charles,
This is a computer-generated report for Data-TreeValidator-0.04
on perl 5.10.0, created by CPAN-Reporter-1.2018.
Thank you for uploading your work to CPAN. Congratulations!
All tests were successful.
Sections of this report:
* Tester comments
* Program output
* Prerequisites
* Environment and other context
------------------------------
TESTER COMMENTS
------------------------------
Additional comments from tester:
this report is from an automated smoke testing program
and was not reviewed by a human for accuracy
------------------------------
PROGRAM OUTPUT
------------------------------
Output from '/usr/bin/make test':
PERL_DL_NONLAZY=1 "/home/sand/src/perl/repoperls/installed-perls/host/k93msid/perl-5.10.0/89ad/bin/perl" "-MExtUtils::Command::MM" "-MTest::Harness" "-e" "undef *Test::Harness::Switches; test_harness(0, 'blib/lib', 'blib/arch')" t/*.t t/Tests/Data/TreeValidator/*.t t/Tests/Data/TreeValidator/Result/*.t t/functional/*.t
v-string in use/require non-portable at /tmp/loop_over_bdir-15157-nAMG2k/Data-TreeValidator-0.04-0/blib/lib/Data/TreeValidator/Leaf.pm line 8.
t/functional/artist.t ......................... ok
v-string in use/require non-portable at /tmp/loop_over_bdir-15157-nAMG2k/Data-TreeValidator-0.04-0/blib/lib/Data/TreeValidator/Leaf.pm line 8.
t/functional/login.t .......................... ok
t/release-no-tabs.t ........................... skipped: these tests are for release candidate testing
t/release-pod-coverage.t ...................... skipped: these tests are for release candidate testing
t/release-pod-syntax.t ........................ skipped: these tests are for release candidate testing
t/Tests/Data/TreeValidator/Branch.t ........... ok
t/Tests/Data/TreeValidator/Constraints.t ...... ok
v-string in use/require non-portable at /tmp/loop_over_bdir-15157-nAMG2k/Data-TreeValidator-0.04-0/blib/lib/Data/TreeValidator/Leaf.pm line 8.
t/Tests/Data/TreeValidator/Leaf.t ............. ok
t/Tests/Data/TreeValidator/RepeatingBranch.t .. ok
t/Tests/Data/TreeValidator/Result/Branch.t .... ok
t/Tests/Data/TreeValidator/Result/Leaf.t ...... ok
v-string in use/require non-portable at /tmp/loop_over_bdir-15157-nAMG2k/Data-TreeValidator-0.04-0/blib/lib/Data/TreeValidator/Leaf.pm line 8.
t/Tests/Data/TreeValidator/Sugar.t ............ ok
All tests successful.
Files=12, Tests=13, 8 wallclock secs ( 0.03 usr 0.08 sys + 3.63 cusr 0.44 csys = 4.18 CPU)
Result: PASS
------------------------------
PREREQUISITES
------------------------------
Prerequisite modules loaded:
requires:
Module Need Have
------------------------- -------- --------
aliased 0.30 0.34
CGI::Expand 2.02 2.05
Moose 1.16 2.2004
MooseX::Params::Validate 0.14 0.21
MooseX::Types 0.24 0.50
MooseX::Types::Structured 0.23 0.36
namespace::autoclean 0.11 0.28
Set::Object 0 1.35
Sub::Exporter 0.982 0.987
Throwable 0.102080 0.200013
Try::Tiny 0.07 0.28
build_requires:
Module Need Have
------------------------- -------- --------
Moose 1.16 2.2004
Test::Fatal 0.003 0.014
Test::More 0.96 1.302088
Test::Routine 0.004 0.025
configure_requires:
Module Need Have
------------------------- -------- --------
ExtUtils::MakeMaker 6.30 7.31_03
------------------------------
ENVIRONMENT AND OTHER CONTEXT
------------------------------
Environment variables:
AUTOMATED_TESTING = 1
LANG = en_US.UTF-8
PATH = /home/sand/bin:/usr/local/bin:/usr/bin:/bin:/usr/games:/usr/local/perl/bin:/usr/X11/bin:/sbin:/usr/sbin
PERL5LIB =
PERL5OPT =
PERL5_CPANPLUS_IS_RUNNING = 15162
PERL5_CPAN_IS_RUNNING = 15162
PERL_CANARY_STABILITY_NOPROMPT = 1
PERL_MM_USE_DEFAULT = 1
PERL_USE_UNSAFE_INC = 1
SHELL = /usr/bin/zsh
TERM = screen
Perl special variables (and OS-specific diagnostics, for MSWin32):
$^X = /home/sand/src/perl/repoperls/installed-perls/host/k93msid/perl-5.10.0/89ad/bin/perl
$UID/$EUID = 1005 / 1005
$GID = 1005 1005
$EGID = 1005 1005
Perl module toolchain versions installed:
Module Have
------------------- --------
CPAN 2.18
CPAN::Meta 2.150010
Cwd 3.62
ExtUtils::CBuilder 0.280224
ExtUtils::Command 7.31_03
ExtUtils::Install 2.14
ExtUtils::MakeMaker 7.31_03
ExtUtils::Manifest 1.70
ExtUtils::ParseXS 3.30
File::Spec 3.62
JSON 2.90
JSON::PP 2.94
Module::Build 0.4222
Module::Signature 0.81
Parse::CPAN::Meta 2.150010
Test::Harness 3.40_01
Test::More 1.302088
YAML 1.23
YAML::Syck 1.30
version 0.9918
--
Summary of my perl5 (revision 5 version 10 subversion 0) configuration:
Platform:
osname=linux, osvers=4.9.0-2-amd64, archname=x86_64-linux
uname='linux k93msid 4.9.0-2-amd64 #1 smp debian 4.9.18-1 (2017-03-30) x86_64 gnulinux '
config_args='-Dprefix=/home/sand/src/perl/repoperls/installed-perls/host/k93msid/perl-5.10.0/89ad -Dmyhostname=k93msid -Dinstallusrbinperl=n -Uversiononly -Dusedevel -des -Ui_db -Dlibswanted=cl pthread socket inet nsl gdbm dbm malloc dl ld sun m crypt sec util c cposix posix ucb BSD gdbm_compat -Uuseithreads -Uuselongdouble -DDEBUGGING=-g'
hint=recommended, useposix=true, d_sigaction=define
useithreads=undef, usemultiplicity=undef
useperlio=define, d_sfio=undef, uselargefiles=define, usesocks=undef
use64bitint=define, use64bitall=define, uselongdouble=undef
usemymalloc=n, bincompat5005=undef
Compiler:
cc='cc', ccflags ='-fno-strict-aliasing -pipe -I/usr/local/include -D_LARGEFILE_SOURCE -D_FILE_OFFSET_BITS=64',
optimize='-O2 -g',
cppflags='-fno-strict-aliasing -pipe -I/usr/local/include'
ccversion='', gccversion='6.3.0 20170406', gccosandvers=''
intsize=4, longsize=8, ptrsize=8, doublesize=8, byteorder=12345678
d_longlong=define, longlongsize=8, d_longdbl=define, longdblsize=16
ivtype='long', ivsize=8, nvtype='double', nvsize=8, Off_t='off_t', lseeksize=8
alignbytes=8, prototype=define
Linker and Libraries:
ld='cc', ldflags =' -L/usr/local/lib'
libpth=/usr/local/lib /lib/x86_64-linux-gnu /lib/../lib /usr/lib/x86_64-linux-gnu /usr/lib/../lib /lib /usr/lib
libs=-lpthread -lnsl -ldl -lm -lcrypt -lutil -lc
perllibs=-lpthread -lnsl -ldl -lm -lcrypt -lutil -lc
libc=libc-2.24.so, so=so, useshrplib=false, libperl=libperl.a
gnulibc_version='2.24'
Dynamic Linking:
dlsrc=dl_dlopen.xs, dlext=so, d_dlsymun=undef, ccdlflags='-Wl,-E'
cccdlflags='-fPIC', lddlflags='-shared -O2 -g -L/usr/local/lib'
Characteristics of this binary (from libperl):
Compile-time options: PERL_DONT_CREATE_GVSV PERL_MALLOC_WRAP USE_64_BIT_ALL
USE_64_BIT_INT USE_LARGE_FILES USE_PERLIO
Built under linux
Compiled at Apr 17 2017 09:53:10
%ENV:
PERL5LIB=""
PERL5OPT=""
PERL5_CPANPLUS_IS_RUNNING="15162"
PERL5_CPAN_IS_RUNNING="15162"
PERL_CANARY_STABILITY_NOPROMPT="1"
PERL_MM_USE_DEFAULT="1"
PERL_USE_UNSAFE_INC="1"
@INC:
/home/sand/src/perl/repoperls/installed-perls/host/k93msid/perl-5.10.0/89ad/lib/5.10.0/x86_64-linux
/home/sand/src/perl/repoperls/installed-perls/host/k93msid/perl-5.10.0/89ad/lib/5.10.0
/home/sand/src/perl/repoperls/installed-perls/host/k93msid/perl-5.10.0/89ad/lib/site_perl/5.10.0/x86_64-linux
/home/sand/src/perl/repoperls/installed-perls/host/k93msid/perl-5.10.0/89ad/lib/site_perl/5.10.0
.