Class-Method-Modifiers v2.15 Perl 5 v5.20.2 armv7l-linux

Status
Pass
From
Nigel Horne
Dist
Class-Method-Modifiers v2.15
Platform
Perl 5 v5.20.2 armv7l-linux
Date
2024-05-11 16:52:56
ID
ea572e24-0fb6-11ef-b94b-bdc13385efa5
This distribution has been tested as part of the CPAN Testers
project, supporting the Perl programming language.  See
http://wiki.cpantesters.org/ for more information or email
questions to cpan-testers-discuss@perl.org


--
Dear Karen Etheridge,

This is a computer-generated report for Class-Method-Modifiers-2.15
on perl 5.20.2, created by CPAN-Reporter-1.2018.

Thank you for uploading your work to CPAN.  Congratulations!
All tests were successful.

Sections of this report:

    * Tester comments
    * Program output
    * Prerequisites
    * Environment and other context

------------------------------
TESTER COMMENTS
------------------------------

Additional comments from tester:

this report is from an automated smoke testing program
and was not reviewed by a human for accuracy

------------------------------
PROGRAM OUTPUT
------------------------------

Output from '/usr/bin/make test':

PERL_DL_NONLAZY=1 "/home/smoker/perl5/perlbrew/perls/perl-5.20.2-ld/bin/perl5.20.2" "-MExtUtils::Command::MM" "-MTest::Harness" "-e" "undef *Test::Harness::Switches; test_harness(0, 'blib/lib', 'blib/arch')" t/*.t
t/001-error.t ....................... ok
t/000-load.t ........................ ok
t/002-cache.t ....................... ok
t/003-basic.t ....................... ok
t/004-around.t ...................... ok
t/005-return.t ...................... ok
t/010-before-args.t ................. ok
t/011-after-args.t .................. ok
t/012-around-args.t ................. ok
# 
# Versions for all modules listed in MYMETA.json (including optional ones):
# 
# === Configure Requires ===
# 
#     Module               Want     Have
#     ------------------- ----- --------
#     ExtUtils::MakeMaker   any     7.44
#     perl                5.006 5.020002
# 
# === Build Requires ===
# 
#     Module              Want Have
#     ------------------- ---- ----
#     ExtUtils::MakeMaker  any 7.44
# 
# === Test Requires ===
# 
#     Module               Want     Have
#     ------------------- ----- --------
#     ExtUtils::MakeMaker   any     7.44
#     File::Spec            any     3.75
#     Test::More           0.88 1.302171
#     if                    any   0.0603
#     perl                5.006 5.020002
# 
# === Test Recommends ===
# 
#     Module         Want     Have
#     ---------- -------- --------
#     CPAN::Meta 2.120900 2.150010
# 
# === Runtime Requires ===
# 
#     Module    Want     Have
#     -------- ----- --------
#     B          any     1.48
#     Carp       any   1.3301
#     Exporter   any     5.71
#     base       any     2.22
#     perl     5.006 5.020002
#     strict     any     1.08
#     warnings   any     1.23
# 
# === Other Modules ===
# 
#     Module                  Have
#     -------------------- -------
#     Encode                  2.60
#     File::Temp            0.2304
#     JSON::PP                4.04
#     Module::Runtime        0.016
#     Moo                  missing
#     Moose                missing
#     Pod::Coverage        missing
#     Role::Tiny           missing
#     Sub::Install         missing
#     Sub::Name            missing
#     YAML                    1.30
#     autodie                 2.32
#     namespace::autoclean missing
#     namespace::clean     missing
# 
t/00-report-prereqs.t ............... ok
t/030-multiple-before.t ............. ok
t/020-multiple-inheritance.t ........ ok
t/031-multiple-after.t .............. ok
t/032-multiple-around.t ............. ok
t/034-multiple-everything.t ......... ok
t/035-multiple-everything-twice.t ... ok
t/041-modify-parent.t ............... ok
t/040-twice-orig.t .................. ok
t/051-undef-list-ctxt.t ............. ok
t/060-caller.t ...................... ok
t/070-modify-multiple-at-once.t ..... ok
t/080-multiple-modifiers.t .......... ok
t/081-sub-and-modifier.t ............ ok
t/090-diamond.t ..................... ok
t/100-class-mop-method-modifiers.t .. ok
t/110-namespace-clean.t ............. ok
t/120-fresh.t ....................... ok
t/140-lvalue.t ...................... ok
t/130-clean-underscore.t ............ ok
All tests successful.
Files=29, Tests=131,  4 wallclock secs ( 0.25 usr  0.14 sys +  5.23 cusr  1.56 csys =  7.18 CPU)
Result: PASS

------------------------------
PREREQUISITES
------------------------------

Prerequisite modules loaded:

requires:

    Module              Need  Have    
    ------------------- ----- --------
    B                   0     1.48    
    base                0     2.22    
    Carp                0     1.3301  
    Exporter            0     5.71    
    perl                5.006 5.020002
    strict              0     1.08    
    warnings            0     1.23    

build_requires:

    Module              Need  Have    
    ------------------- ----- --------
    ExtUtils::MakeMaker 0     7.44    
    File::Spec          0     3.75    
    if                  0     0.0603  
    Test::More          0.88  1.302171

configure_requires:

    Module              Need  Have    
    ------------------- ----- --------
    ExtUtils::MakeMaker 0     7.44    
    perl                5.006 5.020002


------------------------------
ENVIRONMENT AND OTHER CONTEXT
------------------------------

Environment variables:

    AUTOMATED_TESTING = 1
    HARNESS_OPTIONS = j4
    NONINTERACTIVE_TESTING = 1
    PATH = /home/smoker/perl5/perlbrew/bin:/home/smoker/perl5/perlbrew/perls/perl-5.20.2-ld/bin:/usr/local/sbin:/usr/local/bin:/usr/sbin:/usr/bin:/sbin:/bin
    PERL5LIB = /tmp/build/Want-0.29-0/blib/arch:/tmp/build/Want-0.29-0/blib/lib:/tmp/build/Type-Tiny-2.004000-0/blib/arch:/tmp/build/Type-Tiny-2.004000-0/blib/lib:/tmp/build/Exporter-Tiny-1.006002-0/blib/arch:/tmp/build/Exporter-Tiny-1.006002-0/blib/lib
    PERL5OPT = 
    PERL5_CPANPLUS_IS_RUNNING = 3409
    PERL5_CPAN_IS_RUNNING = 3409
    PERLBREW_HOME = /home/smoker/.perlbrew
    PERLBREW_MANPATH = /home/smoker/perl5/perlbrew/perls/perl-5.20.2-ld/man
    PERLBREW_PATH = /home/smoker/perl5/perlbrew/bin:/home/smoker/perl5/perlbrew/perls/perl-5.20.2-ld/bin
    PERLBREW_PERL = perl-5.20.2-ld
    PERLBREW_ROOT = /home/smoker/perl5/perlbrew
    PERLBREW_SHELLRC_VERSION = 0.88
    PERLBREW_VERSION = 0.88
    PERL_MM_USE_DEFAULT = 1
    PERL_USE_UNSAFE_INC = 1
    SHELL = /bin/bash
    TERM = xterm
    TMPDIR = /tmp/testwrapper.3398

Perl special variables (and OS-specific diagnostics, for MSWin32):

    $^X = /home/smoker/perl5/perlbrew/perls/perl-5.20.2-ld/bin/perl5.20.2
    $UID/$EUID = 1000 / 1000
    $GID = 1000 1000
    $EGID = 1000 1000

Perl module toolchain versions installed:

    Module              Have    
    ------------------- --------
    CPAN                2.27    
    CPAN::Meta          2.150010
    Cwd                 3.75    
    ExtUtils::CBuilder  0.280217
    ExtUtils::Command   7.44    
    ExtUtils::Install   2.06    
    ExtUtils::MakeMaker 7.44    
    ExtUtils::Manifest  1.70    
    ExtUtils::ParseXS   3.24    
    File::Spec          3.75    
    JSON                4.02    
    JSON::PP            4.04    
    Module::Build       0.4231  
    Module::Signature   n/a     
    Parse::CPAN::Meta   2.150010
    Test::Harness       3.42    
    Test::More          1.302171
    YAML                1.30    
    YAML::Syck          1.32    
    version             0.9909  


--

Summary of my perl5 (revision 5 version 20 subversion 2) configuration:
   
  Platform:
    osname=linux, osvers=4.19.75-v7l+, archname=armv7l-linux
    uname='linux 2c1d99e927e1 4.19.75-v7l+ #1270 smp tue sep 24 18:51:41 bst 2019 armv7l gnulinux '
    config_args='-de -Dprefix=/home/smoker/perl5/perlbrew/perls/perl-5.20.2-ld -Dusedevel -Duselongdouble -Accflags=-O2 -pipe -Wall -Wextra -mtune=native -march=native -Aeval:scriptdir=/home/smoker/perl5/perlbrew/perls/perl-5.20.2-ld/bin'
    hint=recommended, useposix=true, d_sigaction=define
    useithreads=undef, usemultiplicity=undef
    use64bitint=undef, use64bitall=undef, uselongdouble=define
    usemymalloc=n, bincompat5005=undef
  Compiler:
    cc='cc', ccflags ='-O2 -pipe -Wall -Wextra -mtune=native -march=native -fwrapv -fno-strict-aliasing -fstack-protector -I/usr/local/include -D_LARGEFILE_SOURCE -D_FILE_OFFSET_BITS=64',
    optimize='-O2',
    cppflags='-O2 -pipe -Wall -Wextra -mtune=native -march=native -fwrapv -fno-strict-aliasing -fstack-protector -I/usr/local/include'
    ccversion='', gccversion='8.3.0', gccosandvers=''
    intsize=4, longsize=4, ptrsize=4, doublesize=8, byteorder=1234
    d_longlong=define, longlongsize=8, d_longdbl=define, longdblsize=8
    ivtype='long', ivsize=4, nvtype='long double', nvsize=8, Off_t='off_t', lseeksize=8
    alignbytes=8, prototype=define
  Linker and Libraries:
    ld='cc', ldflags =' -fstack-protector -L/usr/local/lib'
    libpth=/usr/local/lib /usr/lib/gcc/arm-linux-gnueabihf/8/include-fixed /usr/include/arm-linux-gnueabihf /usr/lib /lib/arm-linux-gnueabihf /lib /usr/lib/arm-linux-gnueabihf
    libs=-lnsl -ldl -lm -lcrypt -lutil -lc
    perllibs=-lnsl -ldl -lm -lcrypt -lutil -lc
    libc=libc-2.28.so, so=so, useshrplib=false, libperl=libperl.a
    gnulibc_version='2.28'
  Dynamic Linking:
    dlsrc=dl_dlopen.xs, dlext=so, d_dlsymun=undef, ccdlflags='-Wl,-E'
    cccdlflags='-fPIC', lddlflags='-shared -O2 -L/usr/local/lib -fstack-protector'


Characteristics of this binary (from libperl): 
  Compile-time options: HAS_TIMES PERLIO_LAYERS PERL_DONT_CREATE_GVSV
                        PERL_HASH_FUNC_ONE_AT_A_TIME_HARD PERL_MALLOC_WRAP
                        PERL_NEW_COPY_ON_WRITE PERL_PRESERVE_IVUV
                        PERL_USE_DEVEL USE_LARGE_FILES USE_LOCALE
                        USE_LOCALE_COLLATE USE_LOCALE_CTYPE
                        USE_LOCALE_NUMERIC USE_PERLIO USE_PERL_ATOF
  Locally applied patches:
	Devel::PatchPerl 1.84
  Built under linux
  Compiled at Feb  2 2020 18:06:26
  %ENV:
    PERL5LIB="/tmp/build/Want-0.29-0/blib/arch:/tmp/build/Want-0.29-0/blib/lib:/tmp/build/Type-Tiny-2.004000-0/blib/arch:/tmp/build/Type-Tiny-2.004000-0/blib/lib:/tmp/build/Exporter-Tiny-1.006002-0/blib/arch:/tmp/build/Exporter-Tiny-1.006002-0/blib/lib"
    PERL5OPT=""
    PERL5_CPANPLUS_IS_RUNNING="3409"
    PERL5_CPAN_IS_RUNNING="3409"
    PERLBREW_HOME="/home/smoker/.perlbrew"
    PERLBREW_MANPATH="/home/smoker/perl5/perlbrew/perls/perl-5.20.2-ld/man"
    PERLBREW_PATH="/home/smoker/perl5/perlbrew/bin:/home/smoker/perl5/perlbrew/perls/perl-5.20.2-ld/bin"
    PERLBREW_PERL="perl-5.20.2-ld"
    PERLBREW_ROOT="/home/smoker/perl5/perlbrew"
    PERLBREW_SHELLRC_VERSION="0.88"
    PERLBREW_VERSION="0.88"
    PERL_MM_USE_DEFAULT="1"
    PERL_USE_UNSAFE_INC="1"
  @INC:
    /tmp/build/Want-0.29-0/blib/arch
    /tmp/build/Want-0.29-0/blib/lib
    /tmp/build/Type-Tiny-2.004000-0/blib/arch
    /tmp/build/Type-Tiny-2.004000-0/blib/lib
    /tmp/build/Exporter-Tiny-1.006002-0/blib/arch
    /tmp/build/Exporter-Tiny-1.006002-0/blib/lib
    /home/smoker/perl5/perlbrew/perls/perl-5.20.2-ld/lib/site_perl/5.20.2/armv7l-linux
    /home/smoker/perl5/perlbrew/perls/perl-5.20.2-ld/lib/site_perl/5.20.2
    /home/smoker/perl5/perlbrew/perls/perl-5.20.2-ld/lib/5.20.2/armv7l-linux
    /home/smoker/perl5/perlbrew/perls/perl-5.20.2-ld/lib/5.20.2
    .