Mojo-WebSocketProxy v0.13 Perl 5 v5.28.1 x86_64-linux-ld

Status
Pass
From
Andreas J. König (ANDK)
Dist
Mojo-WebSocketProxy v0.13
Platform
Perl 5 v5.28.1 x86_64-linux-ld
Date
2019-09-20 02:39:49
ID
ea3d4ec8-db4f-11e9-bfd3-fd8450a31fff
This distribution has been tested as part of the CPAN Testers
project, supporting the Perl programming language.  See
http://wiki.cpantesters.org/ for more information or email
questions to cpan-testers-discuss@perl.org


--
Dear Binary.com,

This is a computer-generated report for Mojo-WebSocketProxy-0.13
on perl 5.28.1, created by CPAN-Reporter-1.2018.

Thank you for uploading your work to CPAN.  Congratulations!
All tests were successful.

Sections of this report:

    * Tester comments
    * Program output
    * Prerequisites
    * Environment and other context

------------------------------
TESTER COMMENTS
------------------------------

Additional comments from tester:

this report is from an automated smoke testing program
and was not reviewed by a human for accuracy

------------------------------
PROGRAM OUTPUT
------------------------------

Output from '/usr/bin/make test':

PERL_DL_NONLAZY=1 "/home/sand/src/perl/repoperls/installed-perls/host/k93msid/v5.28.1/fc43/bin/perl" "-MExtUtils::Command::MM" "-MTest::Harness" "-e" "undef *Test::Harness::Switches; test_harness(0, 'blib/lib', 'blib/arch')" t/*.t
t/00-check-deps.t ................. ok
t/00-compile.t .................... ok
# 
# Versions for all modules listed in MYMETA.json (including optional ones):
# 
# === Configure Requires ===
# 
#     Module                Want    Have
#     ------------------- ------ -------
#     ExtUtils::MakeMaker 7.1101 7.37_02
# 
# === Build Requires ===
# 
#     Module              Want    Have
#     ------------------- ---- -------
#     ExtUtils::MakeMaker  any 7.37_02
# 
# === Test Requires ===
# 
#     Module               Want       Have
#     ------------------- ----- ----------
#     ExtUtils::MakeMaker   any    7.37_02
#     File::Spec            any       3.75
#     IO::Handle            any       1.39
#     IPC::Open3            any       1.20
#     Path::Tiny            any      0.108
#     Test::CheckDeps     0.010      0.010
#     Test::Fatal           any      0.014
#     Test::MockModule      any    0.170.0
#     Test::MockObject      any 1.20180705
#     Test::Mojo            any      undef
#     Test::More           0.98   1.302167
#     Test::Simple         0.44   1.302167
#     Test::TCP             any       2.19
# 
# === Test Recommends ===
# 
#     Module         Want     Have
#     ---------- -------- --------
#     CPAN::Meta 2.120900 2.150010
# 
# === Runtime Requires ===
# 
#     Module                      Want     Have
#     -------------------------- ----- --------
#     Class::Method::Modifiers     any     2.13
#     DataDog::DogStatsd::Helper  0.05     0.05
#     Future                      0.36     0.41
#     Future::Mojo               0.004    1.001
#     IO::Async::Loop::Mojo        any     0.05
#     JSON::MaybeUTF8              any    1.002
#     Job::Async                   any    0.004
#     MojoX::JSON::RPC             any     0.12
#     Mojolicious                 7.29     8.23
#     Scalar::Util                 any     1.52
#     Unicode::Normalize          1.25     1.26
#     curry                      1.001 1.001000
#     indirect                     any     0.39
# 
t/00-report-prereqs.t ............. ok
t/05_basic.t ...................... ok
t/10-before_forward.t ............. ok
t/11-timeout.t .................... ok
t/12-before_send_api_response.t ... ok
t/13-action-not-found.t ........... ok
t/14-bad-request.t ................ ok
t/15-simple-success.t ............. ok
t/16-auth-error-sample.t .......... ok
t/17-instead_of_forward.t ......... ok
t/18-per-action_before-forward.t .. ok
t/19-rpc_response_cb.t ............ ok
t/20-after_got_rpc_response.t ..... ok
t/21-mojo-stash.t ................. ok
t/22-override-response.t .......... ok
t/23-binary-frame.t ............... ok
t/24-multiple-backends.t .......... ok
Useless assignment to a temporary at t/25-job-async-backend.t line 57.
Useless assignment to a temporary at t/25-job-async-backend.t line 57.
Useless assignment to a temporary at t/25-job-async-backend.t line 57.
t/25-job-async-backend.t .......... ok
All tests successful.
Files=20, Tests=167, 34 wallclock secs ( 0.06 usr  0.11 sys +  8.03 cusr  1.92 csys = 10.12 CPU)
Result: PASS

------------------------------
PREREQUISITES
------------------------------

Prerequisite modules loaded:

requires:

    Module                     Need     Have      
    -------------------------- -------- ----------
    Class::Method::Modifiers   0        2.13      
    curry                      1.001    1.001000  
    DataDog::DogStatsd::Helper 0.05     0.05      
    Future                     0.36     0.41      
    Future::Mojo               0.004    1.001     
    indirect                   0        0.39      
    IO::Async::Loop::Mojo      0        0.05      
    Job::Async                 0        0.004     
    JSON::MaybeUTF8            0        1.002     
    Mojolicious                7.29     8.23      
    MojoX::JSON::RPC           0        0.12      
    perl                       5.014000 5.028001  
    Scalar::Util               0        1.52      
    Unicode::Normalize         1.25     1.26      

build_requires:

    Module                     Need     Have      
    -------------------------- -------- ----------
    ExtUtils::MakeMaker        0        7.37_02   
    File::Spec                 0        3.75      
    IO::Handle                 0        1.39      
    IPC::Open3                 0        1.20      
    Path::Tiny                 0        0.108     
    Test::CheckDeps            0.010    0.010     
    Test::Fatal                0        0.014     
    Test::MockModule           0        0.170.0   
    Test::MockObject           0        1.20180705
    Test::Mojo                 0        0         
    Test::More                 0.98     1.302167  
    Test::Simple               0.44     1.302167  
    Test::TCP                  0        2.19      

configure_requires:

    Module                     Need     Have      
    -------------------------- -------- ----------
    ExtUtils::MakeMaker        7.1101   7.37_02   


------------------------------
ENVIRONMENT AND OTHER CONTEXT
------------------------------

Environment variables:

    AUTOMATED_TESTING = 1
    LANG = en_US.UTF-8
    PATH = /home/sand/bin:/usr/local/bin:/usr/bin:/bin:/usr/games:/usr/local/perl/bin:/usr/X11/bin:/sbin:/usr/sbin
    PERL5LIB = 
    PERL5OPT = 
    PERL5_CPANPLUS_IS_RUNNING = 31527
    PERL5_CPAN_IS_RUNNING = 31527
    PERL_CANARY_STABILITY_NOPROMPT = 1
    PERL_MM_USE_DEFAULT = 1
    PERL_USE_UNSAFE_INC = 1
    SHELL = /usr/bin/zsh
    TERM = screen

Perl special variables (and OS-specific diagnostics, for MSWin32):

    $^X = /home/sand/src/perl/repoperls/installed-perls/host/k93msid/v5.28.1/fc43/bin/perl
    $UID/$EUID = 1005 / 1005
    $GID = 1005 1005
    $EGID = 1005 1005

Perl module toolchain versions installed:

    Module              Have    
    ------------------- --------
    CPAN                2.27    
    CPAN::Meta          2.150010
    Cwd                 3.75    
    ExtUtils::CBuilder  0.280231
    ExtUtils::Command   7.37_02 
    ExtUtils::Install   2.14    
    ExtUtils::MakeMaker 7.37_02 
    ExtUtils::Manifest  1.72    
    ExtUtils::ParseXS   3.39    
    File::Spec          3.75    
    JSON                4.02    
    JSON::PP            4.04    
    Module::Build       0.4229  
    Module::Signature   0.83    
    Parse::CPAN::Meta   2.150010
    Test::Harness       3.42    
    Test::More          1.302167
    YAML                1.29    
    YAML::Syck          1.31    
    version             0.9924  


--

Summary of my perl5 (revision 5 version 28 subversion 1) configuration:
  Commit id: 63afdf6c0f65af480aa5bb9ccba9f46dae52f6fc
  Platform:
    osname=linux
    osvers=4.18.0-2-amd64
    archname=x86_64-linux-ld
    uname='linux k93msid 4.18.0-2-amd64 #1 smp debian 4.18.10-2 (2018-10-07) x86_64 gnulinux '
    config_args='-Dprefix=/home/sand/src/perl/repoperls/installed-perls/host/k93msid/v5.28.1/fc43 -Dmyhostname=k93msid -Dinstallusrbinperl=n -Uversiononly -Dusedevel -des -Ui_db -Dlibswanted=cl pthread socket inet nsl gdbm dbm malloc dl ld sun m crypt sec util c cposix posix ucb BSD gdbm_compat -Uuseithreads -Duselongdouble -DEBUGGING=both'
    hint=recommended
    useposix=true
    d_sigaction=define
    useithreads=undef
    usemultiplicity=undef
    use64bitint=define
    use64bitall=define
    uselongdouble=define
    usemymalloc=n
    default_inc_excludes_dot=define
    bincompat5005=undef
  Compiler:
    cc='cc'
    ccflags ='-fwrapv -DDEBUGGING -fno-strict-aliasing -pipe -fstack-protector-strong -I/usr/local/include -D_LARGEFILE_SOURCE -D_FILE_OFFSET_BITS=64'
    optimize='-O2 -g'
    cppflags='-fwrapv -DDEBUGGING -fno-strict-aliasing -pipe -fstack-protector-strong -I/usr/local/include'
    ccversion=''
    gccversion='8.2.0'
    gccosandvers=''
    intsize=4
    longsize=8
    ptrsize=8
    doublesize=8
    byteorder=12345678
    doublekind=3
    d_longlong=define
    longlongsize=8
    d_longdbl=define
    longdblsize=16
    longdblkind=3
    ivtype='long'
    ivsize=8
    nvtype='long double'
    nvsize=16
    Off_t='off_t'
    lseeksize=8
    alignbytes=16
    prototype=define
  Linker and Libraries:
    ld='cc'
    ldflags =' -fstack-protector-strong -L/usr/local/lib'
    libpth=/usr/local/lib /usr/lib/gcc/x86_64-linux-gnu/8/include-fixed /usr/include/x86_64-linux-gnu /usr/lib /lib/x86_64-linux-gnu /lib/../lib /usr/lib/x86_64-linux-gnu /usr/lib/../lib /lib
    libs=-lpthread -lnsl -ldl -lm -lcrypt -lutil -lc
    perllibs=-lpthread -lnsl -ldl -lm -lcrypt -lutil -lc
    libc=libc-2.27.so
    so=so
    useshrplib=false
    libperl=libperl.a
    gnulibc_version='2.27'
  Dynamic Linking:
    dlsrc=dl_dlopen.xs
    dlext=so
    d_dlsymun=undef
    ccdlflags='-Wl,-E'
    cccdlflags='-fPIC'
    lddlflags='-shared -O2 -g -L/usr/local/lib -fstack-protector-strong'


Characteristics of this binary (from libperl): 
  Compile-time options:
    DEBUGGING
    HAS_TIMES
    PERLIO_LAYERS
    PERL_COPY_ON_WRITE
    PERL_DONT_CREATE_GVSV
    PERL_MALLOC_WRAP
    PERL_OP_PARENT
    PERL_PRESERVE_IVUV
    PERL_USE_DEVEL
    USE_64_BIT_ALL
    USE_64_BIT_INT
    USE_LARGE_FILES
    USE_LOCALE
    USE_LOCALE_COLLATE
    USE_LOCALE_CTYPE
    USE_LOCALE_NUMERIC
    USE_LOCALE_TIME
    USE_LONG_DOUBLE
    USE_PERLIO
    USE_PERL_ATOF
  Built under linux
  Compiled at Nov 30 2018 23:17:40
  %ENV:
    PERL5LIB=""
    PERL5OPT=""
    PERL5_CPANPLUS_IS_RUNNING="31527"
    PERL5_CPAN_IS_RUNNING="31527"
    PERL_CANARY_STABILITY_NOPROMPT="1"
    PERL_MM_USE_DEFAULT="1"
    PERL_USE_UNSAFE_INC="1"
  @INC:
    /home/sand/src/perl/repoperls/installed-perls/host/k93msid/v5.28.1/fc43/lib/site_perl/5.28.1/x86_64-linux-ld
    /home/sand/src/perl/repoperls/installed-perls/host/k93msid/v5.28.1/fc43/lib/site_perl/5.28.1
    /home/sand/src/perl/repoperls/installed-perls/host/k93msid/v5.28.1/fc43/lib/5.28.1/x86_64-linux-ld
    /home/sand/src/perl/repoperls/installed-perls/host/k93msid/v5.28.1/fc43/lib/5.28.1
    .