Report for Metabase-Backend-SQL-1.001

Back
From: metabase:user:320bfe00-2aae-11df-837a-5e0a49663a4f
Subject: PASS Metabase-Backend-SQL-1.001 v5.22.3 GNU/Linux
Date: 2017-03-21T14:30:21Z

This distribution has been tested as part of the CPAN Testers
project, supporting the Perl programming language.  See
http://wiki.cpantesters.org/ for more information or email
questions to cpan-testers-discuss@perl.org


--
Dear David Golden,

This is a computer-generated report for Metabase-Backend-SQL-1.001
on perl 5.22.3, created by CPAN-Reporter-1.2018.

Thank you for uploading your work to CPAN.  Congratulations!
All tests were successful.

Sections of this report:

    * Tester comments
    * Program output
    * Prerequisites
    * Environment and other context

------------------------------
TESTER COMMENTS
------------------------------

Additional comments from tester:

this report is from an automated smoke testing program
and was not reviewed by a human for accuracy

------------------------------
PROGRAM OUTPUT
------------------------------

Output from '/usr/bin/make test':

PERL_DL_NONLAZY=1 "/home/sand/src/perl/repoperls/installed-perls/host/k93msid/v5.22.3/276a/bin/perl" "-MExtUtils::Command::MM" "-MTest::Harness" "-e" "undef *Test::Harness::Switches; test_harness(0, 'blib/lib', 'blib/arch')" t/*.t t/postgres/*.t t/sharded/*.t t/sqlite/*.t
# 
# Versions for all modules listed in MYMETA.json (including optional ones):
# 
# === Configure Requires ===
# 
#     Module              Want Have
#     ------------------- ---- ----
#     ExtUtils::MakeMaker 6.17 7.24
# 
# === Build Requires ===
# 
#     Module              Want Have
#     ------------------- ---- ----
#     ExtUtils::MakeMaker  any 7.24
# 
# === Test Requires ===
# 
#     Module                Want     Have
#     --------------------- ---- --------
#     ExtUtils::MakeMaker    any     7.24
#     File::Spec             any     3.62
#     File::Spec::Functions  any     3.62
#     Path::Class            any     0.37
#     Test::Deep             any    1.126
#     Test::Fatal            any    0.014
#     Test::More            0.92 1.302078
#     Test::Routine          any    0.024
#     Test::Routine::Util    any    0.024
#     lib                    any     0.63
#     re                     any     0.32
# 
# === Test Recommends ===
# 
#     Module         Want     Have
#     ---------- -------- --------
#     CPAN::Meta 2.120900 2.150010
# 
# === Runtime Requires ===
# 
#     Module                                Want    Have
#     ---------------------------------- ------- -------
#     Carp                                   any    1.36
#     Class::Load                            any    0.23
#     Compress::Zlib                           2   2.074
#     DBD::SQLite                            any    1.54
#     DBI                                      1   1.636
#     DBIx::RunSQL                           any    0.15
#     DBIx::Simple                           any    1.35
#     Data::Stream::Bulk::Array              any    0.11
#     Data::Stream::Bulk::Callback           any    0.11
#     Data::Stream::Bulk::DBI                any    0.11
#     Data::Stream::Bulk::Filter             any    0.11
#     Data::Stream::Bulk::Nil                any    0.11
#     File::Temp                             any  0.2304
#     JSON                                     2    2.90
#     List::AllUtils                         any    0.14
#     List::Util                             any    1.47
#     Metabase::Archive                        1   1.003
#     Metabase::Fact                         any   0.025
#     Metabase::Index                          1   1.003
#     Moose                                  any  2.2004
#     Moose::Role                            any  2.2004
#     Moose::Util::TypeConstraints           any  2.2004
#     MooseX::Types::Path::Class             any    0.09
#     SQL::Abstract                          any    1.82
#     SQL::Translator                    0.11006 0.11021
#     SQL::Translator::Diff                  any   undef
#     SQL::Translator::Schema                any    1.59
#     SQL::Translator::Schema::Constants     any    1.59
#     SQL::Translator::Utils                 any    1.59
#     Storable                               any 2.53_02
#     Try::Tiny                              any    0.28
#     namespace::autoclean                   any    0.28
#     strict                                 any    1.09
#     warnings                               any    1.34
# 
t/00-report-prereqs.t .... ok
t/postgres/archive.t ..... skipped: No $ENV{METABASE_TEST_PG_DBNAME}
t/postgres/index.t ....... skipped: No $ENV{METABASE_TEST_PG_DBNAME}
t/postgres/init-index.t .. skipped: No $ENV{METABASE_TEST_PG_DBNAME}
t/query.t ................ ok
t/sharded/archive.t ...... ok
t/sharded/index.t ........ ok
t/sqlite/archive.t ....... ok
t/sqlite/index.t ......... ok
t/sqlite/init-index.t .... ok
All tests successful.
Files=10, Tests=7, 40 wallclock secs ( 0.06 usr  0.06 sys + 26.38 cusr  1.28 csys = 27.78 CPU)
Result: PASS

------------------------------
PREREQUISITES
------------------------------

Prerequisite modules loaded:

requires:

    Module                             Need     Have    
    ---------------------------------- -------- --------
    Carp                               0        1.36    
    Class::Load                        0        0.23    
    Compress::Zlib                     2        2.074   
    Data::Stream::Bulk::Array          0        0.11    
    Data::Stream::Bulk::Callback       0        0.11    
    Data::Stream::Bulk::DBI            0        0.11    
    Data::Stream::Bulk::Filter         0        0.11    
    Data::Stream::Bulk::Nil            0        0.11    
    DBD::SQLite                        0        1.54    
    DBI                                1        1.636   
    DBIx::RunSQL                       0        0.15    
    DBIx::Simple                       0        1.35    
    File::Temp                         0        0.2304  
    JSON                               2        2.90    
    List::AllUtils                     0        0.14    
    List::Util                         0        1.47    
    Metabase::Archive                  1        1.003   
    Metabase::Fact                     0        0.025   
    Metabase::Index                    1        1.003   
    Moose                              0        2.2004  
    Moose::Role                        0        2.2004  
    Moose::Util::TypeConstraints       0        2.2004  
    MooseX::Types::Path::Class         0        0.09    
    namespace::autoclean               0        0.28    
    perl                               5.010    5.022003
    SQL::Abstract                      0        1.82    
    SQL::Translator                    0.11006  0.11021 
    SQL::Translator::Diff              0        0       
    SQL::Translator::Schema            0        1.59    
    SQL::Translator::Schema::Constants 0        1.59    
    SQL::Translator::Utils             0        1.59    
    Storable                           0        2.53_02 
    strict                             0        1.09    
    Try::Tiny                          0        0.28    
    warnings                           0        1.34    

build_requires:

    Module                             Need     Have    
    ---------------------------------- -------- --------
    ExtUtils::MakeMaker                0        7.24    
    File::Spec                         0        3.62    
    File::Spec::Functions              0        3.62    
    lib                                0        0.63    
    Path::Class                        0        0.37    
    re                                 0        0.32    
    Test::Deep                         0        1.126   
    Test::Fatal                        0        0.014   
    Test::More                         0.92     1.302078
    Test::Routine                      0        0.024   
    Test::Routine::Util                0        0.024   

configure_requires:

    Module                             Need     Have    
    ---------------------------------- -------- --------
    ExtUtils::MakeMaker                6.17     7.24    
    perl                               5.008001 5.022003


------------------------------
ENVIRONMENT AND OTHER CONTEXT
------------------------------

Environment variables:

    AUTOMATED_TESTING = 1
    LANG = en_US.UTF-8
    PATH = /home/sand/bin:/usr/local/bin:/usr/bin:/bin:/usr/games:/usr/local/perl/bin:/usr/X11/bin:/sbin:/usr/sbin
    PERL5LIB = 
    PERL5OPT = 
    PERL5_CPANPLUS_IS_RUNNING = 9903
    PERL5_CPAN_IS_RUNNING = 9903
    PERL_CANARY_STABILITY_NOPROMPT = 1
    PERL_MM_USE_DEFAULT = 1
    PERL_USE_UNSAFE_INC = 1
    SHELL = /usr/bin/zsh
    TERM = screen

Perl special variables (and OS-specific diagnostics, for MSWin32):

    $^X = /home/sand/src/perl/repoperls/installed-perls/host/k93msid/v5.22.3/276a/bin/perl
    $UID/$EUID = 1005 / 1005
    $GID = 1005 1005
    $EGID = 1005 1005

Perl module toolchain versions installed:

    Module              Have      
    ------------------- ----------
    CPAN                2.17      
    CPAN::Meta          2.150010  
    Cwd                 3.62      
    ExtUtils::CBuilder  0.280224  
    ExtUtils::Command   7.24      
    ExtUtils::Install   2.04      
    ExtUtils::MakeMaker 7.24      
    ExtUtils::Manifest  1.70      
    ExtUtils::ParseXS   3.28      
    File::Spec          3.62      
    JSON                2.90      
    JSON::PP            2.27300_01
    Module::Build       0.4220    
    Module::Signature   0.81      
    Parse::CPAN::Meta   2.150010  
    Test::Harness       3.38      
    Test::More          1.302078  
    YAML                1.23      
    YAML::Syck          1.29      
    version             0.9909    


--

Summary of my perl5 (revision 5 version 22 subversion 3) configuration:
  Derived from: 16b638b0a20de774856b3a21a75a5e373af5262c
  Platform:
    osname=linux, osvers=4.9.0-2-amd64, archname=x86_64-linux-thread-multi
    uname='linux k93msid 4.9.0-2-amd64 #1 smp debian 4.9.13-1 (2017-02-27) x86_64 gnulinux '
    config_args='-Dprefix=/home/sand/src/perl/repoperls/installed-perls/host/k93msid/v5.22.3/276a -Dmyhostname=k93msid -Dinstallusrbinperl=n -Uversiononly -Dusedevel -des -Ui_db -Dlibswanted=cl pthread socket inet nsl gdbm dbm malloc dl ld sun m crypt sec util c cposix posix ucb BSD gdbm_compat -Duseithreads -Uuselongdouble -DDEBUGGING=both'
    hint=recommended, useposix=true, d_sigaction=define
    useithreads=define, usemultiplicity=define
    use64bitint=define, use64bitall=define, uselongdouble=undef
    usemymalloc=n, bincompat5005=undef
  Compiler:
    cc='cc', ccflags ='-D_REENTRANT -D_GNU_SOURCE -fwrapv -DDEBUGGING -fno-strict-aliasing -pipe -fstack-protector-strong -I/usr/local/include -D_LARGEFILE_SOURCE -D_FILE_OFFSET_BITS=64',
    optimize='-O2 -g',
    cppflags='-D_REENTRANT -D_GNU_SOURCE -fwrapv -DDEBUGGING -fno-strict-aliasing -pipe -fstack-protector-strong -I/usr/local/include'
    ccversion='', gccversion='6.3.0 20170316', gccosandvers=''
    intsize=4, longsize=8, ptrsize=8, doublesize=8, byteorder=12345678, doublekind=3
    d_longlong=define, longlongsize=8, d_longdbl=define, longdblsize=16, longdblkind=3
    ivtype='long', ivsize=8, nvtype='double', nvsize=8, Off_t='off_t', lseeksize=8
    alignbytes=8, prototype=define
  Linker and Libraries:
    ld='cc', ldflags =' -fstack-protector-strong -L/usr/local/lib'
    libpth=/usr/local/lib /usr/lib/gcc/x86_64-linux-gnu/6/include-fixed /usr/include/x86_64-linux-gnu /usr/lib /lib/x86_64-linux-gnu /lib/../lib /usr/lib/x86_64-linux-gnu /usr/lib/../lib /lib
    libs=-lpthread -lnsl -ldl -lm -lcrypt -lutil -lc
    perllibs=-lpthread -lnsl -ldl -lm -lcrypt -lutil -lc
    libc=libc-2.24.so, so=so, useshrplib=false, libperl=libperl.a
    gnulibc_version='2.24'
  Dynamic Linking:
    dlsrc=dl_dlopen.xs, dlext=so, d_dlsymun=undef, ccdlflags='-Wl,-E'
    cccdlflags='-fPIC', lddlflags='-shared -O2 -g -L/usr/local/lib -fstack-protector-strong'


Characteristics of this binary (from libperl): 
  Compile-time options: DEBUGGING HAS_TIMES MULTIPLICITY PERLIO_LAYERS
                        PERL_DONT_CREATE_GVSV
                        PERL_HASH_FUNC_ONE_AT_A_TIME_HARD
                        PERL_IMPLICIT_CONTEXT PERL_MALLOC_WRAP
                        PERL_NEW_COPY_ON_WRITE PERL_PRESERVE_IVUV
                        PERL_TRACK_MEMPOOL PERL_USE_DEVEL USE_64_BIT_ALL
                        USE_64_BIT_INT USE_ITHREADS USE_LARGE_FILES
                        USE_LOCALE USE_LOCALE_COLLATE USE_LOCALE_CTYPE
                        USE_LOCALE_NUMERIC USE_LOCALE_TIME USE_PERLIO
                        USE_PERL_ATOF USE_REENTRANT_API
  Locally applied patches:
	uncommitted-changes
  Built under linux
  Compiled at Mar 18 2017 21:18:34
  %ENV:
    PERL5LIB=""
    PERL5OPT=""
    PERL5_CPANPLUS_IS_RUNNING="9903"
    PERL5_CPAN_IS_RUNNING="9903"
    PERL_CANARY_STABILITY_NOPROMPT="1"
    PERL_MM_USE_DEFAULT="1"
    PERL_USE_UNSAFE_INC="1"
  @INC:
    /home/sand/src/perl/repoperls/installed-perls/host/k93msid/v5.22.3/276a/lib/site_perl/5.22.3/x86_64-linux-thread-multi
    /home/sand/src/perl/repoperls/installed-perls/host/k93msid/v5.22.3/276a/lib/site_perl/5.22.3
    /home/sand/src/perl/repoperls/installed-perls/host/k93msid/v5.22.3/276a/lib/5.22.3/x86_64-linux-thread-multi
    /home/sand/src/perl/repoperls/installed-perls/host/k93msid/v5.22.3/276a/lib/5.22.3
    .