Back
From: metabase:user:320bfe00-2aae-11df-837a-5e0a49663a4f
Subject: PASS App-Software-License-0.04 v5.22.1 GNU/Linux
Date: 2016-01-05T17:36:55Z
This distribution has been tested as part of the CPAN Testers
project, supporting the Perl programming language.  See
http://wiki.cpantesters.org/ for more information or email
questions to cpan-testers-discuss@perl.org
--
Dear Karen Etheridge,
This is a computer-generated report for App-Software-License-0.04
on perl 5.22.1, created by CPAN-Reporter-1.2015.
Thank you for uploading your work to CPAN.  Congratulations!
All tests were successful.
Sections of this report:
    * Tester comments
    * Program output
    * Prerequisites
    * Environment and other context
------------------------------
TESTER COMMENTS
------------------------------
Additional comments from tester:
this report is from an automated smoke testing program
and was not reviewed by a human for accuracy
------------------------------
PROGRAM OUTPUT
------------------------------
Output from './Build test':
# 
# Versions for all modules listed in MYMETA.json (including optional ones):
# 
# === Configure Requires ===
# 
#     Module               Want  Have
#     ------------------- ----- -----
#     Module::Build::Tiny 0.007 0.039
# 
# === Test Requires ===
# 
#     Module              Want         Have
#     ------------------- ---- ------------
#     ExtUtils::MakeMaker  any         7.10
#     File::Spec           any         3.60
#     Test::More          0.88 1.302013_005
#     Test::Warnings       any        0.024
# 
# === Test Recommends ===
# 
#     Module         Want     Have
#     ---------- -------- --------
#     CPAN::Meta 2.120900 2.150005
# 
# === Runtime Requires ===
# 
#     Module                Want     Have
#     --------------------- ---- --------
#     File::HomeDir          any     1.00
#     File::Spec::Functions  any     3.60
#     Module::Runtime        any    0.014
#     Moose                  any   2.1604
#     MooseX::Getopt         any     0.68
#     MooseX::SimpleConfig   any     0.11
#     Software::License      any 0.103010
#     namespace::autoclean   any     0.28
#     strict                 any     1.09
#     warnings               any     1.34
# 
# === Other Modules ===
# 
#     Module        Have
#     ------------- ----
#     Pod::Coverage 0.23
# 
t/00-report-prereqs.t .. ok
t/basic.t .............. ok
t/load.t ............... ok
t/options.t ............ ok
t/zzz-check-breaks.t ... ok
All tests successful.
Files=5, Tests=9,  5 wallclock secs ( 0.04 usr  0.04 sys +  4.21 cusr  0.42 csys =  4.71 CPU)
Result: PASS
------------------------------
PREREQUISITES
------------------------------
Prerequisite modules loaded:
requires:
    Module                Need  Have        
    --------------------- ----- ------------
    File::HomeDir         0     1.00        
    File::Spec::Functions 0     3.60        
    Module::Runtime       0     0.014       
    Moose                 0     2.1604      
    MooseX::Getopt        0     0.68        
    MooseX::SimpleConfig  0     0.11        
    namespace::autoclean  0     0.28        
    perl                  5.006 5.022001    
    Software::License     0     0.103010    
    strict                0     1.09        
    warnings              0     1.34        
build_requires:
    Module                Need  Have        
    --------------------- ----- ------------
    ExtUtils::MakeMaker   0     7.10        
    File::Spec            0     3.60        
    perl                  5.006 5.022001    
    Test::More            0.88  1.302013_005
    Test::Warnings        0     0.024       
configure_requires:
    Module                Need  Have        
    --------------------- ----- ------------
    Module::Build::Tiny   0.007 0.039       
    perl                  5.006 5.022001    
------------------------------
ENVIRONMENT AND OTHER CONTEXT
------------------------------
Environment variables:
    AUTOMATED_TESTING = 1
    LANG = en_US.UTF-8
    LANGUAGE = en_US:en
    PATH = /home/sand/bin:/usr/local/bin:/usr/bin:/bin:/usr/games:/usr/local/perl/bin:/usr/X11/bin:/sbin:/usr/sbin
    PERL = /tmp/basesmoker-reloperl-gfSL/bin/perl
    PERL5LIB = 
    PERL5OPT = 
    PERL5_CPANPLUS_IS_RUNNING = 18394
    PERL5_CPAN_IS_RUNNING = 18394
    PERL_MM_USE_DEFAULT = 1
    SHELL = /usr/bin/zsh
    TERM = screen
Perl special variables (and OS-specific diagnostics, for MSWin32):
    $^X = /tmp/basesmoker-reloperl-gfSL/bin/perl
    $UID/$EUID = 1005 / 1005
    $GID = 1005 1005
    $EGID = 1005 1005
Perl module toolchain versions installed:
    Module              Have        
    ------------------- ------------
    CPAN                2.12        
    CPAN::Meta          2.150005    
    Cwd                 3.60        
    ExtUtils::CBuilder  0.280224    
    ExtUtils::Command   7.10        
    ExtUtils::Install   2.04        
    ExtUtils::MakeMaker 7.10        
    ExtUtils::Manifest  1.70        
    ExtUtils::ParseXS   3.28        
    File::Spec          3.60        
    JSON                2.90        
    JSON::PP            2.27300     
    Module::Build       0.4214      
    Module::Signature   0.79        
    Parse::CPAN::Meta   1.4417      
    Test::Harness       3.36        
    Test::More          1.302013_005
    YAML                1.15        
    YAML::Syck          1.29        
    version             0.9909      
--
Summary of my perl5 (revision 5 version 22 subversion 1) configuration:
  Derived from: 0ab152a1d10861997fe3e1b985cc92f142f4cec7
  Platform:
    osname=linux, osvers=4.3.0-1-amd64, archname=x86_64-linux-thread-multi
    uname='linux k83 4.3.0-1-amd64 #1 smp debian 4.3.3-2 (2015-12-17) x86_64 gnulinux '
    config_args='-Dprefix=/home/sand/src/perl/repoperls/installed-perls/perl/v5.22.1/f7bf5 -Dmyhostname=k83 -Dinstallusrbinperl=n -Uversiononly -Dusedevel -des -Ui_db -Dlibswanted=cl pthread socket inet nsl gdbm dbm malloc dl ld sun m crypt sec util c cposix posix ucb BSD gdbm_compat -Duseithreads -Uuselongdouble -DDEBUGGING=-g'
    hint=recommended, useposix=true, d_sigaction=define
    useithreads=define, usemultiplicity=define
    use64bitint=define, use64bitall=define, uselongdouble=undef
    usemymalloc=n, bincompat5005=undef
  Compiler:
    cc='cc', ccflags ='-D_REENTRANT -D_GNU_SOURCE -fwrapv -fno-strict-aliasing -pipe -fstack-protector-strong -I/usr/local/include -D_LARGEFILE_SOURCE -D_FILE_OFFSET_BITS=64',
    optimize='-O2 -g',
    cppflags='-D_REENTRANT -D_GNU_SOURCE -fwrapv -fno-strict-aliasing -pipe -fstack-protector-strong -I/usr/local/include'
    ccversion='', gccversion='5.3.1 20160101', gccosandvers=''
    intsize=4, longsize=8, ptrsize=8, doublesize=8, byteorder=12345678, doublekind=3
    d_longlong=define, longlongsize=8, d_longdbl=define, longdblsize=16, longdblkind=3
    ivtype='long', ivsize=8, nvtype='double', nvsize=8, Off_t='off_t', lseeksize=8
    alignbytes=8, prototype=define
  Linker and Libraries:
    ld='cc', ldflags =' -fstack-protector-strong -L/usr/local/lib'
    libpth=/usr/local/lib /usr/lib/gcc/x86_64-linux-gnu/5/include-fixed /usr/include/x86_64-linux-gnu /usr/lib /lib/x86_64-linux-gnu /lib/../lib /usr/lib/x86_64-linux-gnu /usr/lib/../lib /lib
    libs=-lpthread -lnsl -lgdbm -ldl -lm -lcrypt -lutil -lc -lgdbm_compat
    perllibs=-lpthread -lnsl -ldl -lm -lcrypt -lutil -lc
    libc=libc-2.21.so, so=so, useshrplib=false, libperl=libperl.a
    gnulibc_version='2.21'
  Dynamic Linking:
    dlsrc=dl_dlopen.xs, dlext=so, d_dlsymun=undef, ccdlflags='-Wl,-E'
    cccdlflags='-fPIC', lddlflags='-shared -O2 -g -L/usr/local/lib -fstack-protector-strong'
Characteristics of this binary (from libperl): 
  Compile-time options: HAS_TIMES MULTIPLICITY PERLIO_LAYERS
                        PERL_DONT_CREATE_GVSV
                        PERL_HASH_FUNC_ONE_AT_A_TIME_HARD
                        PERL_IMPLICIT_CONTEXT PERL_MALLOC_WRAP
                        PERL_NEW_COPY_ON_WRITE PERL_PRESERVE_IVUV
                        PERL_USE_DEVEL USE_64_BIT_ALL USE_64_BIT_INT
                        USE_ITHREADS USE_LARGE_FILES USE_LOCALE
                        USE_LOCALE_COLLATE USE_LOCALE_CTYPE
                        USE_LOCALE_NUMERIC USE_LOCALE_TIME USE_PERLIO
                        USE_PERL_ATOF USE_REENTRANT_API
  Locally applied patches:
	uncommitted-changes
	Devel::PatchPerl 1.38
  Built under linux
  Compiled at Jan  5 2016 05:30:36
  %ENV:
    PERL="/tmp/basesmoker-reloperl-gfSL/bin/perl"
    PERL5LIB=""
    PERL5OPT=""
    PERL5_CPANPLUS_IS_RUNNING="18394"
    PERL5_CPAN_IS_RUNNING="18394"
    PERL_MM_USE_DEFAULT="1"
  @INC:
    /home/sand/src/perl/repoperls/installed-perls/perl/v5.22.1/f7bf5/lib/site_perl/5.22.1/x86_64-linux-thread-multi
    /home/sand/src/perl/repoperls/installed-perls/perl/v5.22.1/f7bf5/lib/site_perl/5.22.1
    /home/sand/src/perl/repoperls/installed-perls/perl/v5.22.1/f7bf5/lib/5.22.1/x86_64-linux-thread-multi
    /home/sand/src/perl/repoperls/installed-perls/perl/v5.22.1/f7bf5/lib/5.22.1
    .