Report for Web-Simple-0.033

Back
From: metabase:user:553c21ce-8d47-11df-9de5-e28c4c42590d
Subject: PASS Web-Simple-0.033 v5.24.0 GNU/Linux
Date: 2017-03-22T14:57:47Z

This distribution has been tested as part of the CPAN Testers
project, supporting the Perl programming language.  See
http://wiki.cpantesters.org/ for more information or email
questions to cpan-testers-discuss@perl.org


--
Dear MSTROUT,

This is a computer-generated report for Web-Simple-0.033
on perl 5.24.0, created by App::cpanminus::reporter 0.17 (1.7042).

Thank you for uploading your work to CPAN.  Congratulations!
All tests were successful.

Sections of this report:

    * Tester comments
    * Program output
    * Prerequisites
    * Environment and other context

------------------------------
TESTER COMMENTS
------------------------------

Additional comments from tester:

none provided

------------------------------
PROGRAM OUTPUT
------------------------------

Output from '':

Building and testing Web-Simple-0.033
cp lib/Web/Dispatch/Parser.pm blib/lib/Web/Dispatch/Parser.pm
cp lib/Plack/Middleware/Dispatch.pm blib/lib/Plack/Middleware/Dispatch.pm
cp lib/Web/Simple/AntiquatedPerl.pod blib/lib/Web/Simple/AntiquatedPerl.pod
cp lib/XML/Tags.pm blib/lib/XML/Tags.pm
cp lib/Web/Dispatch/ParamParser.pm blib/lib/Web/Dispatch/ParamParser.pm
cp lib/Web/Dispatch.pm blib/lib/Web/Dispatch.pm
cp lib/CSS/Declare.pm blib/lib/CSS/Declare.pm
cp lib/Web/Dispatch/Wrapper.pm blib/lib/Web/Dispatch/Wrapper.pm
cp lib/Web/Simple.pm blib/lib/Web/Simple.pm
cp lib/Web/Dispatch/ToApp.pm blib/lib/Web/Dispatch/ToApp.pm
cp lib/Web/Dispatch/Upload.pm blib/lib/Web/Dispatch/Upload.pm
cp lib/Web/Dispatch/HTTPMethods.pm blib/lib/Web/Dispatch/HTTPMethods.pm
cp lib/HTML/Tags.pm blib/lib/HTML/Tags.pm
cp lib/Web/Simple/Role.pm blib/lib/Web/Simple/Role.pm
cp lib/Web/Simple/Deployment.pod blib/lib/Web/Simple/Deployment.pod
cp lib/Web/Simple/HackedPlack.pm blib/lib/Web/Simple/HackedPlack.pm
cp lib/Web/Simple/Application.pm blib/lib/Web/Simple/Application.pm
cp lib/Web/Dispatch/Predicates.pm blib/lib/Web/Dispatch/Predicates.pm
cp lib/Web/Dispatch/Node.pm blib/lib/Web/Dispatch/Node.pm
PERL_DL_NONLAZY=1 "/home/ioanrogers/.plenv/versions/5.24.0-clang/bin/perl5.24.0" "-MExtUtils::Command::MM" "-MTest::Harness" "-e" "undef *Test::Harness::Switches; test_harness(0, 'blib/lib', 'blib/arch')" t/*.t
[07:56:08] t/css_declare.t .............. ok        2 ms ( 0.00 usr  0.00 sys +  0.05 cusr  0.01 csys =  0.06 CPU)
[07:56:08] t/param_parser.t ............. ok        3 ms ( 0.00 usr  0.00 sys +  0.07 cusr  0.00 csys =  0.07 CPU)
[07:56:08] t/leak.t ..................... skipped: No Devel::Cycle
[07:56:08] t/bloggery.t ................. ok        2 ms ( 0.01 usr  0.00 sys +  0.12 cusr  0.02 csys =  0.15 CPU)
[07:56:08] t/env.t ...................... ok        3 ms ( 0.00 usr  0.00 sys +  0.14 cusr  0.01 csys =  0.15 CPU)
[07:56:08] t/dispatch_misc.t ............ ok       15 ms ( 0.01 usr  0.00 sys +  0.29 cusr  0.02 csys =  0.32 CPU)
[07:56:08] t/dispatch_parser.t .......... ok       92 ms ( 0.03 usr  0.01 sys +  0.65 cusr  0.06 csys =  0.75 CPU)
[07:56:08] t/match-home.t ............... ok       76 ms ( 0.02 usr  0.01 sys +  0.71 cusr  0.07 csys =  0.81 CPU)
[07:56:08] t/request_mode_heuristics.t .. ok        1 ms ( 0.00 usr  0.00 sys +  0.08 cusr  0.01 csys =  0.09 CPU)
[07:56:08] t/stream_test.t .............. skipped: No HTTP::Request::AsCGI
[07:56:08] t/predicate_objects.t ........ ok       66 ms ( 0.01 usr  0.00 sys +  0.43 cusr  0.07 csys =  0.51 CPU)
[07:56:08] t/post.t ..................... ok       30 ms ( 0.00 usr  0.01 sys +  0.33 cusr  0.05 csys =  0.39 CPU)
[07:56:08] t/response-filter.t .......... ok       19 ms ( 0.00 usr  0.00 sys +  0.32 cusr  0.03 csys =  0.35 CPU)
[07:56:08] t/tags.t ..................... ok        3 ms ( 0.00 usr  0.00 sys +  0.20 cusr  0.02 csys =  0.22 CPU)
[07:56:08] t/sub-dispatch-env.t ......... ok        1 ms ( 0.00 usr  0.00 sys +  0.10 cusr  0.01 csys =  0.11 CPU)
[07:56:08] t/role.t ..................... ok        4 ms ( 0.00 usr  0.00 sys +  0.15 cusr  0.01 csys =  0.16 CPU)
[07:56:08] t/sub-dispatch-args.t ........ ok       58 ms ( 0.00 usr  0.00 sys +  0.40 cusr  0.03 csys =  0.43 CPU)
[07:56:08] t/underscore.t ............... ok        1 ms ( 0.00 usr  0.00 sys +  0.11 cusr  0.02 csys =  0.13 CPU)
[07:56:08] t/test-request-basic-auth.t .. ok        4 ms ( 0.00 usr  0.00 sys +  0.14 cusr  0.01 csys =  0.15 CPU)
[07:56:08] t/wd-http-methods.t .......... ok       50 ms ( 0.01 usr  0.00 sys +  0.38 cusr  0.04 csys =  0.43 CPU)
[07:56:08]
All tests successful.
Files=20, Tests=336,  0 wallclock secs ( 0.09 usr  0.02 sys +  2.36 cusr  0.25 csys =  2.72 CPU)
Result: PASS

------------------------------
PREREQUISITES
------------------------------

Prerequisite modules loaded:

    No requirements found

------------------------------
ENVIRONMENT AND OTHER CONTEXT
------------------------------

Environment variables:

    HARNESS_OPTIONS = j8
    HARNESS_TIMER = 1
    LANG = en_GB.UTF-8
    PATH = /home/ioanrogers/.plenv/versions/5.24.0-clang/bin:/home/ioanrogers/.plenv/libexec:/home/ioanrogers/.plenv/plugins/perl-build/bin:/home/ioanrogers/.local/share/go/bin:/opt/perforce/bin:/home/ioanrogers/.perl6/bin:/home/ioanrogers/.plenv/shims:~/.plenv/bin::/home/ioanrogers/bin:/home/ioanrogers/.local/bin:/usr/local/bin:/usr/bin:/bin:/usr/local/sbin:/sbin:/usr/sbin:/usr/games
    PERL_CPANM_OPT = --prompt --no-man-pages --verify --mirror https://cpan.metacpan.org
    SHELL = /bin/bash
    TERM = xterm-256color

Perl special variables (and OS-specific diagnostics, for MSWin32):

    EGID = 1854000021 10 969 973 982 1854000000 1854000021 1854000040 1854100503 1854100505
    EUID = 1854000021
    EXECUTABLE_NAME = /home/ioanrogers/.plenv/versions/5.24.0-clang/bin/perl5.24.0
    GID = 1854000021 10 969 973 982 1854000000 1854000021 1854000040 1854100503 1854100505
    UID = 1854000021

Perl module toolchain versions installed:

    Module              Have    
    ------------------- --------
    CPAN                2.16    
    CPAN::Meta          2.150010
    Cwd                 3.63    
    ExtUtils::CBuilder  0.280225
    ExtUtils::Command   7.24    
    ExtUtils::Install   2.04    
    ExtUtils::MakeMaker 7.24    
    ExtUtils::Manifest  1.70    
    ExtUtils::ParseXS   3.31    
    File::Spec          3.63    
    JSON                2.90    
    JSON::PP            2.27400 
    Module::Build       0.4220  
    Module::Signature   0.81    
    Parse::CPAN::Meta   2.150010
    Test::Harness       3.38    
    Test::More          1.302078
    YAML                1.23    
    YAML::Syck          n/a     
    version             0.9917  


--

Summary of my perl5 (revision 5 version 24 subversion 0) configuration:
   
  Platform:
    osname=linux, osvers=4.5.5-300.fc24.x86_64, archname=x86_64-linux
    uname='linux ioan-desktop.test.ca2.dco.sophos 4.5.5-300.fc24.x86_64 #1 smp thu may 19 13:05:32 utc 2016 x86_64 x86_64 x86_64 gnulinux '
    config_args='-Dprefix=/home/ioanrogers/.plenv/versions/5.24.0-clang -de -Dusedevel -Dcc=clang -Doptimize=-O3 -Dccflags-march=native -flto -Dman1dir=none -Dman3dir=none -A'eval:scriptdir=/home/ioanrogers/.plenv/versions/5.24.0-clang/bin''
    hint=recommended, useposix=true, d_sigaction=define
    useithreads=undef, usemultiplicity=undef
    use64bitint=define, use64bitall=define, uselongdouble=undef
    usemymalloc=n, bincompat5005=undef
  Compiler:
    cc='clang', ccflags ='-fno-strict-aliasing -pipe -fstack-protector-strong -I/usr/local/include -D_LARGEFILE_SOURCE -D_FILE_OFFSET_BITS=64 -D_FORTIFY_SOURCE=2',
    optimize='-O3',
    cppflags='-fno-strict-aliasing -pipe -fstack-protector-strong -I/usr/local/include'
    ccversion='', gccversion='4.2.1 Compatible Clang 3.8.0 (tags/RELEASE_380/final)', gccosandvers=''
    intsize=4, longsize=8, ptrsize=8, doublesize=8, byteorder=12345678, doublekind=3
    d_longlong=define, longlongsize=8, d_longdbl=define, longdblsize=16, longdblkind=3
    ivtype='long', ivsize=8, nvtype='double', nvsize=8, Off_t='off_t', lseeksize=8
    alignbytes=8, prototype=define
  Linker and Libraries:
    ld='clang', ldflags =' -fstack-protector-strong -L/usr/local/lib'
    libpth=/usr/local/lib /usr/lib /lib/../lib64 /usr/lib/../lib64 /lib /lib64 /usr/lib64 /usr/local/lib64
    libs=-lpthread -lnsl -lgdbm -ldb -ldl -lm -lcrypt -lutil -lc -lgdbm_compat
    perllibs=-lpthread -lnsl -ldl -lm -lcrypt -lutil -lc
    libc=libc-2.23.so, so=so, useshrplib=false, libperl=libperl.a
    gnulibc_version='2.23'
  Dynamic Linking:
    dlsrc=dl_dlopen.xs, dlext=so, d_dlsymun=undef, ccdlflags='-Wl,-E'
    cccdlflags='-fPIC', lddlflags='-shared -O3 -L/usr/local/lib -fstack-protector-strong'


Characteristics of this binary (from libperl): 
  Compile-time options: HAS_TIMES PERLIO_LAYERS PERL_COPY_ON_WRITE
                        PERL_DONT_CREATE_GVSV
                        PERL_HASH_FUNC_ONE_AT_A_TIME_HARD PERL_MALLOC_WRAP
                        PERL_PRESERVE_IVUV PERL_USE_DEVEL USE_64_BIT_ALL
                        USE_64_BIT_INT USE_LARGE_FILES USE_LOCALE
                        USE_LOCALE_COLLATE USE_LOCALE_CTYPE
                        USE_LOCALE_NUMERIC USE_LOCALE_TIME USE_PERLIO
                        USE_PERL_ATOF
  Locally applied patches:
	Devel::PatchPerl 1.40
  Built under linux
  Compiled at Aug 17 2016 09:27:21
  %ENV:
    PERL_CPANM_OPT="--prompt --no-man-pages --verify --mirror https://cpan.metacpan.org"
  @INC:
    /home/ioanrogers/.plenv/versions/5.24.0-clang/lib/perl5/site_perl/5.24.0/x86_64-linux
    /home/ioanrogers/.plenv/versions/5.24.0-clang/lib/perl5/site_perl/5.24.0
    /home/ioanrogers/.plenv/versions/5.24.0-clang/lib/perl5/5.24.0/x86_64-linux
    /home/ioanrogers/.plenv/versions/5.24.0-clang/lib/perl5/5.24.0
    .