Report for Catalyst-DispatchType-Regex-5.90035

Back
From: metabase:user:30ae4450-2aae-11df-837a-5e0a49663a4f
Subject: PASS Catalyst-DispatchType-Regex-5.90035 v5.18.1 GNU/Linux
Date: 2015-04-08T10:56:30Z

This distribution has been tested as part of the CPAN Testers
project, supporting the Perl programming language.  See
http://wiki.cpantesters.org/ for more information or email
questions to cpan-testers-discuss@perl.org


--
Dear Mark Grimes,

This is a computer-generated report for Catalyst-DispatchType-Regex-5.90035
on perl 5.18.1, created by CPAN-Reporter-1.2010.

Thank you for uploading your work to CPAN.  Congratulations!
All tests were successful.

Sections of this report:

    * Tester comments
    * Program output
    * Prerequisites
    * Environment and other context

------------------------------
TESTER COMMENTS
------------------------------

Additional comments from tester:

this report is from an automated smoke testing program
and was not reviewed by a human for accuracy

------------------------------
PROGRAM OUTPUT
------------------------------

Output from './Build test':

# Testing Catalyst::DispatchType::Regex 5.90035
t/01use.t .............................................. ok
DEPRECATION WARNING: The Regex dispatch type is deprecated.
  It is recommended that you convert Regex and LocalRegex 
  methods to Chained methods. at /home/c/.cpan/build/Catalyst-DispatchType-Regex-5.90035-jyKOv1/blib/lib/Catalyst/DispatchType/Regex.pm line 210.
t/aggregate/live_component_controller_action_regexp.t .. ok
DEPRECATION WARNING: The Regex dispatch type is deprecated.
  It is recommended that you convert Regex and LocalRegex 
  methods to Chained methods. at /home/c/.cpan/build/Catalyst-DispatchType-Regex-5.90035-jyKOv1/blib/lib/Catalyst/DispatchType/Regex.pm line 210.
t/aggregate/live_priorities.t .......................... ok
DEPRECATION WARNING: The Regex dispatch type is deprecated.
  It is recommended that you convert Regex and LocalRegex 
  methods to Chained methods. at /home/c/.cpan/build/Catalyst-DispatchType-Regex-5.90035-jyKOv1/blib/lib/Catalyst/DispatchType/Regex.pm line 210.
t/aggregate/unit_core_uri_for_action.t ................. ok
All tests successful.
Files=4, Tests=60,  4 wallclock secs ( 0.05 usr  0.02 sys +  3.66 cusr  0.30 csys =  4.03 CPU)
Result: PASS

------------------------------
PREREQUISITES
------------------------------

Prerequisite modules loaded:

requires:

    Module               Need    Have    
    -------------------- ------- --------
    Catalyst::Runtime    5.90060 5.90085 
    Moose                0       2.1201  
    Text::Balanced       0       2.02    
    Text::SimpleTable    0       2.03    

build_requires:

    Module               Need    Have    
    -------------------- ------- --------
    Data::Dumper         0       2.145   
    MRO::Compat          0       0.12    
    namespace::autoclean 0       0.15    
    Scalar::Util         0       1.35    
    Test::More           0       1.001002

configure_requires:

    Module               Need    Have    
    -------------------- ------- --------
    Module::Build        0.4004  0.4204  


------------------------------
ENVIRONMENT AND OTHER CONTEXT
------------------------------

Environment variables:

    AUTOMATED_TESTING = 1
    LANG = ru_RU.utf8
    PATH = /home/c/perl5/perlbrew/bin:/home/c/perl5/perlbrew/perls/18.1i/bin:/usr/local/bin:/usr/bin:/bin:/usr/local/games:/usr/games
    PERL5LIB = /home/c/.cpan/build/Catalyst-Runtime-5.90085-mwBwHZ/blib/arch:/home/c/.cpan/build/Catalyst-Runtime-5.90085-mwBwHZ/blib/lib:/home/c/.cpan/build/Plack-Middleware-MethodOverride-0.14-1fcA3k/blib/arch:/home/c/.cpan/build/Plack-Middleware-MethodOverride-0.14-1fcA3k/blib/lib:/home/c/.cpan/build/URI-1.67-gQGiUx/blib/arch:/home/c/.cpan/build/URI-1.67-gQGiUx/blib/lib:/home/c/.cpan/build/Plack-Middleware-FixMissingBodyInRedirect-0.12-fRbV2Z/blib/arch:/home/c/.cpan/build/Plack-Middleware-FixMissingBodyInRedirect-0.12-fRbV2Z/blib/lib:/home/c/.cpan/build/URI-ws-0.03-giohsw/blib/arch:/home/c/.cpan/build/URI-ws-0.03-giohsw/blib/lib:/home/c/.cpan/build/HTTP-Body-1.22-kB3ltM/blib/arch:/home/c/.cpan/build/HTTP-Body-1.22-kB3ltM/blib/lib:/home/c/.cpan/build/Plack-Middleware-RemoveRedundantBody-0.05-Ztc4t7/blib/arch:/home/c/.cpan/build/Plack-Middleware-RemoveRedundantBody-0.05-Ztc4t7/blib/lib
    PERL5OPT = 
    PERL5_CPANPLUS_IS_RUNNING = 30758
    PERL5_CPAN_IS_RUNNING = 30758
    PERL5_CPAN_IS_RUNNING_IN_RECURSION = 27646,30758
    PERLBREW_MANPATH = /home/c/perl5/perlbrew/perls/18.1i/man
    PERLBREW_PATH = /home/c/perl5/perlbrew/bin:/home/c/perl5/perlbrew/perls/18.1i/bin
    PERLBREW_PERL = 18.1i
    PERLBREW_ROOT = /home/c/perl5/perlbrew
    PERLBREW_SKIP_INIT = 1
    PERLBREW_VERSION = 0.67
    PERL_CR_SMOKER_CURRENT = Catalyst-DispatchType-Regex-5.90035
    PERL_CR_SMOKER_RUNONCE = 1
    PERL_EXTUTILS_AUTOINSTALL = --defaultdeps
    PERL_MM_USE_DEFAULT = 1
    SHELL = /bin/bash
    TERM = xterm

Perl special variables (and OS-specific diagnostics, for MSWin32):

    $^X = /home/c/perl5/perlbrew/perls/18.1i/bin/perl
    $UID/$EUID = 1000 / 1000
    $GID = 1000 24 25 29 30 44 46 103 105 108 110 1000
    $EGID = 1000 24 25 29 30 44 46 103 105 108 110 1000

Perl module toolchain versions installed:

    Module              Have    
    ------------------- --------
    CPAN                2.00    
    CPAN::Meta          2.133380
    Cwd                 3.40    
    ExtUtils::CBuilder  0.280210
    ExtUtils::Command   1.17    
    ExtUtils::Install   1.59    
    ExtUtils::MakeMaker 6.86    
    ExtUtils::Manifest  1.63    
    ExtUtils::ParseXS   3.22    
    File::Spec          3.40    
    JSON                2.90    
    JSON::PP            2.27203 
    Module::Build       0.4204  
    Module::Signature   n/a     
    Parse::CPAN::Meta   1.4405  
    Test::Harness       3.30    
    Test::More          1.001002
    YAML                0.88    
    YAML::Syck          1.27    
    version             0.9907  


--

Summary of my perl5 (revision 5 version 18 subversion 1) configuration:
   
  Platform:
    osname=linux, osvers=3.2.0-4-486, archname=i686-linux-thread-multi
    uname='linux deb7 3.2.0-4-486 #1 debian 3.2.51-1 i686 gnulinux '
    config_args='-de -Dprefix=/home/c/perl5/perlbrew/perls/18.1i -Dusethreads -Aeval:scriptdir=/home/c/perl5/perlbrew/perls/18.1i/bin'
    hint=recommended, useposix=true, d_sigaction=define
    useithreads=define, usemultiplicity=define
    useperlio=define, d_sfio=undef, uselargefiles=define, usesocks=undef
    use64bitint=undef, use64bitall=undef, uselongdouble=undef
    usemymalloc=n, bincompat5005=undef
  Compiler:
    cc='cc', ccflags ='-D_REENTRANT -D_GNU_SOURCE -fno-strict-aliasing -pipe -fstack-protector -I/usr/local/include -D_LARGEFILE_SOURCE -D_FILE_OFFSET_BITS=64',
    optimize='-O2',
    cppflags='-D_REENTRANT -D_GNU_SOURCE -fno-strict-aliasing -pipe -fstack-protector -I/usr/local/include'
    ccversion='', gccversion='4.7.2', gccosandvers=''
    intsize=4, longsize=4, ptrsize=4, doublesize=8, byteorder=1234
    d_longlong=define, longlongsize=8, d_longdbl=define, longdblsize=12
    ivtype='long', ivsize=4, nvtype='double', nvsize=8, Off_t='off_t', lseeksize=8
    alignbytes=4, prototype=define
  Linker and Libraries:
    ld='cc', ldflags =' -fstack-protector -L/usr/local/lib'
    libpth=/usr/local/lib /lib/i386-linux-gnu /lib/../lib /usr/lib/i386-linux-gnu /usr/lib/../lib /lib /usr/lib
    libs=-lnsl -lgdbm -ldb -ldl -lm -lcrypt -lutil -lpthread -lc -lgdbm_compat
    perllibs=-lnsl -ldl -lm -lcrypt -lutil -lpthread -lc
    libc=, so=so, useshrplib=false, libperl=libperl.a
    gnulibc_version='2.13'
  Dynamic Linking:
    dlsrc=dl_dlopen.xs, dlext=so, d_dlsymun=undef, ccdlflags='-Wl,-E'
    cccdlflags='-fPIC', lddlflags='-shared -O2 -L/usr/local/lib -fstack-protector'


Characteristics of this binary (from libperl): 
  Compile-time options: HAS_TIMES MULTIPLICITY PERLIO_LAYERS
                        PERL_DONT_CREATE_GVSV
                        PERL_HASH_FUNC_ONE_AT_A_TIME_HARD
                        PERL_IMPLICIT_CONTEXT PERL_MALLOC_WRAP
                        PERL_PRESERVE_IVUV PERL_SAWAMPERSAND USE_ITHREADS
                        USE_LARGE_FILES USE_LOCALE USE_LOCALE_COLLATE
                        USE_LOCALE_CTYPE USE_LOCALE_NUMERIC USE_PERLIO
                        USE_PERL_ATOF USE_REENTRANT_API
  Built under linux
  Compiled at Jan 14 2014 14:37:40
  %ENV:
    PERL5LIB="/home/c/.cpan/build/Catalyst-Runtime-5.90085-mwBwHZ/blib/arch:/home/c/.cpan/build/Catalyst-Runtime-5.90085-mwBwHZ/blib/lib:/home/c/.cpan/build/Plack-Middleware-MethodOverride-0.14-1fcA3k/blib/arch:/home/c/.cpan/build/Plack-Middleware-MethodOverride-0.14-1fcA3k/blib/lib:/home/c/.cpan/build/URI-1.67-gQGiUx/blib/arch:/home/c/.cpan/build/URI-1.67-gQGiUx/blib/lib:/home/c/.cpan/build/Plack-Middleware-FixMissingBodyInRedirect-0.12-fRbV2Z/blib/arch:/home/c/.cpan/build/Plack-Middleware-FixMissingBodyInRedirect-0.12-fRbV2Z/blib/lib:/home/c/.cpan/build/URI-ws-0.03-giohsw/blib/arch:/home/c/.cpan/build/URI-ws-0.03-giohsw/blib/lib:/home/c/.cpan/build/HTTP-Body-1.22-kB3ltM/blib/arch:/home/c/.cpan/build/HTTP-Body-1.22-kB3ltM/blib/lib:/home/c/.cpan/build/Plack-Middleware-RemoveRedundantBody-0.05-Ztc4t7/blib/arch:/home/c/.cpan/build/Plack-Middleware-RemoveRedundantBody-0.05-Ztc4t7/blib/lib"
    PERL5OPT=""
    PERL5_CPANPLUS_IS_RUNNING="30758"
    PERL5_CPAN_IS_RUNNING="30758"
    PERL5_CPAN_IS_RUNNING_IN_RECURSION="27646,30758"
    PERLBREW_MANPATH="/home/c/perl5/perlbrew/perls/18.1i/man"
    PERLBREW_PATH="/home/c/perl5/perlbrew/bin:/home/c/perl5/perlbrew/perls/18.1i/bin"
    PERLBREW_PERL="18.1i"
    PERLBREW_ROOT="/home/c/perl5/perlbrew"
    PERLBREW_SKIP_INIT="1"
    PERLBREW_VERSION="0.67"
    PERL_CR_SMOKER_CURRENT="Catalyst-DispatchType-Regex-5.90035"
    PERL_CR_SMOKER_RUNONCE="1"
    PERL_EXTUTILS_AUTOINSTALL="--defaultdeps"
    PERL_MM_USE_DEFAULT="1"
  @INC:
    /home/c/.cpan/build/Catalyst-Runtime-5.90085-mwBwHZ/blib/arch
    /home/c/.cpan/build/Catalyst-Runtime-5.90085-mwBwHZ/blib/lib
    /home/c/.cpan/build/Plack-Middleware-MethodOverride-0.14-1fcA3k/blib/arch
    /home/c/.cpan/build/Plack-Middleware-MethodOverride-0.14-1fcA3k/blib/lib
    /home/c/.cpan/build/URI-1.67-gQGiUx/blib/arch
    /home/c/.cpan/build/URI-1.67-gQGiUx/blib/lib
    /home/c/.cpan/build/Plack-Middleware-FixMissingBodyInRedirect-0.12-fRbV2Z/blib/arch
    /home/c/.cpan/build/Plack-Middleware-FixMissingBodyInRedirect-0.12-fRbV2Z/blib/lib
    /home/c/.cpan/build/URI-ws-0.03-giohsw/blib/arch
    /home/c/.cpan/build/URI-ws-0.03-giohsw/blib/lib
    /home/c/.cpan/build/HTTP-Body-1.22-kB3ltM/blib/arch
    /home/c/.cpan/build/HTTP-Body-1.22-kB3ltM/blib/lib
    /home/c/.cpan/build/Plack-Middleware-RemoveRedundantBody-0.05-Ztc4t7/blib/arch
    /home/c/.cpan/build/Plack-Middleware-RemoveRedundantBody-0.05-Ztc4t7/blib/lib
    /home/c/perl5/perlbrew/perls/18.1i/lib/site_perl/5.18.1/i686-linux-thread-multi
    /home/c/perl5/perlbrew/perls/18.1i/lib/site_perl/5.18.1
    /home/c/perl5/perlbrew/perls/18.1i/lib/5.18.1/i686-linux-thread-multi
    /home/c/perl5/perlbrew/perls/18.1i/lib/5.18.1
    .