Module-Setup v0.09 Perl 5 v5.20.3 MSWin32-x64-multi-thread

Status
Pass
From
LNATION
Dist
Module-Setup v0.09
Platform
Perl 5 v5.20.3 MSWin32-x64-multi-thread
Date
2025-05-19 17:15:19
ID
e9816e7c-6e4f-1014-aac5-f6d5ecbd13d9
This distribution has been tested as part of the CPAN Testers
project, supporting the Perl programming language.  See
http://wiki.cpantesters.org/ for more information or email
questions to cpan-testers-discuss@perl.org


--
Dear Kazuhiro Osawa,

This is a computer-generated report for Module-Setup-0.09
on perl 5.20.3, created by CPAN-Reporter-1.2020.

Thank you for uploading your work to CPAN.  Congratulations!
All tests were successful.

Sections of this report:

    * Tester comments
    * Program output
    * Prerequisites
    * Environment and other context

------------------------------
TESTER COMMENTS
------------------------------

Additional comments from tester:

this report is from an automated smoke testing program
and was not reviewed by a human for accuracy

------------------------------
PROGRAM OUTPUT
------------------------------

Output from 'C:\STRAWB~1\c\bin\dmake.exe test':

"C:\Strawberry\perl\bin\perl.exe" "-MExtUtils::Command::MM" "-MTest::Harness" "-e" "undef *Test::Harness::Switches; test_harness(0, 'inc', 'blib\lib', 'blib\arch')" t/*.t t/*/*.t
Possible precedence issue with control flow operator at C:\STRAWB~1\cpan\build\Module-Setup-0.09-W5FeH7\inc/Test/Builder.pm line 858.
t/00_compile.t .................................... ok
Possible precedence issue with control flow operator at C:\STRAWB~1\cpan\build\Module-Setup-0.09-W5FeH7\inc/Test/Builder.pm line 858.
t/010_core/detect-flavor-tests-error.t ............ ok
Possible precedence issue with control flow operator at C:\STRAWB~1\cpan\build\Module-Setup-0.09-W5FeH7\inc/Test/Builder.pm line 858.
t/010_core/detect_module_and_flavor_name_error.t .. ok
Possible precedence issue with control flow operator at C:\STRAWB~1\cpan\build\Module-Setup-0.09-W5FeH7\inc/Test/Builder.pm line 858.
t/010_core/dialog.t ............................... ok
Possible precedence issue with control flow operator at C:\STRAWB~1\cpan\build\Module-Setup-0.09-W5FeH7\inc/Test/Builder.pm line 858.
t/010_core/distribute.t ........................... ok
Possible precedence issue with control flow operator at C:\STRAWB~1\cpan\build\Module-Setup-0.09-W5FeH7\inc/Test/Builder.pm line 858.
t/010_core/flavor.t ............................... ok
Possible precedence issue with control flow operator at C:\STRAWB~1\cpan\build\Module-Setup-0.09-W5FeH7\inc/Test/Builder.pm line 858.
t/010_core/load_argv.t ............................ ok
Possible precedence issue with control flow operator at C:\STRAWB~1\cpan\build\Module-Setup-0.09-W5FeH7\inc/Test/Builder.pm line 858.
t/010_core/path.t ................................. ok
Possible precedence issue with control flow operator at C:\STRAWB~1\cpan\build\Module-Setup-0.09-W5FeH7\inc/Test/Builder.pm line 858.
t/010_core/select-flavor.t ........................ ok
Possible precedence issue with control flow operator at C:\STRAWB~1\cpan\build\Module-Setup-0.09-W5FeH7\inc/Test/Builder.pm line 858.
t/010_core/setup_base_dir.t ....................... ok
Possible precedence issue with control flow operator at C:\STRAWB~1\cpan\build\Module-Setup-0.09-W5FeH7\inc/Test/Builder.pm line 858.
t/010_core/setup_options.t ........................ ok
Possible precedence issue with control flow operator at C:\STRAWB~1\cpan\build\Module-Setup-0.09-W5FeH7\inc/Test/Builder.pm line 858.
t/010_core/setup_options_code.t ................... ok
Possible precedence issue with control flow operator at C:\STRAWB~1\cpan\build\Module-Setup-0.09-W5FeH7\inc/Test/Builder.pm line 858.
t/010_core/stdout-log.t ........................... ok
Possible precedence issue with control flow operator at C:\STRAWB~1\cpan\build\Module-Setup-0.09-W5FeH7\inc/Test/Builder.pm line 858.
t/010_core/system.t ............................... ok
Possible precedence issue with control flow operator at C:\STRAWB~1\cpan\build\Module-Setup-0.09-W5FeH7\inc/Test/Builder.pm line 858.
t/010_core/test_util.t ............................ ok
Possible precedence issue with control flow operator at C:\STRAWB~1\cpan\build\Module-Setup-0.09-W5FeH7\inc/Test/Builder.pm line 858.
t/020_run/additional.t ............................ ok
Possible precedence issue with control flow operator at C:\STRAWB~1\cpan\build\Module-Setup-0.09-W5FeH7\inc/Test/Builder.pm line 858.
t/020_run/binary.t ................................ ok
Possible precedence issue with control flow operator at C:\STRAWB~1\cpan\build\Module-Setup-0.09-W5FeH7\inc/Test/Builder.pm line 858.
t/020_run/direct.t ................................ ok
Possible precedence issue with control flow operator at C:\STRAWB~1\cpan\build\Module-Setup-0.09-W5FeH7\inc/Test/Builder.pm line 858.
t/020_run/dupe-flavor.t ........................... ok
Possible precedence issue with control flow operator at C:\STRAWB~1\cpan\build\Module-Setup-0.09-W5FeH7\inc/Test/Builder.pm line 858.
t/020_run/dupe.t .................................. ok
Possible precedence issue with control flow operator at C:\STRAWB~1\cpan\build\Module-Setup-0.09-W5FeH7\inc/Test/Builder.pm line 858.
t/020_run/empty_dir.t ............................. ok
Possible precedence issue with control flow operator at C:\STRAWB~1\cpan\build\Module-Setup-0.09-W5FeH7\inc/Test/Builder.pm line 858.
t/020_run/fail_flavor.t ........................... ok
Possible precedence issue with control flow operator at C:\STRAWB~1\cpan\build\Module-Setup-0.09-W5FeH7\inc/Test/Builder.pm line 858.
t/020_run/hasnt-flavorclass.t ..................... ok
Possible precedence issue with control flow operator at C:\STRAWB~1\cpan\build\Module-Setup-0.09-W5FeH7\inc/Test/Builder.pm line 858.
t/020_run/init.t .................................. ok
Possible precedence issue with control flow operator at C:\STRAWB~1\cpan\build\Module-Setup-0.09-W5FeH7\inc/Test/Builder.pm line 858.
t/020_run/nullflavors.t ........................... ok
Possible precedence issue with control flow operator at C:\STRAWB~1\cpan\build\Module-Setup-0.09-W5FeH7\inc/Test/Builder.pm line 858.
t/020_run/pack-additional.t ....................... ok
Possible precedence issue with control flow operator at C:\STRAWB~1\cpan\build\Module-Setup-0.09-W5FeH7\inc/Test/Builder.pm line 858.
t/020_run/pack.t .................................. ok
Possible precedence issue with control flow operator at C:\STRAWB~1\cpan\build\Module-Setup-0.09-W5FeH7\inc/Test/Builder.pm line 858.
t/020_run/simple.t ................................ ok
Possible precedence issue with control flow operator at C:\STRAWB~1\cpan\build\Module-Setup-0.09-W5FeH7\inc/Test/Builder.pm line 858.
t/030_plugin/append_template_file.t ............... ok
Possible precedence issue with control flow operator at C:\STRAWB~1\cpan\build\Module-Setup-0.09-W5FeH7\inc/Test/Builder.pm line 858.
t/030_plugin/append_template_file2.t .............. ok
Possible precedence issue with control flow operator at C:\STRAWB~1\cpan\build\Module-Setup-0.09-W5FeH7\inc/Test/Builder.pm line 858.
cannot unlink file for C:\Users\ADMINI~1\AppData\Local\Temp\2\EtaDb7eK4U\flavors\default\plugins\illegalplugin.pm: Permission denied at C:/Strawberry/perl/site/lib/File/Temp.pm line 2643.
cannot remove directory for C:\Users\ADMINI~1\AppData\Local\Temp\2\EtaDb7eK4U\flavors\default\plugins: Directory not empty at C:/Strawberry/perl/site/lib/File/Temp.pm line 2643.
cannot remove directory for C:\Users\ADMINI~1\AppData\Local\Temp\2\EtaDb7eK4U\flavors\default: Directory not empty at C:/Strawberry/perl/site/lib/File/Temp.pm line 2643.
cannot remove directory for C:\Users\ADMINI~1\AppData\Local\Temp\2\EtaDb7eK4U\flavors: Directory not empty at C:/Strawberry/perl/site/lib/File/Temp.pm line 2643.
cannot remove directory for C:/Users/ADMINI~1/AppData/Local/Temp/2/EtaDb7eK4U: Directory not empty at C:/Strawberry/perl/site/lib/File/Temp.pm line 2643.
t/030_plugin/illegalplugin.t ...................... ok
Possible precedence issue with control flow operator at C:\STRAWB~1\cpan\build\Module-Setup-0.09-W5FeH7\inc/Test/Builder.pm line 858.
t/030_plugin/illegalpluginconfig.t ................ ok
Possible precedence issue with control flow operator at C:\STRAWB~1\cpan\build\Module-Setup-0.09-W5FeH7\inc/Test/Builder.pm line 858.
cannot unlink file for C:\Users\ADMINI~1\AppData\Local\Temp\2\e91ZOtRt5v\flavors\default\plugins\localplugin.pm: Permission denied at C:/Strawberry/perl/site/lib/File/Temp.pm line 2643.
cannot remove directory for C:\Users\ADMINI~1\AppData\Local\Temp\2\e91ZOtRt5v\flavors\default\plugins: Directory not empty at C:/Strawberry/perl/site/lib/File/Temp.pm line 2643.
cannot remove directory for C:\Users\ADMINI~1\AppData\Local\Temp\2\e91ZOtRt5v\flavors\default: Directory not empty at C:/Strawberry/perl/site/lib/File/Temp.pm line 2643.
cannot remove directory for C:\Users\ADMINI~1\AppData\Local\Temp\2\e91ZOtRt5v\flavors: Directory not empty at C:/Strawberry/perl/site/lib/File/Temp.pm line 2643.
cannot remove directory for C:/Users/ADMINI~1/AppData/Local/Temp/2/e91ZOtRt5v: Directory not empty at C:/Strawberry/perl/site/lib/File/Temp.pm line 2643.
t/030_plugin/localplugin.t ........................ ok
Possible precedence issue with control flow operator at C:\STRAWB~1\cpan\build\Module-Setup-0.09-W5FeH7\inc/Test/Builder.pm line 858.
t/030_plugin/plain.t .............................. ok
Possible precedence issue with control flow operator at C:\STRAWB~1\cpan\build\Module-Setup-0.09-W5FeH7\inc/Test/Builder.pm line 858.
'git' is not recognized as an internal or external command,
operable program or batch file.
t/030_plugin/site_github.t ........................ skipped: git is not installed.
Possible precedence issue with control flow operator at C:\STRAWB~1\cpan\build\Module-Setup-0.09-W5FeH7\inc/Test/Builder.pm line 858.
t/030_plugin/template.t ........................... ok
Possible precedence issue with control flow operator at C:\STRAWB~1\cpan\build\Module-Setup-0.09-W5FeH7\inc/Test/Builder.pm line 858.
cannot remove path when cwd is C:/Users/ADMINI~1/AppData/Local/Temp/2/Z1_PfYMj0I/Test-Makefile3_4 for C:/Users/ADMINI~1/AppData/Local/Temp/2/Z1_PfYMj0I:  at C:/Strawberry/perl/site/lib/File/Temp.pm line 2643.
t/030_plugin/test_makefile.t ...................... ok
Possible precedence issue with control flow operator at C:\STRAWB~1\cpan\build\Module-Setup-0.09-W5FeH7\inc/Test/Builder.pm line 858.
'git' is not recognized as an internal or external command,
operable program or batch file.
t/030_plugin/vc_git.t ............................. skipped: git is not installed.
Possible precedence issue with control flow operator at C:\STRAWB~1\cpan\build\Module-Setup-0.09-W5FeH7\inc/Test/Builder.pm line 858.
Name "Module::Setup::Flavor::Default::setup_config" used only once: possible typo at t/030_plugin/vc_svk.t line 17.
t/030_plugin/vc_svk.t ............................. ok
Possible precedence issue with control flow operator at C:\STRAWB~1\cpan\build\Module-Setup-0.09-W5FeH7\inc/Test/Builder.pm line 858.
t/030_plugin/vc_svn.t ............................. ok
Possible precedence issue with control flow operator at C:\STRAWB~1\cpan\build\Module-Setup-0.09-W5FeH7\inc/Test/Builder.pm line 858.
t/040_flavor/coderepos.t .......................... ok
Possible precedence issue with control flow operator at C:\STRAWB~1\cpan\build\Module-Setup-0.09-W5FeH7\inc/Test/Builder.pm line 858.
t/040_flavor/default-setup_config.t ............... ok
Possible precedence issue with control flow operator at C:\STRAWB~1\cpan\build\Module-Setup-0.09-W5FeH7\inc/Test/Builder.pm line 858.
t/040_flavor/default.t ............................ ok
Possible precedence issue with control flow operator at C:\STRAWB~1\cpan\build\Module-Setup-0.09-W5FeH7\inc/Test/Builder.pm line 858.
'git' is not recognized as an internal or external command,
operable program or batch file.
'git' is not recognized as an internal or external command,
operable program or batch file.
t/040_flavor/github.t ............................. ok
Possible precedence issue with control flow operator at C:\STRAWB~1\cpan\build\Module-Setup-0.09-W5FeH7\inc/Test/Builder.pm line 858.
cannot remove path when cwd is C:/Users/ADMINI~1/AppData/Local/Temp/2/SEnrcDmMXp for C:/Users/ADMINI~1/AppData/Local/Temp/2/SEnrcDmMXp:  at C:/Strawberry/perl/site/lib/File/Temp.pm line 2643.
t/050_helper/basic-callback.t ..................... ok
Possible precedence issue with control flow operator at C:\STRAWB~1\cpan\build\Module-Setup-0.09-W5FeH7\inc/Test/Builder.pm line 858.
cannot remove path when cwd is C:/Users/ADMINI~1/AppData/Local/Temp/2/4jFtghz2iA for C:/Users/ADMINI~1/AppData/Local/Temp/2/4jFtghz2iA:  at C:/Strawberry/perl/site/lib/File/Temp.pm line 2643.
t/050_helper/basic-foo.t .......................... ok
Possible precedence issue with control flow operator at C:\STRAWB~1\cpan\build\Module-Setup-0.09-W5FeH7\inc/Test/Builder.pm line 858.
t/050_helper/basic.t .............................. ok
All tests successful.
Files=47, Tests=430, 35 wallclock secs ( 0.27 usr +  0.11 sys =  0.38 CPU)
Result: PASS

------------------------------
PREREQUISITES
------------------------------

Prerequisite modules loaded:

requires:

    Module                       Need Have    
    ---------------------------- ---- --------
    Class::Trigger               0    0.15    
    Cwd                          0    3.75    
    ExtUtils::MakeMaker          0    7.74    
    File::Basename               0    2.85    
    File::Find::Rule             0    0.34    
    File::HomeDir                0    1.00    
    File::Path                   0    2.18    
    File::Temp                   0.2  0.2311  
    Filter::Util::Call           0    1.64    
    Getopt::Long                 0    2.58    
    IO::Scalar                   0    2.111   
    LWP::UserAgent               0    6.78    
    Module::Collect              0.06 0.06    
    Module::Install::AuthorTests 0    0.002   
    Module::Install::Repository  0    0.08    
    Path::Class                  0    0.36    
    Pod::Usage                   0    1.68    
    Scalar::Util                 0    1.69    
    Storable                     0    3.25    
    Template                     2.2  2.26    
    Test::More                   0    1.302213
    Test::Requires               0    0.10    
    Text::Patch                  0    1.8     
    YAML                         0    1.15    

build_requires:

    Module                       Need Have    
    ---------------------------- ---- --------
    ExtUtils::MakeMaker          0    7.74    

configure_requires:

    Module                       Need Have    
    ---------------------------- ---- --------
    ExtUtils::MakeMaker          6.42 7.74    


------------------------------
ENVIRONMENT AND OTHER CONTEXT
------------------------------

Environment variables:

    AUTOMATED_TESTING = 1
    COMSPEC = C:\Windows\system32\cmd.exe
    NUMBER_OF_PROCESSORS = 2
    PATH = C:\Windows\system32;C:\Windows;C:\Windows\System32\Wbem;C:\Windows\System32\WindowsPowerShell\v1.0\;C:\Windows\System32\OpenSSH\;C:\Program Files\Amazon\cfn-bootstrap\;C:\Strawberry\c\bin;C:\Strawberry\perl\site\bin;C:\Strawberry\perl\bin;C:\Users\Administrator\AppData\Local\Microsoft\WindowsApps;C:\Users\Administrator\AppData\Local\Microsoft\WinGet\Links;
    PERL5LIB = 
    PERL5OPT = 
    PERL5_CPANPLUS_IS_RUNNING = 4152
    PERL5_CPAN_IS_RUNNING = 4152
    PERL5_CPAN_IS_RUNNING_IN_RECURSION = 5720,4152
    PERL_CR_SMOKER_CURRENT = Pickles-Dispatcher-Auto-0.03
    PERL_EXTUTILS_AUTOINSTALL = --defaultdeps
    PERL_MM_USE_DEFAULT = 1
    PROCESSOR_IDENTIFIER = Intel64 Family 6 Model 85 Stepping 7, GenuineIntel
    TEMP = C:\Users\ADMINI~1\AppData\Local\Temp\2

Perl special variables (and OS-specific diagnostics, for MSWin32):

    $^X = C:\Strawberry\perl\bin\perl.exe
    $UID/$EUID = 0 / 0
    $GID = 0
    $EGID = 0
    Win32::GetOSName = Win2012
    Win32::GetOSVersion = , 6, 2, 9200, 2, 0, 0, 400, 3
    Win32::FsType = NTFS
    Win32::IsAdminUser = 1

Perl module toolchain versions installed:

    Module              Have    
    ------------------- --------
    CPAN                2.10    
    CPAN::Meta          2.150010
    Cwd                 3.75    
    ExtUtils::CBuilder  0.280236
    ExtUtils::Command   7.74    
    ExtUtils::Install   2.06    
    ExtUtils::MakeMaker 7.74    
    ExtUtils::Manifest  1.75    
    ExtUtils::ParseXS   3.57    
    File::Spec          3.75    
    JSON                4.10    
    JSON::PP            4.16    
    Module::Build       0.4234  
    Module::Signature   n/a     
    Parse::CPAN::Meta   2.150010
    Test2               1.302213
    Test::Harness       3.52    
    Test::More          1.302213
    YAML                1.15    
    YAML::Syck          1.34    
    version             0.9915  


--

Summary of my perl5 (revision 5 version 20 subversion 3) configuration:
   
  Platform:
    osname=MSWin32, osvers=6.3, archname=MSWin32-x64-multi-thread
    uname='Win32 strawberry-perl 5.20.3.3 #1 Sun Mar  6 19:06:29 2016 x64'
    config_args='undef'
    hint=recommended, useposix=true, d_sigaction=undef
    useithreads=define, usemultiplicity=define
    use64bitint=define, use64bitall=undef, uselongdouble=undef
    usemymalloc=n, bincompat5005=undef
  Compiler:
    cc='gcc', ccflags =' -s -O2 -DWIN32 -DWIN64 -DCONSERVATIVE  -DPERL_TEXTMODE_SCRIPTS -DPERL_IMPLICIT_CONTEXT -DPERL_IMPLICIT_SYS -DUSE_PERLIO -fwrapv -fno-strict-aliasing -mms-bitfields',
    optimize='-s -O2',
    cppflags='-DWIN32'
    ccversion='', gccversion='4.8.3', gccosandvers=''
    intsize=4, longsize=4, ptrsize=8, doublesize=8, byteorder=12345678
    d_longlong=define, longlongsize=8, d_longdbl=define, longdblsize=12
    ivtype='long long', ivsize=8, nvtype='double', nvsize=8, Off_t='long long', lseeksize=8
    alignbytes=8, prototype=define
  Linker and Libraries:
    ld='g++', ldflags ='-s -L"C:\STRAWB~1\perl\lib\CORE" -L"C:\STRAWB~1\c\lib"'
    libpth=C:\STRAWB~1\c\lib C:\STRAWB~1\c\x86_64-w64-mingw32\lib C:\STRAWB~1\c\lib\gcc\x86_64-w64-mingw32\4.8.3
    libs=-lmoldname -lkernel32 -luser32 -lgdi32 -lwinspool -lcomdlg32 -ladvapi32 -lshell32 -lole32 -loleaut32 -lnetapi32 -luuid -lws2_32 -lmpr -lwinmm -lversion -lodbc32 -lodbccp32 -lcomctl32
    perllibs=-lmoldname -lkernel32 -luser32 -lgdi32 -lwinspool -lcomdlg32 -ladvapi32 -lshell32 -lole32 -loleaut32 -lnetapi32 -luuid -lws2_32 -lmpr -lwinmm -lversion -lodbc32 -lodbccp32 -lcomctl32
    libc=, so=dll, useshrplib=true, libperl=libperl520.a
    gnulibc_version=''
  Dynamic Linking:
    dlsrc=dl_win32.xs, dlext=xs.dll, d_dlsymun=undef, ccdlflags=' '
    cccdlflags=' ', lddlflags='-mdll -s -L"C:\STRAWB~1\perl\lib\CORE" -L"C:\STRAWB~1\c\lib"'


Characteristics of this binary (from libperl): 
  Compile-time options: HAS_TIMES HAVE_INTERP_INTERN MULTIPLICITY
                        PERLIO_LAYERS PERL_DONT_CREATE_GVSV
                        PERL_HASH_FUNC_ONE_AT_A_TIME_HARD
                        PERL_IMPLICIT_CONTEXT PERL_IMPLICIT_SYS
                        PERL_MALLOC_WRAP PERL_NEW_COPY_ON_WRITE
                        PERL_PRESERVE_IVUV USE_64_BIT_INT USE_ITHREADS
                        USE_LARGE_FILES USE_LOCALE USE_LOCALE_COLLATE
                        USE_LOCALE_CTYPE USE_LOCALE_NUMERIC USE_PERLIO
                        USE_PERL_ATOF
  Built under MSWin32
  Compiled at Mar  6 2016 19:10:49
  %ENV:
    PERL5_CPANPLUS_IS_RUNNING="4152"
    PERL5_CPAN_IS_RUNNING="4152"
    PERL5_CPAN_IS_RUNNING_IN_RECURSION="5720,4152"
    PERL_CR_SMOKER_CURRENT="Pickles-Dispatcher-Auto-0.03"
    PERL_EXTUTILS_AUTOINSTALL="--defaultdeps"
    PERL_MM_USE_DEFAULT="1"
  @INC:
    C:/Strawberry/perl/site/lib
    C:/Strawberry/perl/vendor/lib
    C:/Strawberry/perl/lib
    .