Algorithm-URL-Shorten v0.01 Perl 5 v5.10.0 i86pc-solaris
- Status
- Pass
- From
- Chris Williams (BINGOS)
- Dist
-
Algorithm-URL-Shorten v0.01
- Platform
- Perl 5 v5.10.0 i86pc-solaris
- Date
- 2010-08-11 21:03:38
- ID
- e97cdf0c-a58b-11df-9ebc-c4a68065c34d
This distribution has been tested as part of the CPAN Testers
project, supporting the Perl programming language. See
http://wiki.cpantesters.org/ for more information or email
questions to cpan-testers-discuss@perl.org
--
Dear ALEXBIO,
This is a computer-generated error report created automatically by
CPANPLUS, version 0.9007. Testers personal comments may appear
at the end of this report.
MAKE TEST passed: PERL_DL_NONLAZY=1 /export/home/cpan/pit/bare/perl-5.10.0/bin/perl "-MExtUtils::Command::MM" "-e" "test_harness(0, 'blib/lib', 'blib/arch')" t/*.t
# Testing Algorithm::URL::Shorten 0.01, Perl 5.010000, /export/home/cpan/pit/bare/perl-5.10.0/bin/perl
t/00-load.t ....... ok
t/manifest.t ...... skipped: Author tests not required for installation
t/pod-coverage.t .. skipped: Test::Pod::Coverage 1.08 required for testing POD coverage
t/pod.t ........... skipped: Test::Pod 1.22 required for testing POD
All tests successful.
Files=4, Tests=1, 2 wallclock secs ( 0.16 usr 0.36 sys + 0.31 cusr 0.67 csys = 1.50 CPU)
Result: PASS
[MSG] [Wed Aug 11 21:42:40 2010] Sending test report for 'Algorithm-URL-Shorten-0.01'
This report was machine-generated by CPANPLUS::Dist::YACSmoke 0.58.
Powered by minismokebox version 0.26
------------------------------
ENVIRONMENT AND OTHER CONTEXT
------------------------------
Environment variables:
AUTOMATED_TESTING = 1
LC_COLLATE = en_GB.UTF-8
LC_CTYPE = en_GB.UTF-8
LC_MESSAGES = C
LC_MONETARY = en_GB.UTF-8
LC_NUMERIC = en_GB.UTF-8
LC_TIME = en_GB.UTF-8
PATH = /opt/SUNWspro/bin:/usr/ccs/bin:/usr/perl5/bin:/usr/local/bin:/usr/local/sbin:/usr/bin::/usr/sfw/bin
PERL5LIB = :/export/home/cpan/pit/bare/conf/perl-5.10.0/.cpanplus/5.10.0/build/Algorithm-URL-Shorten-0.01/blib/lib:/export/home/cpan/pit/bare/conf/perl-5.10.0/.cpanplus/5.10.0/build/Algorithm-URL-Shorten-0.01/blib/arch
PERL5_CPANPLUS_IS_RUNNING = 89
PERL5_CPANPLUS_IS_VERSION = 0.9007
PERL5_MINISMOKEBOX = 0.26
PERL5_YACSMOKE_BASE = /export/home/cpan/pit/bare/conf/perl-5.10.0
PERL_EXTUTILS_AUTOINSTALL = --defaultdeps
PERL_MM_USE_DEFAULT = 1
SHELL = /usr/bin/bash
TERM = vt100
Perl special variables (and OS-specific diagnostics, for MSWin32):
Perl: $^X = /export/home/cpan/pit/bare/perl-5.10.0/bin/perl
UID: $< = 100
EUID: $> = 100
GID: $( = 100 100
EGID: $) = 100 100
-------------------------------
--
Summary of my perl5 (revision 5 version 10 subversion 0) configuration:
Platform:
osname=solaris, osvers=2.10, archname=i86pc-solaris
uname='sunos solarity 5.10 generic_118855-33 i86pc i386 i86pc '
config_args='-de -Dprefix=/export/home/cpan/pit/bare/perl-5.10.0'
hint=recommended, useposix=true, d_sigaction=define
useithreads=undef, usemultiplicity=undef
useperlio=define, d_sfio=undef, uselargefiles=define, usesocks=undef
use64bitint=undef, use64bitall=undef, uselongdouble=undef
usemymalloc=n, bincompat5005=undef
Compiler:
cc='/opt/SUNWspro/bin/cc', ccflags ='-I/usr/local/include -D_LARGEFILE_SOURCE -D_FILE_OFFSET_BITS=64 -DPERL_USE_SAFE_PUTENV',
optimize='-O',
cppflags='-I/usr/local/include'
ccversion='Sun C 5.8 2005/10/13', gccversion='', gccosandvers=''
intsize=4, longsize=4, ptrsize=4, doublesize=8, byteorder=1234
d_longlong=define, longlongsize=8, d_longdbl=define, longdblsize=12
ivtype='long', ivsize=4, nvtype='double', nvsize=8, Off_t='off_t', lseeksize=8
alignbytes=4, prototype=define
Linker and Libraries:
ld='/opt/SUNWspro/bin/cc', ldflags =' -L/usr/lib -L/usr/ccs/lib -L/opt/SUNWspro/prod/lib -L/lib -L/usr/local/lib '
libpth=/usr/lib /usr/ccs/lib /opt/SUNWspro/prod/lib /lib /usr/local/lib
libs=-lsocket -lnsl -ldl -lm -lc
perllibs=-lsocket -lnsl -ldl -lm -lc
libc=/lib/libc.so, so=so, useshrplib=false, libperl=libperl.a
gnulibc_version=''
Dynamic Linking:
dlsrc=dl_dlopen.xs, dlext=so, d_dlsymun=undef, ccdlflags=' '
cccdlflags='-KPIC', lddlflags='-G -L/usr/lib -L/usr/ccs/lib -L/opt/SUNWspro/prod/lib -L/lib -L/usr/local/lib'
Characteristics of this binary (from libperl):
Compile-time options: PERL_DONT_CREATE_GVSV PERL_MALLOC_WRAP
PERL_USE_SAFE_PUTENV USE_LARGE_FILES USE_PERLIO
Built under solaris
Compiled at Jul 14 2009 13:09:45
%ENV:
PERL5LIB=":/export/home/cpan/pit/bare/conf/perl-5.10.0/.cpanplus/5.10.0/build/Algorithm-URL-Shorten-0.01/blib/lib:/export/home/cpan/pit/bare/conf/perl-5.10.0/.cpanplus/5.10.0/build/Algorithm-URL-Shorten-0.01/blib/arch"
PERL5_CPANPLUS_IS_RUNNING="89"
PERL5_CPANPLUS_IS_VERSION="0.9007"
PERL5_MINISMOKEBOX="0.26"
PERL5_YACSMOKE_BASE="/export/home/cpan/pit/bare/conf/perl-5.10.0"
PERL_EXTUTILS_AUTOINSTALL="--defaultdeps"
PERL_MM_USE_DEFAULT="1"
@INC:
/export/home/cpan/pit/bare/conf/perl-5.10.0/.cpanplus/5.10.0/build/Algorithm-URL-Shorten-0.01/blib/lib
/export/home/cpan/pit/bare/conf/perl-5.10.0/.cpanplus/5.10.0/build/Algorithm-URL-Shorten-0.01/blib/arch
/export/home/cpan/pit/bare/perl-5.10.0/lib/5.10.0/i86pc-solaris
/export/home/cpan/pit/bare/perl-5.10.0/lib/5.10.0
/export/home/cpan/pit/bare/perl-5.10.0/lib/site_perl/5.10.0/i86pc-solaris
/export/home/cpan/pit/bare/perl-5.10.0/lib/site_perl/5.10.0
.