Report for Path-IsDev-1.000000

Back
From: metabase:user:320bfe00-2aae-11df-837a-5e0a49663a4f
Subject: PASS Path-IsDev-1.000000 v5.16.3 GNU/Linux
Date: 2013-10-18T09:59:00Z

This distribution has been tested as part of the CPAN Testers
project, supporting the Perl programming language.  See
http://wiki.cpantesters.org/ for more information or email
questions to cpan-testers-discuss@perl.org


--
Dear Kent Fredric,

This is a computer-generated report for Path-IsDev-1.000000
on perl 5.16.3, created by CPAN-Reporter-1.2010.

Thank you for uploading your work to CPAN.  Congratulations!
All tests were successful.

Sections of this report:

    * Tester comments
    * Program output
    * Prerequisites
    * Environment and other context

------------------------------
TESTER COMMENTS
------------------------------

Additional comments from tester:

this report is from an automated smoke testing program
and was not reviewed by a human for accuracy

------------------------------
PROGRAM OUTPUT
------------------------------

Output from './Build test':

t/00-compile.t ..................... ok
# 
# 
# Generated by Dist::Zilla::Plugin::ReportVersions::Tiny v1.10
# perl: 5.016003 (wanted 5.006) on linux from /home/sand/src/perl/repoperls/installed-perls/perl/v5.16.3/165a/bin/perl
# 
# Carp                                          => 1.32       (want any version)
# Class::Tiny                                   => 0.011      (want 0.010)  
# File::HomeDir                                 => 1.00       (want any version)
# File::Spec                                    => 3.40       (want any version)
# File::Temp                                    => 0.2304     (want any version)
# FindBin                                       => 1.51       (want any version)
# IO::Handle                                    => 1.33       (want any version)
# IPC::Open3                                    => 1.12       (want any version)
# Module::Build                                 => 0.4007     (want 0.4007) 
# Module::Runtime                               => 0.013      (want any version)
# Path::Tiny                                    => 0.044      (want any version)
# Role::Tiny                                    => 1.003002   (want any version)
# Role::Tiny::With                              => <undef>    (want any version)
# Scalar::Util                                  => 1.34       (want any version)
# Sub::Exporter                                 => 0.986      (want any version)
# Test::Fatal                                   => 0.013      (want any version)
# Test::More                                    => 0.99       (want 0.99)   
# strict                                        => 1.07       (want any version)
# warnings                                      => 1.13       (want any version)
# 
# Thanks for using my code.  I hope it works for you.
# If not, please try and include this output in the bug report.
# That will help me reproduce the issue and solve your problem.
# 
t/000-report-versions-tiny.t ....... ok
t/Path-IsDev-Object/_matches.t ..... ok
    # $path_isdev_source = /tmp/loop_over_bdir-31666-tUm3rG/Path-IsDev-1.000000-HJJRT_
    # $corpus_Changes_dir = /tmp/loop_over_bdir-31666-tUm3rG/Path-IsDev-1.000000-HJJRT_/corpus/Changelog
    # $corpus_Changes_dir/../ = /tmp/loop_over_bdir-31666-tUm3rG/Path-IsDev-1.000000-HJJRT_/corpus
t/Path-IsDev-Object/basic.t ........ ok
t/Path-IsDev/is_dev/Changelog.t .... ok
t/Path-IsDev/is_dev/DZil.t ......... ok
t/Path-IsDev/is_dev/DevDir.t ....... ok
t/Path-IsDev/is_dev/META.t ......... ok
t/Path-IsDev/is_dev/MYMETA.t ....... ok
t/Path-IsDev/is_dev/MakeMaker.t .... ok
t/Path-IsDev/is_dev/ModuleBuild.t .. ok
t/Path-IsDev/is_dev/TestDir.t ...... ok
t/basic.t .......................... ok
All tests successful.
Files=13, Tests=64,  8 wallclock secs ( 0.06 usr  0.01 sys +  1.29 cusr  0.26 csys =  1.62 CPU)
Result: PASS

------------------------------
PREREQUISITES
------------------------------

Prerequisite modules loaded:

requires:

    Module           Need   Have    
    ---------------- ------ --------
    Carp             0      1.32    
    Class::Tiny      0.010  0.011   
    File::HomeDir    0      1.00    
    Module::Runtime  0      0.013   
    Path::Tiny       0      0.044   
    perl             5.006  5.016003
    Role::Tiny       0      1.003002
    Role::Tiny::With 0      0       
    Scalar::Util     0      1.34    
    strict           0      1.07    
    Sub::Exporter    0      0.986   
    warnings         0      1.13    

build_requires:

    Module           Need   Have    
    ---------------- ------ --------
    File::Spec       0      3.40    
    File::Temp       0      0.2304  
    FindBin          0      1.51    
    IO::Handle       0      1.33    
    IPC::Open3       0      1.12    
    Module::Build    0.4007 0.4007  
    Test::Fatal      0      0.013   
    Test::More       0.99   0.99    

configure_requires:

    Module           Need   Have    
    ---------------- ------ --------
    Module::Build    0.4007 0.4007  


------------------------------
ENVIRONMENT AND OTHER CONTEXT
------------------------------

Environment variables:

    AUTOMATED_TESTING = 1
    LANG = en_US.UTF-8
    LANGUAGE = en_US:en
    PATH = /usr/lib/ccache:/home/sand/bin:/usr/local/bin:/usr/bin:/bin:/usr/bin/X11:/usr/games:/usr/local/perl/bin:/usr/X11/bin:/sbin:/usr/sbin
    PERL5LIB = 
    PERL5OPT = 
    PERL5_CPANPLUS_IS_RUNNING = 31667
    PERL5_CPAN_IS_RUNNING = 31667
    PERL_MM_USE_DEFAULT = 1
    SHELL = /usr/bin/zsh
    TERM = screen

Perl special variables (and OS-specific diagnostics, for MSWin32):

    $^X = /home/sand/src/perl/repoperls/installed-perls/perl/v5.16.3/165a/bin/perl
    $UID/$EUID = 1005 / 1005
    $GID = 1005 1005
    $EGID = 1005 1005

Perl module toolchain versions installed:

    Module              Have    
    ------------------- --------
    CPAN                2.00    
    CPAN::Meta          2.132830
    Cwd                 3.40    
    ExtUtils::CBuilder  0.280212
    ExtUtils::Command   1.17    
    ExtUtils::Install   1.58    
    ExtUtils::MakeMaker 6.81_01 
    ExtUtils::Manifest  1.61    
    ExtUtils::ParseXS   3.22    
    File::Spec          3.40    
    JSON                2.61    
    JSON::PP            2.27203 
    Module::Build       0.4007  
    Module::Signature   0.73    
    Parse::CPAN::Meta   1.4409  
    Test::Harness       3.29    
    Test::More          0.99    
    YAML                0.84    
    YAML::Syck          1.27    
    version             0.9904  


--

Summary of my perl5 (revision 5 version 16 subversion 3) configuration:
  Commit id: fd04d42d38f4751b981eb6e9213ee1ab8ef11ea6
  Platform:
    osname=linux, osvers=3.10-3-amd64, archname=x86_64-linux
    uname='linux k83 3.10-3-amd64 #1 smp debian 3.10.11-1 (2013-09-10) x86_64 gnulinux '
    config_args='-Dprefix=/home/sand/src/perl/repoperls/installed-perls/perl/v5.16.3/165a -Dmyhostname=k83 -Dinstallusrbinperl=n -Uversiononly -Dusedevel -des -Ui_db -Uuseithreads -Uuselongdouble -DDEBUGGING=-g'
    hint=recommended, useposix=true, d_sigaction=define
    useithreads=undef, usemultiplicity=undef
    useperlio=define, d_sfio=undef, uselargefiles=define, usesocks=undef
    use64bitint=define, use64bitall=define, uselongdouble=undef
    usemymalloc=n, bincompat5005=undef
  Compiler:
    cc='cc', ccflags ='-fno-strict-aliasing -pipe -fstack-protector -I/usr/local/include -D_LARGEFILE_SOURCE -D_FILE_OFFSET_BITS=64',
    optimize='-O2 -g',
    cppflags='-fno-strict-aliasing -pipe -fstack-protector -I/usr/local/include'
    ccversion='', gccversion='4.8.1', gccosandvers=''
    intsize=4, longsize=8, ptrsize=8, doublesize=8, byteorder=12345678
    d_longlong=define, longlongsize=8, d_longdbl=define, longdblsize=16
    ivtype='long', ivsize=8, nvtype='double', nvsize=8, Off_t='off_t', lseeksize=8
    alignbytes=8, prototype=define
  Linker and Libraries:
    ld='cc', ldflags =' -fstack-protector -L/usr/local/lib'
    libpth=/usr/local/lib /lib/x86_64-linux-gnu /lib/../lib /usr/lib/x86_64-linux-gnu /usr/lib/../lib /lib /usr/lib
    libs=-lnsl -lgdbm -ldb -ldl -lm -lcrypt -lutil -lc -lgdbm_compat
    perllibs=-lnsl -ldl -lm -lcrypt -lutil -lc
    libc=, so=so, useshrplib=false, libperl=libperl.a
    gnulibc_version='2.17'
  Dynamic Linking:
    dlsrc=dl_dlopen.xs, dlext=so, d_dlsymun=undef, ccdlflags='-Wl,-E'
    cccdlflags='-fPIC', lddlflags='-shared -O2 -g -L/usr/local/lib -fstack-protector'


Characteristics of this binary (from libperl): 
  Compile-time options: HAS_TIMES PERLIO_LAYERS PERL_DONT_CREATE_GVSV
                        PERL_MALLOC_WRAP PERL_PRESERVE_IVUV PERL_USE_DEVEL
                        USE_64_BIT_ALL USE_64_BIT_INT USE_LARGE_FILES
                        USE_LOCALE USE_LOCALE_COLLATE USE_LOCALE_CTYPE
                        USE_LOCALE_NUMERIC USE_PERLIO USE_PERL_ATOF
  Built under linux
  Compiled at Oct 10 2013 19:06:31
  %ENV:
    PERL5LIB=""
    PERL5OPT=""
    PERL5_CPANPLUS_IS_RUNNING="31667"
    PERL5_CPAN_IS_RUNNING="31667"
    PERL_MM_USE_DEFAULT="1"
  @INC:
    /home/sand/src/perl/repoperls/installed-perls/perl/v5.16.3/165a/lib/site_perl/5.16.3/x86_64-linux
    /home/sand/src/perl/repoperls/installed-perls/perl/v5.16.3/165a/lib/site_perl/5.16.3
    /home/sand/src/perl/repoperls/installed-perls/perl/v5.16.3/165a/lib/5.16.3/x86_64-linux
    /home/sand/src/perl/repoperls/installed-perls/perl/v5.16.3/165a/lib/5.16.3
    .