XS-Install v1.2.18 Perl 5 v5.32.0 amd64-netbsd-multi

Status
Pass
From
Nigel Horne
Dist
XS-Install v1.2.18
Platform
Perl 5 v5.32.0 amd64-netbsd-multi
Date
2020-07-01 20:39:07
ID
e91e22bc-bbda-11ea-8d67-ad88912e08a8
This distribution has been tested as part of the CPAN Testers
project, supporting the Perl programming language.  See
http://wiki.cpantesters.org/ for more information or email
questions to cpan-testers-discuss@perl.org


--
Dear Ivan Baidakou,

This is a computer-generated report for XS-Install-1.2.18
on perl 5.32.0, created by CPAN-Reporter-1.2018.

Thank you for uploading your work to CPAN.  Congratulations!
All tests were successful.

Sections of this report:

    * Tester comments
    * Program output
    * Prerequisites
    * Environment and other context

------------------------------
TESTER COMMENTS
------------------------------

Additional comments from tester:

this report is from an automated smoke testing program
and was not reviewed by a human for accuracy

------------------------------
PROGRAM OUTPUT
------------------------------

Output from '/usr/bin/make test':

PERL_DL_NONLAZY=1 "/home/njh/perl5/perlbrew/perls/perl-5.32.0-multi/bin/perl5.32.0" "-MExtUtils::Command::MM" "-MTest::Harness" "-e" "undef *Test::Harness::Switches; test_harness(0, 'blib/lib', 'blib/arch')" t/*.t
t/00-use.t ................. ok
t/01-all_from.t ............ ok
t/02-configure_requires.t .. ok
t/03-xs.t .................. ok
t/04-c.t ................... ok
t/06-src.t ................. ok
t/07-cplus.t ............... skipped: set TEST_FULL=1 to enable this test
t/09-payload.t ............. ok
t/10-bin_share.t ........... ok
t/11-nonxs.t ............... ok
t/12-parsexs.t ............. skipped: set TEST_FULL=1 to enable parsexs tests
t/13-dependent.t ........... ok
All tests successful.
Files=12, Tests=41,  3 wallclock secs ( 0.06 usr  0.03 sys +  2.40 cusr  0.73 csys =  3.22 CPU)
Result: PASS

------------------------------
PREREQUISITES
------------------------------

Prerequisite modules loaded:

requires:

    Module              Need     Have    
    ------------------- -------- --------
    Exporter            5.58     5.74    
    ExtUtils::MakeMaker 7.12     7.46    
    ExtUtils::ParseXS   3.24     3.40    
    perl                5.010000 5.032000

build_requires:

    Module              Need     Have    
    ------------------- -------- --------
    Test::Deep          0        1.130   
    Test::More          0        1.302175
    Test::Simple        0.96     1.302175


------------------------------
ENVIRONMENT AND OTHER CONTEXT
------------------------------

Environment variables:

    AUTOMATED_TESTING = 1
    NONINTERACTIVE_TESTING = 1
    PATH = /home/njh/perl5/perlbrew/bin:/home/njh/perl5/perlbrew/perls/perl-5.32.0-multi/bin:/home/njh/src/njh/smoker/bin:/usr/bin:/bin:/usr/pkg/bin:/usr/local/bin
    PERL5LIB = /home/njh/.cpan/build/Test2-Aggregate-0.14-3/blib/arch:/home/njh/.cpan/build/Test2-Aggregate-0.14-3/blib/lib:/home/njh/.cpan/build/Test-Output-1.031-3/blib/arch:/home/njh/.cpan/build/Test-Output-1.031-3/blib/lib:/home/njh/.cpan/build/Test2-Suite-0.000130-3/blib/arch:/home/njh/.cpan/build/Test2-Suite-0.000130-3/blib/lib:/home/njh/.cpan/build/Term-Table-0.015-3/blib/arch:/home/njh/.cpan/build/Term-Table-0.015-3/blib/lib:/home/njh/.cpan/build/Sub-Info-0.002-3/blib/arch:/home/njh/.cpan/build/Sub-Info-0.002-3/blib/lib:/home/njh/.cpan/build/Scope-Guard-0.21-3/blib/arch:/home/njh/.cpan/build/Scope-Guard-0.21-3/blib/lib:/home/njh/.cpan/build/Module-Pluggable-5.2-3/blib/arch:/home/njh/.cpan/build/Module-Pluggable-5.2-3/blib/lib:/home/njh/.cpan/build/Importer-0.025-3/blib/arch:/home/njh/.cpan/build/Importer-0.025-3/blib/lib:/home/njh/.cpan/build/Sub-Override-0.09-3/blib/arch:/home/njh/.cpan/build/Sub-Override-0.09-3/blib/lib:/home/njh/.cpan/build/File-Slurp-9999.32-3/blib/arch:/home/njh/.cpan/build/File-Slurp-9999.32-3/blib/lib
    PERL5OPT = 
    PERL5_CPANPLUS_IS_RUNNING = 22801
    PERL5_CPAN_IS_RUNNING = 22801
    PERL5_CPAN_IS_RUNNING_IN_RECURSION = 22132,22801
    PERLBREW_HOME = /home/njh/.perlbrew
    PERLBREW_MANPATH = /home/njh/perl5/perlbrew/perls/perl-5.32.0-multi/man
    PERLBREW_PATH = /home/njh/perl5/perlbrew/bin:/home/njh/perl5/perlbrew/perls/perl-5.32.0-multi/bin
    PERLBREW_PERL = perl-5.32.0-multi
    PERLBREW_ROOT = /home/njh/perl5/perlbrew
    PERLBREW_SHELLRC_VERSION = 0.88
    PERLBREW_VERSION = 0.88
    PERL_MM_USE_DEFAULT = 1
    PERL_USE_UNSAFE_INC = 1
    SHELL = /usr/bin/bash
    TMPDIR = /tmp/testwrapper.26506

Perl special variables (and OS-specific diagnostics, for MSWin32):

    $^X = /home/njh/perl5/perlbrew/perls/perl-5.32.0-multi/bin/perl5.32.0
    $UID/$EUID = 1000 / 1000
    $GID = 100 100 0
    $EGID = 100 100 0

Perl module toolchain versions installed:

    Module              Have    
    ------------------- --------
    CPAN                2.27    
    CPAN::Meta          2.150010
    Cwd                 3.78    
    ExtUtils::CBuilder  0.280234
    ExtUtils::Command   7.46    
    ExtUtils::Install   2.14    
    ExtUtils::MakeMaker 7.46    
    ExtUtils::Manifest  1.72    
    ExtUtils::ParseXS   3.40    
    File::Spec          3.78    
    JSON                4.02    
    JSON::PP            4.04    
    Module::Build       0.4231  
    Module::Signature   n/a     
    Parse::CPAN::Meta   2.150010
    Test::Harness       3.42    
    Test::More          1.302175
    YAML                1.30    
    YAML::Syck          n/a     
    version             0.9924  


--

Summary of my perl5 (revision 5 version 32 subversion 0) configuration:
   
  Platform:
    osname=netbsd
    osvers=7.1.2
    archname=amd64-netbsd-multi
    uname='netbsd vultr2.bandsman.co.uk 7.1.2 netbsd 7.1.2 (generic.201803151611z) amd64 '
    config_args='-de -Dprefix=/home/njh/perl5/perlbrew/perls/perl-5.32.0-multi -Dusedevel -Dusemultiplicity -Accflags=-O2 -W -Wformat=2 -Wswitch -Wshadow -Wwrite-strings -Wuninitialized -Wall -pipe -fomit-frame-pointer -pedantic -D_FORTIFY_SOURCE=2 -Wpointer-arith -Wstrict-prototypes -fstack-protector -Wstack-protector -Wextra -Wbad-function-cast -Wcast-align -Wcast-qual -Wdisabled-optimization -Wendif-labels -Wfloat-equal -Wformat-nonliteral -Winline -Wmissing-declarations -Wmissing-prototypes -Wnested-externs -Wpointer-arith -Wundef -Wformat-security -ftree-vectorize -mmmx -msse -mfpmath=sse -msse2 -msse3 -msse4.1 -msse4.2 -mtune=native -Aeval:scriptdir=/home/njh/perl5/perlbrew/perls/perl-5.32.0-multi/bin'
    hint=recommended
    useposix=true
    d_sigaction=define
    useithreads=undef
    usemultiplicity=define
    use64bitint=define
    use64bitall=define
    uselongdouble=undef
    usemymalloc=n
    default_inc_excludes_dot=define
    bincompat5005=undef
  Compiler:
    cc='cc'
    ccflags ='-O2 -W -Wformat=2 -Wswitch -Wshadow -Wwrite-strings -Wuninitialized -Wall -pipe -fomit-frame-pointer -pedantic -D_FORTIFY_SOURCE=2 -Wpointer-arith -Wstrict-prototypes -fstack-protector -Wstack-protector -Wextra -Wbad-function-cast -Wcast-align -Wcast-qual -Wdisabled-optimization -Wendif-labels -Wfloat-equal -Wformat-nonliteral -Winline -Wmissing-declarations -Wmissing-prototypes -Wnested-externs -Wpointer-arith -Wundef -Wformat-security -ftree-vectorize -mmmx -msse -mfpmath=sse -msse2 -msse3 -msse4.1 -msse4.2 -mtune=native -fwrapv -fno-strict-aliasing -I/usr/pkg/include'
    optimize='-O'
    cppflags='-O2 -W -Wformat=2 -Wswitch -Wshadow -Wwrite-strings -Wuninitialized -Wall -pipe -fomit-frame-pointer -pedantic -D_FORTIFY_SOURCE=2 -Wpointer-arith -Wstrict-prototypes -fstack-protector -Wstack-protector -Wextra -Wbad-function-cast -Wcast-align -Wcast-qual -Wdisabled-optimization -Wendif-labels -Wfloat-equal -Wformat-nonliteral -Winline -Wmissing-declarations -Wmissing-prototypes -Wnested-externs -Wpointer-arith -Wundef -Wformat-security -ftree-vectorize -mmmx -msse -mfpmath=sse -msse2 -msse3 -msse4.1 -msse4.2 -mtune=native -fwrapv -fno-strict-aliasing -I/usr/pkg/include'
    ccversion=''
    gccversion='4.8.5'
    gccosandvers=''
    intsize=4
    longsize=8
    ptrsize=8
    doublesize=8
    byteorder=12345678
    doublekind=3
    d_longlong=define
    longlongsize=8
    d_longdbl=define
    longdblsize=16
    longdblkind=3
    ivtype='long'
    ivsize=8
    nvtype='double'
    nvsize=8
    Off_t='off_t'
    lseeksize=8
    alignbytes=8
    prototype=define
  Linker and Libraries:
    ld='cc'
    ldflags =' -Wl,-rpath,/usr/pkg/lib -Wl,-rpath,/usr/local/lib -fstack-protector -L/usr/pkg/lib'
    libpth=/usr/include/gcc-4.8 /usr/lib /usr/pkg/lib /lib
    libs=-lpthread -lm -lcrypt -lutil -lc -lposix
    perllibs=-lpthread -lm -lcrypt -lutil -lc -lposix
    libc=/lib/libc.so
    so=so
    useshrplib=false
    libperl=libperl.a
    gnulibc_version=''
  Dynamic Linking:
    dlsrc=dl_dlopen.xs
    dlext=so
    d_dlsymun=undef
    ccdlflags='-Wl,-E '
    cccdlflags='-DPIC -fPIC '
    lddlflags='-shared  -L/usr/pkg/lib -fstack-protector'


Characteristics of this binary (from libperl): 
  Compile-time options:
    HAS_TIMES
    MULTIPLICITY
    PERLIO_LAYERS
    PERL_COPY_ON_WRITE
    PERL_DONT_CREATE_GVSV
    PERL_IMPLICIT_CONTEXT
    PERL_MALLOC_WRAP
    PERL_OP_PARENT
    PERL_PRESERVE_IVUV
    PERL_USE_DEVEL
    USE_64_BIT_ALL
    USE_64_BIT_INT
    USE_LARGE_FILES
    USE_LOCALE
    USE_LOCALE_COLLATE
    USE_LOCALE_CTYPE
    USE_LOCALE_NUMERIC
    USE_LOCALE_TIME
    USE_PERLIO
    USE_PERL_ATOF
  Locally applied patches:
    Devel::PatchPerl 1.48
  Built under netbsd
  Compiled at Jun 29 2020 11:14:48
  %ENV:
    PERL5LIB="/home/njh/.cpan/build/Test2-Aggregate-0.14-3/blib/arch:/home/njh/.cpan/build/Test2-Aggregate-0.14-3/blib/lib:/home/njh/.cpan/build/Test-Output-1.031-3/blib/arch:/home/njh/.cpan/build/Test-Output-1.031-3/blib/lib:/home/njh/.cpan/build/Test2-Suite-0.000130-3/blib/arch:/home/njh/.cpan/build/Test2-Suite-0.000130-3/blib/lib:/home/njh/.cpan/build/Term-Table-0.015-3/blib/arch:/home/njh/.cpan/build/Term-Table-0.015-3/blib/lib:/home/njh/.cpan/build/Sub-Info-0.002-3/blib/arch:/home/njh/.cpan/build/Sub-Info-0.002-3/blib/lib:/home/njh/.cpan/build/Scope-Guard-0.21-3/blib/arch:/home/njh/.cpan/build/Scope-Guard-0.21-3/blib/lib:/home/njh/.cpan/build/Module-Pluggable-5.2-3/blib/arch:/home/njh/.cpan/build/Module-Pluggable-5.2-3/blib/lib:/home/njh/.cpan/build/Importer-0.025-3/blib/arch:/home/njh/.cpan/build/Importer-0.025-3/blib/lib:/home/njh/.cpan/build/Sub-Override-0.09-3/blib/arch:/home/njh/.cpan/build/Sub-Override-0.09-3/blib/lib:/home/njh/.cpan/build/File-Slurp-9999.32-3/blib/arch:/home/njh/.cpan/build/File-Slurp-9999.32-3/blib/lib"
    PERL5OPT=""
    PERL5_CPANPLUS_IS_RUNNING="22801"
    PERL5_CPAN_IS_RUNNING="22801"
    PERL5_CPAN_IS_RUNNING_IN_RECURSION="22132,22801"
    PERLBREW_HOME="/home/njh/.perlbrew"
    PERLBREW_MANPATH="/home/njh/perl5/perlbrew/perls/perl-5.32.0-multi/man"
    PERLBREW_PATH="/home/njh/perl5/perlbrew/bin:/home/njh/perl5/perlbrew/perls/perl-5.32.0-multi/bin"
    PERLBREW_PERL="perl-5.32.0-multi"
    PERLBREW_ROOT="/home/njh/perl5/perlbrew"
    PERLBREW_SHELLRC_VERSION="0.88"
    PERLBREW_VERSION="0.88"
    PERL_MM_USE_DEFAULT="1"
    PERL_USE_UNSAFE_INC="1"
  @INC:
    /home/njh/.cpan/build/Test2-Aggregate-0.14-3/blib/arch
    /home/njh/.cpan/build/Test2-Aggregate-0.14-3/blib/lib
    /home/njh/.cpan/build/Test-Output-1.031-3/blib/arch
    /home/njh/.cpan/build/Test-Output-1.031-3/blib/lib
    /home/njh/.cpan/build/Test2-Suite-0.000130-3/blib/arch
    /home/njh/.cpan/build/Test2-Suite-0.000130-3/blib/lib
    /home/njh/.cpan/build/Term-Table-0.015-3/blib/arch
    /home/njh/.cpan/build/Term-Table-0.015-3/blib/lib
    /home/njh/.cpan/build/Sub-Info-0.002-3/blib/arch
    /home/njh/.cpan/build/Sub-Info-0.002-3/blib/lib
    /home/njh/.cpan/build/Scope-Guard-0.21-3/blib/arch
    /home/njh/.cpan/build/Scope-Guard-0.21-3/blib/lib
    /home/njh/.cpan/build/Module-Pluggable-5.2-3/blib/arch
    /home/njh/.cpan/build/Module-Pluggable-5.2-3/blib/lib
    /home/njh/.cpan/build/Importer-0.025-3/blib/arch
    /home/njh/.cpan/build/Importer-0.025-3/blib/lib
    /home/njh/.cpan/build/Sub-Override-0.09-3/blib/arch
    /home/njh/.cpan/build/Sub-Override-0.09-3/blib/lib
    /home/njh/.cpan/build/File-Slurp-9999.32-3/blib/arch
    /home/njh/.cpan/build/File-Slurp-9999.32-3/blib/lib
    /home/njh/perl5/perlbrew/perls/perl-5.32.0-multi/lib/site_perl/5.32.0/amd64-netbsd-multi
    /home/njh/perl5/perlbrew/perls/perl-5.32.0-multi/lib/site_perl/5.32.0
    /home/njh/perl5/perlbrew/perls/perl-5.32.0-multi/lib/5.32.0/amd64-netbsd-multi
    /home/njh/perl5/perlbrew/perls/perl-5.32.0-multi/lib/5.32.0
    .