POE-Loop-Event v1.305 Perl 5 v5.35.6 x86_64-linux

Status
Pass
From
Andreas J. König (ANDK)
Dist
POE-Loop-Event v1.305
Platform
Perl 5 v5.35.6 x86_64-linux
Date
2021-10-30 21:39:50
ID
e8f45b8a-39c9-11ec-b038-43a1e34d19e5
This distribution has been tested as part of the CPAN Testers
project, supporting the Perl programming language.  See
http://wiki.cpantesters.org/ for more information or email
questions to cpan-testers-discuss@perl.org


--
Dear Rocco Caputo,

This is a computer-generated report for POE-Loop-Event-1.305
on perl 5.35.6, created by CPAN-Reporter-1.2018.

Thank you for uploading your work to CPAN.  Congratulations!
All tests were successful.

Sections of this report:

    * Tester comments
    * Program output
    * Prerequisites
    * Environment and other context

------------------------------
TESTER COMMENTS
------------------------------

Additional comments from tester:

this report is from an automated smoke testing program
and was not reviewed by a human for accuracy

------------------------------
PROGRAM OUTPUT
------------------------------

Output from '/usr/bin/make test':

PERL_DL_NONLAZY=1 "/tmp/basesmoker-reloperl-xjZU/bin/perl" "-MExtUtils::Command::MM" "-MTest::Harness" "-e" "undef *Test::Harness::Switches; test_harness(0, 'blib/lib', 'blib/arch')" t/*.t t/poe_loop_event/*.t
# Testing POE 1.368, Perl 5.035006, /tmp/basesmoker-reloperl-xjZU/bin/perl on linux
t/00_info.t ...................................... ok
# Testing POE 1.368, POE::Test::Loops 1.360, Using Loop(POE::Loop::Event), Perl 5.035006, /tmp/basesmoker-reloperl-xjZU/bin/perl on linux
t/poe_loop_event/00_info.t ....................... ok
t/poe_loop_event/all_errors.t .................... skipped: most of these should move into other test files
t/poe_loop_event/comp_tcp.t ...................... ok
# You might see a 'disconnect' error during this test.
# It may be ignored.
t/poe_loop_event/comp_tcp_concurrent.t ........... ok
t/poe_loop_event/connect_errors.t ................ ok
t/poe_loop_event/k_alarms.t ...................... ok
t/poe_loop_event/k_aliases.t ..................... ok
t/poe_loop_event/k_detach.t ...................... ok
t/poe_loop_event/k_run_returns.t ................. ok
t/poe_loop_event/k_selects.t ..................... ok
t/poe_loop_event/k_sig_child.t ................... ok
t/poe_loop_event/k_signals.t ..................... ok
t/poe_loop_event/k_signals_rerun.t ............... ok
t/poe_loop_event/sbk_signal_init.t ............... ok
t/poe_loop_event/ses_nfa.t ....................... ok
# This test generates some STDERR during trace testing.
=== 1177332 === 23 -> _start (from /home/sand/src/perl/repoperls/installed-perls/host/k93msid/v5.35.5-8-g76829f42d6/3c10/lib/site_perl/5.35.6/POE/Kernel.pm at 1498)
=== 1177332 === 23 -> woot (from /home/sand/src/perl/repoperls/installed-perls/host/k93msid/v5.35.5-8-g76829f42d6/3c10/lib/site_perl/5.35.6/POE/Test/Loops/ses_session.pm at 691)
=== 1177332 === 23 -> narf (from /home/sand/src/perl/repoperls/installed-perls/host/k93msid/v5.35.5-8-g76829f42d6/3c10/lib/site_perl/5.35.6/POE/Test/Loops/ses_session.pm at 692)
=== 1177332 === 23 -> _stop (from /home/sand/src/perl/repoperls/installed-perls/host/k93msid/v5.35.5-8-g76829f42d6/3c10/lib/site_perl/5.35.6/POE/Resource/Sessions.pm at 571)
t/poe_loop_event/ses_session.t ................... ok
t/poe_loop_event/wheel_accept.t .................. ok
t/poe_loop_event/wheel_curses.t .................. skipped: Need help with Curses functions blocking under ptys
t/poe_loop_event/wheel_readline.t ................ ok
t/poe_loop_event/wheel_readwrite.t ............... ok
setsid() failed, strange behavior may result: Operation not permitted
setsid() failed, strange behavior may result: Operation not permitted
setsid() failed, strange behavior may result: Operation not permitted
setsid() failed, strange behavior may result: Operation not permitted
t/poe_loop_event/wheel_run.t ..................... ok
setsid() failed, strange behavior may result: Operation not permitted
t/poe_loop_event/wheel_run_size.t ................ ok
t/poe_loop_event/wheel_sf_ipv6.t ................. skipped: Socket::GetAddrInfo is needed for IPv6 tests
t/poe_loop_event/wheel_sf_tcp.t .................. ok
t/poe_loop_event/wheel_sf_udp.t .................. ok
t/poe_loop_event/wheel_sf_unix.t ................. ok
t/poe_loop_event/wheel_tail.t .................... ok
t/poe_loop_event/z_kogman_sig_order.t ............ ok
setsid() failed, strange behavior may result: Operation not permitted
setsid() failed, strange behavior may result: Operation not permitted
t/poe_loop_event/z_leolo_wheel_run.t ............. ok
# Using '/bin/true' as our thing to run under system()
t/poe_loop_event/z_merijn_sigchld_system.t ....... ok
t/poe_loop_event/z_rt39872_sigchld.t ............. ok
# Parent 1177372 waiting 3sec for slow systems to settle.
# sending sigusr1
# sent sigusr1
t/poe_loop_event/z_rt39872_sigchld_stop.t ........ ok
t/poe_loop_event/z_rt53302_fh_watchers.t ......... ok
t/poe_loop_event/z_rt54319_bazerka_followtail.t .. ok
t/poe_loop_event/z_steinert_signal_integrity.t ... ok
All tests successful.
Files=36, Tests=490, 28 wallclock secs ( 0.10 usr  0.11 sys + 19.59 cusr  5.51 csys = 25.31 CPU)
Result: PASS

------------------------------
PREREQUISITES
------------------------------

Prerequisite modules loaded:

requires:

    Module              Need  Have 
    ------------------- ----- -----
    Event               1.21  1.28 
    POE                 1.356 1.368

build_requires:

    Module              Need  Have 
    ------------------- ----- -----
    ExtUtils::MakeMaker 0     7.62 

configure_requires:

    Module              Need  Have 
    ------------------- ----- -----
    ExtUtils::MakeMaker 0     7.62 
    POE::Test::Loops    1.352 1.360


------------------------------
ENVIRONMENT AND OTHER CONTEXT
------------------------------

Environment variables:

    AUTOMATED_TESTING = 1
    LANG = en_US.UTF-8
    PATH = /home/sand/bin:/usr/local/bin:/usr/bin:/bin:/usr/games:/usr/local/perl/bin:/usr/X11/bin:/sbin:/usr/sbin
    PERL5LIB = 
    PERL5OPT = 
    PERL5_CPANPLUS_IS_RUNNING = 1146093
    PERL5_CPAN_IS_RUNNING = 1146093
    PERL_CANARY_STABILITY_NOPROMPT = 1
    PERL_MM_USE_DEFAULT = 1
    PERL_USE_UNSAFE_INC = 1
    SHELL = /usr/bin/zsh
    TERM = screen

Perl special variables (and OS-specific diagnostics, for MSWin32):

    $^X = /tmp/basesmoker-reloperl-xjZU/bin/perl
    $UID/$EUID = 1005 / 1005
    $GID = 1005 1005
    $EGID = 1005 1005

Perl module toolchain versions installed:

    Module              Have    
    ------------------- --------
    CPAN                2.28    
    CPAN::Meta          2.150010
    Cwd                 3.82    
    ExtUtils::CBuilder  0.280236
    ExtUtils::Command   7.62    
    ExtUtils::Install   2.20    
    ExtUtils::MakeMaker 7.62    
    ExtUtils::Manifest  1.73    
    ExtUtils::ParseXS   3.44    
    File::Spec          3.81    
    JSON                4.03    
    JSON::PP            4.06    
    Module::Build       0.4231  
    Module::Signature   0.87    
    Parse::CPAN::Meta   2.150010
    Test::Harness       3.43    
    Test::More          1.302188
    YAML                1.30    
    YAML::Syck          1.34    
    version             0.9929  


--

Summary of my perl5 (revision 5 version 35 subversion 6) configuration:
  Commit id: 76829f42d6278f3b9862e88fcecb11eeaf70c3c1
  Platform:
    osname=linux
    osvers=5.14.0-3-amd64
    archname=x86_64-linux
    uname='linux k93msid 5.14.0-3-amd64 #1 smp debian 5.14.12-1 (2021-10-14) x86_64 gnulinux '
    config_args='-Dprefix=/home/sand/src/perl/repoperls/installed-perls/host/k93msid/v5.35.5-8-g76829f42d6/3c10 -Dmyhostname=k93msid -Dinstallusrbinperl=n -Uversiononly -Dusedevel -des -Ui_db -Dlibswanted=cl pthread socket inet nsl gdbm dbm malloc dl ld sun m crypt sec util c cposix posix ucb BSD gdbm_compat -Uuseithreads -Uuselongdouble -DEBUGGING=none'
    hint=recommended
    useposix=true
    d_sigaction=define
    useithreads=undef
    usemultiplicity=undef
    use64bitint=define
    use64bitall=define
    uselongdouble=undef
    usemymalloc=n
    default_inc_excludes_dot=define
  Compiler:
    cc='cc'
    ccflags ='-fwrapv -fno-strict-aliasing -pipe -fstack-protector-strong -I/usr/local/include -D_LARGEFILE_SOURCE -D_FILE_OFFSET_BITS=64 -D_FORTIFY_SOURCE=2'
    optimize='-O2'
    cppflags='-fwrapv -fno-strict-aliasing -pipe -fstack-protector-strong -I/usr/local/include'
    ccversion=''
    gccversion='11.2.0'
    gccosandvers=''
    intsize=4
    longsize=8
    ptrsize=8
    doublesize=8
    byteorder=12345678
    doublekind=3
    d_longlong=define
    longlongsize=8
    d_longdbl=define
    longdblsize=16
    longdblkind=3
    ivtype='long'
    ivsize=8
    nvtype='double'
    nvsize=8
    Off_t='off_t'
    lseeksize=8
    alignbytes=8
    prototype=define
  Linker and Libraries:
    ld='cc'
    ldflags =' -fstack-protector-strong -L/usr/local/lib'
    libpth=/usr/local/lib /usr/lib/x86_64-linux-gnu /usr/lib /lib/x86_64-linux-gnu /lib
    libs=-lpthread -lnsl -ldl -lm -lcrypt -lutil -lc
    perllibs=-lpthread -lnsl -ldl -lm -lcrypt -lutil -lc
    libc=libc-2.32.so
    so=so
    useshrplib=false
    libperl=libperl.a
    gnulibc_version='2.32'
  Dynamic Linking:
    dlsrc=dl_dlopen.xs
    dlext=so
    d_dlsymun=undef
    ccdlflags='-Wl,-E'
    cccdlflags='-fPIC'
    lddlflags='-shared -O2 -L/usr/local/lib -fstack-protector-strong'


Characteristics of this binary (from libperl): 
  Compile-time options:
    HAS_TIMES
    PERLIO_LAYERS
    PERL_COPY_ON_WRITE
    PERL_DONT_CREATE_GVSV
    PERL_MALLOC_WRAP
    PERL_OP_PARENT
    PERL_PRESERVE_IVUV
    PERL_USE_DEVEL
    USE_64_BIT_ALL
    USE_64_BIT_INT
    USE_LARGE_FILES
    USE_LOCALE
    USE_LOCALE_COLLATE
    USE_LOCALE_CTYPE
    USE_LOCALE_NUMERIC
    USE_LOCALE_TIME
    USE_PERLIO
    USE_PERL_ATOF
  Built under linux
  Compiled at Oct 29 2021 15:43:11
  %ENV:
    PERL5LIB=""
    PERL5OPT=""
    PERL5_CPANPLUS_IS_RUNNING="1146093"
    PERL5_CPAN_IS_RUNNING="1146093"
    PERL_CANARY_STABILITY_NOPROMPT="1"
    PERL_MM_USE_DEFAULT="1"
    PERL_USE_UNSAFE_INC="1"
  @INC:
    /home/sand/src/perl/repoperls/installed-perls/host/k93msid/v5.35.5-8-g76829f42d6/3c10/lib/site_perl/5.35.6/x86_64-linux
    /home/sand/src/perl/repoperls/installed-perls/host/k93msid/v5.35.5-8-g76829f42d6/3c10/lib/site_perl/5.35.6
    /home/sand/src/perl/repoperls/installed-perls/host/k93msid/v5.35.5-8-g76829f42d6/3c10/lib/5.35.6/x86_64-linux
    /home/sand/src/perl/repoperls/installed-perls/host/k93msid/v5.35.5-8-g76829f42d6/3c10/lib/5.35.6
    .