Report for Module-Setup-0.09

Back
From: metabase:user:fed57a20-ca61-11e0-a8f8-2309af9bf95a
Subject: PASS Module-Setup-0.09 v5.12.4 GNU/Linux
Date: 2011-12-11T15:50:54Z

This distribution has been tested as part of the CPAN Testers
project, supporting the Perl programming language.  See
http://wiki.cpantesters.org/ for more information or email
questions to cpan-testers-discuss@perl.org


--
Dear Kazuhiro Osawa,

This is a computer-generated report for Module-Setup-0.09
on perl 5.12.4, created by CPAN-Reporter-1.2003.

Thank you for uploading your work to CPAN.  Congratulations!
All tests were successful.

Sections of this report:

    * Tester comments
    * Program output
    * Prerequisites
    * Environment and other context

------------------------------
TESTER COMMENTS
------------------------------

Additional comments from tester:

this report is from an automated smoke testing program
and was not reviewed by a human for accuracy

------------------------------
PROGRAM OUTPUT
------------------------------

Output from '/usr/bin/make test':

PERL_DL_NONLAZY=1 /home/kmg/perl5/perlbrew/perls/perl-5.12.4/bin/perl5.12.4 "-MExtUtils::Command::MM" "-e" "test_harness(0, 'inc', 'blib/lib', 'blib/arch')" t/*.t t/*/*.t
t/00_compile.t .................................... ok
t/010_core/detect-flavor-tests-error.t ............ ok
t/010_core/detect_module_and_flavor_name_error.t .. ok
t/010_core/dialog.t ............................... ok
t/010_core/distribute.t ........................... ok
t/010_core/flavor.t ............................... ok
t/010_core/load_argv.t ............................ ok
t/010_core/path.t ................................. ok
t/010_core/select-flavor.t ........................ ok
t/010_core/setup_base_dir.t ....................... ok
t/010_core/setup_options.t ........................ ok
t/010_core/setup_options_code.t ................... ok
t/010_core/stdout-log.t ........................... ok
t/010_core/system.t ............................... ok
t/010_core/test_util.t ............................ ok
t/020_run/additional.t ............................ ok
t/020_run/binary.t ................................ ok
t/020_run/direct.t ................................ ok
t/020_run/dupe-flavor.t ........................... ok
t/020_run/dupe.t .................................. ok
t/020_run/empty_dir.t ............................. ok
t/020_run/fail_flavor.t ........................... ok
t/020_run/hasnt-flavorclass.t ..................... ok
t/020_run/init.t .................................. ok
t/020_run/nullflavors.t ........................... ok
t/020_run/pack-additional.t ....................... ok
t/020_run/pack.t .................................. ok
t/020_run/simple.t ................................ ok
t/030_plugin/append_template_file.t ............... ok
t/030_plugin/append_template_file2.t .............. ok
t/030_plugin/illegalplugin.t ...................... ok
t/030_plugin/illegalpluginconfig.t ................ ok
t/030_plugin/localplugin.t ........................ ok
t/030_plugin/plain.t .............................. ok
Can't exec "git": No such file or directory at t/030_plugin/site_github.t line 4.
t/030_plugin/site_github.t ........................ skipped: git is not installed.
t/030_plugin/template.t ........................... ok
t/030_plugin/test_makefile.t ...................... ok
Can't exec "git": No such file or directory at t/030_plugin/vc_git.t line 4.
t/030_plugin/vc_git.t ............................. skipped: git is not installed.
Name "Module::Setup::Flavor::Default::setup_config" used only once: possible typo at t/030_plugin/vc_svk.t line 17.
t/030_plugin/vc_svk.t ............................. ok
t/030_plugin/vc_svn.t ............................. ok
t/040_flavor/coderepos.t .......................... ok
t/040_flavor/default-setup_config.t ............... ok
t/040_flavor/default.t ............................ ok
Can't exec "git": No such file or directory at /home/kmg/.cpan/build/Module-Setup-0.09-ZbuTWg/blib/lib/Module/Setup.pm line 564, <DATA> line 1.
Use of uninitialized value $user in scalar chomp at /home/kmg/.cpan/build/Module-Setup-0.09-ZbuTWg/blib/lib/Module/Setup/Plugin/Site/GitHub.pm line 40, <DATA> line 1.
Can't exec "git": No such file or directory at /home/kmg/.cpan/build/Module-Setup-0.09-ZbuTWg/blib/lib/Module/Setup.pm line 564, <DATA> line 1.
Use of uninitialized value $token in scalar chomp at /home/kmg/.cpan/build/Module-Setup-0.09-ZbuTWg/blib/lib/Module/Setup/Plugin/Site/GitHub.pm line 42, <DATA> line 1.
t/040_flavor/github.t ............................. ok
t/050_helper/basic-callback.t ..................... ok
t/050_helper/basic-foo.t .......................... ok
t/050_helper/basic.t .............................. ok
All tests successful.
Files=47, Tests=430, 42 wallclock secs ( 0.48 usr  0.12 sys + 37.65 cusr  3.26 csys = 41.51 CPU)
Result: PASS

------------------------------
PREREQUISITES
------------------------------

Prerequisite modules loaded:

requires:

    Module                       Need Have   
    ---------------------------- ---- -------
    Class::Trigger               0    0.14   
    Cwd                          0    3.33   
    ExtUtils::MakeMaker          0    6.62   
    File::Basename               0    2.78   
    File::Find::Rule             0    0.33   
    File::HomeDir                0    0.98   
    File::Path                   0    2.08_01
    File::Temp                   0.2  0.22   
    Filter::Util::Call           0    1.08   
    Getopt::Long                 0    2.38   
    IO::Scalar                   0    2.110  
    LWP::UserAgent               0    6.03   
    Module::Collect              0.06 0.06   
    Module::Install::AuthorTests 0    0.002  
    Module::Install::Repository  0    0.06   
    Path::Class                  0    0.24   
    Pod::Usage                   0    1.36   
    Scalar::Util                 0    1.22   
    Storable                     0    2.30   
    Template                     2.2  2.22   
    Test::More                   0    0.98   
    Test::Requires               0    0.06   
    Text::Patch                  0    1.8    
    YAML                         0    0.77   

build_requires:

    Module                       Need Have   
    ---------------------------- ---- -------
    ExtUtils::MakeMaker          0    6.62   

configure_requires:

    Module                       Need Have   
    ---------------------------- ---- -------
    ExtUtils::MakeMaker          6.42 6.62   


------------------------------
ENVIRONMENT AND OTHER CONTEXT
------------------------------

Environment variables:

    AUTOMATED_TESTING = 1
    LANG = ja_JP.UTF-8
    LC_MESSAGES = C
    PATH = /home/kmg/perl5/perlbrew/bin:/home/kmg/perl5/perlbrew/perls/perl-5.12.4/bin:/home/kmg/perl/bin:/home/kmg/perl/bin:/usr/local/bin:/usr/bin:/bin:/usr/local/games:/usr/games
    PATH_WITHOUT_PERLBREW = /home/kmg/perl/bin:/home/kmg/perl/bin:/usr/local/bin:/usr/bin:/bin:/usr/local/games:/usr/games
    PERL5LIB = /home/kmg/.cpan/build/Module-Install-Repository-0.06-ESEDWa/blib/arch:/home/kmg/.cpan/build/Module-Install-Repository-0.06-ESEDWa/blib/lib:/home/kmg/.cpan/build/Class-Trigger-0.14-rnkHWI/blib/arch:/home/kmg/.cpan/build/Class-Trigger-0.14-rnkHWI/blib/lib:/home/kmg/.cpan/build/Module-Install-AuthorTests-0.002-vv8nJI/blib/arch:/home/kmg/.cpan/build/Module-Install-AuthorTests-0.002-vv8nJI/blib/lib:/home/kmg/.cpan/build/Module-Collect-0.06-55okf8/blib/arch:/home/kmg/.cpan/build/Module-Collect-0.06-55okf8/blib/lib:/home/kmg/.cpan/build/Text-Patch-1.8-QVMx6r/blib/arch:/home/kmg/.cpan/build/Text-Patch-1.8-QVMx6r/blib/lib:/home/kmg/perl/lib/perl5:/home/kmg/perl/lib/site_perl
    PERL5OPT = 
    PERL5_CPANPLUS_IS_RUNNING = 20249
    PERL5_CPAN_IS_RUNNING = 20249
    PERL5_CPAN_IS_RUNNING_IN_RECURSION = 1942,20249
    PERLBREW_BASHRC_VERSION = 0.33
    PERLBREW_HOME = /home/kmg/.perlbrew
    PERLBREW_PATH = /home/kmg/perl5/perlbrew/bin:/home/kmg/perl5/perlbrew/perls/perl-5.12.4/bin
    PERLBREW_PERL = perl-5.12.4
    PERLBREW_ROOT = /home/kmg/perl5/perlbrew
    PERLBREW_VERSION = 0.33
    PERL_CR_SMOKER_CURRENT = Module-Setup-Flavor-JJNAPIORK-0.07
    PERL_EXTUTILS_AUTOINSTALL = --defaultdeps
    PERL_MM_USE_DEFAULT = 1
    SHELL = /bin/bash
    TERM = screen

Perl special variables (and OS-specific diagnostics, for MSWin32):

    $^X = /home/kmg/perl5/perlbrew/perls/perl-5.12.4/bin/perl5.12.4
    $UID/$EUID = 1001 / 1001
    $GID = 1001 1001
    $EGID = 1001 1001

Perl module toolchain versions installed:

    Module              Have    
    ------------------- --------
    CPAN                1.9800  
    CPAN::Meta          2.112621
    Cwd                 3.33    
    ExtUtils::CBuilder  0.280202
    ExtUtils::Command   1.17    
    ExtUtils::Install   1.55    
    ExtUtils::MakeMaker 6.62    
    ExtUtils::Manifest  1.60    
    ExtUtils::ParseXS   3.05    
    File::Spec          3.33    
    JSON                2.53    
    JSON::PP            2.27200 
    Module::Build       0.3800  
    Module::Signature   0.68    
    Parse::CPAN::Meta   1.4401  
    Test::Harness       3.23    
    Test::More          0.98    
    YAML                0.77    
    YAML::Syck          1.19    
    version             0.95    


--

Summary of my perl5 (revision 5 version 12 subversion 4) configuration:
   
  Platform:
    osname=linux, osvers=2.6.32-5-686, archname=i686-linux-thread-multi
    uname='linux natsume 2.6.32-5-686 #1 smp mon oct 3 04:15:24 utc 2011 i686 gnulinux '
    config_args='-de -Dprefix=/home/kmg/perl5/perlbrew/perls/perl-5.12.4 -Duseithreads'
    hint=recommended, useposix=true, d_sigaction=define
    useithreads=define, usemultiplicity=define
    useperlio=define, d_sfio=undef, uselargefiles=define, usesocks=undef
    use64bitint=undef, use64bitall=undef, uselongdouble=undef
    usemymalloc=n, bincompat5005=undef
  Compiler:
    cc='cc', ccflags ='-D_REENTRANT -D_GNU_SOURCE -fno-strict-aliasing -pipe -fstack-protector -I/usr/local/include -D_LARGEFILE_SOURCE -D_FILE_OFFSET_BITS=64',
    optimize='-O2',
    cppflags='-D_REENTRANT -D_GNU_SOURCE -fno-strict-aliasing -pipe -fstack-protector -I/usr/local/include'
    ccversion='', gccversion='4.4.5', gccosandvers=''
    intsize=4, longsize=4, ptrsize=4, doublesize=8, byteorder=1234
    d_longlong=define, longlongsize=8, d_longdbl=define, longdblsize=12
    ivtype='long', ivsize=4, nvtype='double', nvsize=8, Off_t='off_t', lseeksize=8
    alignbytes=4, prototype=define
  Linker and Libraries:
    ld='cc', ldflags =' -fstack-protector -L/usr/local/lib'
    libpth=/usr/local/lib /lib/../lib /usr/lib/../lib /lib /usr/lib
    libs=-lnsl -ldl -lm -lcrypt -lutil -lpthread -lc
    perllibs=-lnsl -ldl -lm -lcrypt -lutil -lpthread -lc
    libc=/lib/libc-2.11.2.so, so=so, useshrplib=false, libperl=libperl.a
    gnulibc_version='2.11.2'
  Dynamic Linking:
    dlsrc=dl_dlopen.xs, dlext=so, d_dlsymun=undef, ccdlflags='-Wl,-E'
    cccdlflags='-fPIC', lddlflags='-shared -O2 -L/usr/local/lib -fstack-protector'


Characteristics of this binary (from libperl): 
  Compile-time options: MULTIPLICITY PERL_DONT_CREATE_GVSV
                        PERL_IMPLICIT_CONTEXT PERL_MALLOC_WRAP USE_ITHREADS
                        USE_LARGE_FILES USE_PERLIO USE_PERL_ATOF
                        USE_REENTRANT_API
  Built under linux
  Compiled at Oct 31 2011 21:16:37
  %ENV:
    PERL5LIB="/home/kmg/.cpan/build/Module-Install-Repository-0.06-ESEDWa/blib/arch:/home/kmg/.cpan/build/Module-Install-Repository-0.06-ESEDWa/blib/lib:/home/kmg/.cpan/build/Class-Trigger-0.14-rnkHWI/blib/arch:/home/kmg/.cpan/build/Class-Trigger-0.14-rnkHWI/blib/lib:/home/kmg/.cpan/build/Module-Install-AuthorTests-0.002-vv8nJI/blib/arch:/home/kmg/.cpan/build/Module-Install-AuthorTests-0.002-vv8nJI/blib/lib:/home/kmg/.cpan/build/Module-Collect-0.06-55okf8/blib/arch:/home/kmg/.cpan/build/Module-Collect-0.06-55okf8/blib/lib:/home/kmg/.cpan/build/Text-Patch-1.8-QVMx6r/blib/arch:/home/kmg/.cpan/build/Text-Patch-1.8-QVMx6r/blib/lib:/home/kmg/perl/lib/perl5:/home/kmg/perl/lib/site_perl"
    PERL5OPT=""
    PERL5_CPANPLUS_IS_RUNNING="20249"
    PERL5_CPAN_IS_RUNNING="20249"
    PERL5_CPAN_IS_RUNNING_IN_RECURSION="1942,20249"
    PERLBREW_BASHRC_VERSION="0.33"
    PERLBREW_HOME="/home/kmg/.perlbrew"
    PERLBREW_PATH="/home/kmg/perl5/perlbrew/bin:/home/kmg/perl5/perlbrew/perls/perl-5.12.4/bin"
    PERLBREW_PERL="perl-5.12.4"
    PERLBREW_ROOT="/home/kmg/perl5/perlbrew"
    PERLBREW_VERSION="0.33"
    PERL_CR_SMOKER_CURRENT="Module-Setup-Flavor-JJNAPIORK-0.07"
    PERL_EXTUTILS_AUTOINSTALL="--defaultdeps"
    PERL_MM_USE_DEFAULT="1"
  @INC:
    /home/kmg/.cpan/build/Module-Install-Repository-0.06-ESEDWa/blib/arch
    /home/kmg/.cpan/build/Module-Install-Repository-0.06-ESEDWa/blib/lib
    /home/kmg/.cpan/build/Class-Trigger-0.14-rnkHWI/blib/arch
    /home/kmg/.cpan/build/Class-Trigger-0.14-rnkHWI/blib/lib
    /home/kmg/.cpan/build/Module-Install-AuthorTests-0.002-vv8nJI/blib/arch
    /home/kmg/.cpan/build/Module-Install-AuthorTests-0.002-vv8nJI/blib/lib
    /home/kmg/.cpan/build/Module-Collect-0.06-55okf8/blib/arch
    /home/kmg/.cpan/build/Module-Collect-0.06-55okf8/blib/lib
    /home/kmg/.cpan/build/Text-Patch-1.8-QVMx6r/blib/arch
    /home/kmg/.cpan/build/Text-Patch-1.8-QVMx6r/blib/lib
    /home/kmg/perl/lib/perl5/i686-linux-thread-multi
    /home/kmg/perl/lib/perl5
    /home/kmg/perl/lib/site_perl/5.12.4/i686-linux-thread-multi
    /home/kmg/perl/lib/site_perl/5.12.4
    /home/kmg/perl/lib/site_perl
    /home/kmg/perl5/perlbrew/perls/perl-5.12.4/lib/site_perl/5.12.4/i686-linux-thread-multi
    /home/kmg/perl5/perlbrew/perls/perl-5.12.4/lib/site_perl/5.12.4
    /home/kmg/perl5/perlbrew/perls/perl-5.12.4/lib/5.12.4/i686-linux-thread-multi
    /home/kmg/perl5/perlbrew/perls/perl-5.12.4/lib/5.12.4
    .