Back
From: metabase:user:68a9c4ac-1ec7-11e0-bf29-9c4bfeb2ac3f
Subject: PASS Catalyst-View-Email-0.31 v5.15.7 GNU/Linux
Date: 2012-02-03T18:00:08Z
This distribution has been tested as part of the CPAN Testers
project, supporting the Perl programming language. See
http://wiki.cpantesters.org/ for more information or email
questions to cpan-testers-discuss@perl.org
--
Dear Devin Austin,
This is a computer-generated report for Catalyst-View-Email-0.31
on perl 5.15.7, created by CPAN-Reporter-1.2003.
Thank you for uploading your work to CPAN. Congratulations!
All tests were successful.
Sections of this report:
* Tester comments
* Program output
* Prerequisites
* Environment and other context
------------------------------
TESTER COMMENTS
------------------------------
Additional comments from tester:
none provided
------------------------------
PROGRAM OUTPUT
------------------------------
Output from '/usr/bin/make test':
PERL_DL_NONLAZY=1 /home/rando/perl5/perlbrew/perls/perl-5.15.7/bin/perl5.15.7 "-MExtUtils::Command::MM" "-e" "test_harness(0, 'inc', 'blib/lib', 'blib/arch')" t/01use.t t/02pod.t t/04basic.t t/05template.t t/06config.t t/07mason.t
t/01use.t ....... ok
t/02pod.t ....... skipped: set TEST_POD to enable this test
require TestApp::View::Mason was successful but the package is not defined. at /home/rando/perl5/perlbrew/perls/perl-5.15.7/lib/site_perl/5.15.7/Catalyst/Utils.pm line 293.
t/04basic.t ..... ok
require TestApp::View::Mason was successful but the package is not defined. at /home/rando/perl5/perlbrew/perls/perl-5.15.7/lib/site_perl/5.15.7/Catalyst/Utils.pm line 293.
t/05template.t .. ok
require TestApp::View::Mason was successful but the package is not defined. at /home/rando/perl5/perlbrew/perls/perl-5.15.7/lib/site_perl/5.15.7/Catalyst/Utils.pm line 293.
t/06config.t .... ok
t/07mason.t ..... skipped: Test requires module 'Catalyst::View::Mason' but it's not found
All tests successful.
Files=6, Tests=30, 3 wallclock secs ( 0.04 usr 0.03 sys + 2.68 cusr 0.17 csys = 2.92 CPU)
Result: PASS
------------------------------
PREREQUISITES
------------------------------
Prerequisite modules loaded:
requires:
Module Need Have
--------------------- -------- --------
Authen::SASL 2.13 2.15
Catalyst 5.7 5.90007
Email::MIME 1.859 1.910
Email::MIME::Creator 1.455 1.910
Email::Sender::Simple 0.100110 0.110003
MIME::Base64 3.08 3.13
Moose 0.93 2.0401
parent 0.223 0.225
Test::More 0.88 0.98
Test::Requires 0 0.06
build_requires:
Module Need Have
--------------------- -------- --------
ExtUtils::MakeMaker 6.42 6.63_02
Test::More 0 0.98
Test::Requires 0 0.06
configure_requires:
Module Need Have
--------------------- -------- --------
ExtUtils::MakeMaker 6.42 6.63_02
------------------------------
ENVIRONMENT AND OTHER CONTEXT
------------------------------
Environment variables:
LANG = en_US.utf8
LANGUAGE = en_US.utf8
LC_ALL = en_US.utf8
LC_CTYPE = en_US.utf8
MANPATH_WITHOUT_PERLBREW =
PATH = /home/rando/perl5/perlbrew/bin:/home/rando/perl5/perlbrew/perls/perl-5.15.7/bin:/opt/ircd-hybrid/bin:/opt/imagemagick/bin:/home/rando/devel/linux:/home/rando/bin:/usr/local/sbin:/usr/local/bin:/usr/sbin:/usr/bin:/sbin:/bin:/usr/games
PATH_WITHOUT_PERLBREW = /opt/ircd-hybrid/bin:/opt/imagemagick/bin:/home/rando/devel/linux:/home/rando/bin:/usr/local/sbin:/usr/local/bin:/usr/sbin:/usr/bin:/sbin:/bin:/usr/games
PERL5LIB =
PERL5OPT =
PERL5_CPANPLUS_IS_RUNNING = 10730
PERL5_CPAN_IS_RUNNING = 10730
PERLBREW_BASHRC_VERSION = 0.41
PERLBREW_HOME = /home/rando/.perlbrew
PERLBREW_MANPATH = /home/rando/perl5/perlbrew/perls/perl-5.15.7/man
PERLBREW_PATH = /home/rando/perl5/perlbrew/bin:/home/rando/perl5/perlbrew/perls/perl-5.15.7/bin
PERLBREW_PERL = perl-5.15.7
PERLBREW_ROOT = /home/rando/perl5/perlbrew
PERLBREW_VERSION = 0.41
PERL_CPANM_OPT = --save-dists /home/rando/perl5/cpan/mini --mirror http://localhost:4999/CPAN/ --mirror http://cpan.ezarticleinformation.com/ --mirror http://search.cpan.org/CPAN/
SHELL = /bin/bash
TERM = screen-256color
Perl special variables (and OS-specific diagnostics, for MSWin32):
$^X = /home/rando/perl5/perlbrew/perls/perl-5.15.7/bin/perl5.15.7
$UID/$EUID = 1000 / 1000
$GID = 1000 4 20 24 46 112 120 122 128 1000
$EGID = 1000 4 20 24 46 112 120 122 128 1000
Perl module toolchain versions installed:
Module Have
------------------- --------
CPAN 1.9800
CPAN::Meta 2.113640
Cwd 3.39_01
ExtUtils::CBuilder 0.280205
ExtUtils::Command 1.17
ExtUtils::Install 1.57
ExtUtils::MakeMaker 6.63_02
ExtUtils::Manifest 1.61
ExtUtils::ParseXS 3.12
File::Spec 3.39_01
JSON 2.53
JSON::PP 2.27200
Module::Build 0.39_01
Module::Signature 0.68
Parse::CPAN::Meta 1.4401
Test::Harness 3.23
Test::More 0.98
YAML 0.78
YAML::Syck 1.19
version 0.96
--
Summary of my perl5 (revision 5 version 15 subversion 7) configuration:
Platform:
osname=linux, osvers=2.6.38-13-generic, archname=x86_64-linux
uname='linux raptor 2.6.38-13-generic #55-ubuntu smp tue jan 24 15:34:24 utc 2012 x86_64 x86_64 x86_64 gnulinux '
config_args='-de -Dprefix=/home/rando/perl5/perlbrew/perls/perl-5.15.7 -Dusedevel'
hint=recommended, useposix=true, d_sigaction=define
useithreads=undef, usemultiplicity=undef
useperlio=define, d_sfio=undef, uselargefiles=define, usesocks=undef
use64bitint=define, use64bitall=define, uselongdouble=undef
usemymalloc=n, bincompat5005=undef
Compiler:
cc='cc', ccflags ='-fno-strict-aliasing -pipe -fstack-protector -I/usr/local/include -D_LARGEFILE_SOURCE -D_FILE_OFFSET_BITS=64',
optimize='-O2',
cppflags='-fno-strict-aliasing -pipe -fstack-protector -I/usr/local/include'
ccversion='', gccversion='4.5.2', gccosandvers=''
intsize=4, longsize=8, ptrsize=8, doublesize=8, byteorder=12345678
d_longlong=define, longlongsize=8, d_longdbl=define, longdblsize=16
ivtype='long', ivsize=8, nvtype='double', nvsize=8, Off_t='off_t', lseeksize=8
alignbytes=8, prototype=define
Linker and Libraries:
ld='cc', ldflags =' -fstack-protector -L/usr/local/lib'
libpth=/usr/local/lib /lib /usr/lib /usr/lib/x86_64-linux-gnu /lib64 /usr/lib64
libs=-lnsl -ldb -ldl -lm -lcrypt -lutil -lc
perllibs=-lnsl -ldl -lm -lcrypt -lutil -lc
libc=, so=so, useshrplib=false, libperl=libperl.a
gnulibc_version='2.13'
Dynamic Linking:
dlsrc=dl_dlopen.xs, dlext=so, d_dlsymun=undef, ccdlflags='-Wl,-E'
cccdlflags='-fPIC', lddlflags='-shared -O2 -L/usr/local/lib -fstack-protector'
Characteristics of this binary (from libperl):
Compile-time options: HAS_TIMES PERLIO_LAYERS PERL_DONT_CREATE_GVSV
PERL_MALLOC_WRAP PERL_PRESERVE_IVUV PERL_USE_DEVEL
USE_64_BIT_ALL USE_64_BIT_INT USE_LARGE_FILES
USE_LOCALE USE_LOCALE_COLLATE USE_LOCALE_CTYPE
USE_LOCALE_NUMERIC USE_PERLIO USE_PERL_ATOF
Built under linux
Compiled at Feb 2 2012 13:41:07
%ENV:
PERL5LIB=""
PERL5OPT=""
PERL5_CPANPLUS_IS_RUNNING="10730"
PERL5_CPAN_IS_RUNNING="10730"
PERLBREW_BASHRC_VERSION="0.41"
PERLBREW_HOME="/home/rando/.perlbrew"
PERLBREW_MANPATH="/home/rando/perl5/perlbrew/perls/perl-5.15.7/man"
PERLBREW_PATH="/home/rando/perl5/perlbrew/bin:/home/rando/perl5/perlbrew/perls/perl-5.15.7/bin"
PERLBREW_PERL="perl-5.15.7"
PERLBREW_ROOT="/home/rando/perl5/perlbrew"
PERLBREW_VERSION="0.41"
PERL_CPANM_OPT="--save-dists /home/rando/perl5/cpan/mini --mirror http://localhost:4999/CPAN/ --mirror http://cpan.ezarticleinformation.com/ --mirror http://search.cpan.org/CPAN/"
@INC:
/home/rando/perl5/perlbrew/perls/perl-5.15.7/lib/site_perl/5.15.7/x86_64-linux
/home/rando/perl5/perlbrew/perls/perl-5.15.7/lib/site_perl/5.15.7
/home/rando/perl5/perlbrew/perls/perl-5.15.7/lib/5.15.7/x86_64-linux
/home/rando/perl5/perlbrew/perls/perl-5.15.7/lib/5.15.7
.