Report for Soar-Production-Parser-1.122860

Back
From: metabase:user:5063c1ea-6c1e-1014-9b1d-6eaaf6a71c8f
Subject: PASS Soar-Production-Parser-1.122860 v5.16.2 
Date: 2013-01-10T23:52:17Z

This distribution has been tested as part of the CPAN Testers
project, supporting the Perl programming language.  See
http://wiki.cpantesters.org/ for more information or email
questions to cpan-testers-discuss@perl.org


--
Dear Nathan Gary Glenn,

This is a computer-generated report for Soar-Production-Parser-1.122860
on perl 5.16.2, created by CPAN-Reporter-1.2009.

Thank you for uploading your work to CPAN.  Congratulations!
All tests were successful.

Sections of this report:

    * Tester comments
    * Program output
    * Prerequisites
    * Environment and other context

------------------------------
TESTER COMMENTS
------------------------------

Additional comments from tester:

this report is from an automated smoke testing program
and was not reviewed by a human for accuracy

------------------------------
PROGRAM OUTPUT
------------------------------

Output from 'C:\strawberry\c\bin\dmake.exe test':

C:\strawberry\perl\bin\perl.exe "-MExtUtils::Command::MM" "-e" "test_harness(0, 'blib\lib', 'blib\arch')" t/*.t
t/00-compile.t ................ ok
t/00-use.t .................... ok
# 
# 
# Generated by Dist::Zilla::Plugin::ReportVersions::Tiny v1.08
# perl: 5.016002 (wanted 5.010) on MSWin32 from C:\strawberry\perl\bin\perl.exe
# 
# Carp                                          => 1.26       (want any version)
# Data::Diver                                   => 1.0101     (want any version)
# Data::Dumper                                  => 2.136      (want any version)
# File::Find                                    => 1.20       (want any version)
# File::Spec::Functions                         => 3.39_02    (want any version)
# File::Temp                                    => 0.22       (want any version)
# FindBin                                       => 1.51       (want any version)
# Module::Build                                 => 0.4003     (want 0.3601) 
# Parse::RecDescent                             => 1.967009   (want any version)
# Test::Base                                    => 0.60       (want any version)
# Test::Base::Filter                            => <undef>    (want any version)
# Test::Deep                                    => 0.11       (want any version)
# Test::Exception                               => 0.31       (want any version)
# Test::More                                    => 0.98       (want 0.88)   
# Test::Warn                                    => 0.24       (want any version)
# strict                                        => 1.07       (want any version)
# utf8                                          => 1.09       (want any version)
# version                                       => 0.9901     (want 0.9901) 
# warnings                                      => 1.13       (want any version)
# 
# Thanks for using my code.  I hope it works for you.
# If not, please try and include this output in the bug report.
# That will help me reproduce the issue and solve your problem.
# 
t/000-report-versions-tiny.t .. ok
t/01-bad_input.t .............. ok
t/01.5-comments.t ............. ok
t/02-split-productions.t ...... ok
t/03-production-names.t ....... ok
t/04-documentation.t .......... ok
t/05-Flags.t .................. ok
t/06-State.t .................. ok
t/07-variables.t .............. ok
t/08-attributes.t ............. ok
t/09-int.t .................... ok
t/10-float.t .................. ok
t/11-string.t ................. ok
t/12-quoted.t ................. ok
t/13-disjunct.t ............... ok
t/14-conjunct.t ............... ok
t/15-predicate.t .............. ok
t/16-preference.t ............. ok
t/17-function.t ............... ok
t/18-negative.t ............... ok
t/19-conjunctiveCond.t ........ ok
# Testing parser's ability to parse all productions in examples/big.soar
t/20-test_data.t .............. ok
t/author-critic.t ............. skipped: these tests are for testing by the author
t/release-distmeta.t .......... skipped: these tests are for release candidate testing
t/release-meta-json.t ......... skipped: these tests are for release candidate testing
t/release-mojibake.t .......... skipped: these tests are for release candidate testing
t/release-pod-coverage.t ...... skipped: these tests are for release candidate testing
t/release-pod-linkcheck.t ..... skipped: these tests are for release candidate testing
t/release-pod-syntax.t ........ skipped: these tests are for release candidate testing
t/release-test-version.t ...... skipped: these tests are for release candidate testing
All tests successful.
Files=32, Tests=987, 39 wallclock secs ( 0.31 usr +  0.08 sys =  0.39 CPU)
Result: PASS

------------------------------
PREREQUISITES
------------------------------

Prerequisite modules loaded:

requires:

    Module                Need   Have    
    --------------------- ------ --------
    Carp                  0      1.26    
    Data::Dumper          0      2.136   
    Parse::RecDescent     0      1.967009
    strict                0      1.07    
    warnings              0      1.13    

build_requires:

    Module                Need   Have    
    --------------------- ------ --------
    Data::Diver           0      1.0101  
    File::Find            0      1.20    
    File::Spec::Functions 0      3.39_02 
    File::Temp            0      0.22    
    FindBin               0      1.51    
    Module::Build         0.3601 0.4003  
    Test::Base            0      0.60    
    Test::Base::Filter    0      0       
    Test::Deep            0      0.110   
    Test::Exception       0      0.31    
    Test::More            0.88   0.98    
    Test::Warn            0      0.24    
    utf8                  0      1.09    

configure_requires:

    Module                Need   Have    
    --------------------- ------ --------
    Module::Build         0.3601 0.4003  


------------------------------
ENVIRONMENT AND OTHER CONTEXT
------------------------------

Environment variables:

    AUTOMATED_TESTING = 1
    COMSPEC = C:\Windows\system32\cmd.exe
    NUMBER_OF_PROCESSORS = 2
    PATH = %SystemRoot%\system32\WindowsPowerShell\v1.0\;C:\Program Files\HP\NCU;C:\Windows\system32;C:\Windows;C:\Windows\System32\Wbem;C:\Windows\System32\WindowsPowerShell\v1.0\;C:\strawberry\c\bin;C:\strawberry\perl\site\bin;C:\strawberry\perl\bin
    PERL5LIB = C:\strawberry\cpan\build\Parse-RecDescent-1.967009-ehVfdN/blib/arch;C:\strawberry\cpan\build\Parse-RecDescent-1.967009-ehVfdN/blib/lib;C:\strawberry\cpan\build\Data-Diver-1.0101-OekQVG/blib/arch;C:\strawberry\cpan\build\Data-Diver-1.0101-OekQVG/blib/lib;C:\strawberry\cpan\build\Test-Base-0.60-fIN6tw/blib/arch;C:\strawberry\cpan\build\Test-Base-0.60-fIN6tw/blib/lib;C:\strawberry\cpan\build\Spiffy-0.31-_24jt4/blib/arch;C:\strawberry\cpan\build\Spiffy-0.31-_24jt4/blib/lib
    PERL5OPT = 
    PERL5_CPANPLUS_IS_RUNNING = 4836
    PERL5_CPAN_IS_RUNNING = 4836
    PERL5_CPAN_IS_RUNNING_IN_RECURSION = 1496,4836
    PERL_CR_SMOKER_CURRENT = Soar-Production-Printer-0.01
    PERL_EXTUTILS_AUTOINSTALL = --defaultdeps
    PERL_MM_USE_DEFAULT = 1
    PROCESSOR_IDENTIFIER = Intel64 Family 6 Model 15 Stepping 6, GenuineIntel
    TEMP = C:\Users\sxperrym\AppData\Local\Temp\2
    TERM = dumb

Perl special variables (and OS-specific diagnostics, for MSWin32):

    $^X = C:\strawberry\perl\bin\perl.exe
    $UID/$EUID = 0 / 0
    $GID = 0
    $EGID = 0
    Win32::GetOSName = Win2008
    Win32::GetOSVersion = , 6, 1, 7600, 2, 0, 0, 272, 3
    Win32::FsType = NTFS
    Win32::IsAdminUser = 1

Perl module toolchain versions installed:

    Module              Have    
    ------------------- --------
    CPAN                1.9800  
    CPAN::Meta          2.120921
    Cwd                 3.39_02 
    ExtUtils::CBuilder  0.280206
    ExtUtils::Command   1.17    
    ExtUtils::Install   1.58    
    ExtUtils::MakeMaker 6.63_02 
    ExtUtils::Manifest  1.61    
    ExtUtils::ParseXS   3.16    
    File::Spec          3.39_02 
    JSON                2.53    
    JSON::PP            2.27200 
    Module::Build       0.4003  
    Module::Signature   n/a     
    Parse::CPAN::Meta   1.4404  
    Test::Harness       3.25    
    Test::More          0.98    
    YAML                0.84    
    YAML::Syck          1.21    
    version             0.9901  


--

Summary of my perl5 (revision 5 version 16 subversion 2) configuration:
   
  Platform:
    osname=MSWin32, osvers=4.0, archname=MSWin32-x64-multi-thread
    uname='Win32 strawberry-perl 5.16.2.1 #1 Fri Nov  2 03:03:35 2012 x64'
    config_args='undef'
    hint=recommended, useposix=true, d_sigaction=undef
    useithreads=define, usemultiplicity=define
    useperlio=define, d_sfio=undef, uselargefiles=define, usesocks=undef
    use64bitint=define, use64bitall=undef, uselongdouble=undef
    usemymalloc=n, bincompat5005=undef
  Compiler:
    cc='gcc', ccflags =' -s -O2 -DWIN32 -DWIN64 -DCONSERVATIVE  -DPERL_TEXTMODE_SCRIPTS -DPERL_IMPLICIT_CONTEXT -DPERL_IMPLICIT_SYS -fno-strict-aliasing -mms-bitfields',
    optimize='-s -O2',
    cppflags='-DWIN32'
    ccversion='', gccversion='4.6.3', gccosandvers=''
    intsize=4, longsize=4, ptrsize=8, doublesize=8, byteorder=12345678
    d_longlong=define, longlongsize=8, d_longdbl=define, longdblsize=12
    ivtype='long long', ivsize=8, nvtype='double', nvsize=8, Off_t='long long', lseeksize=8
    alignbytes=8, prototype=define
  Linker and Libraries:
    ld='g++', ldflags ='-s -L"C:\strawberry\perl\lib\CORE" -L"C:\strawberry\c\lib"'
    libpth=C:\strawberry\c\lib C:\strawberry\c\x86_64-w64-mingw32\lib
    libs=-lmoldname -lkernel32 -luser32 -lgdi32 -lwinspool -lcomdlg32 -ladvapi32 -lshell32 -lole32 -loleaut32 -lnetapi32 -luuid -lws2_32 -lmpr -lwinmm -lversion -lodbc32 -lodbccp32 -lcomctl32
    perllibs=-lmoldname -lkernel32 -luser32 -lgdi32 -lwinspool -lcomdlg32 -ladvapi32 -lshell32 -lole32 -loleaut32 -lnetapi32 -luuid -lws2_32 -lmpr -lwinmm -lversion -lodbc32 -lodbccp32 -lcomctl32
    libc=, so=dll, useshrplib=true, libperl=libperl516.a
    gnulibc_version=''
  Dynamic Linking:
    dlsrc=dl_win32.xs, dlext=dll, d_dlsymun=undef, ccdlflags=' '
    cccdlflags=' ', lddlflags='-mdll -s -L"C:\strawberry\perl\lib\CORE" -L"C:\strawberry\c\lib"'


Characteristics of this binary (from libperl): 
  Compile-time options: HAS_TIMES HAVE_INTERP_INTERN MULTIPLICITY
                        PERLIO_LAYERS PERL_DONT_CREATE_GVSV
                        PERL_IMPLICIT_CONTEXT PERL_IMPLICIT_SYS
                        PERL_MALLOC_WRAP PERL_PRESERVE_IVUV PL_OP_SLAB_ALLOC
                        USE_64_BIT_INT USE_ITHREADS USE_LARGE_FILES
                        USE_LOCALE USE_LOCALE_COLLATE USE_LOCALE_CTYPE
                        USE_LOCALE_NUMERIC USE_PERLIO USE_PERL_ATOF
  Built under MSWin32
  Compiled at Nov  2 2012 03:12:17
  %ENV:
    PERL5LIB="C:\strawberry\cpan\build\Parse-RecDescent-1.967009-ehVfdN/blib/arch;C:\strawberry\cpan\build\Parse-RecDescent-1.967009-ehVfdN/blib/lib;C:\strawberry\cpan\build\Data-Diver-1.0101-OekQVG/blib/arch;C:\strawberry\cpan\build\Data-Diver-1.0101-OekQVG/blib/lib;C:\strawberry\cpan\build\Test-Base-0.60-fIN6tw/blib/arch;C:\strawberry\cpan\build\Test-Base-0.60-fIN6tw/blib/lib;C:\strawberry\cpan\build\Spiffy-0.31-_24jt4/blib/arch;C:\strawberry\cpan\build\Spiffy-0.31-_24jt4/blib/lib"
    PERL5_CPANPLUS_IS_RUNNING="4836"
    PERL5_CPAN_IS_RUNNING="4836"
    PERL5_CPAN_IS_RUNNING_IN_RECURSION="1496,4836"
    PERL_CR_SMOKER_CURRENT="Soar-Production-Printer-0.01"
    PERL_EXTUTILS_AUTOINSTALL="--defaultdeps"
    PERL_MM_USE_DEFAULT="1"
  @INC:
    C:\strawberry\cpan\build\Parse-RecDescent-1.967009-ehVfdN/blib/arch
    C:\strawberry\cpan\build\Parse-RecDescent-1.967009-ehVfdN/blib/lib
    C:\strawberry\cpan\build\Data-Diver-1.0101-OekQVG/blib/arch
    C:\strawberry\cpan\build\Data-Diver-1.0101-OekQVG/blib/lib
    C:\strawberry\cpan\build\Test-Base-0.60-fIN6tw/blib/arch
    C:\strawberry\cpan\build\Test-Base-0.60-fIN6tw/blib/lib
    C:\strawberry\cpan\build\Spiffy-0.31-_24jt4/blib/arch
    C:\strawberry\cpan\build\Spiffy-0.31-_24jt4/blib/lib
    C:/strawberry/perl/site/lib
    C:/strawberry/perl/vendor/lib
    C:/strawberry/perl/lib
    .