Report for Win32-Mock-0.05

Back
From: metabase:user:30f0bd62-2aae-11df-837a-5e0a49663a4f
Subject: PASS Win32-Mock-0.05 v5.12.2 OpenBSD
Date: 2010-12-01T09:25:17Z

This distribution has been tested as part of the CPAN Testers
project, supporting the Perl programming language.  See
http://wiki.cpantesters.org/ for more information or email
questions to cpan-testers-discuss@perl.org


--
Dear Sebastien Aperghis-Tramoni,

This is a computer-generated report for Win32-Mock-0.05
on perl 5.12.2, created by CPAN-Reporter-1.1805.

Thank you for uploading your work to CPAN.  Congratulations!
All tests were successful.

Sections of this report:

    * Tester comments
    * Program output
    * Prerequisites
    * Environment and other context

------------------------------
TESTER COMMENTS
------------------------------

Additional comments from tester:

this report is from an automated smoke testing program
and was not reviewed by a human for accuracy

------------------------------
PROGRAM OUTPUT
------------------------------

Output from './Build test':

Undefined value assigned to typeglob at /home/sts/cpansmoke/perl-5.12.2/cpan/build/Devel-FakeOSName-0.01-DvQwCE/blib/lib/Devel/FakeOSName.pm line 21.
# Testing Win32::Mock 0.05, Perl 5.012002, /home/sts/cpansmoke/perl-5.12.2/bin/perl
t/00-load.t .............................. ok
t/pod-coverage.t ......................... skipped: *** disabled for now ***
t/pod.t .................................. skipped: *** disabled for now ***
Undefined value assigned to typeglob at /home/sts/cpansmoke/perl-5.12.2/cpan/build/Devel-FakeOSName-0.01-DvQwCE/blib/lib/Devel/FakeOSName.pm line 21.
t/core/Win32/CopyFile.t .................. ok
Undefined value assigned to typeglob at /home/sts/cpansmoke/perl-5.12.2/cpan/build/Devel-FakeOSName-0.01-DvQwCE/blib/lib/Devel/FakeOSName.pm line 21.
Subroutine STORE redefined at /home/sts/cpansmoke/perl-5.12.2/lib/5.12.2/OpenBSD.i386-openbsd-thread-multi/Config_heavy.pl line 1270.
t/core/Win32/CreateFile.t ................ ok
Undefined value assigned to typeglob at /home/sts/cpansmoke/perl-5.12.2/cpan/build/Devel-FakeOSName-0.01-DvQwCE/blib/lib/Devel/FakeOSName.pm line 21.
Subroutine STORE redefined at /home/sts/cpansmoke/perl-5.12.2/lib/5.12.2/OpenBSD.i386-openbsd-thread-multi/Config_heavy.pl line 1270.
t/core/Win32/ExpandEnvironmentStrings.t .. ok
Undefined value assigned to typeglob at /home/sts/cpansmoke/perl-5.12.2/cpan/build/Devel-FakeOSName-0.01-DvQwCE/blib/lib/Devel/FakeOSName.pm line 21.
Subroutine STORE redefined at /home/sts/cpansmoke/perl-5.12.2/lib/5.12.2/OpenBSD.i386-openbsd-thread-multi/Config_heavy.pl line 1270.
t/core/Win32/GetCurrentThreadId.t ........ skipped: Test requires fork emulation
Undefined value assigned to typeglob at /home/sts/cpansmoke/perl-5.12.2/cpan/build/Devel-FakeOSName-0.01-DvQwCE/blib/lib/Devel/FakeOSName.pm line 21.
Subroutine STORE redefined at /home/sts/cpansmoke/perl-5.12.2/lib/5.12.2/OpenBSD.i386-openbsd-thread-multi/Config_heavy.pl line 1270.
t/core/Win32/GetFileVersion.t ............ ok
Undefined value assigned to typeglob at /home/sts/cpansmoke/perl-5.12.2/cpan/build/Devel-FakeOSName-0.01-DvQwCE/blib/lib/Devel/FakeOSName.pm line 21.
Subroutine STORE redefined at /home/sts/cpansmoke/perl-5.12.2/lib/5.12.2/OpenBSD.i386-openbsd-thread-multi/Config_heavy.pl line 1270.
t/core/Win32/GetFolderPath.t ............. ok
t/core/Win32/GetFullPathName.t ........... skipped: because these tests are too hard to mock
t/core/Win32/GetLongPathName.t ........... skipped: because these tests are too hard to mock
Undefined value assigned to typeglob at /home/sts/cpansmoke/perl-5.12.2/cpan/build/Devel-FakeOSName-0.01-DvQwCE/blib/lib/Devel/FakeOSName.pm line 21.
Subroutine STORE redefined at /home/sts/cpansmoke/perl-5.12.2/lib/5.12.2/OpenBSD.i386-openbsd-thread-multi/Config_heavy.pl line 1270.
t/core/Win32/GetOSVersion.t .............. ok
t/core/Win32/GetShortPathName.t .......... skipped: because these tests are too hard to mock
Undefined value assigned to typeglob at /home/sts/cpansmoke/perl-5.12.2/cpan/build/Devel-FakeOSName-0.01-DvQwCE/blib/lib/Devel/FakeOSName.pm line 21.
Subroutine STORE redefined at /home/sts/cpansmoke/perl-5.12.2/lib/5.12.2/OpenBSD.i386-openbsd-thread-multi/Config_heavy.pl line 1270.
t/core/Win32/GuidGen.t ................... ok
Undefined value assigned to typeglob at /home/sts/cpansmoke/perl-5.12.2/cpan/build/Devel-FakeOSName-0.01-DvQwCE/blib/lib/Devel/FakeOSName.pm line 21.
t/core/Win32/Names.t ..................... ok
Undefined value assigned to typeglob at /home/sts/cpansmoke/perl-5.12.2/cpan/build/Devel-FakeOSName-0.01-DvQwCE/blib/lib/Devel/FakeOSName.pm line 21.
Subroutine STORE redefined at /home/sts/cpansmoke/perl-5.12.2/lib/5.12.2/OpenBSD.i386-openbsd-thread-multi/Config_heavy.pl line 1270.
t/core/Win32/Unicode.t ................... skipped: Filesystem doesn't support Unicode
Undefined value assigned to typeglob at /home/sts/cpansmoke/perl-5.12.2/cpan/build/Devel-FakeOSName-0.01-DvQwCE/blib/lib/Devel/FakeOSName.pm line 21.
t/core/Win32CORE/win32core.t ............. ok
t/libwin32/APINet/test.t ................. skipped: *** NOT IMPLEMENTED
t/libwin32/Clipboard/test.t .............. skipped: *** NOT IMPLEMENTED
t/libwin32/EventLog/eventlog.t ........... skipped: *** NOT IMPLEMENTED
Undefined value assigned to typeglob at /home/sts/cpansmoke/perl-5.12.2/cpan/build/Devel-FakeOSName-0.01-DvQwCE/blib/lib/Devel/FakeOSName.pm line 21.
t/libwin32/File/file.t ................... ok
t/libwin32/NetAdmin/netadmin.t ........... skipped: *** NOT IMPLEMENTED
t/libwin32/NetResource/netresource.t ..... skipped: *** NOT IMPLEMENTED
t/libwin32/OLE/1_nls.t ................... skipped: *** NOT IMPLEMENTED
t/libwin32/OLE/2_variant.t ............... skipped: *** NOT IMPLEMENTED
t/libwin32/OLE/3_ole.t ................... skipped: *** NOT IMPLEMENTED
t/libwin32/OLE/4_compat.t ................ skipped: *** NOT IMPLEMENTED
t/libwin32/OLE/5_unicode.t ............... skipped: *** NOT IMPLEMENTED
t/libwin32/OLE/6_event.t ................. skipped: *** NOT IMPLEMENTED
t/libwin32/OLE/7_overload.t .............. skipped: *** NOT IMPLEMENTED
t/libwin32/Registry/registry.t ........... skipped: *** NOT IMPLEMENTED
Undefined value assigned to typeglob at /home/sts/cpansmoke/perl-5.12.2/cpan/build/Devel-FakeOSName-0.01-DvQwCE/blib/lib/Devel/FakeOSName.pm line 21.
dummy|dummy
	ServiceSpecificExitCode		0
	ServiceType		16
	CurrentState		7
	CheckPoint		0
	ControlsAccepted		2
	Win32ExitCode		0
	WaitHint		0
t/libwin32/Service/service.t ............. ok
All tests successful.
Files=32, Tests=59,  1 wallclock secs ( 0.11 usr  0.17 sys +  0.85 cusr  0.31 csys =  1.44 CPU)
Result: PASS

------------------------------
PREREQUISITES
------------------------------

Prerequisite modules loaded:

requires:

    Module            Need Have   
    ----------------- ---- -------
    constant          1.12 1.20   
    Devel::FakeOSName 0    0.01   
    ExtUtils::Command 0    1.16   
    File::Basename    0    2.78   
    File::Spec        0.7  3.31_01

build_requires:

    Module            Need Have   
    ----------------- ---- -------
    Test::More        0    0.94   


------------------------------
ENVIRONMENT AND OTHER CONTEXT
------------------------------

Environment variables:

    AUTOMATED_TESTING = 1
    PATH = /home/sts/bin:/bin:/sbin:/usr/bin:/usr/sbin:/usr/X11R6/bin:/usr/local/bin:/usr/local/sbin:/usr/games:.
    PERL5LIB = /home/sts/cpansmoke/perl-5.12.2/cpan/build/Devel-FakeOSName-0.01-DvQwCE/blib/arch:/home/sts/cpansmoke/perl-5.12.2/cpan/build/Devel-FakeOSName-0.01-DvQwCE/blib/lib
    PERL5OPT = 
    PERL5_CPANPLUS_IS_RUNNING = 4362
    PERL5_CPAN_IS_RUNNING = 4362
    PERL5_CPAN_IS_RUNNING_IN_RECURSION = 15783,4362
    PERL_CR_SMOKER_CURRENT = Win32-Mock-0.05
    PERL_EXTUTILS_AUTOINSTALL = --defaultdeps
    PERL_MM_USE_DEFAULT = 1
    SHELL = /usr/local/bin/bash
    TERM = screen
    TMPDIR = /home/sts/cpansmoke/tmp

Perl special variables (and OS-specific diagnostics, for MSWin32):

    $^X = /home/sts/cpansmoke/perl-5.12.2/bin/perl
    $UID/$EUID = 1000 / 1000
    $GID = 10 10 0
    $EGID = 10 10 0

Perl module toolchain versions installed:

    Module              Have   
    ------------------- -------
    CPAN                1.94_56
    Cwd                 3.31   
    ExtUtils::CBuilder  0.27   
    ExtUtils::Command   1.16   
    ExtUtils::Install   1.55   
    ExtUtils::MakeMaker 6.56   
    ExtUtils::Manifest  1.57   
    ExtUtils::ParseXS   2.21   
    File::Spec          3.31_01
    Module::Build       0.3603 
    Module::Signature   n/a    
    Test::Harness       3.17   
    Test::More          0.94   
    YAML                n/a    
    YAML::Syck          1.15   
    version             0.82   


--

Summary of my perl5 (revision 5 version 12 subversion 2) configuration:
   
  Platform:
    osname=openbsd, osvers=4.7, archname=OpenBSD.i386-openbsd-thread-multi
    uname='openbsd cpansmoke3 4.7 generic.mp#449 i386 '
    config_args='-des -Dusethreads -Dprefix=/home/sts/cpansmoke/perl-5.12.2'
    hint=recommended, useposix=true, d_sigaction=define
    useithreads=define, usemultiplicity=define
    useperlio=define, d_sfio=undef, uselargefiles=define, usesocks=undef
    use64bitint=undef, use64bitall=undef, uselongdouble=undef
    usemymalloc=n, bincompat5005=undef
  Compiler:
    cc='cc', ccflags ='-pthread -fno-strict-aliasing -pipe -fstack-protector -I/usr/local/include',
    optimize='-O2',
    cppflags='-pthread -fno-strict-aliasing -pipe -fstack-protector -I/usr/local/include'
    ccversion='', gccversion='3.3.5 (propolice)', gccosandvers='openbsd4.7'
    intsize=4, longsize=4, ptrsize=4, doublesize=8, byteorder=1234
    d_longlong=define, longlongsize=8, d_longdbl=define, longdblsize=12
    ivtype='long', ivsize=4, nvtype='double', nvsize=8, Off_t='off_t', lseeksize=8
    alignbytes=4, prototype=define
  Linker and Libraries:
    ld='cc', ldflags ='-pthread -Wl,-E  -fstack-protector -L/usr/local/lib'
    libpth=/usr/local/lib /usr/lib
    libs=-lgdbm -lm -lutil -lc
    perllibs=-lm -lutil -lc
    libc=/usr/lib/libc.so.53.1, so=so, useshrplib=false, libperl=libperl.a
    gnulibc_version=''
  Dynamic Linking:
    dlsrc=dl_dlopen.xs, dlext=so, d_dlsymun=undef, ccdlflags=' '
    cccdlflags='-DPIC -fPIC ', lddlflags='-shared -fPIC  -L/usr/local/lib -fstack-protector'


Characteristics of this binary (from libperl): 
  Compile-time options: MULTIPLICITY PERL_DONT_CREATE_GVSV
                        PERL_IMPLICIT_CONTEXT PERL_MALLOC_WRAP USE_ITHREADS
                        USE_LARGE_FILES USE_PERLIO USE_PERL_ATOF
                        USE_REENTRANT_API
  Built under openbsd
  Compiled at Oct 20 2010 21:08:34
  %ENV:
    PERL5LIB="/home/sts/cpansmoke/perl-5.12.2/cpan/build/Devel-FakeOSName-0.01-DvQwCE/blib/arch:/home/sts/cpansmoke/perl-5.12.2/cpan/build/Devel-FakeOSName-0.01-DvQwCE/blib/lib"
    PERL5OPT=""
    PERL5_CPANPLUS_IS_RUNNING="4362"
    PERL5_CPAN_IS_RUNNING="4362"
    PERL5_CPAN_IS_RUNNING_IN_RECURSION="15783,4362"
    PERL_CR_SMOKER_CURRENT="Win32-Mock-0.05"
    PERL_EXTUTILS_AUTOINSTALL="--defaultdeps"
    PERL_MM_USE_DEFAULT="1"
  @INC:
    /home/sts/cpansmoke/perl-5.12.2/cpan/build/Devel-FakeOSName-0.01-DvQwCE/blib/arch
    /home/sts/cpansmoke/perl-5.12.2/cpan/build/Devel-FakeOSName-0.01-DvQwCE/blib/lib
    /home/sts/cpansmoke/perl-5.12.2/lib/site_perl/5.12.2/OpenBSD.i386-openbsd-thread-multi
    /home/sts/cpansmoke/perl-5.12.2/lib/site_perl/5.12.2
    /home/sts/cpansmoke/perl-5.12.2/lib/5.12.2/OpenBSD.i386-openbsd-thread-multi
    /home/sts/cpansmoke/perl-5.12.2/lib/5.12.2
    .