Text-Amuse-Preprocessor v0.64 Perl 5 v5.32.0 amd64-freebsd-thread-multi
- Status
- Pass
- From
- Slaven Rezić
- Dist
-
Text-Amuse-Preprocessor v0.64
- Platform
- Perl 5 v5.32.0 amd64-freebsd-thread-multi
- Date
- 2020-11-05 20:31:39
- ID
- e8c10364-1fa5-11eb-a6a9-4c7a1f24ea8f
This distribution has been tested as part of the CPAN Testers
project, supporting the Perl programming language. See
http://wiki.cpantesters.org/ for more information or email
questions to cpan-testers-discuss@perl.org
--
Dear Marco Pessotto,
This is a computer-generated report for Text-Amuse-Preprocessor-0.64
on perl 5.32.0, created by CPAN-Reporter-1.2018.
Thank you for uploading your work to CPAN. Congratulations!
All tests were successful.
Sections of this report:
* Tester comments
* Program output
* Prerequisites
* Environment and other context
------------------------------
TESTER COMMENTS
------------------------------
Additional comments from tester:
none provided
------------------------------
PROGRAM OUTPUT
------------------------------
Output from '/usr/bin/make test':
PERL_DL_NONLAZY=1 "/usr/local/bin/perl" "-MExtUtils::Command::MM" "-MTest::Harness" "-e" "undef *Test::Harness::Switches; test_harness(0, 'blib/lib', 'blib/arch')" t/*.t
# Testing Text::Amuse::Preprocessor 0.64, Perl 5.032000, /usr/local/bin/perl
t/00-load.t ........... ok
t/changes.t ........... skipped: Changes testing not required (or Test::CPAN::Changes not found)
t/chars.t ............. ok
# Using /var/tmp/cpansmoker-1023/2020110518/nbabbgvMVF for ligatures
# Using /var/tmp/cpansmoker-1023/2020110518/EiSjk9K_5y for missing_nl
# Using /var/tmp/cpansmoker-1023/2020110518/YLYTQUw4dF for garbage
# Using /var/tmp/cpansmoker-1023/2020110518/nnUKGD5sXa for ellipsis_no_fix
# Using /var/tmp/cpansmoker-1023/2020110518/fQj4NaUFOZ for ellipsis
# Using /var/tmp/cpansmoker-1023/2020110518/BoKmE8ZLHa for links
# Using /var/tmp/cpansmoker-1023/2020110518/VOhv9kY3gl for en
# Using /var/tmp/cpansmoker-1023/2020110518/u6lLaSRaBM for fi
# Using /var/tmp/cpansmoker-1023/2020110518/bqPFRcO0s0 for es
# Using /var/tmp/cpansmoker-1023/2020110518/kCz4baVCKK for sr
# Using /var/tmp/cpansmoker-1023/2020110518/XVwxf6zQ65 for hr
# Using /var/tmp/cpansmoker-1023/2020110518/yzt11CztPI for ru
# Using /var/tmp/cpansmoker-1023/2020110518/hgBgFoEq8L for it
# Using /var/tmp/cpansmoker-1023/2020110518/VD8aqizlpy for mk
# Using /var/tmp/cpansmoker-1023/2020110518/2t5tL2EDlI for sv
# Using /var/tmp/cpansmoker-1023/2020110518/43iMPEkUvl for de
# Using /var/tmp/cpansmoker-1023/2020110518/DyiAfXXlIS for pl
# Using /var/tmp/cpansmoker-1023/2020110518/Upv_ed7kBO for bg
# Using /var/tmp/cpansmoker-1023/2020110518/0n4HBRNooY for fr
# Using /var/tmp/cpansmoker-1023/2020110518/FOBfHYzIow for pt
# Using /var/tmp/cpansmoker-1023/2020110518/YN82FLOETe for sq
# Using /var/tmp/cpansmoker-1023/2020110518/xCzPN8ehY8 for da
# Using /var/tmp/cpansmoker-1023/2020110518/2G36KybizW for nl
# Using /var/tmp/cpansmoker-1023/2020110518/J3T0QElH4n for id
# Using /var/tmp/cpansmoker-1023/2020110518/OaIoETZC0s for Full example
# Using /var/tmp/cpansmoker-1023/2020110518/eK84EVNG1b for Quote
# Using /var/tmp/cpansmoker-1023/2020110518/56k9cRp5Ak for Quote
# Using /var/tmp/cpansmoker-1023/2020110518/S3ES_ijypr for Nl quotation
t/common.t ............ ok
t/crash-on-verb.t ..... ok
# $VAR1 = "#title Test
# #lang en
#
# 0
#
# \x{201c}0\x{201d}
#
# 0
# ";
# $VAR1 = "#title Test
# #lang en
#
# 0
#
# \x{201c}0\x{201d}
#
# 0
# ";
t/crash_on_loop.t ..... ok
# /var/tmp/cpansmoker-1023/2020110518/wR2v4efI0A/verbatim-in.muse
# /var/tmp/cpansmoker-1023/2020110518/wR2v4efI0A
t/exclude-verbatim.t .. ok
# Testing t/footnotes/good.in => t/footnotes/good.out
# Testing t/footnotes/good2.in => t/footnotes/good2.out
# Testing t/footnotes/good3.in => t/footnotes/good3.out
# Testing t/footnotes/mixed.in => t/footnotes/mixed.out
# Testing t/footnotes/indentation.in => t/footnotes/indentation.out
# Testing t/footnotes/sec-good.in => t/footnotes/sec-good.out
# Testing t/footnotes/sec-good2.in => t/footnotes/sec-good2.out
# Testing t/footnotes/sec-good3.in => t/footnotes/sec-good3.out
# Testing t/footnotes/sec-bad.in => t/footnotes/sec-bad.out
# @@ -1 +1,2 @@
# -{4}
# +{3}
# +{3}
# Testing t/footnotes/sec-bad2.in => t/footnotes/sec-bad2.out
# @@ -1,3 +1,2 @@
# -{4}
# +{3}
# -{5}
# +{3}
# -{6}
# Testing t/footnotes/bad.in => t/footnotes/bad.out
# @@ -1,2 +1,3 @@
# [1]
# -[1]
# +[2]
# +[4]
# Testing t/footnotes/bad2.in => t/footnotes/bad2.out
# @@ -1,4 +1,3 @@
# [1]
# -[1]
# +[2]
# [4]
# -[5]
t/footnotes.t ......... ok
tagpile mismatch: root, p
t/html-2.t ............ ok
# Using /var/tmp/cpansmoker-1023/2020110518/LJyDRIlgye.html
# Using /var/tmp/cpansmoker-1023/2020110518/gkrZQhrVA9.html
# Using /var/tmp/cpansmoker-1023/2020110518/RpN_Am92MS.html
# Using /var/tmp/cpansmoker-1023/2020110518/MSsRaIUucp.html
# Using /var/tmp/cpansmoker-1023/2020110518/qRRYpCrxEU.html
# Using /var/tmp/cpansmoker-1023/2020110518/7h2DViy2IR.html
# Using /var/tmp/cpansmoker-1023/2020110518/LURLQ4tsIZ.html
# Using /var/tmp/cpansmoker-1023/2020110518/cd8GTQRruC.html
# Using /var/tmp/cpansmoker-1023/2020110518/UoCOJrkIP_.html
# Using /var/tmp/cpansmoker-1023/2020110518/NawDG8xVNI.html
# Using /var/tmp/cpansmoker-1023/2020110518/LJHkIJLTkQ.html
# Using /var/tmp/cpansmoker-1023/2020110518/3zt8zIBPd2.html
# Using /var/tmp/cpansmoker-1023/2020110518/F6dnDSUdVM.html
# Using /var/tmp/cpansmoker-1023/2020110518/3d7tzMzrea.html
# Using /var/tmp/cpansmoker-1023/2020110518/wn4TuFL5HZ.html
# Using /var/tmp/cpansmoker-1023/2020110518/TvnOqk_uZG.html
# Using /var/tmp/cpansmoker-1023/2020110518/AktcB2V4VP.html
t/html.t .............. ok
t/manifest.t .......... skipped: Author tests not required for installation
t/memory-cycles.t ..... skipped: Test::Memory::Cycle required for testing memory cycles
t/nbsp.t .............. ok
# Infile is /var/tmp/cpansmoker-1023/2020110518/XWICrM0NmQ/input.txt
# Using /var/tmp/cpansmoker-1023/2020110518/gihZMZyY0E as temporary dir
t/object.t ............ ok
t/pod-coverage.t ...... skipped: Pod coverage not required for installation
t/pod.t ............... skipped: Pod test not required for installation
t/russian.t ........... ok
t/subs.t .............. ok
t/typography.t ........ ok
All tests successful.
Files=19, Tests=430, 4 wallclock secs ( 0.14 usr 0.07 sys + 3.09 cusr 0.91 csys = 4.21 CPU)
Result: PASS
------------------------------
PREREQUISITES
------------------------------
Prerequisite modules loaded:
requires:
Module Need Have
------------------- ---- --------
HTML::PullParser 0 3.75
IO::HTML 1 1.001
Pod::Simple::Wiki 0.19 0.20
Text::Amuse 0.95 1.70
Text::Diff 0 1.45
build_requires:
Module Need Have
------------------- ---- --------
Test::More 0 1.302175
configure_requires:
Module Need Have
------------------- ---- --------
ExtUtils::MakeMaker 0 7.44
------------------------------
ENVIRONMENT AND OTHER CONTEXT
------------------------------
Environment variables:
PATH = /usr/local/bin:/usr/bin:/bin:/usr/local/sbin:/usr/sbin:/sbin:/home/cpansand/bin/sh:/home/cpansand/bin:/usr/games:/home/cpansand/devel:/usr/home/eserte/src/srezic-misc/scripts
PERL5LIB = /home/cpansand/.cpan/build/2020110518/Text-Diff-1.45-0/blib/arch:/home/cpansand/.cpan/build/2020110518/Text-Diff-1.45-0/blib/lib:/home/cpansand/.cpan/build/2020110518/Algorithm-Diff-1.200-0/blib/arch:/home/cpansand/.cpan/build/2020110518/Algorithm-Diff-1.200-0/blib/lib:/home/cpansand/.cpan/build/2020110518/Text-Amuse-1.70-0/blib/arch:/home/cpansand/.cpan/build/2020110518/Text-Amuse-1.70-0/blib/lib:/home/cpansand/.cpan/build/2020110518/Pod-Simple-Wiki-0.20-0/blib/arch:/home/cpansand/.cpan/build/2020110518/Pod-Simple-Wiki-0.20-0/blib/lib
PERL5OPT =
PERL5_CPANPLUS_IS_RUNNING = 16283
PERL5_CPAN_IS_RUNNING = 16283
PERL5_CPAN_IS_RUNNING_IN_RECURSION = 16249,16283
PERL_BATCH = yes
PERL_CANARY_STABILITY_NOPROMPT = 1
PERL_CPAN_REPORTER_CONFIG = /var/tmp/cpansmoker-1023/2020110518/cpanreporter_000_config.ini
PERL_EXTUTILS_AUTOINSTALL = --defaultdeps
PERL_USE_UNSAFE_INC = 1
SHELL = /bin/sh
TMPDIR = /var/tmp/cpansmoker-1023/2020110518
Perl special variables (and OS-specific diagnostics, for MSWin32):
$^X = /usr/local/bin/perl
$UID/$EUID = 1023 / 1023
$GID = 1023 1023
$EGID = 1023 1023
Perl module toolchain versions installed:
Module Have
------------------- --------
CPAN 2.27
CPAN::Meta 2.150010
Cwd 3.78
ExtUtils::CBuilder 0.280234
ExtUtils::Command 7.44
ExtUtils::Install 2.14
ExtUtils::MakeMaker 7.44
ExtUtils::Manifest 1.72
ExtUtils::ParseXS 3.40
File::Spec 3.78
JSON n/a
JSON::PP 4.04
Module::Build 0.4231
Module::Signature n/a
Parse::CPAN::Meta 2.150010
Test::Harness 3.42
Test::More 1.302175
YAML n/a
YAML::Syck 1.32
version 0.9924
--
Summary of my perl5 (revision 5 version 32 subversion 0) configuration:
Platform:
osname=freebsd
osvers=13.0-current
archname=amd64-freebsd-thread-multi
uname='freebsd head-amd64-default-job-03 13.0-current freebsd 13.0-current 1300104 amd64 '
config_args='-Darchlib=/usr/local/lib/perl5/5.32/mach -Dcc=cc -Dcf_by=mat -Dcf_email=mat@FreeBSD.org -Dcf_time=Sat Jun 20 20:39:10 UTC 2020 -Dinc_version_list=none -Dlibperl=libperl.so.5.32.0 -Dman1dir=/usr/local/lib/perl5/5.32/perl/man/man1 -Dman3dir=/usr/local/lib/perl5/5.32/perl/man/man3 -Dprefix=/usr/local -Dprivlib=/usr/local/lib/perl5/5.32 -Dscriptdir=/usr/local/bin -Dsitearch=/usr/local/lib/perl5/site_perl/mach/5.32 -Dsitelib=/usr/local/lib/perl5/site_perl -Dsiteman1dir=/usr/local/lib/perl5/site_perl/man/man1 -Dsiteman3dir=/usr/local/lib/perl5/site_perl/man/man3 -Dusenm=n -Duseshrplib -sde -Ui_iconv -Ui_malloc -Uinstallusrbinperl -Alddlflags=-L/wrkdirs/usr/ports/lang/perl5.32/work/perl-5.32.0 -L/usr/local/lib/perl5/5.32/mach/CORE -lperl -Dshrpldflags=$(LDDLFLAGS:N-L/wrkdirs/usr/ports/lang/perl5.32/work/perl-5.32.0:N-L/usr/local/lib/perl5/5.32/mach/CORE:N-lperl) -Wl,-soname,$(LIBPERL:R) -Doptimize=-O2 -pipe -fstack-protector-strong -fno-strict-aliasing -Dusedtrace -Ui_gdbm -Dusemultiplicity=y -Duse64bitint -Dusemymalloc=n -Dusethreads=y -Accflags=-DUSE_THREAD_SAFE_LOCALE'
hint=recommended
useposix=true
d_sigaction=define
useithreads=define
usemultiplicity=define
use64bitint=define
use64bitall=define
uselongdouble=undef
usemymalloc=n
default_inc_excludes_dot=define
bincompat5005=undef
Compiler:
cc='cc'
ccflags ='-DHAS_FPSETMASK -DHAS_FLOATINGPOINT_H -DUSE_THREAD_SAFE_LOCALE -fno-strict-aliasing -pipe -fstack-protector-strong -I/usr/local/include'
optimize='-O2 -pipe -fstack-protector-strong -fno-strict-aliasing '
cppflags='-DHAS_FPSETMASK -DHAS_FLOATINGPOINT_H -DUSE_THREAD_SAFE_LOCALE -fno-strict-aliasing -pipe -fstack-protector-strong -I/usr/local/include'
ccversion=''
gccversion='FreeBSD Clang 10.0.1 (git@github.com:llvm/llvm-project.git llvmorg-10.0.1-0-gef32c611aa2)'
gccosandvers=''
intsize=4
longsize=8
ptrsize=8
doublesize=8
byteorder=12345678
doublekind=3
d_longlong=define
longlongsize=8
d_longdbl=define
longdblsize=16
longdblkind=3
ivtype='long'
ivsize=8
nvtype='double'
nvsize=8
Off_t='off_t'
lseeksize=8
alignbytes=8
prototype=define
Linker and Libraries:
ld='cc'
ldflags ='-pthread -Wl,-E -fstack-protector-strong -L/usr/local/lib'
libpth=/usr/lib /usr/local/lib /usr/lib/clang/10.0.1/lib /usr/lib
libs=-lpthread -lm -lcrypt -lutil
perllibs=-lpthread -lm -lcrypt -lutil
libc=
so=so
useshrplib=true
libperl=libperl.so.5.32.0
gnulibc_version=''
Dynamic Linking:
dlsrc=dl_dlopen.xs
dlext=so
d_dlsymun=undef
ccdlflags=' -Wl,-R/usr/local/lib/perl5/5.32/mach/CORE'
cccdlflags='-DPIC -fPIC'
lddlflags='-shared -L/usr/local/lib/perl5/5.32/mach/CORE -lperl -L/usr/local/lib -fstack-protector-strong'
Characteristics of this binary (from libperl):
Compile-time options:
HAS_TIMES
MULTIPLICITY
PERLIO_LAYERS
PERL_COPY_ON_WRITE
PERL_DONT_CREATE_GVSV
PERL_IMPLICIT_CONTEXT
PERL_MALLOC_WRAP
PERL_OP_PARENT
PERL_PRESERVE_IVUV
USE_64_BIT_ALL
USE_64_BIT_INT
USE_ITHREADS
USE_LARGE_FILES
USE_LOCALE
USE_LOCALE_COLLATE
USE_LOCALE_CTYPE
USE_LOCALE_NUMERIC
USE_LOCALE_TIME
USE_PERLIO
USE_PERL_ATOF
USE_REENTRANT_API
USE_THREAD_SAFE_LOCALE
Built under freebsd
%ENV:
PERL5LIB="/home/cpansand/.cpan/build/2020110518/Text-Diff-1.45-0/blib/arch:/home/cpansand/.cpan/build/2020110518/Text-Diff-1.45-0/blib/lib:/home/cpansand/.cpan/build/2020110518/Algorithm-Diff-1.200-0/blib/arch:/home/cpansand/.cpan/build/2020110518/Algorithm-Diff-1.200-0/blib/lib:/home/cpansand/.cpan/build/2020110518/Text-Amuse-1.70-0/blib/arch:/home/cpansand/.cpan/build/2020110518/Text-Amuse-1.70-0/blib/lib:/home/cpansand/.cpan/build/2020110518/Pod-Simple-Wiki-0.20-0/blib/arch:/home/cpansand/.cpan/build/2020110518/Pod-Simple-Wiki-0.20-0/blib/lib"
PERL5OPT=""
PERL5_CPANPLUS_IS_RUNNING="16283"
PERL5_CPAN_IS_RUNNING="16283"
PERL5_CPAN_IS_RUNNING_IN_RECURSION="16249,16283"
PERL_BATCH="yes"
PERL_CANARY_STABILITY_NOPROMPT="1"
PERL_CPAN_REPORTER_CONFIG="/var/tmp/cpansmoker-1023/2020110518/cpanreporter_000_config.ini"
PERL_EXTUTILS_AUTOINSTALL="--defaultdeps"
PERL_USE_UNSAFE_INC="1"
@INC:
/home/cpansand/.cpan/build/2020110518/Text-Diff-1.45-0/blib/arch
/home/cpansand/.cpan/build/2020110518/Text-Diff-1.45-0/blib/lib
/home/cpansand/.cpan/build/2020110518/Algorithm-Diff-1.200-0/blib/arch
/home/cpansand/.cpan/build/2020110518/Algorithm-Diff-1.200-0/blib/lib
/home/cpansand/.cpan/build/2020110518/Text-Amuse-1.70-0/blib/arch
/home/cpansand/.cpan/build/2020110518/Text-Amuse-1.70-0/blib/lib
/home/cpansand/.cpan/build/2020110518/Pod-Simple-Wiki-0.20-0/blib/arch
/home/cpansand/.cpan/build/2020110518/Pod-Simple-Wiki-0.20-0/blib/lib
/usr/local/lib/perl5/site_perl/mach/5.32
/usr/local/lib/perl5/site_perl
/usr/local/lib/perl5/5.32/mach
/usr/local/lib/perl5/5.32
.