CTKlib v2.09 Perl 5 v5.26.2 darwin-thread-multi-2level
- Status
- Pass
- From
- David Cantrell (DCANTRELL)
- Dist
-
CTKlib v2.09
- Platform
- Perl 5 v5.26.2 darwin-thread-multi-2level
- Date
- 2023-12-14 10:52:43
- ID
- e8b3b47e-9a6e-11ee-8ccc-d6f17a676b07
This distribution has been tested as part of the CPAN Testers
project, supporting the Perl programming language. See
http://wiki.cpantesters.org/ for more information or email
questions to cpan-testers-discuss@perl.org
--
Dear Sergey Lepenkov,
This is a computer-generated report for CTKlib-2.09
on perl 5.26.2, created by CPAN-Reporter-1.2019.
Thank you for uploading your work to CPAN. Congratulations!
All tests were successful.
Sections of this report:
* Tester comments
* Program output
* Prerequisites
* Environment and other context
------------------------------
TESTER COMMENTS
------------------------------
Additional comments from tester:
this report is from an automated smoke testing program
and was not reviewed by a human for accuracy
------------------------------
PROGRAM OUTPUT
------------------------------
Output from '/usr/bin/make test':
"/Users/cpantesting/cpantesting/perl-5.26.2/bin/perl" -MExtUtils::Command::MM -e 'cp_nonempty' -- CTK.bs blib/arch/auto/CTK/CTK.bs 644
PERL_DL_NONLAZY=1 "/Users/cpantesting/cpantesting/perl-5.26.2/bin/perl" "-MExtUtils::Command::MM" "-MTest::Harness" "-e" "undef *Test::Harness::Switches; test_harness(0, 'blib/lib', 'blib/arch')" t/*.t
t/00-distribution.t .... skipped: Currently a developer-only test
t/00-fixme.t ........... skipped: requires Test::Fixme to run
t/00-pod-coverage.t .... skipped: Test::Pod::Coverage 1.08 required for testing POD coverage
t/00-pod.t ............. skipped: Currently a developer-only test
t/00-trailingspace.t ... skipped: Test::TrailingSpace required for trailing space test
t/01-use.t ............. ok
t/02-default.t ......... ok
t/03-xsutil.t .......... ok
t/04-ctkx.t ............ ok
t/05-helper.t .......... ok
t/06-format.t .......... ok
t/07-cgu_void.t ........ ok
t/08-tfvals.t .......... ok
t/09-configuration.t ... ok
t/10-log.t ............. ok
t/11-plugins.t ......... ok
t/12-app.t ............. ok
t/13-void.t ............ ok
t/14-plugin-file.t ..... skipped: Currently a developer-only test
t/15-flags.t ........... ok
t/16-plugin-archive.t .. skipped: Currently a developer-only test
t/17-crypt-tcd04.t ..... ok
t/18-crypt.t ........... skipped: Currently a developer-only test
t/19-crypt-gpg.t ....... skipped: Currently a developer-only test
t/20-plugin-net.t ...... skipped: Currently a developer-only test
t/21-sendmail.t ........ skipped: Currently a developer-only test
t/22-dbi.t ............. skipped: Currently a developer-only test
t/23-attrs.t ........... ok
t/24-digest.t .......... ok
t/25-plugins-ext.t ..... skipped: Currently a developer-only test
t/26-filepid.t ......... ok
t/27-timeout.t ......... ok
t/28-cgu-lvalue.t ...... ok
All tests successful.
Files=33, Tests=160, 9 wallclock secs ( 0.13 usr 0.10 sys + 6.63 cusr 1.30 csys = 8.16 CPU)
Result: PASS
------------------------------
PREREQUISITES
------------------------------
Prerequisite modules loaded:
requires:
Module Need Have
--------------------- -------- --------
Class::Singleton 1.4 1.6
Config::General 2 2.65
DBI 1.63 1.643
ExtUtils::MakeMaker 6.6 7.58
File::Copy 2 2.32
File::Copy::Recursive 0.38 0.45
File::Find 0 1.34
File::Path 2 2.12_01
File::Spec 0.82 3.67
File::Temp 0 0.2304
IO 0 1.38
IO::String 1.08 1.08
IPC::Open3 1 1.20
JSON 2.9 4.10
List::Util 1.45 1.46_02
MIME::Base64 3 3.15
MIME::Lite 3 3.033
Net::FTP 2.6 3.10
perl 5.016001 5.026002
Perl::OSType 1 1.010
Symbol 1.05 1.08
Sys::Syslog 0 0.35
Term::ANSIColor 4.03 4.06
Text::SimpleTable 2 2.07
Time::HiRes 1.97 1.9741
Time::Local 1.2 1.35
Try::Tiny 0.27 0.30
URI 1.6 5.05
XML::Simple 2.22 2.25
XSLoader 0.01 0.27
YAML 0.73 1.30
YAML::XS 0.4 0.88
build_requires:
Module Need Have
--------------------- -------- --------
Test::Simple 1 1.302198
configure_requires:
Module Need Have
--------------------- -------- --------
ExtUtils::MakeMaker 0 7.58
opt_requires:
Module Need Have
--------------------- -------- --------
Data::Dumper 0 2.167
------------------------------
ENVIRONMENT AND OTHER CONTEXT
------------------------------
Environment variables:
AUTOMATED_TESTING = 1
NONINTERACTIVE_TESTING = 1
PATH = /Users/cpantesting/perl5/perlbrew/bin:/Users/cpantesting/perl5/perlbrew/perls/perl-5.32.0/bin:/usr/local/bin:/System/Cryptexes/App/usr/bin:/usr/bin:/bin:/usr/sbin:/sbin:/Library/Apple/usr/bin:/Users/cpantesting/.cargo/bin
PERL = 5.26.2
PERL5LIB =
PERL5OPT =
PERL5_CPANPLUS_IS_RUNNING = 39396
PERL5_CPAN_IS_RUNNING = 39396
PERLBREW_HOME = /Users/cpantesting/.perlbrew
PERLBREW_MANPATH = /Users/cpantesting/perl5/perlbrew/perls/perl-5.32.0/man
PERLBREW_PATH = /Users/cpantesting/perl5/perlbrew/bin:/Users/cpantesting/perl5/perlbrew/perls/perl-5.32.0/bin
PERLBREW_PERL = perl-5.32.0
PERLBREW_ROOT = /Users/cpantesting/perl5/perlbrew
PERLBREW_SHELLRC_VERSION = 0.94
PERLBREW_VERSION = 0.94
PERLVER = 5.26.2
PERL_INLINE_DIRECTORY = /Users/cpantesting/.Inline-5.26.2
PERL_MM_USE_DEFAULT = 1
PERL_USE_UNSAFE_INC = 0
SHELL = /bin/bash
TERM = screen
Perl special variables (and OS-specific diagnostics, for MSWin32):
$^X = /Users/cpantesting/cpantesting/perl-5.26.2/bin/perl
$UID/$EUID = 503 / 503
$GID = 20 20 12 61 703 702 701 100
$EGID = 20 20 12 61 703 702 701 100
Perl module toolchain versions installed:
Module Have
------------------- ----------
CPAN 2.18
CPAN::Meta 2.150010
Cwd 3.67
ExtUtils::CBuilder 0.280235
ExtUtils::Command 7.58
ExtUtils::Install 2.06
ExtUtils::MakeMaker 7.58
ExtUtils::Manifest 1.70
ExtUtils::ParseXS 3.34
File::Spec 3.67
JSON 4.10
JSON::PP 2.27400_02
Module::Build 0.4231
Module::Signature n/a
Parse::CPAN::Meta 2.150010
Test2 1.302198
Test::Harness 3.38
Test::More 1.302198
YAML 1.30
YAML::Syck n/a
version 0.9917
--
Summary of my perl5 (revision 5 version 26 subversion 2) configuration:
Platform:
osname=darwin
osvers=19.6.0
archname=darwin-thread-multi-2level
uname='darwin harrow.local 19.6.0 darwin kernel version 19.6.0: thu oct 29 22:56:45 pdt 2020; root:xnu-6153.141.2.2~1release_x86_64 x86_64 '
config_args='-de -Dusethreads -Dprefix=/Users/cpantesting/cpantesting/perl-5.26.2'
hint=recommended
useposix=true
d_sigaction=define
useithreads=define
usemultiplicity=define
use64bitint=define
use64bitall=define
uselongdouble=undef
usemymalloc=n
default_inc_excludes_dot=define
bincompat5005=undef
Compiler:
cc='cc'
ccflags ='-fno-common -DPERL_DARWIN -mmacosx-version-min=10.15 -fno-strict-aliasing -pipe -fstack-protector-strong -I/usr/local/include -DPERL_USE_SAFE_PUTENV'
optimize='-O3'
cppflags='-fno-common -DPERL_DARWIN -mmacosx-version-min=10.15 -fno-strict-aliasing -pipe -fstack-protector-strong -I/usr/local/include'
ccversion=''
gccversion='Apple LLVM 12.0.0 (clang-1200.0.32.27)'
gccosandvers=''
intsize=4
longsize=8
ptrsize=8
doublesize=8
byteorder=12345678
doublekind=3
d_longlong=define
longlongsize=8
d_longdbl=define
longdblsize=16
longdblkind=3
ivtype='long'
ivsize=8
nvtype='double'
nvsize=8
Off_t='off_t'
lseeksize=8
alignbytes=8
prototype=define
Linker and Libraries:
ld='cc'
ldflags =' -mmacosx-version-min=10.15 -fstack-protector-strong -L/usr/local/lib'
libpth=/usr/local/lib /Library/Developer/CommandLineTools/usr/lib/clang/12.0.0/lib /Library/Developer/CommandLineTools/SDKs/MacOSX10.15.sdk/usr/lib /Library/Developer/CommandLineTools/usr/lib /usr/lib
libs=-lpthread -lgdbm -ldbm -ldl -lm -lutil -lc
perllibs=-lpthread -ldl -lm -lutil -lc
libc=
so=dylib
useshrplib=false
libperl=libperl.a
gnulibc_version=''
Dynamic Linking:
dlsrc=dl_dlopen.xs
dlext=bundle
d_dlsymun=undef
ccdlflags=' '
cccdlflags=' '
lddlflags=' -mmacosx-version-min=10.15 -bundle -undefined dynamic_lookup -L/usr/local/lib -fstack-protector-strong'
Characteristics of this binary (from libperl):
Compile-time options:
HAS_TIMES
MULTIPLICITY
PERLIO_LAYERS
PERL_COPY_ON_WRITE
PERL_DONT_CREATE_GVSV
PERL_IMPLICIT_CONTEXT
PERL_MALLOC_WRAP
PERL_OP_PARENT
PERL_PRESERVE_IVUV
PERL_USE_SAFE_PUTENV
USE_64_BIT_ALL
USE_64_BIT_INT
USE_ITHREADS
USE_LARGE_FILES
USE_LOCALE
USE_LOCALE_COLLATE
USE_LOCALE_CTYPE
USE_LOCALE_NUMERIC
USE_LOCALE_TIME
USE_PERLIO
USE_PERL_ATOF
USE_REENTRANT_API
Built under darwin
Compiled at Dec 29 2020 22:52:38
%ENV:
PERL="5.26.2"
PERL5LIB=""
PERL5OPT=""
PERL5_CPANPLUS_IS_RUNNING="39396"
PERL5_CPAN_IS_RUNNING="39396"
PERLBREW_HOME="/Users/cpantesting/.perlbrew"
PERLBREW_MANPATH="/Users/cpantesting/perl5/perlbrew/perls/perl-5.32.0/man"
PERLBREW_PATH="/Users/cpantesting/perl5/perlbrew/bin:/Users/cpantesting/perl5/perlbrew/perls/perl-5.32.0/bin"
PERLBREW_PERL="perl-5.32.0"
PERLBREW_ROOT="/Users/cpantesting/perl5/perlbrew"
PERLBREW_SHELLRC_VERSION="0.94"
PERLBREW_VERSION="0.94"
PERLVER="5.26.2"
PERL_INLINE_DIRECTORY="/Users/cpantesting/.Inline-5.26.2"
PERL_MM_USE_DEFAULT="1"
PERL_USE_UNSAFE_INC="0"
@INC:
/Users/cpantesting/cpantesting/perl-5.26.2/lib/site_perl/5.26.2/darwin-thread-multi-2level
/Users/cpantesting/cpantesting/perl-5.26.2/lib/site_perl/5.26.2
/Users/cpantesting/cpantesting/perl-5.26.2/lib/5.26.2/darwin-thread-multi-2level
/Users/cpantesting/cpantesting/perl-5.26.2/lib/5.26.2