Smartcat-App v0.0.6 Perl 5 v5.24.0 MSWin32-x86-multi-thread

Status
Pass
From
Alexandr Ciornii (CHORNY)
Dist
Smartcat-App v0.0.6
Platform
Perl 5 v5.24.0 MSWin32-x86-multi-thread
Date
2021-03-13 09:48:23
ID
e89de41f-6bf5-1014-a10c-2ec15484a3c7
This distribution has been tested as part of the CPAN Testers
project, supporting the Perl programming language.  See
http://wiki.cpantesters.org/ for more information or email
questions to cpan-testers-discuss@perl.org


--
Dear Taras Semenenko,

This is a computer-generated report for Smartcat-App-0.0.6
on perl 5.24.0, created by CPAN-Reporter-1.2018.

Thank you for uploading your work to CPAN.  Congratulations!
All tests were successful.

Sections of this report:

    * Tester comments
    * Program output
    * Prerequisites
    * Environment and other context

------------------------------
TESTER COMMENTS
------------------------------

Additional comments from tester:

this report is from an automated smoke testing program
and was not reviewed by a human for accuracy

------------------------------
PROGRAM OUTPUT
------------------------------

Output from 'C:\Strawberry240\perl\bin\perl.exe ./Build test':

t/Config.t ............. ok
t/Utils.t .............. ok
t/author-pod-syntax.t .. skipped: these tests are for testing by the author
Odd number of elements in hash assignment at C:\STRAWB~1\cpan\build\Smartcat-Client-0.0.3-0/blib/lib/Smartcat/Client/Configuration.pm line 95.
Use of uninitialized value $_[0] in list assignment at C:\STRAWB~1\cpan\build\Smartcat-Client-0.0.3-0/blib/lib/Smartcat/Client/Configuration.pm line 95.
Odd number of elements in hash assignment at C:\STRAWB~1\cpan\build\Smartcat-Client-0.0.3-0/blib/lib/Smartcat/Client/Configuration.pm line 95.
Use of uninitialized value $_[0] in list assignment at C:\STRAWB~1\cpan\build\Smartcat-Client-0.0.3-0/blib/lib/Smartcat/Client/Configuration.pm line 95.
Odd number of elements in hash assignment at C:\STRAWB~1\cpan\build\Smartcat-Client-0.0.3-0/blib/lib/Smartcat/Client/Configuration.pm line 95.
Use of uninitialized value $_[0] in list assignment at C:\STRAWB~1\cpan\build\Smartcat-Client-0.0.3-0/blib/lib/Smartcat/Client/Configuration.pm line 95.
t/basic.t .............. ok
t/project.t ............ ok
All tests successful.
Files=5, Tests=43,  5 wallclock secs ( 0.11 usr +  0.05 sys =  0.16 CPU)
Result: PASS

------------------------------
PREREQUISITES
------------------------------

Prerequisite modules loaded:

requires:

    Module                                                    Need   Have    
    --------------------------------------------------------- ------ --------
    App::Cmd::Setup                                           0      0.331   
    base                                                      0      2.23    
    Carp                                                      0      1.40    
    Class::Load                                               0      0.23    
    Config::Tiny                                              0      2.23    
    constant                                                  0      1.33    
    Data::Dumper                                              0      2.161   
    Exporter                                                  0      5.72    
    File::Basename                                            0      2.85    
    File::Copy                                                0      2.31    
    File::Find                                                0      1.34    
    File::HomeDir                                             0      1.00    
    File::Spec::Functions                                     0      3.63    
    HTTP::Message                                             6.11   6.11    
    IO::Uncompress::Unzip                                     0      2.070   
    JSON                                                      0      2.90    
    List::Util                                                0      1.47    
    Log::Any                                                  0      1.045   
    Log::Any::Adapter                                         0      1.045   
    Log::Any::Adapter::Log4perl                               0      0.08    
    Log::Log4perl                                             0      1.48    
    Smartcat::Client                                          v0.0.3 0.0.3   
    Smartcat::Client::AccountApi                              0      0       
    Smartcat::Client::DocumentApi                             0      0       
    Smartcat::Client::DocumentExportApi                       0      0       
    Smartcat::Client::Object::BilingualFileImportSetingsModel 0      0       
    Smartcat::Client::Object::CreateDocumentPropertyModel     0      0       
    Smartcat::Client::Object::UploadDocumentPropertiesModel   0      0       
    Smartcat::Client::ProjectApi                              0      0       
    strict                                                    0      1.11    
    warnings                                                  0      1.36    

build_requires:

    Module                                                    Need   Have    
    --------------------------------------------------------- ------ --------
    File::Remove                                              0      1.57    
    File::Spec                                                0      3.63    
    IO::Handle                                                0      1.36    
    IPC::Open3                                                0      1.20    
    perl                                                      5.006  5.024000
    Test::MockModule                                          0      0.11    
    Test::More                                                0      1.302073

configure_requires:

    Module                                                    Need   Have    
    --------------------------------------------------------- ------ --------
    ExtUtils::MakeMaker                                       0      7.24    
    Module::Build::Tiny                                       0.034  0.039   


------------------------------
ENVIRONMENT AND OTHER CONTEXT
------------------------------

Environment variables:

    AUTOMATED_TESTING = 1
    COMSPEC = C:\WINDOWS\system32\cmd.exe
    NUMBER_OF_PROCESSORS = 1
    PATH = C:\WINDOWS\system32;C:\WINDOWS;C:\WINDOWS\System32\Wbem;C:\Git\cmd;C:\Strawberry240\c\bin;C:\Strawberry240\perl\site\bin;C:\Strawberry240\perl\bin
    PERL5LIB = C:\STRAWB~1\cpan\build\Smartcat-Client-0.0.3-0/blib/arch;C:\STRAWB~1\cpan\build\Smartcat-Client-0.0.3-0/blib/lib
    PERL5OPT = 
    PERL5_CPANPLUS_IS_RUNNING = 124
    PERL5_CPAN_IS_RUNNING = 124
    PERL5_CPAN_IS_RUNNING_IN_RECURSION = 1528,124
    PERL_CR_SMOKER_CURRENT = Smartcat-App-0.0.6
    PERL_CR_SMOKER_RUNONCE = 1
    PERL_EXTUTILS_AUTOINSTALL = --defaultdeps
    PERL_HASH_SEED = 0x11111111
    PERL_MM_USE_DEFAULT = 1
    PROCESSOR_IDENTIFIER = x86 Family 16 Model 5 Stepping 3, AuthenticAMD
    TEMP = C:\DOCUME~1\a\LOCALS~1\Temp

Perl special variables (and OS-specific diagnostics, for MSWin32):

    $^X = C:\Strawberry240\perl\bin\perl.exe
    $UID/$EUID = 0 / 0
    $GID = 0
    $EGID = 0
    Win32::GetOSName = WinXP/.Net
    Win32::GetOSVersion = Service Pack 3, 5, 1, 2600, 2, 3, 0, 256, 1
    Win32::FsType = NTFS
    Win32::IsAdminUser = 1

Perl module toolchain versions installed:

    Module              Have    
    ------------------- --------
    CPAN                2.14    
    CPAN::Meta          2.150010
    Cwd                 3.63    
    ExtUtils::CBuilder  0.280225
    ExtUtils::Command   7.24    
    ExtUtils::Install   2.04    
    ExtUtils::MakeMaker 7.24    
    ExtUtils::Manifest  1.70    
    ExtUtils::ParseXS   3.31    
    File::Spec          3.63    
    JSON                2.90    
    JSON::PP            2.27400 
    Module::Build       0.4220  
    Module::Signature   0.81    
    Parse::CPAN::Meta   2.150010
    Test::Harness       3.36    
    Test::More          1.302073
    YAML                1.21    
    YAML::Syck          1.29    
    version             0.9917  


--

Summary of my perl5 (revision 5 version 24 subversion 0) configuration:
   
  Platform:
    osname=MSWin32, osvers=4.0, archname=MSWin32-x86-multi-thread
    uname='Win32 strawberry-perl 5.24.0.1-beta1 #1 Thu Dec 29 16:46:05 2016 i386'
    config_args='undef'
    hint=recommended, useposix=true, d_sigaction=undef
    useithreads=define, usemultiplicity=define
    use64bitint=undef, use64bitall=undef, uselongdouble=undef
    usemymalloc=n, bincompat5005=undef
  Compiler:
    cc='gcc', ccflags =' -s -O2 -DWIN32  -DPERL_TEXTMODE_SCRIPTS -DPERL_IMPLICIT_CONTEXT -DPERL_IMPLICIT_SYS -fwrapv -fno-strict-aliasing -mms-bitfields',
    optimize='-s -O2',
    cppflags='-DWIN32'
    ccversion='', gccversion='4.9.2', gccosandvers=''
    intsize=4, longsize=4, ptrsize=4, doublesize=8, byteorder=1234, doublekind=3
    d_longlong=define, longlongsize=8, d_longdbl=define, longdblsize=12, longdblkind=3
    ivtype='long', ivsize=4, nvtype='double', nvsize=8, Off_t='long long', lseeksize=8
    alignbytes=8, prototype=define
  Linker and Libraries:
    ld='g++', ldflags ='-s -L"C:\STRAWB~1\perl\lib\CORE" -L"C:\STRAWB~1\c\lib"'
    libpth=C:\STRAWB~1\c\lib C:\STRAWB~1\c\i686-w64-mingw32\lib C:\STRAWB~1\c\lib\gcc\i686-w64-mingw32\4.9.2
    libs=-lmoldname -lkernel32 -luser32 -lgdi32 -lwinspool -lcomdlg32 -ladvapi32 -lshell32 -lole32 -loleaut32 -lnetapi32 -luuid -lws2_32 -lmpr -lwinmm -lversion -lodbc32 -lodbccp32 -lcomctl32
    perllibs=-lmoldname -lkernel32 -luser32 -lgdi32 -lwinspool -lcomdlg32 -ladvapi32 -lshell32 -lole32 -loleaut32 -lnetapi32 -luuid -lws2_32 -lmpr -lwinmm -lversion -lodbc32 -lodbccp32 -lcomctl32
    libc=, so=dll, useshrplib=true, libperl=libperl524.a
    gnulibc_version=''
  Dynamic Linking:
    dlsrc=dl_win32.xs, dlext=xs.dll, d_dlsymun=undef, ccdlflags=' '
    cccdlflags=' ', lddlflags='-mdll -s -L"C:\STRAWB~1\perl\lib\CORE" -L"C:\STRAWB~1\c\lib"'


Characteristics of this binary (from libperl): 
  Compile-time options: HAS_TIMES HAVE_INTERP_INTERN MULTIPLICITY
                        PERLIO_LAYERS PERL_COPY_ON_WRITE
                        PERL_DONT_CREATE_GVSV
                        PERL_HASH_FUNC_ONE_AT_A_TIME_HARD
                        PERL_IMPLICIT_CONTEXT PERL_IMPLICIT_SYS
                        PERL_MALLOC_WRAP PERL_PRESERVE_IVUV USE_ITHREADS
                        USE_LARGE_FILES USE_LOCALE USE_LOCALE_COLLATE
                        USE_LOCALE_CTYPE USE_LOCALE_NUMERIC USE_LOCALE_TIME
                        USE_PERLIO USE_PERL_ATOF
  Built under MSWin32
  Compiled at Dec 29 2016 16:55:33
  %ENV:
    PERL5LIB="C:\STRAWB~1\cpan\build\Smartcat-Client-0.0.3-0/blib/arch;C:\STRAWB~1\cpan\build\Smartcat-Client-0.0.3-0/blib/lib"
    PERL5_CPANPLUS_IS_RUNNING="124"
    PERL5_CPAN_IS_RUNNING="124"
    PERL5_CPAN_IS_RUNNING_IN_RECURSION="1528,124"
    PERL_CR_SMOKER_CURRENT="Smartcat-App-0.0.6"
    PERL_CR_SMOKER_RUNONCE="1"
    PERL_EXTUTILS_AUTOINSTALL="--defaultdeps"
    PERL_HASH_SEED="0x11111111"
    PERL_MM_USE_DEFAULT="1"
  @INC:
    C:\STRAWB~1\cpan\build\Smartcat-Client-0.0.3-0/blib/arch
    C:\STRAWB~1\cpan\build\Smartcat-Client-0.0.3-0/blib/lib
    C:/Strawberry240/perl/site/lib
    C:/Strawberry240/perl/vendor/lib
    C:/Strawberry240/perl/lib
    .