HTML-Formatter v2.16 Perl 5 v5.37.1 i86pc-solaris
- Status
- Pass
- From
- Nigel Horne
- Dist
-
HTML-Formatter v2.16
- Platform
- Perl 5 v5.37.1 i86pc-solaris
- Date
- 2022-07-05 18:11:36
- ID
- e8708e7c-fc8d-11ec-8230-a5c16b5a381d
This distribution has been tested as part of the CPAN Testers
project, supporting the Perl programming language. See
http://wiki.cpantesters.org/ for more information or email
questions to cpan-testers-discuss@perl.org
--
Dear Nigel Metheringham,
This is a computer-generated report for HTML-Formatter-2.16
on perl 5.37.1, created by CPAN-Reporter-1.2018.
Thank you for uploading your work to CPAN. Congratulations!
All tests were successful.
Sections of this report:
* Tester comments
* Program output
* Prerequisites
* Environment and other context
------------------------------
TESTER COMMENTS
------------------------------
Additional comments from tester:
this report is from an automated smoke testing program
and was not reviewed by a human for accuracy
------------------------------
PROGRAM OUTPUT
------------------------------
Output from '/usr/bin/make test':
PERL_DL_NONLAZY=1 "/export/home/njh/perl5/perlbrew/perls/perl-5.37.1/bin/perl5.37.1" "-MExtUtils::Command::MM" "-MTest::Harness" "-e" "undef *Test::Harness::Switches; test_harness(0, 'blib/lib', 'blib/arch')" t/*.t
t/00-compile.t ............... ok
#
# Versions for all modules listed in MYMETA.json (including optional ones):
#
# === Configure Requires ===
#
# Module Want Have
# ------------------- ---- ----
# ExtUtils::MakeMaker any 7.64
#
# === Build Requires ===
#
# Module Want Have
# ------------------- ---- ----
# ExtUtils::MakeMaker any 7.64
#
# === Test Requires ===
#
# Module Want Have
# ------------------- ---- --------
# ExtUtils::MakeMaker any 7.64
# File::Slurper any 0.013
# File::Spec any 3.85
# FindBin any 1.53
# IO::Handle any 1.49
# IPC::Open3 any 1.22
# Test::More 0.96 1.302190
# Test::Warnings any 0.031
# blib 1.01 1.07
# bytes any 1.08
# lib any 0.65
#
# === Test Recommends ===
#
# Module Want Have
# ---------- -------- --------
# CPAN::Meta 2.120900 2.150010
#
# === Runtime Requires ===
#
# Module Want Have
# ----------------------------------- ---- -----
# Carp any 1.53
# Data::Dumper any 2.185
# Encode any 3.17
# Font::Metrics::Courier any undef
# Font::Metrics::CourierBold any undef
# Font::Metrics::CourierBoldOblique any undef
# Font::Metrics::CourierOblique any undef
# Font::Metrics::Helvetica any undef
# Font::Metrics::HelveticaBold any undef
# Font::Metrics::HelveticaBoldOblique any undef
# Font::Metrics::HelveticaOblique any undef
# Font::Metrics::TimesBold any undef
# Font::Metrics::TimesBoldItalic any undef
# Font::Metrics::TimesItalic any undef
# Font::Metrics::TimesRoman any undef
# HTML::Element 3.15 5.07
# HTML::TreeBuilder any 5.07
# IO::File any 1.48
# base any 2.27
# integer any 1.01
# parent any 0.238
# strict any 1.12
# utf8 any 1.24
# warnings any 1.58
#
t/00-report-prereqs.t ........ ok
t/01_ps.t .................... ok
t/02_rtf.t ................... ok
t/03_text.t .................. ok
t/04_md.t .................... ok
t/author-critic.t ............ skipped: these tests are for testing by the author
t/author-eol.t ............... skipped: these tests are for testing by the author
t/author-no-tabs.t ........... skipped: these tests are for testing by the author
t/author-pod-spell.t ......... skipped: these tests are for testing by the author
t/author-pod-syntax.t ........ skipped: these tests are for testing by the author
t/author-portability.t ....... skipped: these tests are for testing by the author
t/author-synopsis.t .......... skipped: these tests are for testing by the author
t/release-dist-manifest.t .... skipped: these tests are for release candidate testing
t/release-distmeta.t ......... skipped: these tests are for release candidate testing
t/release-has-version.t ...... skipped: these tests are for release candidate testing
t/release-minimum-version.t .. skipped: these tests are for release candidate testing
t/release-unused-vars.t ...... skipped: these tests are for release candidate testing
t/rt111783.t ................. ok
t/rt69426.t .................. ok
All tests successful.
Files=20, Tests=94, 3 wallclock secs ( 0.10 usr 0.06 sys + 1.57 cusr 0.50 csys = 2.23 CPU)
Result: PASS
------------------------------
PREREQUISITES
------------------------------
Prerequisite modules loaded:
requires:
Module Need Have
----------------------------------- -------- --------
base 0 2.27
Carp 0 1.53
Data::Dumper 0 2.185
Encode 0 3.17
Font::Metrics::Courier 0 0
Font::Metrics::CourierBold 0 0
Font::Metrics::CourierBoldOblique 0 0
Font::Metrics::CourierOblique 0 0
Font::Metrics::Helvetica 0 0
Font::Metrics::HelveticaBold 0 0
Font::Metrics::HelveticaBoldOblique 0 0
Font::Metrics::HelveticaOblique 0 0
Font::Metrics::TimesBold 0 0
Font::Metrics::TimesBoldItalic 0 0
Font::Metrics::TimesItalic 0 0
Font::Metrics::TimesRoman 0 0
HTML::Element 3.15 5.07
HTML::TreeBuilder 0 5.07
integer 0 1.01
IO::File 0 1.48
parent 0 0.238
perl 5.008 5.037001
strict 0 1.12
utf8 0 1.24
warnings 0 1.58
build_requires:
Module Need Have
----------------------------------- -------- --------
blib 1.01 1.07
bytes 0 1.08
ExtUtils::MakeMaker 0 7.64
File::Slurper 0 0.013
File::Spec 0 3.85
FindBin 0 1.53
IO::Handle 0 1.49
IPC::Open3 0 1.22
lib 0 0.65
Test::More 0.96 1.302190
Test::Warnings 0 0.031
configure_requires:
Module Need Have
----------------------------------- -------- --------
ExtUtils::MakeMaker 0 7.64
opt_build_requires:
Module Need Have
----------------------------------- -------- --------
CPAN::Meta 2.120900 2.150010
------------------------------
ENVIRONMENT AND OTHER CONTEXT
------------------------------
Environment variables:
AUTOMATED_TESTING = 1
LANG = en_US.UTF-8
NONINTERACTIVE_TESTING = 1
PATH = /export/home/njh/perl5/perlbrew/bin:/export/home/njh/perl5/perlbrew/perls/perl-5.37.1/bin:/export/home/njh/perl5/perlbrew/bin:/usr/bin:/usr/sbin:/sbin:/usr/gnu/bin
PERL5LIB =
PERL5OPT =
PERL5_CPANPLUS_IS_RUNNING = 25453
PERL5_CPAN_IS_RUNNING = 25453
PERLBREW_HOME = /export/home/njh/.perlbrew
PERLBREW_LIB =
PERLBREW_MANPATH = /export/home/njh/perl5/perlbrew/perls/perl-5.37.1/man
PERLBREW_PATH = /export/home/njh/perl5/perlbrew/bin:/export/home/njh/perl5/perlbrew/perls/perl-5.37.1/bin
PERLBREW_PERL = perl-5.37.1
PERLBREW_ROOT = /export/home/njh/perl5/perlbrew
PERLBREW_SHELLRC_VERSION = 0.95
PERLBREW_VERSION = 0.95
PERL_LOCAL_LIB_ROOT =
PERL_MM_USE_DEFAULT = 1
PERL_USE_UNSAFE_INC = 1
SHELL = /bin/bash
TERM = xterm-256color
Perl special variables (and OS-specific diagnostics, for MSWin32):
$^X = /export/home/njh/perl5/perlbrew/perls/perl-5.37.1/bin/perl5.37.1
$UID/$EUID = 101 / 101
$GID = 10 10
$EGID = 10 10
Perl module toolchain versions installed:
Module Have
------------------- --------
CPAN 2.33
CPAN::Meta 2.150010
Cwd 3.85
ExtUtils::CBuilder 0.280237
ExtUtils::Command 7.64
ExtUtils::Install 2.20
ExtUtils::MakeMaker 7.64
ExtUtils::Manifest 1.73
ExtUtils::ParseXS 3.45
File::Spec 3.85
JSON 4.07
JSON::PP 4.07
Module::Build 0.4231
Module::Signature n/a
Parse::CPAN::Meta 2.150010
Test::Harness 3.44
Test::More 1.302190
YAML 1.30
YAML::Syck 1.34
version 0.9929
--
Summary of my perl5 (revision 5 version 37 subversion 1) configuration:
Platform:
osname=solaris
osvers=2.11
archname=i86pc-solaris
uname='sunos njh1 5.11 illumos-06524cf4e4 i86pc i386 i86pc '
config_args='-de -Dprefix=/export/home/njh/perl5/perlbrew/perls/perl-5.37.1 -Dusedevel -Aeval:scriptdir=/export/home/njh/perl5/perlbrew/perls/perl-5.37.1/bin'
hint=recommended
useposix=true
d_sigaction=define
useithreads=undef
usemultiplicity=undef
use64bitint=undef
use64bitall=undef
uselongdouble=undef
usemymalloc=n
default_inc_excludes_dot=define
Compiler:
cc='/usr/bin/gcc'
ccflags ='-fwrapv -fno-strict-aliasing -pipe -fstack-protector-strong -I/usr/gnu/include -D_LARGEFILE_SOURCE -D_FILE_OFFSET_BITS=64 -D_FORTIFY_SOURCE=2'
optimize='-O'
cppflags='-fwrapv -fno-strict-aliasing -pipe -fstack-protector-strong -I/usr/gnu/include'
ccversion=''
gccversion='7.5.0'
gccosandvers=''
intsize=4
longsize=4
ptrsize=4
doublesize=8
byteorder=1234
doublekind=3
d_longlong=define
longlongsize=8
d_longdbl=define
longdblsize=12
longdblkind=3
ivtype='long'
ivsize=4
nvtype='double'
nvsize=8
Off_t='off_t'
lseeksize=8
alignbytes=4
prototype=define
Linker and Libraries:
ld='/usr/bin/gcc'
ldflags =' -fstack-protector-strong -L/usr/gnu/lib '
libpth=/usr/gcc/7/lib /usr/lib /usr/gnu/lib /usr/ccs/lib
libs=-lpthread -lsocket -lnsl -lgdbm -ldb -ldl -lm -lc
perllibs=-lpthread -lsocket -lnsl -ldl -lm -lc
libc=/lib/libc.so
so=so
useshrplib=true
libperl=libperl.so
gnulibc_version=''
Dynamic Linking:
dlsrc=dl_dlopen.xs
dlext=so
d_dlsymun=undef
ccdlflags=' -R /export/home/njh/perl5/perlbrew/perls/perl-5.37.1/lib/5.37.1/i86pc-solaris/CORE'
cccdlflags='-fPIC'
lddlflags='-shared -L/usr/gnu/lib -fstack-protector-strong'
Characteristics of this binary (from libperl):
Compile-time options:
HAS_TIMES
PERLIO_LAYERS
PERL_COPY_ON_WRITE
PERL_DONT_CREATE_GVSV
PERL_MALLOC_WRAP
PERL_OP_PARENT
PERL_PRESERVE_IVUV
PERL_USE_DEVEL
PERL_USE_SAFE_PUTENV
USE_LARGE_FILES
USE_LOCALE
USE_LOCALE_COLLATE
USE_LOCALE_CTYPE
USE_LOCALE_NUMERIC
USE_LOCALE_TIME
USE_PERLIO
USE_PERL_ATOF
Built under solaris
Compiled at Jul 1 2022 10:38:52
%ENV:
PERL5LIB=""
PERL5OPT=""
PERL5_CPANPLUS_IS_RUNNING="25453"
PERL5_CPAN_IS_RUNNING="25453"
PERLBREW_HOME="/export/home/njh/.perlbrew"
PERLBREW_LIB=""
PERLBREW_MANPATH="/export/home/njh/perl5/perlbrew/perls/perl-5.37.1/man"
PERLBREW_PATH="/export/home/njh/perl5/perlbrew/bin:/export/home/njh/perl5/perlbrew/perls/perl-5.37.1/bin"
PERLBREW_PERL="perl-5.37.1"
PERLBREW_ROOT="/export/home/njh/perl5/perlbrew"
PERLBREW_SHELLRC_VERSION="0.95"
PERLBREW_VERSION="0.95"
PERL_LOCAL_LIB_ROOT=""
PERL_MM_USE_DEFAULT="1"
PERL_USE_UNSAFE_INC="1"
@INC:
/export/home/njh/perl5/perlbrew/perls/perl-5.37.1/lib/site_perl/5.37.1/i86pc-solaris
/export/home/njh/perl5/perlbrew/perls/perl-5.37.1/lib/site_perl/5.37.1
/export/home/njh/perl5/perlbrew/perls/perl-5.37.1/lib/5.37.1/i86pc-solaris
/export/home/njh/perl5/perlbrew/perls/perl-5.37.1/lib/5.37.1
.