Image-ExifTool v12.70 Perl 5 v5.36.0 darwin-2level
- Status
- Pass
- From
- Amory Meltzer
- Dist
-
Image-ExifTool v12.70
- Platform
- Perl 5 v5.36.0 darwin-2level
- Date
- 2023-11-21 13:57:27
- ID
- e79ae680-8875-11ee-a6bb-b6ad3e0b7af5
This distribution has been tested as part of the CPAN Testers
project, supporting the Perl programming language. See
http://wiki.cpantesters.org/ for more information or email
questions to cpan-testers-discuss@perl.org
--
Dear EXIFTOOL,
This is a computer-generated report for Image-ExifTool-12.70
on perl 5.36.0, created by App::cpanminus::reporter 0.21 (1.7046).
Thank you for uploading your work to CPAN. Congratulations!
All tests were successful.
Sections of this report:
* Tester comments
* Program output
* Prerequisites
* Environment and other context
------------------------------
TESTER COMMENTS
------------------------------
Additional comments from tester:
none provided
------------------------------
PROGRAM OUTPUT
------------------------------
Output from '':
Building and testing Image-ExifTool-12.70
cp lib/Image/ExifTool/Pentax.pm blib/lib/Image/ExifTool/Pentax.pm
cp lib/Image/ExifTool/PhaseOne.pm blib/lib/Image/ExifTool/PhaseOne.pm
cp lib/Image/ExifTool/Charset/ShiftJIS.pm blib/lib/Image/ExifTool/Charset/ShiftJIS.pm
cp lib/Image/ExifTool/Charset/MacLatin2.pm blib/lib/Image/ExifTool/Charset/MacLatin2.pm
cp lib/Image/ExifTool/QuickTime.pm blib/lib/Image/ExifTool/QuickTime.pm
cp lib/Image/ExifTool/ID3.pm blib/lib/Image/ExifTool/ID3.pm
cp lib/Image/ExifTool/BMP.pm blib/lib/Image/ExifTool/BMP.pm
cp lib/Image/ExifTool/Samsung.pm blib/lib/Image/ExifTool/Samsung.pm
cp lib/Image/ExifTool/Charset/MacThai.pm blib/lib/Image/ExifTool/Charset/MacThai.pm
cp lib/Image/ExifTool/DICOM.pm blib/lib/Image/ExifTool/DICOM.pm
cp lib/Image/ExifTool/Photoshop.pm blib/lib/Image/ExifTool/Photoshop.pm
cp lib/Image/ExifTool/MPEG.pm blib/lib/Image/ExifTool/MPEG.pm
cp lib/Image/ExifTool/MPC.pm blib/lib/Image/ExifTool/MPC.pm
cp lib/Image/ExifTool/Charset/Hebrew.pm blib/lib/Image/ExifTool/Charset/Hebrew.pm
cp lib/Image/ExifTool/Charset/MacArabic.pm blib/lib/Image/ExifTool/Charset/MacArabic.pm
cp lib/Image/ExifTool/GIMP.pm blib/lib/Image/ExifTool/GIMP.pm
cp lib/Image/ExifTool/Lang/ja.pm blib/lib/Image/ExifTool/Lang/ja.pm
cp lib/Image/ExifTool/WriteQuickTime.pl blib/lib/Image/ExifTool/WriteQuickTime.pl
cp lib/Image/ExifTool/FLIF.pm blib/lib/Image/ExifTool/FLIF.pm
cp lib/Image/ExifTool/JPEGDigest.pm blib/lib/Image/ExifTool/JPEGDigest.pm
cp lib/Image/ExifTool/Rawzor.pm blib/lib/Image/ExifTool/Rawzor.pm
cp lib/Image/ExifTool.pm blib/lib/Image/ExifTool.pm
cp lib/Image/ExifTool/Charset/MacCroatian.pm blib/lib/Image/ExifTool/Charset/MacCroatian.pm
cp lib/Image/ExifTool/XMPStruct.pl blib/lib/Image/ExifTool/XMPStruct.pl
cp lib/Image/ExifTool/Jpeg2000.pm blib/lib/Image/ExifTool/Jpeg2000.pm
cp lib/Image/ExifTool/PPM.pm blib/lib/Image/ExifTool/PPM.pm
cp lib/File/RandomAccess.pm blib/lib/File/RandomAccess.pm
cp lib/Image/ExifTool/OOXML.pm blib/lib/Image/ExifTool/OOXML.pm
cp lib/Image/ExifTool/PCX.pm blib/lib/Image/ExifTool/PCX.pm
cp lib/Image/ExifTool/Motorola.pm blib/lib/Image/ExifTool/Motorola.pm
cp lib/Image/ExifTool/ITC.pm blib/lib/Image/ExifTool/ITC.pm
cp lib/Image/ExifTool/MIE.pm blib/lib/Image/ExifTool/MIE.pm
cp lib/Image/ExifTool/Lytro.pm blib/lib/Image/ExifTool/Lytro.pm
cp lib/Image/ExifTool/AIFF.pm blib/lib/Image/ExifTool/AIFF.pm
cp lib/Image/ExifTool/JSON.pm blib/lib/Image/ExifTool/JSON.pm
cp lib/Image/ExifTool/AES.pm blib/lib/Image/ExifTool/AES.pm
cp lib/Image/ExifTool/MinoltaRaw.pm blib/lib/Image/ExifTool/MinoltaRaw.pm
cp lib/Image/ExifTool/NikonCustom.pm blib/lib/Image/ExifTool/NikonCustom.pm
cp lib/Image/ExifTool/Lang/zh_cn.pm blib/lib/Image/ExifTool/Lang/zh_cn.pm
cp lib/Image/ExifTool/PICT.pm blib/lib/Image/ExifTool/PICT.pm
cp lib/Image/ExifTool/OpenEXR.pm blib/lib/Image/ExifTool/OpenEXR.pm
cp lib/Image/ExifTool.pod blib/lib/Image/ExifTool.pod
cp lib/Image/ExifTool/Microsoft.pm blib/lib/Image/ExifTool/Microsoft.pm
cp lib/Image/ExifTool/XMP2.pl blib/lib/Image/ExifTool/XMP2.pl
cp lib/Image/ExifTool/InDesign.pm blib/lib/Image/ExifTool/InDesign.pm
cp lib/Image/ExifTool/Sigma.pm blib/lib/Image/ExifTool/Sigma.pm
cp lib/Image/ExifTool/PanasonicRaw.pm blib/lib/Image/ExifTool/PanasonicRaw.pm
cp lib/Image/ExifTool/NikonCapture.pm blib/lib/Image/ExifTool/NikonCapture.pm
cp lib/Image/ExifTool/EXE.pm blib/lib/Image/ExifTool/EXE.pm
cp lib/Image/ExifTool/Exif.pm blib/lib/Image/ExifTool/Exif.pm
cp lib/Image/ExifTool/GE.pm blib/lib/Image/ExifTool/GE.pm
cp lib/Image/ExifTool/TagNames.pod blib/lib/Image/ExifTool/TagNames.pod
cp lib/Image/ExifTool/DPX.pm blib/lib/Image/ExifTool/DPX.pm
cp lib/Image/ExifTool/TagLookup.pm blib/lib/Image/ExifTool/TagLookup.pm
cp lib/Image/ExifTool/Torrent.pm blib/lib/Image/ExifTool/Torrent.pm
cp lib/Image/ExifTool/BZZ.pm blib/lib/Image/ExifTool/BZZ.pm
cp lib/Image/ExifTool/CaptureOne.pm blib/lib/Image/ExifTool/CaptureOne.pm
cp lib/Image/ExifTool/PNG.pm blib/lib/Image/ExifTool/PNG.pm
cp lib/Image/ExifTool/PDF.pm blib/lib/Image/ExifTool/PDF.pm
cp lib/Image/ExifTool/Real.pm blib/lib/Image/ExifTool/Real.pm
cp lib/Image/ExifTool/Lang/fr.pm blib/lib/Image/ExifTool/Lang/fr.pm
cp lib/Image/ExifTool/Lang/zh_tw.pm blib/lib/Image/ExifTool/Lang/zh_tw.pm
cp lib/Image/ExifTool/BigTIFF.pm blib/lib/Image/ExifTool/BigTIFF.pm
cp lib/Image/ExifTool/Kodak.pm blib/lib/Image/ExifTool/Kodak.pm
cp lib/Image/ExifTool/MOI.pm blib/lib/Image/ExifTool/MOI.pm
cp lib/Image/ExifTool/DarwinCore.pm blib/lib/Image/ExifTool/DarwinCore.pm
cp lib/Image/ExifTool/Shortcuts.pm blib/lib/Image/ExifTool/Shortcuts.pm
cp lib/Image/ExifTool/ZIP.pm blib/lib/Image/ExifTool/ZIP.pm
cp lib/Image/ExifTool/Sony.pm blib/lib/Image/ExifTool/Sony.pm
cp lib/Image/ExifTool/Charset/Vietnam.pm blib/lib/Image/ExifTool/Charset/Vietnam.pm
cp lib/Image/ExifTool/Charset/JIS.pm blib/lib/Image/ExifTool/Charset/JIS.pm
cp lib/Image/ExifTool/Ogg.pm blib/lib/Image/ExifTool/Ogg.pm
cp lib/File/RandomAccess.pod blib/lib/File/RandomAccess.pod
cp lib/Image/ExifTool/GPS.pm blib/lib/Image/ExifTool/GPS.pm
cp lib/Image/ExifTool/MacOS.pm blib/lib/Image/ExifTool/MacOS.pm
cp lib/Image/ExifTool/FujiFilm.pm blib/lib/Image/ExifTool/FujiFilm.pm
cp lib/Image/ExifTool/Lang/es.pm blib/lib/Image/ExifTool/Lang/es.pm
cp lib/Image/ExifTool/Sanyo.pm blib/lib/Image/ExifTool/Sanyo.pm
cp lib/Image/ExifTool/APP12.pm blib/lib/Image/ExifTool/APP12.pm
cp lib/Image/ExifTool/Parrot.pm blib/lib/Image/ExifTool/Parrot.pm
cp lib/Image/ExifTool/PrintIM.pm blib/lib/Image/ExifTool/PrintIM.pm
cp lib/Image/ExifTool/Red.pm blib/lib/Image/ExifTool/Red.pm
cp lib/Image/ExifTool/Text.pm blib/lib/Image/ExifTool/Text.pm
cp lib/Image/ExifTool/Lang/sk.pm blib/lib/Image/ExifTool/Lang/sk.pm
cp lib/Image/ExifTool/Lang/en_ca.pm blib/lib/Image/ExifTool/Lang/en_ca.pm
cp lib/Image/ExifTool/XISF.pm blib/lib/Image/ExifTool/XISF.pm
cp lib/Image/ExifTool/CanonCustom.pm blib/lib/Image/ExifTool/CanonCustom.pm
cp lib/Image/ExifTool/MIEUnits.pod blib/lib/Image/ExifTool/MIEUnits.pod
cp lib/Image/ExifTool/NikonSettings.pm blib/lib/Image/ExifTool/NikonSettings.pm
cp lib/Image/ExifTool/Casio.pm blib/lib/Image/ExifTool/Casio.pm
cp lib/Image/ExifTool/Charset/MacIceland.pm blib/lib/Image/ExifTool/Charset/MacIceland.pm
cp lib/Image/ExifTool/PLIST.pm blib/lib/Image/ExifTool/PLIST.pm
cp lib/Image/ExifTool/Lang/nl.pm blib/lib/Image/ExifTool/Lang/nl.pm
cp lib/Image/ExifTool/Nintendo.pm blib/lib/Image/ExifTool/Nintendo.pm
cp lib/Image/ExifTool/RTF.pm blib/lib/Image/ExifTool/RTF.pm
cp lib/Image/ExifTool/HP.pm blib/lib/Image/ExifTool/HP.pm
cp lib/Image/ExifTool/XMP.pm blib/lib/Image/ExifTool/XMP.pm
cp lib/Image/ExifTool/Import.pm blib/lib/Image/ExifTool/Import.pm
cp lib/Image/ExifTool/FotoStation.pm blib/lib/Image/ExifTool/FotoStation.pm
cp lib/Image/ExifTool/Charset/MacTurkish.pm blib/lib/Image/ExifTool/Charset/MacTurkish.pm
cp lib/Image/ExifTool/Minolta.pm blib/lib/Image/ExifTool/Minolta.pm
cp lib/Image/ExifTool/MIFF.pm blib/lib/Image/ExifTool/MIFF.pm
cp lib/Image/ExifTool/BPG.pm blib/lib/Image/ExifTool/BPG.pm
cp lib/Image/ExifTool/Qualcomm.pm blib/lib/Image/ExifTool/Qualcomm.pm
cp lib/Image/ExifTool/Leaf.pm blib/lib/Image/ExifTool/Leaf.pm
cp lib/Image/ExifTool/ISO.pm blib/lib/Image/ExifTool/ISO.pm
cp lib/Image/ExifTool/Charset/MacRoman.pm blib/lib/Image/ExifTool/Charset/MacRoman.pm
cp lib/Image/ExifTool/WriteXMP.pl blib/lib/Image/ExifTool/WriteXMP.pl
cp lib/Image/ExifTool/QuickTimeStream.pl blib/lib/Image/ExifTool/QuickTimeStream.pl
cp lib/Image/ExifTool/Charset/Baltic.pm blib/lib/Image/ExifTool/Charset/Baltic.pm
cp lib/Image/ExifTool/JPEG.pm blib/lib/Image/ExifTool/JPEG.pm
cp lib/Image/ExifTool/MNG.pm blib/lib/Image/ExifTool/MNG.pm
cp lib/Image/ExifTool/InfiRay.pm blib/lib/Image/ExifTool/InfiRay.pm
cp lib/Image/ExifTool/MRC.pm blib/lib/Image/ExifTool/MRC.pm
cp lib/Image/ExifTool/WriteCanonRaw.pl blib/lib/Image/ExifTool/WriteCanonRaw.pl
cp lib/Image/ExifTool/Stim.pm blib/lib/Image/ExifTool/Stim.pm
cp lib/Image/ExifTool/Theora.pm blib/lib/Image/ExifTool/Theora.pm
cp lib/Image/ExifTool/Audible.pm blib/lib/Image/ExifTool/Audible.pm
cp lib/Image/ExifTool/FITS.pm blib/lib/Image/ExifTool/FITS.pm
cp lib/Image/ExifTool/KyoceraRaw.pm blib/lib/Image/ExifTool/KyoceraRaw.pm
cp lib/Image/ExifTool/Font.pm blib/lib/Image/ExifTool/Font.pm
cp lib/Image/ExifTool/WPG.pm blib/lib/Image/ExifTool/WPG.pm
cp lib/Image/ExifTool/ZISRAW.pm blib/lib/Image/ExifTool/ZISRAW.pm
cp lib/Image/ExifTool/Shift.pl blib/lib/Image/ExifTool/Shift.pl
cp lib/Image/ExifTool/Charset/MacRomanian.pm blib/lib/Image/ExifTool/Charset/MacRomanian.pm
cp lib/Image/ExifTool/DNG.pm blib/lib/Image/ExifTool/DNG.pm
cp lib/Image/ExifTool/AFCP.pm blib/lib/Image/ExifTool/AFCP.pm
cp lib/Image/ExifTool/Charset.pm blib/lib/Image/ExifTool/Charset.pm
cp lib/Image/ExifTool/CanonRaw.pm blib/lib/Image/ExifTool/CanonRaw.pm
cp lib/Image/ExifTool/Geotag.pm blib/lib/Image/ExifTool/Geotag.pm
cp lib/Image/ExifTool/Charset/Turkish.pm blib/lib/Image/ExifTool/Charset/Turkish.pm
cp lib/Image/ExifTool/FLAC.pm blib/lib/Image/ExifTool/FLAC.pm
cp lib/Image/ExifTool/HtmlDump.pm blib/lib/Image/ExifTool/HtmlDump.pm
cp lib/Image/ExifTool/MXF.pm blib/lib/Image/ExifTool/MXF.pm
cp lib/Image/ExifTool/SigmaRaw.pm blib/lib/Image/ExifTool/SigmaRaw.pm
cp lib/Image/ExifTool/Lang/it.pm blib/lib/Image/ExifTool/Lang/it.pm
cp lib/Image/ExifTool/Matroska.pm blib/lib/Image/ExifTool/Matroska.pm
cp lib/Image/ExifTool/FlashPix.pm blib/lib/Image/ExifTool/FlashPix.pm
cp lib/Image/ExifTool/BuildTagLookup.pm blib/lib/Image/ExifTool/BuildTagLookup.pm
cp lib/Image/ExifTool/Charset/Greek.pm blib/lib/Image/ExifTool/Charset/Greek.pm
cp lib/Image/ExifTool/Charset/Arabic.pm blib/lib/Image/ExifTool/Charset/Arabic.pm
cp lib/Image/ExifTool/Lang/pl.pm blib/lib/Image/ExifTool/Lang/pl.pm
cp lib/Image/ExifTool/WritePhotoshop.pl blib/lib/Image/ExifTool/WritePhotoshop.pl
cp lib/Image/ExifTool/Opus.pm blib/lib/Image/ExifTool/Opus.pm
cp lib/Image/ExifTool/WriteRIFF.pl blib/lib/Image/ExifTool/WriteRIFF.pl
cp lib/Image/ExifTool/PostScript.pm blib/lib/Image/ExifTool/PostScript.pm
cp lib/Image/ExifTool/Charset/MacChineseCN.pm blib/lib/Image/ExifTool/Charset/MacChineseCN.pm
cp lib/Image/ExifTool/Lang/ru.pm blib/lib/Image/ExifTool/Lang/ru.pm
cp lib/Image/ExifTool/WritePostScript.pl blib/lib/Image/ExifTool/WritePostScript.pl
cp lib/Image/ExifTool/TagInfoXML.pm blib/lib/Image/ExifTool/TagInfoXML.pm
cp lib/Image/ExifTool/Charset/MacChineseTW.pm blib/lib/Image/ExifTool/Charset/MacChineseTW.pm
cp lib/Image/ExifTool/Olympus.pm blib/lib/Image/ExifTool/Olympus.pm
cp lib/Image/ExifTool/Charset/Cyrillic.pm blib/lib/Image/ExifTool/Charset/Cyrillic.pm
cp lib/Image/ExifTool/APE.pm blib/lib/Image/ExifTool/APE.pm
cp lib/Image/ExifTool/PSP.pm blib/lib/Image/ExifTool/PSP.pm
cp lib/Image/ExifTool/WritePNG.pl blib/lib/Image/ExifTool/WritePNG.pl
cp lib/Image/ExifTool/RIFF.pm blib/lib/Image/ExifTool/RIFF.pm
cp lib/Image/ExifTool/JVC.pm blib/lib/Image/ExifTool/JVC.pm
cp lib/Image/ExifTool/SonyIDC.pm blib/lib/Image/ExifTool/SonyIDC.pm
cp lib/Image/ExifTool/Lang/cs.pm blib/lib/Image/ExifTool/Lang/cs.pm
cp lib/Image/ExifTool/CanonVRD.pm blib/lib/Image/ExifTool/CanonVRD.pm
cp lib/Image/ExifTool/GoPro.pm blib/lib/Image/ExifTool/GoPro.pm
cp lib/Image/ExifTool/Charset/MacJapanese.pm blib/lib/Image/ExifTool/Charset/MacJapanese.pm
cp lib/Image/ExifTool/Fixup.pm blib/lib/Image/ExifTool/Fixup.pm
cp lib/Image/ExifTool/DJI.pm blib/lib/Image/ExifTool/DJI.pm
cp lib/Image/ExifTool/Nikon.pm blib/lib/Image/ExifTool/Nikon.pm
cp lib/Image/ExifTool/Lang/ko.pm blib/lib/Image/ExifTool/Lang/ko.pm
cp lib/Image/ExifTool/PLUS.pm blib/lib/Image/ExifTool/PLUS.pm
cp lib/Image/ExifTool/Charset/Latin.pm blib/lib/Image/ExifTool/Charset/Latin.pm
cp lib/Image/ExifTool/FLIR.pm blib/lib/Image/ExifTool/FLIR.pm
cp lib/Image/ExifTool/ICO.pm blib/lib/Image/ExifTool/ICO.pm
cp lib/Image/ExifTool/PGF.pm blib/lib/Image/ExifTool/PGF.pm
cp lib/Image/ExifTool/Validate.pm blib/lib/Image/ExifTool/Validate.pm
cp lib/Image/ExifTool/IPTC.pm blib/lib/Image/ExifTool/IPTC.pm
cp lib/Image/ExifTool/MISB.pm blib/lib/Image/ExifTool/MISB.pm
cp lib/Image/ExifTool/Ricoh.pm blib/lib/Image/ExifTool/Ricoh.pm
cp lib/Image/ExifTool/Reconyx.pm blib/lib/Image/ExifTool/Reconyx.pm
cp lib/Image/ExifTool/PhotoMechanic.pm blib/lib/Image/ExifTool/PhotoMechanic.pm
cp lib/Image/ExifTool/Charset/MacCyrillic.pm blib/lib/Image/ExifTool/Charset/MacCyrillic.pm
cp lib/Image/ExifTool/Lang/sv.pm blib/lib/Image/ExifTool/Lang/sv.pm
cp lib/Image/ExifTool/PhotoCD.pm blib/lib/Image/ExifTool/PhotoCD.pm
cp lib/Image/ExifTool/Charset/MacHebrew.pm blib/lib/Image/ExifTool/Charset/MacHebrew.pm
cp lib/Image/ExifTool/Lang/en_gb.pm blib/lib/Image/ExifTool/Lang/en_gb.pm
cp lib/Image/ExifTool/Lang/de.pm blib/lib/Image/ExifTool/Lang/de.pm
cp lib/Image/ExifTool/README blib/lib/Image/ExifTool/README
cp lib/Image/ExifTool/LNK.pm blib/lib/Image/ExifTool/LNK.pm
cp lib/Image/ExifTool/Other.pm blib/lib/Image/ExifTool/Other.pm
cp lib/Image/ExifTool/DV.pm blib/lib/Image/ExifTool/DV.pm
cp lib/Image/ExifTool/WriteExif.pl blib/lib/Image/ExifTool/WriteExif.pl
cp lib/Image/ExifTool/MakerNotes.pm blib/lib/Image/ExifTool/MakerNotes.pm
cp lib/Image/ExifTool/Vorbis.pm blib/lib/Image/ExifTool/Vorbis.pm
cp lib/Image/ExifTool/Charset/MacRSymbol.pm blib/lib/Image/ExifTool/Charset/MacRSymbol.pm
cp lib/Image/ExifTool/LIF.pm blib/lib/Image/ExifTool/LIF.pm
cp lib/Image/ExifTool/VCard.pm blib/lib/Image/ExifTool/VCard.pm
cp lib/Image/ExifTool/MPF.pm blib/lib/Image/ExifTool/MPF.pm
cp lib/Image/ExifTool/Palm.pm blib/lib/Image/ExifTool/Palm.pm
cp lib/Image/ExifTool/HTML.pm blib/lib/Image/ExifTool/HTML.pm
cp lib/Image/ExifTool/Charset/Symbol.pm blib/lib/Image/ExifTool/Charset/Symbol.pm
cp lib/Image/ExifTool/iWork.pm blib/lib/Image/ExifTool/iWork.pm
cp lib/Image/ExifTool/Charset/DOSLatinUS.pm blib/lib/Image/ExifTool/Charset/DOSLatinUS.pm
cp lib/Image/ExifTool/Canon.pm blib/lib/Image/ExifTool/Canon.pm
cp lib/Image/ExifTool/Charset/MacKorean.pm blib/lib/Image/ExifTool/Charset/MacKorean.pm
cp lib/Image/ExifTool/Radiance.pm blib/lib/Image/ExifTool/Radiance.pm
cp lib/Image/ExifTool/Panasonic.pm blib/lib/Image/ExifTool/Panasonic.pm
cp lib/Image/ExifTool/H264.pm blib/lib/Image/ExifTool/H264.pm
cp lib/Image/ExifTool/RSRC.pm blib/lib/Image/ExifTool/RSRC.pm
cp lib/Image/ExifTool/MWG.pm blib/lib/Image/ExifTool/MWG.pm
cp lib/Image/ExifTool/7Z.pm blib/lib/Image/ExifTool/7Z.pm
cp lib/Image/ExifTool/Unknown.pm blib/lib/Image/ExifTool/Unknown.pm
cp lib/Image/ExifTool/Charset/DOSCyrillic.pm blib/lib/Image/ExifTool/Charset/DOSCyrillic.pm
cp lib/Image/ExifTool/Charset/MacGreek.pm blib/lib/Image/ExifTool/Charset/MacGreek.pm
cp lib/Image/ExifTool/DjVu.pm blib/lib/Image/ExifTool/DjVu.pm
cp lib/Image/ExifTool/Scalado.pm blib/lib/Image/ExifTool/Scalado.pm
cp lib/Image/ExifTool/Apple.pm blib/lib/Image/ExifTool/Apple.pm
cp lib/Image/ExifTool/WriteIPTC.pl blib/lib/Image/ExifTool/WriteIPTC.pl
cp lib/Image/ExifTool/Writer.pl blib/lib/Image/ExifTool/Writer.pl
cp lib/Image/ExifTool/Charset/DOSLatin1.pm blib/lib/Image/ExifTool/Charset/DOSLatin1.pm
cp lib/Image/ExifTool/CBOR.pm blib/lib/Image/ExifTool/CBOR.pm
cp lib/Image/ExifTool/Charset/Thai.pm blib/lib/Image/ExifTool/Charset/Thai.pm
cp lib/Image/ExifTool/WTV.pm blib/lib/Image/ExifTool/WTV.pm
cp lib/Image/ExifTool/M2TS.pm blib/lib/Image/ExifTool/M2TS.pm
cp lib/Image/ExifTool/ICC_Profile.pm blib/lib/Image/ExifTool/ICC_Profile.pm
cp lib/Image/ExifTool/Charset/PDFDoc.pm blib/lib/Image/ExifTool/Charset/PDFDoc.pm
cp lib/Image/ExifTool/Flash.pm blib/lib/Image/ExifTool/Flash.pm
cp lib/Image/ExifTool/GIF.pm blib/lib/Image/ExifTool/GIF.pm
cp lib/Image/ExifTool/GeoTiff.pm blib/lib/Image/ExifTool/GeoTiff.pm
cp lib/Image/ExifTool/Lang/tr.pm blib/lib/Image/ExifTool/Lang/tr.pm
cp lib/Image/ExifTool/Lang/fi.pm blib/lib/Image/ExifTool/Lang/fi.pm
cp lib/Image/ExifTool/ASF.pm blib/lib/Image/ExifTool/ASF.pm
cp lib/Image/ExifTool/WritePDF.pl blib/lib/Image/ExifTool/WritePDF.pl
cp lib/Image/ExifTool/Charset/Latin2.pm blib/lib/Image/ExifTool/Charset/Latin2.pm
cp exiftool blib/script/exiftool
"/Users/Amory/perl5/perlbrew/perls/perl-5.36.0/bin/perl" -MExtUtils::MY -e 'MY->fixin(shift)' -- blib/script/exiftool
Manifying 1 pod document
Manifying 195 pod documents
PERL_DL_NONLAZY=1 "/Users/Amory/perl5/perlbrew/perls/perl-5.36.0/bin/perl" "-MExtUtils::Command::MM" "-MTest::Harness" "-e" "undef *Test::Harness::Switches; test_harness(0, 'blib/lib', 'blib/arch')" t/*.t
t/AFCP.t ........... ok
t/AIFF.t ........... ok
t/APE.t ............ ok
t/Apple.t .......... ok
t/ASF.t ............ ok
t/Audible.t ........ ok
t/BigTIFF.t ........ ok
t/BMP.t ............ ok
t/BPG.t ............ ok
t/Canon.t .......... ok
t/CanonRaw.t ....... ok
t/CanonVRD.t ....... ok
t/Casio.t .......... ok
t/DICOM.t .......... ok
t/DjVu.t ........... ok
t/DNG.t ............ ok
t/DPX.t ............ ok
t/DV.t ............. ok
t/EXE.t ............ ok
t/ExifTool.t ....... ok
t/FITS.t ........... ok
t/FLAC.t ........... ok
t/Flash.t .......... ok
t/FlashPix.t ....... ok
t/FLIF.t ........... ok
t/FLIR.t ........... ok
t/Font.t ........... ok
t/FotoStation.t .... ok
t/FujiFilm.t ....... ok
t/GE.t ............. ok
t/Geotag.t ......... ok
t/GeoTiff.t ........ ok
t/GIF.t ............ ok
t/GIMP.t ........... ok
t/GoPro.t .......... ok
t/GPS.t ............ ok
t/HTML.t ........... ok
t/ICO.t ............ ok
t/InDesign.t ....... ok
t/InfiRay.t ........ ok
t/IPTC.t ........... ok
t/ISO.t ............ ok
t/ITC.t ............ ok
t/Jpeg2000.t ....... ok
t/JSON.t ........... ok
t/JVC.t ............ ok
t/JXL.t ............ ok
t/Kodak.t .......... ok
t/KyoceraRaw.t ..... ok
t/Lang.t ........... ok
t/LNK.t ............ ok
t/Lytro.t .......... ok
t/M2TS.t ........... ok
t/MacOS.t .......... ok
t/Matroska.t ....... ok
t/MIE.t ............ ok
t/MIFF.t ........... ok
t/Minolta.t ........ ok
t/MOI.t ............ ok
t/Motorola.t ....... ok
t/MP3.t ............ ok
t/MRC.t ............ ok
t/MWG.t ............ ok
t/MXF.t ............ ok
t/Nikon.t .......... ok
t/Olympus.t ........ ok
t/OpenEXR.t ........ ok
t/Opus.t ........... ok
t/Palm.t ........... ok
t/Panasonic.t ...... ok
t/PCX.t ............ ok
t/PDF.t ............ ok
t/Pentax.t ......... ok
t/PFM.t ............ ok
t/PGF.t ............ ok
t/PhaseOne.t ....... ok
t/PhotoCD.t ........ ok
t/PhotoMechanic.t .. ok
t/Photoshop.t ...... ok
t/PICT.t ........... ok
t/PLIST.t .......... ok
t/PLUS.t ........... ok
t/PNG.t ............ ok
t/PostScript.t ..... ok
t/PPM.t ............ ok
t/PSP.t ............ ok
t/QuickTime.t ...... ok
t/Radiance.t ....... ok
t/Real.t ........... ok
t/Red.t ............ ok
t/Ricoh.t .......... ok
t/RIFF.t ........... ok
t/RTF.t ............ ok
t/Sanyo.t .......... ok
t/Sigma.t .......... ok
t/Sony.t ........... ok
t/Text.t ........... ok
t/Torrent.t ........ ok
t/Unknown.t ........ ok
t/VCard.t .......... ok
t/Vorbis.t ......... ok
t/WPG.t ............ ok
t/Writer.t ......... ok
t/WTV.t ............ ok
t/XISF.t ........... ok
t/XMP.t ............ ok
t/ZIP.t ............ ok
t/ZISRAW.t ......... ok
All tests successful.
Files=108, Tests=577, 11 wallclock secs ( 0.07 usr 0.07 sys + 10.18 cusr 0.58 csys = 10.90 CPU)
Result: PASS
------------------------------
PREREQUISITES
------------------------------
Prerequisite modules loaded:
runtime:
Module Need Have
------------------- ----- --------
perl 5.004 5.036000
build:
Module Need Have
------------------- ----- --------
ExtUtils::MakeMaker 0 7.64
configure:
Module Need Have
------------------- ----- --------
ExtUtils::MakeMaker 0 7.64
------------------------------
ENVIRONMENT AND OTHER CONTEXT
------------------------------
Environment variables:
LANG = en_US.UTF-8
LC_ALL = C
PATH = /Users/Amory/bin:/Users/amory/perl5/perlbrew/bin:/Users/amory/perl5/perlbrew/perls/perl-5.36.0/bin:/opt/homebrew/bin:/opt/homebrew/sbin:/opt/homebrew/opt/python@3.11/libexec/bin:/opt/homebrew/opt/python@3.11/Frameworks/Python.framework/Versions/3.11/lib/python3.11/site-packages:/usr/local/bin:/System/Cryptexes/App/usr/bin:/usr/bin:/bin:/usr/sbin:/sbin:/var/run/com.apple.security.cryptexd/codex.system/bootstrap/usr/local/bin:/var/run/com.apple.security.cryptexd/codex.system/bootstrap/usr/bin:/var/run/com.apple.security.cryptexd/codex.system/bootstrap/usr/appleinternal/bin:/Library/Apple/usr/bin:/usr/local/MacGPG2/bin:/Library/Frameworks/Mono.framework/Versions/Current/Commands:/Users/Amory/Documents/git/external/git-extra-commands@unixorn/bin:/Users/Amory/Documents/git/external/tiny-scripts@vitorgalvao:/Users/Amory/Documents/git/personal/lockquote:/Applications/CKAN.app/Contents/MacOS/
PERL5DB = use Devel::NYTProf
PERL5_DIR = /Users/Amory/perl5
PERL5_V = 5.36
PERLBREW = command perlbrew
PERLBREW_HOME = /Users/Amory/.perlbrew
PERLBREW_MANPATH = /Users/amory/perl5/perlbrew/perls/perl-5.36.0/man
PERLBREW_PATH = /Users/amory/perl5/perlbrew/bin:/Users/amory/perl5/perlbrew/perls/perl-5.36.0/bin
PERLBREW_PERL = perl-5.36.0
PERLBREW_ROOT = /Users/amory/perl5/perlbrew
PERLBREW_SHELLRC_VERSION = 0.98
PERLBREW_VERSION = 0.98
PERLDOC_PAGER = sh -c 'col -bx | bat -l man -p'
PERL_CPANM_OPT = --verify --from https://www.cpan.org
PERL_MM_USE_DEFAULT = 1
SHELL = /opt/homebrew/bin/bash
TERM = xterm-256color
TMPDIR = /var/folders/3s/yzp_k_q54799t3cx5vg512040000gn/T/
Perl special variables (and OS-specific diagnostics, for MSWin32):
EGID = 20 20 12 61 79 80 81 98 702 701 33 100 204 250 395 398 399
EUID = 501
EXECUTABLE_NAME = /Users/Amory/perl5/perlbrew/perls/perl-5.36.0/bin/perl
GID = 20 20 12 61 79 80 81 98 702 701 33 100 204 250 395 398 399
UID = 501
Perl module toolchain versions installed:
Module Have
------------------- --------
CPAN 2.33
CPAN::Meta 2.150010
Cwd 3.84
ExtUtils::CBuilder 0.280236
ExtUtils::Command 7.64
ExtUtils::Install 2.20
ExtUtils::MakeMaker 7.64
ExtUtils::Manifest 1.73
ExtUtils::ParseXS 3.45
File::Spec 3.84
JSON 4.10
JSON::PP 4.07
Module::Build 0.4234
Module::Signature 0.88
Parse::CPAN::Meta 2.150010
Test::Harness 3.44
Test::More 1.302190
YAML 1.30
YAML::Syck n/a
version 0.9929
--
Summary of my perl5 (revision 5 version 36 subversion 0) configuration:
Platform:
osname=darwin
osvers=21.6.0
archname=darwin-2level
uname='darwin nayru.fios-router.home 21.6.0 darwin kernel version 21.6.0: wed aug 10 14:28:25 pdt 2022; root:xnu-8020.141.5~2release_arm64_t8110 arm64 '
config_args='-de -Dprefix=/Users/amory/perl5/perlbrew/perls/perl-5.36.0 -Aeval:scriptdir=/Users/amory/perl5/perlbrew/perls/perl-5.36.0/bin'
hint=recommended
useposix=true
d_sigaction=define
useithreads=undef
usemultiplicity=undef
use64bitint=define
use64bitall=define
uselongdouble=undef
usemymalloc=n
default_inc_excludes_dot=define
Compiler:
cc='cc'
ccflags ='-fno-common -DPERL_DARWIN -mmacosx-version-min=12.5 -fno-strict-aliasing -pipe -fstack-protector-strong -DPERL_USE_SAFE_PUTENV'
optimize='-O3'
cppflags='-fno-common -DPERL_DARWIN -mmacosx-version-min=12.5 -fno-strict-aliasing -pipe -fstack-protector-strong'
ccversion=''
gccversion='Apple LLVM 13.1.6 (clang-1316.0.21.2.5)'
gccosandvers=''
intsize=4
longsize=8
ptrsize=8
doublesize=8
byteorder=12345678
doublekind=3
d_longlong=define
longlongsize=8
d_longdbl=define
longdblsize=8
longdblkind=0
ivtype='long'
ivsize=8
nvtype='double'
nvsize=8
Off_t='off_t'
lseeksize=8
alignbytes=8
prototype=define
Linker and Libraries:
ld='cc'
ldflags =' -mmacosx-version-min=12.5 -fstack-protector-strong'
libpth=/Library/Developer/CommandLineTools/usr/lib/clang/13.1.6/lib /Library/Developer/CommandLineTools/SDKs/MacOSX.sdk/usr/lib /Library/Developer/CommandLineTools/usr/lib /usr/lib
libs=
perllibs=
libc=
so=dylib
useshrplib=false
libperl=libperl.a
gnulibc_version=''
Dynamic Linking:
dlsrc=dl_dlopen.xs
dlext=bundle
d_dlsymun=undef
ccdlflags=' '
cccdlflags=' '
lddlflags=' -mmacosx-version-min=12.5 -bundle -undefined dynamic_lookup -fstack-protector-strong'
Characteristics of this binary (from libperl):
Compile-time options:
HAS_TIMES
PERLIO_LAYERS
PERL_COPY_ON_WRITE
PERL_DONT_CREATE_GVSV
PERL_MALLOC_WRAP
PERL_OP_PARENT
PERL_PRESERVE_IVUV
PERL_USE_SAFE_PUTENV
USE_64_BIT_ALL
USE_64_BIT_INT
USE_LARGE_FILES
USE_LOCALE
USE_LOCALE_COLLATE
USE_LOCALE_CTYPE
USE_LOCALE_NUMERIC
USE_LOCALE_TIME
USE_PERLIO
USE_PERL_ATOF
Built under darwin
Compiled at Sep 6 2022 11:44:09
%ENV:
PERL5DB="use Devel::NYTProf"
PERL5_DIR="/Users/Amory/perl5"
PERL5_V="5.36"
PERLBREW="command perlbrew"
PERLBREW_HOME="/Users/Amory/.perlbrew"
PERLBREW_MANPATH="/Users/amory/perl5/perlbrew/perls/perl-5.36.0/man"
PERLBREW_PATH="/Users/amory/perl5/perlbrew/bin:/Users/amory/perl5/perlbrew/perls/perl-5.36.0/bin"
PERLBREW_PERL="perl-5.36.0"
PERLBREW_ROOT="/Users/amory/perl5/perlbrew"
PERLBREW_SHELLRC_VERSION="0.98"
PERLBREW_VERSION="0.98"
PERLDOC_PAGER="sh -c 'col -bx | bat -l man -p'"
PERL_CPANM_OPT="--verify --from https://www.cpan.org"
PERL_MM_USE_DEFAULT="1"
@INC:
/Users/amory/perl5/perlbrew/perls/perl-5.36.0/lib/site_perl/5.36.0/darwin-2level
/Users/amory/perl5/perlbrew/perls/perl-5.36.0/lib/site_perl/5.36.0
/Users/amory/perl5/perlbrew/perls/perl-5.36.0/lib/5.36.0/darwin-2level
/Users/amory/perl5/perlbrew/perls/perl-5.36.0/lib/5.36.0