overload-open v1.9.6 Perl 5 v5.41.10 x86_64-linux-ld
- Status
- Pass
- From
- Andreas J. König (ANDK)
- Dist
-
overload-open v1.9.6
- Platform
- Perl 5 v5.41.10 x86_64-linux-ld
- Date
- 2025-04-16 08:36:34
- ID
- e784966c-1a9d-11f0-9b40-f25bfc7f7fd3
This distribution has been tested as part of the CPAN Testers
project, supporting the Perl programming language. See
http://wiki.cpantesters.org/ for more information or email
questions to cpan-testers-discuss@perl.org
--
Dear Samantha McVey,
This is a computer-generated report for overload-open-1.9.6
on perl 5.41.10, created by CPAN-Reporter-1.2020.
Thank you for uploading your work to CPAN. Congratulations!
All tests were successful.
Sections of this report:
* Tester comments
* Program output
* Prerequisites
* Environment and other context
------------------------------
TESTER COMMENTS
------------------------------
Additional comments from tester:
this report is from an automated smoke testing program
and was not reviewed by a human for accuracy
------------------------------
PROGRAM OUTPUT
------------------------------
Output from '/usr/bin/make test':
"/tmp/basesmoker-reloperl-9UT2/bin/perl" -MExtUtils::Command::MM -e 'cp_nonempty' -- open.bs blib/arch/auto/overload/open/open.bs 644
PERL_DL_NONLAZY=1 "/tmp/basesmoker-reloperl-9UT2/bin/perl" "-MExtUtils::Command::MM" "-MTest::Harness" "-e" "undef *Test::Harness::Switches; test_harness(1, 'blib/lib', 'blib/arch')" t/*.t
t/00-use.t ...................
ok 1 - use overload::open;
1..1
ok
Attempt to call undefined import method with arguments ("CODE(0x59271d904a68)") via package "overload::open" (Perhaps you forgot to load the package?) at t/01-callback.t line 9.
t/01-callback.t ..............
ok 1 - Print does not die
ok 2 - open does not die
ok 3 - gets defined value from fh read
ok 4 - file has correct content
1..4
ok
t/02-record-opened.t .........
ok 1 - did not register we opened the file called '/tmp/YgboIOMvJg'
ok 2 - Print does not die
ok 3 - open does not die
ok 4 - file has correct content
ok 5 - recorded that we opened the test file from three argument open
ok 6 - correct number of keys after opened the test file twice
ok 7 - correct number of keys after opened filename2.txt once
ok 8 - stored filename2.txt from two argument open
1..8
ok
t/03-disable-xs-functions.t ..
ok 1 - open dies when you try and hook
1..1
ok
(in cleanup) Died at t/04-record-opened.t line 77.
(in cleanup) Died at t/04-record-opened.t line 76.
t/04-record-opened.t .........
ok 1 - file opened with open() is in open hash
ok 2 - file opened with sysopen() is in sysopen hash
ok 3 - Correct number of keys in sysopen hash
ok 4 - Correct number of keys in open hash
ok 5 - Does not die when calling sysopen inside string eval
ok 6 - Does not die when calling open inside string eval
ok 7 - file opened with open() is in open hash
ok 8 - file opened with sysopen() is in sysopen hash
ok 9 - Correct number of keys in sysopen hash
ok 10 - Correct number of keys in open hash
ok 11 - Does not die when calling sysopen inside string eval
ok 12 - Does not die when calling open inside string eval
1..12
ok
All tests successful.
Files=5, Tests=26, 1 wallclock secs ( 0.04 usr 0.01 sys + 0.38 cusr 0.10 csys = 0.53 CPU)
Result: PASS
------------------------------
PREREQUISITES
------------------------------
Prerequisite modules loaded:
configure_requires:
Module Need Have
------------------- ---- --------
ExtUtils::MakeMaker 7.34 7.74
Module::Metadata 0 1.000038
------------------------------
ENVIRONMENT AND OTHER CONTEXT
------------------------------
Environment variables:
AUTOMATED_TESTING = 1
LANG = en_US.UTF-8
LC_ADDRESS = de_DE.UTF-8
LC_IDENTIFICATION = de_DE.UTF-8
LC_MEASUREMENT = de_DE.UTF-8
LC_MONETARY = de_DE.UTF-8
LC_NAME = de_DE.UTF-8
LC_NUMERIC = de_DE.UTF-8
LC_PAPER = de_DE.UTF-8
LC_TELEPHONE = de_DE.UTF-8
LC_TIME = de_DE.UTF-8
PATH = /home/sand/bin:/usr/local/bin:/usr/local/sbin:/usr/sbin:/usr/bin:/sbin:/bin:/usr/games:/usr/local/games:/snap/bin:/usr/local/perl/bin:/usr/X11/bin
PERL = /tmp/basesmoker-reloperl-9UT2/bin/perl
PERL5LIB = /tmp/loop_over_bdir-3593637-VVSC4F/makepp-1.19-0/blib/arch:/tmp/loop_over_bdir-3593637-VVSC4F/makepp-1.19-0/blib/lib:/tmp/loop_over_bdir-3593637-VVSC4F/LiquidWeb-Storm-CLI-1.03-0/blib/arch:/tmp/loop_over_bdir-3593637-VVSC4F/LiquidWeb-Storm-CLI-1.03-0/blib/lib:/tmp/loop_over_bdir-3593637-VVSC4F/Captive-Portal-4.10-0/blib/arch:/tmp/loop_over_bdir-3593637-VVSC4F/Captive-Portal-4.10-0/blib/lib:/tmp/loop_over_bdir-3593637-VVSC4F/Net-OpenVPN-DDNS-0.1-0/blib/arch:/tmp/loop_over_bdir-3593637-VVSC4F/Net-OpenVPN-DDNS-0.1-0/blib/lib
PERL5OPT =
PERL5_CPANPLUS_IS_RUNNING = 3593645
PERL5_CPAN_IS_RUNNING = 3593645
PERL_CANARY_STABILITY_NOPROMPT = 1
PERL_MM_USE_DEFAULT = 1
PERL_USE_UNSAFE_INC = 1
SHELL = /usr/bin/zsh
TERM = screen
Perl special variables (and OS-specific diagnostics, for MSWin32):
$^X = /tmp/basesmoker-reloperl-9UT2/bin/perl
$UID/$EUID = 1005 / 1005
$GID = 1005 1005
$EGID = 1005 1005
Perl module toolchain versions installed:
Module Have
------------------- --------
CPAN 2.38
CPAN::Meta 2.150010
Cwd 3.92
ExtUtils::CBuilder 0.280240
ExtUtils::Command 7.74
ExtUtils::Install 2.22
ExtUtils::MakeMaker 7.74
ExtUtils::Manifest 1.75
ExtUtils::ParseXS 3.57
File::Spec 3.93
JSON 4.10
JSON::PP 4.16
Module::Build 0.4234
Module::Signature 0.89
Parse::CPAN::Meta 2.150010
Test2 1.302209
Test::Harness 3.50
Test::More 1.302209
YAML 1.31
YAML::Syck 1.34
version 0.9933
--
Summary of my perl5 (revision 5 version 41 subversion 10) configuration:
Commit id: 6a1cf63fc3f0e8d25b8f3837f9ca46b3bbc65885
Platform:
osname=linux
osvers=6.8.0-52-generic
archname=x86_64-linux-ld
uname='linux k93jammy 6.8.0-52-generic #53~22.04.1-ubuntu smp preempt_dynamic wed jan 15 19:18:46 utc 2 x86_64 x86_64 x86_64 gnulinux '
config_args='-Dprefix=/home/sand/src/perl/repoperls/installed-perls/host/k93jammy/v5.41.10/5674 -Dmyhostname=k93jammy -Dinstallusrbinperl=n -Uversiononly -Dusedevel -des -Ui_db -Dlibswanted=cl pthread socket inet nsl gdbm dbm malloc dl ld sun m crypt sec util c cposix posix ucb BSD gdbm_compat -Uuseithreads -Duselongdouble -DEBUGGING=-g'
hint=recommended
useposix=true
d_sigaction=define
useithreads=undef
usemultiplicity=undef
use64bitint=define
use64bitall=define
uselongdouble=define
usemymalloc=n
default_inc_excludes_dot=define
Compiler:
cc='cc'
ccflags ='-fwrapv -fno-strict-aliasing -pipe -fstack-protector-strong -I/usr/local/include -D_LARGEFILE_SOURCE -D_FILE_OFFSET_BITS=64'
optimize='-O2 -g'
cppflags='-fwrapv -fno-strict-aliasing -pipe -fstack-protector-strong -I/usr/local/include'
ccversion=''
gccversion='11.4.0'
gccosandvers=''
intsize=4
longsize=8
ptrsize=8
doublesize=8
byteorder=12345678
doublekind=3
d_longlong=define
longlongsize=8
d_longdbl=define
longdblsize=16
longdblkind=3
ivtype='long'
ivsize=8
nvtype='long double'
nvsize=16
Off_t='off_t'
lseeksize=8
alignbytes=16
prototype=define
Linker and Libraries:
ld='cc'
ldflags =' -fstack-protector-strong -L/usr/local/lib'
libpth=/usr/local/lib /usr/lib/x86_64-linux-gnu /usr/lib /usr/lib64
libs=-lpthread -lnsl -ldl -lm -lcrypt -lutil -lc
perllibs=-lpthread -lnsl -ldl -lm -lcrypt -lutil -lc
libc=/lib/x86_64-linux-gnu/libc.so.6
so=so
useshrplib=false
libperl=libperl.a
gnulibc_version='2.35'
Dynamic Linking:
dlsrc=dl_dlopen.xs
dlext=so
d_dlsymun=undef
ccdlflags='-Wl,-E'
cccdlflags='-fPIC'
lddlflags='-shared -O2 -g -L/usr/local/lib -fstack-protector-strong'
Characteristics of this binary (from libperl):
Compile-time options:
HAS_LONG_DOUBLE
HAS_STRTOLD
HAS_TIMES
PERLIO_LAYERS
PERL_COPY_ON_WRITE
PERL_DONT_CREATE_GVSV
PERL_HASH_FUNC_SIPHASH13
PERL_HASH_USE_SBOX32
PERL_MALLOC_WRAP
PERL_OP_PARENT
PERL_PRESERVE_IVUV
PERL_USE_DEVEL
PERL_USE_SAFE_PUTENV
USE_64_BIT_ALL
USE_64_BIT_INT
USE_LARGE_FILES
USE_LOCALE
USE_LOCALE_COLLATE
USE_LOCALE_CTYPE
USE_LOCALE_NUMERIC
USE_LOCALE_TIME
USE_LONG_DOUBLE
USE_PERLIO
USE_PERL_ATOF
Built under linux
Compiled at Mar 25 2025 14:46:27
%ENV:
PERL="/tmp/basesmoker-reloperl-9UT2/bin/perl"
PERL5LIB="/tmp/loop_over_bdir-3593637-VVSC4F/makepp-1.19-0/blib/arch:/tmp/loop_over_bdir-3593637-VVSC4F/makepp-1.19-0/blib/lib:/tmp/loop_over_bdir-3593637-VVSC4F/LiquidWeb-Storm-CLI-1.03-0/blib/arch:/tmp/loop_over_bdir-3593637-VVSC4F/LiquidWeb-Storm-CLI-1.03-0/blib/lib:/tmp/loop_over_bdir-3593637-VVSC4F/Captive-Portal-4.10-0/blib/arch:/tmp/loop_over_bdir-3593637-VVSC4F/Captive-Portal-4.10-0/blib/lib:/tmp/loop_over_bdir-3593637-VVSC4F/Net-OpenVPN-DDNS-0.1-0/blib/arch:/tmp/loop_over_bdir-3593637-VVSC4F/Net-OpenVPN-DDNS-0.1-0/blib/lib"
PERL5OPT=""
PERL5_CPANPLUS_IS_RUNNING="3593645"
PERL5_CPAN_IS_RUNNING="3593645"
PERL_CANARY_STABILITY_NOPROMPT="1"
PERL_MM_USE_DEFAULT="1"
PERL_USE_UNSAFE_INC="1"
@INC:
/tmp/loop_over_bdir-3593637-VVSC4F/makepp-1.19-0/blib/arch
/tmp/loop_over_bdir-3593637-VVSC4F/makepp-1.19-0/blib/lib
/tmp/loop_over_bdir-3593637-VVSC4F/LiquidWeb-Storm-CLI-1.03-0/blib/arch
/tmp/loop_over_bdir-3593637-VVSC4F/LiquidWeb-Storm-CLI-1.03-0/blib/lib
/tmp/loop_over_bdir-3593637-VVSC4F/Captive-Portal-4.10-0/blib/arch
/tmp/loop_over_bdir-3593637-VVSC4F/Captive-Portal-4.10-0/blib/lib
/tmp/loop_over_bdir-3593637-VVSC4F/Net-OpenVPN-DDNS-0.1-0/blib/arch
/tmp/loop_over_bdir-3593637-VVSC4F/Net-OpenVPN-DDNS-0.1-0/blib/lib
/home/sand/src/perl/repoperls/installed-perls/host/k93jammy/v5.41.10/5674/lib/site_perl/5.41.10/x86_64-linux-ld
/home/sand/src/perl/repoperls/installed-perls/host/k93jammy/v5.41.10/5674/lib/site_perl/5.41.10
/home/sand/src/perl/repoperls/installed-perls/host/k93jammy/v5.41.10/5674/lib/5.41.10/x86_64-linux-ld
/home/sand/src/perl/repoperls/installed-perls/host/k93jammy/v5.41.10/5674/lib/5.41.10
.