Gentoo-PerlMod-Version vv0.8.1 Perl 5 v5.35.10 x86_64-linux-thread-multi-ld

Status
Pass
From
Andreas J. König (ANDK)
Dist
Gentoo-PerlMod-Version vv0.8.1
Platform
Perl 5 v5.35.10 x86_64-linux-thread-multi-ld
Date
2022-03-17 11:53:47
ID
e77ade9c-a5e8-11ec-b3b9-f33b64da1828
This distribution has been tested as part of the CPAN Testers
project, supporting the Perl programming language.  See
http://wiki.cpantesters.org/ for more information or email
questions to cpan-testers-discuss@perl.org


--
Dear Kent Fredric (PAUSE Custodial Account),

This is a computer-generated report for Gentoo-PerlMod-Version-v0.8.1
on perl 5.35.10, created by CPAN-Reporter-1.2018.

Thank you for uploading your work to CPAN.  Congratulations!
All tests were successful.

Sections of this report:

    * Tester comments
    * Program output
    * Prerequisites
    * Environment and other context

------------------------------
TESTER COMMENTS
------------------------------

Additional comments from tester:

this report is from an automated smoke testing program
and was not reviewed by a human for accuracy

------------------------------
PROGRAM OUTPUT
------------------------------

Output from '/usr/bin/make test':

PERL_DL_NONLAZY=1 "/tmp/basesmoker-reloperl-gurF/bin/perl" "-MExtUtils::Command::MM" "-MTest::Harness" "-e" "undef *Test::Harness::Switches; test_harness(0, 'blib/lib', 'blib/arch')" t/*.t t/00-compile/*.t
t/00-compile/lib_Gentoo_PerlMod_Version_Env_pm.t .... ok
t/00-compile/lib_Gentoo_PerlMod_Version_Error_pm.t .. ok
t/00-compile/lib_Gentoo_PerlMod_Version_pm.t ........ ok
# 
# Versions for all modules listed in MYMETA.json (including optional ones):
# 
# === Configure Requires ===
# 
#     Module              Want Have
#     ------------------- ---- ----
#     ExtUtils::MakeMaker  any 7.64
# 
# === Configure Recommends ===
# 
#     Module              Want Have
#     ------------------- ---- ----
#     ExtUtils::MakeMaker 7.00 7.64
# 
# === Build Requires ===
# 
#     Module              Want Have
#     ------------------- ---- ----
#     ExtUtils::MakeMaker  any 7.64
# 
# === Test Requires ===
# 
#     Module              Want     Have
#     ------------------- ---- --------
#     ExtUtils::MakeMaker  any     7.64
#     File::Spec           any     3.84
#     Scalar::Util         any     1.61
#     Test::Fatal          any    0.016
#     Test::More          0.96 1.302190
# 
# === Test Recommends ===
# 
#     Module                  Want     Have
#     ------------------- -------- --------
#     CPAN::Meta          2.120900 2.150010
#     ExtUtils::MakeMaker     7.00     7.64
#     Test::More              0.99 1.302190
# 
# === Runtime Requires ===
# 
#     Module                     Want     Have
#     -------------------------- ---- --------
#     Carp                        any     1.52
#     Data::Dumper                any    2.184
#     Sub::Exporter::Progressive  any 0.001013
#     overload                    any     1.35
#     strict                      any     1.12
#     version                    0.77   0.9929
#     warnings                    any     1.58
# 
t/00-report-prereqs.t ............................... ok
t/01_basic.t ........................................ ok
t/02_vstrings.t ..................................... ok
t/03_env.t .......................................... ok
t/04_error.t ........................................ ok
t/05_throwerror.t ................................... ok
All tests successful.
Files=9, Tests=85,  1 wallclock secs ( 0.04 usr  0.02 sys +  0.40 cusr  0.13 csys =  0.59 CPU)
Result: PASS

------------------------------
PREREQUISITES
------------------------------

Prerequisite modules loaded:

requires:

    Module                     Need  Have    
    -------------------------- ----- --------
    Carp                       0     1.52    
    Data::Dumper               0     2.184   
    overload                   0     1.35    
    perl                       5.006 5.035010
    strict                     0     1.12    
    Sub::Exporter::Progressive 0     0.001013
    version                    0.77  0.9929  
    warnings                   0     1.58    

build_requires:

    Module                     Need  Have    
    -------------------------- ----- --------
    ExtUtils::MakeMaker        0     7.64    
    File::Spec                 0     3.84    
    Scalar::Util               0     1.61    
    Test::Fatal                0     0.016   
    Test::More                 0.96  1.302190

configure_requires:

    Module                     Need  Have    
    -------------------------- ----- --------
    ExtUtils::MakeMaker        0     7.64    
    perl                       5.006 5.035010


------------------------------
ENVIRONMENT AND OTHER CONTEXT
------------------------------

Environment variables:

    AUTOMATED_TESTING = 1
    LANG = en_US.UTF-8
    PATH = /home/sand/bin:/usr/local/bin:/usr/bin:/bin:/usr/games:/usr/local/perl/bin:/usr/X11/bin:/sbin:/usr/sbin
    PERL5LIB = /tmp/loop_over_bdir-1718156-PyOSOB/Devel-Required-0.16-0/blib/arch:/tmp/loop_over_bdir-1718156-PyOSOB/Devel-Required-0.16-0/blib/lib:/tmp/loop_over_bdir-1718156-PyOSOB/ProjectBuilder-0.14.1-0/blib/arch:/tmp/loop_over_bdir-1718156-PyOSOB/ProjectBuilder-0.14.1-0/blib/lib
    PERL5OPT = 
    PERL5_CPANPLUS_IS_RUNNING = 3765028
    PERL5_CPAN_IS_RUNNING = 3765028
    PERL_CANARY_STABILITY_NOPROMPT = 1
    PERL_MM_USE_DEFAULT = 1
    PERL_USE_UNSAFE_INC = 1
    SHELL = /usr/bin/zsh
    TERM = screen

Perl special variables (and OS-specific diagnostics, for MSWin32):

    $^X = /tmp/basesmoker-reloperl-gurF/bin/perl
    $UID/$EUID = 1005 / 1005
    $GID = 1005 1005
    $EGID = 1005 1005

Perl module toolchain versions installed:

    Module              Have    
    ------------------- --------
    CPAN                2.33    
    CPAN::Meta          2.150010
    Cwd                 3.84    
    ExtUtils::CBuilder  0.280236
    ExtUtils::Command   7.64    
    ExtUtils::Install   2.20    
    ExtUtils::MakeMaker 7.64    
    ExtUtils::Manifest  1.73    
    ExtUtils::ParseXS   3.45    
    File::Spec          3.84    
    JSON                4.05    
    JSON::PP            4.07    
    Module::Build       0.4231  
    Module::Signature   0.88    
    Parse::CPAN::Meta   2.150010
    Test::Harness       3.43    
    Test::More          1.302190
    YAML                1.30    
    YAML::Syck          1.34    
    version             0.9929  


--

Summary of my perl5 (revision 5 version 35 subversion 10) configuration:
  Commit id: a916f72f0dca82d031c6b4f8242984a093ed08ce
  Platform:
    osname=linux
    osvers=5.15.0-2-amd64
    archname=x86_64-linux-thread-multi-ld
    uname='linux k93msid 5.15.0-2-amd64 #1 smp debian 5.15.5-2 (2021-12-18) x86_64 gnulinux '
    config_args='-Dprefix=/home/sand/src/perl/repoperls/installed-perls/host/k93msid/v5.35.9-134-ga916f72f0d/496c -Dmyhostname=k93msid -Dinstallusrbinperl=n -Uversiononly -Dusedevel -des -Ui_db -Dlibswanted=cl pthread socket inet nsl gdbm dbm malloc dl ld sun m crypt sec util c cposix posix ucb BSD gdbm_compat -Duseithreads -Duselongdouble -DEBUGGING=none'
    hint=recommended
    useposix=true
    d_sigaction=define
    useithreads=define
    usemultiplicity=define
    use64bitint=define
    use64bitall=define
    uselongdouble=define
    usemymalloc=n
    default_inc_excludes_dot=define
  Compiler:
    cc='cc'
    ccflags ='-D_REENTRANT -D_GNU_SOURCE -fwrapv -fno-strict-aliasing -pipe -fstack-protector-strong -I/usr/local/include -D_LARGEFILE_SOURCE -D_FILE_OFFSET_BITS=64 -D_FORTIFY_SOURCE=2'
    optimize='-O2'
    cppflags='-D_REENTRANT -D_GNU_SOURCE -fwrapv -fno-strict-aliasing -pipe -fstack-protector-strong -I/usr/local/include'
    ccversion=''
    gccversion='11.2.0'
    gccosandvers=''
    intsize=4
    longsize=8
    ptrsize=8
    doublesize=8
    byteorder=12345678
    doublekind=3
    d_longlong=define
    longlongsize=8
    d_longdbl=define
    longdblsize=16
    longdblkind=3
    ivtype='long'
    ivsize=8
    nvtype='long double'
    nvsize=16
    Off_t='off_t'
    lseeksize=8
    alignbytes=16
    prototype=define
  Linker and Libraries:
    ld='cc'
    ldflags =' -fstack-protector-strong -L/usr/local/lib'
    libpth=/usr/local/lib /usr/lib/x86_64-linux-gnu /usr/lib /lib/x86_64-linux-gnu /lib
    libs=-lpthread -lnsl -ldl -lm -lcrypt -lutil -lc
    perllibs=-lpthread -lnsl -ldl -lm -lcrypt -lutil -lc
    libc=libc-2.33.so
    so=so
    useshrplib=false
    libperl=libperl.a
    gnulibc_version='2.33'
  Dynamic Linking:
    dlsrc=dl_dlopen.xs
    dlext=so
    d_dlsymun=undef
    ccdlflags='-Wl,-E'
    cccdlflags='-fPIC'
    lddlflags='-shared -O2 -L/usr/local/lib -fstack-protector-strong'


Characteristics of this binary (from libperl): 
  Compile-time options:
    HAS_TIMES
    MULTIPLICITY
    PERLIO_LAYERS
    PERL_COPY_ON_WRITE
    PERL_DONT_CREATE_GVSV
    PERL_MALLOC_WRAP
    PERL_OP_PARENT
    PERL_PRESERVE_IVUV
    PERL_USE_DEVEL
    USE_64_BIT_ALL
    USE_64_BIT_INT
    USE_ITHREADS
    USE_LARGE_FILES
    USE_LOCALE
    USE_LOCALE_COLLATE
    USE_LOCALE_CTYPE
    USE_LOCALE_NUMERIC
    USE_LOCALE_TIME
    USE_LONG_DOUBLE
    USE_PERLIO
    USE_PERL_ATOF
    USE_REENTRANT_API
    USE_THREAD_SAFE_LOCALE
  Built under linux
  Compiled at Mar 15 2022 18:59:06
  %ENV:
    PERL5LIB="/tmp/loop_over_bdir-1718156-PyOSOB/Devel-Required-0.16-0/blib/arch:/tmp/loop_over_bdir-1718156-PyOSOB/Devel-Required-0.16-0/blib/lib:/tmp/loop_over_bdir-1718156-PyOSOB/ProjectBuilder-0.14.1-0/blib/arch:/tmp/loop_over_bdir-1718156-PyOSOB/ProjectBuilder-0.14.1-0/blib/lib"
    PERL5OPT=""
    PERL5_CPANPLUS_IS_RUNNING="3765028"
    PERL5_CPAN_IS_RUNNING="3765028"
    PERL_CANARY_STABILITY_NOPROMPT="1"
    PERL_MM_USE_DEFAULT="1"
    PERL_USE_UNSAFE_INC="1"
  @INC:
    /tmp/loop_over_bdir-1718156-PyOSOB/Devel-Required-0.16-0/blib/arch
    /tmp/loop_over_bdir-1718156-PyOSOB/Devel-Required-0.16-0/blib/lib
    /tmp/loop_over_bdir-1718156-PyOSOB/ProjectBuilder-0.14.1-0/blib/arch
    /tmp/loop_over_bdir-1718156-PyOSOB/ProjectBuilder-0.14.1-0/blib/lib
    /home/sand/src/perl/repoperls/installed-perls/host/k93msid/v5.35.9-134-ga916f72f0d/496c/lib/site_perl/5.35.10/x86_64-linux-thread-multi-ld
    /home/sand/src/perl/repoperls/installed-perls/host/k93msid/v5.35.9-134-ga916f72f0d/496c/lib/site_perl/5.35.10
    /home/sand/src/perl/repoperls/installed-perls/host/k93msid/v5.35.9-134-ga916f72f0d/496c/lib/5.35.10/x86_64-linux-thread-multi-ld
    /home/sand/src/perl/repoperls/installed-perls/host/k93msid/v5.35.9-134-ga916f72f0d/496c/lib/5.35.10
    .