Report for Dist-Zilla-Plugin-Test-Version-1.09

Back
From: metabase:user:320bfe00-2aae-11df-837a-5e0a49663a4f
Subject: PASS Dist-Zilla-Plugin-Test-Version-1.09 v5.8.9 GNU/Linux
Date: 2017-05-04T07:47:20Z

This distribution has been tested as part of the CPAN Testers
project, supporting the Perl programming language.  See
http://wiki.cpantesters.org/ for more information or email
questions to cpan-testers-discuss@perl.org


--
Dear Graham Ollis,

This is a computer-generated report for Dist-Zilla-Plugin-Test-Version-1.09
on perl 5.8.9, created by CPAN-Reporter-1.2018.

Thank you for uploading your work to CPAN.  Congratulations!
All tests were successful.

Sections of this report:

    * Tester comments
    * Program output
    * Prerequisites
    * Environment and other context

------------------------------
TESTER COMMENTS
------------------------------

Additional comments from tester:

this report is from an automated smoke testing program
and was not reviewed by a human for accuracy

------------------------------
PROGRAM OUTPUT
------------------------------

Output from '/usr/bin/make test':

PERL_DL_NONLAZY=1 "/home/sand/src/perl/repoperls/installed-perls/host/k93msid/perl-5.8.9/89ad/bin/perl" "-MExtUtils::Command::MM" "-MTest::Harness" "-e" "undef *Test::Harness::Switches; test_harness(0, 'blib/lib', 'blib/arch')" t/*.t
t/00-compile.t ......... ok
# 
# Versions for all modules listed in MYMETA.json (including optional ones):
# 
# === Configure Requires ===
# 
#     Module              Want Have
#     ------------------- ---- ----
#     ExtUtils::MakeMaker  any 7.24
# 
# === Build Requires ===
# 
#     Module              Want Have
#     ------------------- ---- ----
#     ExtUtils::MakeMaker  any 7.24
# 
# === Test Requires ===
# 
#     Module               Want     Have
#     ------------------- ----- --------
#     Dist::Zilla         5.036    5.046
#     ExtUtils::MakeMaker   any     7.24
#     File::Spec            any     3.62
#     File::chdir           any   0.1010
#     IO::Handle            any     1.28
#     IPC::Open3            any     1.03
#     Path::Tiny            any    0.104
#     Test::DZil            any    5.046
#     Test::EOL             any     2.00
#     Test::More            any 1.302085
#     Test::NoTabs          any     2.00
#     Test::Script         1.12     1.18
#     Test::Version           1     2.05
#     blib                 1.01     1.04
#     strict                any     1.03
#     warnings              any  1.05_01
# 
# === Test Recommends ===
# 
#     Module         Want     Have
#     ---------- -------- --------
#     CPAN::Meta 2.120900 2.150010
# 
# === Runtime Requires ===
# 
#     Module                             Want     Have
#     --------------------------------- ----- --------
#     Data::Section                     0.004 0.200006
#     Dist::Zilla::File::InMemory         any    5.046
#     Dist::Zilla::Role::FileFinderUser   any    5.046
#     Dist::Zilla::Role::FileGatherer     any    5.046
#     Dist::Zilla::Role::FileMunger       any    5.046
#     Dist::Zilla::Role::PrereqSource     any    5.046
#     Dist::Zilla::Role::TextTemplate     any    5.046
#     Moose                               any   2.2004
#     Moose::Util::TypeConstraints        any   2.2004
#     Sub::Exporter::ForMethods           any 0.100052
#     Test::Version                         1     2.05
#     namespace::autoclean                any     0.28
# 
t/00-report-prereqs.t .. ok
t/adaptive.t ........... ok
t/file.t ............... ok
t/filename_match.t ..... ok
t/finder.t ............. ok
All tests successful.
Files=6, Tests=22, 16 wallclock secs ( 0.03 usr  0.02 sys +  6.03 cusr  0.69 csys =  6.77 CPU)
Result: PASS

------------------------------
PREREQUISITES
------------------------------

Prerequisite modules loaded:

requires:

    Module                            Need  Have    
    --------------------------------- ----- --------
    Data::Section                     0.004 0.200006
    Dist::Zilla::File::InMemory       0     5.046   
    Dist::Zilla::Role::FileFinderUser 0     5.046   
    Dist::Zilla::Role::FileGatherer   0     5.046   
    Dist::Zilla::Role::FileMunger     0     5.046   
    Dist::Zilla::Role::PrereqSource   0     5.046   
    Dist::Zilla::Role::TextTemplate   0     5.046   
    Moose                             0     2.2004  
    Moose::Util::TypeConstraints      0     2.2004  
    namespace::autoclean              0     0.28    
    perl                              5.006 5.008009
    Sub::Exporter::ForMethods         0     0.100052
    Test::Version                     1     2.05    

build_requires:

    Module                            Need  Have    
    --------------------------------- ----- --------
    blib                              1.01  1.04    
    Dist::Zilla                       5.036 5.046   
    ExtUtils::MakeMaker               0     7.24    
    File::chdir                       0     0.1010  
    File::Spec                        0     3.62    
    IO::Handle                        0     1.28    
    IPC::Open3                        0     1.03    
    Path::Tiny                        0     0.104   
    strict                            0     1.03    
    Test::DZil                        0     5.046   
    Test::EOL                         0     2.00    
    Test::More                        0     1.302085
    Test::NoTabs                      0     2.00    
    Test::Script                      1.12  1.18    
    Test::Version                     1     2.05    
    warnings                          0     1.05_01 

configure_requires:

    Module                            Need  Have    
    --------------------------------- ----- --------
    ExtUtils::MakeMaker               0     7.24    


------------------------------
ENVIRONMENT AND OTHER CONTEXT
------------------------------

Environment variables:

    AUTOMATED_TESTING = 1
    LANG = en_US.UTF-8
    PATH = /home/sand/bin:/usr/local/bin:/usr/bin:/bin:/usr/games:/usr/local/perl/bin:/usr/X11/bin:/sbin:/usr/sbin
    PERL5LIB = 
    PERL5OPT = 
    PERL5_CPANPLUS_IS_RUNNING = 14076
    PERL5_CPAN_IS_RUNNING = 14076
    PERL_CANARY_STABILITY_NOPROMPT = 1
    PERL_MM_USE_DEFAULT = 1
    PERL_USE_UNSAFE_INC = 1
    SHELL = /usr/bin/zsh
    TERM = screen

Perl special variables (and OS-specific diagnostics, for MSWin32):

    $^X = /home/sand/src/perl/repoperls/installed-perls/host/k93msid/perl-5.8.9/89ad/bin/perl
    $UID/$EUID = 1005 / 1005
    $GID = 1005 1005
    $EGID = 1005 1005

Perl module toolchain versions installed:

    Module              Have    
    ------------------- --------
    CPAN                2.18    
    CPAN::Meta          2.150010
    Cwd                 3.62    
    ExtUtils::CBuilder  0.280224
    ExtUtils::Command   7.24    
    ExtUtils::Install   1.54    
    ExtUtils::MakeMaker 7.24    
    ExtUtils::Manifest  1.70    
    ExtUtils::ParseXS   3.30    
    File::Spec          3.62    
    JSON                2.90    
    JSON::PP            2.27400 
    Module::Build       0.4222  
    Module::Signature   0.81    
    Parse::CPAN::Meta   2.150010
    Test::Harness       3.39    
    Test::More          1.302085
    YAML                1.23    
    YAML::Syck          1.30_01 
    version             0.9917  


--

Summary of my perl5 (revision 5 version 8 subversion 9) configuration:
  Platform:
    osname=linux, osvers=4.9.0-2-amd64, archname=x86_64-linux
    uname='linux k93msid 4.9.0-2-amd64 #1 smp debian 4.9.18-1 (2017-03-30) x86_64 gnulinux '
    config_args='-Dprefix=/home/sand/src/perl/repoperls/installed-perls/host/k93msid/perl-5.8.9/89ad -Dmyhostname=k93msid -Dinstallusrbinperl=n -Uversiononly -Dusedevel -des -Ui_db -Dlibswanted=cl pthread socket inet nsl gdbm dbm malloc dl ld sun m crypt sec util c cposix posix ucb BSD gdbm_compat -Uuseithreads -Uuselongdouble -DDEBUGGING=-g'
    hint=recommended, useposix=true, d_sigaction=define
    usethreads=undef use5005threads=undef useithreads=undef usemultiplicity=undef
    useperlio=define d_sfio=undef uselargefiles=define usesocks=undef
    use64bitint=define use64bitall=define uselongdouble=undef
    usemymalloc=n, bincompat5005=undef
  Compiler:
    cc='cc', ccflags ='-fno-strict-aliasing -pipe -I/usr/local/include -D_LARGEFILE_SOURCE -D_FILE_OFFSET_BITS=64',
    optimize='-O2 -g',
    cppflags='-fno-strict-aliasing -pipe -I/usr/local/include'
    ccversion='', gccversion='6.3.0 20170406', gccosandvers=''
    intsize=4, longsize=8, ptrsize=8, doublesize=8, byteorder=12345678
    d_longlong=define, longlongsize=8, d_longdbl=define, longdblsize=16
    ivtype='long', ivsize=8, nvtype='double', nvsize=8, Off_t='off_t', lseeksize=8
    alignbytes=8, prototype=define
  Linker and Libraries:
    ld='cc', ldflags =' -L/usr/local/lib'
    libpth=/usr/local/lib /lib/x86_64-linux-gnu /lib/../lib /usr/lib/x86_64-linux-gnu /usr/lib/../lib /lib /usr/lib
    libs=-lpthread -lnsl -ldl -lm -lcrypt -lutil -lc
    perllibs=-lpthread -lnsl -ldl -lm -lcrypt -lutil -lc
    libc=libc-2.24.so, so=so, useshrplib=false, libperl=libperl.a
    gnulibc_version='2.24'
  Dynamic Linking:
    dlsrc=dl_dlopen.xs, dlext=so, d_dlsymun=undef, ccdlflags='-Wl,-E'
    cccdlflags='-fPIC', lddlflags='-shared -O2 -g -L/usr/local/lib'


Characteristics of this binary (from libperl): 
  Compile-time options: PERL_MALLOC_WRAP USE_64_BIT_ALL USE_64_BIT_INT
                        USE_FAST_STDIO USE_LARGE_FILES USE_PERLIO
  Built under linux
  Compiled at Apr 14 2017 14:37:34
  %ENV:
    PERL5LIB=""
    PERL5OPT=""
    PERL5_CPANPLUS_IS_RUNNING="14076"
    PERL5_CPAN_IS_RUNNING="14076"
    PERL_CANARY_STABILITY_NOPROMPT="1"
    PERL_MM_USE_DEFAULT="1"
    PERL_USE_UNSAFE_INC="1"
  @INC:
    /home/sand/src/perl/repoperls/installed-perls/host/k93msid/perl-5.8.9/89ad/lib/5.8.9/x86_64-linux
    /home/sand/src/perl/repoperls/installed-perls/host/k93msid/perl-5.8.9/89ad/lib/5.8.9
    /home/sand/src/perl/repoperls/installed-perls/host/k93msid/perl-5.8.9/89ad/lib/site_perl/5.8.9/x86_64-linux
    /home/sand/src/perl/repoperls/installed-perls/host/k93msid/perl-5.8.9/89ad/lib/site_perl/5.8.9
    .