Pod-Markdown v3.200 Perl 5 v5.26.1 i686-linux
- Status
- Pass
- From
- Dist
-
Pod-Markdown v3.200
- Platform
- Perl 5 v5.26.1 i686-linux
- Date
- 2020-04-22 20:36:11
- ID
- e75d3258-84d8-11ea-a56a-bc7571efd501
This distribution has been tested as part of the CPAN Testers
project, supporting the Perl programming language. See
http://wiki.cpantesters.org/ for more information or email
questions to cpan-testers-discuss@perl.org
--
Dear Randy Stauner,
This is a computer-generated report for Pod-Markdown-3.200
on perl 5.26.1, created by CPAN-Reporter-1.2018.
Thank you for uploading your work to CPAN. Congratulations!
All tests were successful.
Sections of this report:
* Tester comments
* Program output
* Prerequisites
* Environment and other context
------------------------------
TESTER COMMENTS
------------------------------
Additional comments from tester:
none provided
------------------------------
PROGRAM OUTPUT
------------------------------
Output from '/usr/bin/make test':
PERL_DL_NONLAZY=1 "/home/ct/opt/perl/5.26.1/bin/perl5.26.1" "-MExtUtils::Command::MM" "-MTest::Harness" "-e" "undef *Test::Harness::Switches; test_harness(0, 'blib/lib', 'blib/arch')" t/*.t
t/00-compile.t ......... ok
#
# Versions for all modules listed in MYMETA.json (including optional ones):
#
# === Configure Requires ===
#
# Module Want Have
# ------------------- ---- ----
# ExtUtils::MakeMaker any 7.44
#
# === Build Requires ===
#
# Module Want Have
# ------------------- ---- ----
# ExtUtils::MakeMaker any 7.44
#
# === Test Requires ===
#
# Module Want Have
# --------------------- ---- --------
# Exporter any 5.72
# ExtUtils::MakeMaker any 7.44
# File::Spec any 3.67
# File::Spec::Functions any 3.67
# File::Temp any 0.2304
# IO::Handle any 1.36
# IPC::Open3 any 1.20
# Symbol any 1.08
# Test::Differences any 0.67
# Test::More 0.88 1.302175
# lib any 0.64
# utf8 any 1.19
#
# === Test Recommends ===
#
# Module Want Have
# ---------- -------- --------
# CPAN::Meta 2.120900 2.150010
#
# === Runtime Requires ===
#
# Module Want Have
# -------------------- ---- -----
# Encode any 3.05
# Getopt::Long any 2.49
# Pod::Simple 3.27 3.35
# Pod::Simple::Methody any 3.35
# Pod::Usage any 1.69
# URI::Escape any 3.31
# parent any 0.236
# strict any 1.11
# warnings any 1.37
#
# === Runtime Recommends ===
#
# Module Want Have
# -------------- ---- ----
# HTML::Entities any 3.69
#
t/00-report-prereqs.t .. ok
t/back-compat.t ........ ok
t/basic.t .............. ok
t/codes.t .............. ok
t/encoding.t ........... ok
t/entities.t ........... ok
t/escape.t ............. ok
t/formats.t ............ ok
t/links.t .............. ok
t/lists.t .............. ok
t/meta.t ............... ok
t/misc.t ............... ok
t/nested.t ............. ok
t/new.t ................ ok
t/perldoc.t ............ ok
t/pod2markdown.t ....... ok
t/verbatim.t ........... ok
All tests successful.
Files=18, Tests=354, 3 wallclock secs ( 0.04 usr 0.02 sys + 1.78 cusr 0.19 csys = 2.03 CPU)
Result: PASS
------------------------------
PREREQUISITES
------------------------------
Prerequisite modules loaded:
requires:
Module Need Have
--------------------- -------- --------
Encode 0 3.05
Getopt::Long 0 2.49
parent 0 0.236
perl 5.008 5.026001
Pod::Simple 3.27 3.35
Pod::Simple::Methody 0 3.35
Pod::Usage 0 1.69
strict 0 1.11
URI::Escape 0 3.31
warnings 0 1.37
build_requires:
Module Need Have
--------------------- -------- --------
Exporter 0 5.72
ExtUtils::MakeMaker 0 7.44
File::Spec 0 3.67
File::Spec::Functions 0 3.67
File::Temp 0 0.2304
IO::Handle 0 1.36
IPC::Open3 0 1.20
lib 0 0.64
Symbol 0 1.08
Test::Differences 0 0.67
Test::More 0.88 1.302175
utf8 0 1.19
configure_requires:
Module Need Have
--------------------- -------- --------
ExtUtils::MakeMaker 0 7.44
perl 5.008 5.026001
opt_requires:
Module Need Have
--------------------- -------- --------
HTML::Entities 0 3.69
opt_build_requires:
Module Need Have
--------------------- -------- --------
CPAN::Meta 2.120900 2.150010
------------------------------
ENVIRONMENT AND OTHER CONTEXT
------------------------------
Environment variables:
LANG = en_US.UTF-8
LC_COLLATE = C
NONINTERACTIVE_TESTING = 1
PATH = /home/ct/opt/perl/5.26.1/bin:/ct/bin:/usr/local/bin:/usr/bin:/bin:/usr/games
PERL5LIB =
PERL5OPT =
PERL5_CPANPLUS_IS_RUNNING = 10006
PERL5_CPAN_IS_RUNNING = 10006
PERL_MM_USE_DEFAULT = 1
PERL_USE_UNSAFE_INC = 1
SHELL = /bin/tcsh
TERM = screen.xterm-256color
Perl special variables (and OS-specific diagnostics, for MSWin32):
$^X = /home/ct/opt/perl/5.26.1/bin/perl5.26.1
$UID/$EUID = 1001 / 1001
$GID = 1001 1001
$EGID = 1001 1001
Perl module toolchain versions installed:
Module Have
------------------- ----------
CPAN 2.18
CPAN::Meta 2.150010
Cwd 3.67
ExtUtils::CBuilder 0.280234
ExtUtils::Command 7.44
ExtUtils::Install 2.06
ExtUtils::MakeMaker 7.44
ExtUtils::Manifest 1.70
ExtUtils::ParseXS 3.35
File::Spec 3.67
JSON 4.02
JSON::PP 2.27400_02
Module::Build 0.4231
Module::Signature n/a
Parse::CPAN::Meta 2.150010
Test::Harness 3.38
Test::More 1.302175
YAML 1.30
YAML::Syck n/a
version 0.9917
--
Summary of my perl5 (revision 5 version 26 subversion 1) configuration:
Platform:
osname=linux
osvers=4.19.0-8-686-pae
archname=i686-linux
uname='linux ct-debian-i386-01 4.19.0-8-686-pae #1 smp debian 4.19.98-1 (2020-01-26) i686 gnulinux '
config_args='-Dprefix=/home/ct/opt/perl/5.26.1 -de -Dcc=clang -Dusedevel -Dman1dir=none -Dman3dir=none -A'eval:scriptdir=/home/ct/opt/perl/5.26.1/bin''
hint=recommended
useposix=true
d_sigaction=define
useithreads=undef
usemultiplicity=undef
use64bitint=undef
use64bitall=undef
uselongdouble=undef
usemymalloc=n
default_inc_excludes_dot=define
bincompat5005=undef
Compiler:
cc='clang'
ccflags ='-fno-strict-aliasing -pipe -fstack-protector-strong -I/usr/local/include -D_LARGEFILE_SOURCE -D_FILE_OFFSET_BITS=64 -D_FORTIFY_SOURCE=2'
optimize='-O2'
cppflags='-fno-strict-aliasing -pipe -fstack-protector-strong -I/usr/local/include'
ccversion=''
gccversion='4.2.1 Compatible Clang 7.0.1 (tags/RELEASE_701/final)'
gccosandvers=''
intsize=4
longsize=4
ptrsize=4
doublesize=8
byteorder=1234
doublekind=3
d_longlong=define
longlongsize=8
d_longdbl=define
longdblsize=12
longdblkind=3
ivtype='long'
ivsize=4
nvtype='double'
nvsize=8
Off_t='off_t'
lseeksize=8
alignbytes=4
prototype=define
Linker and Libraries:
ld='clang'
ldflags =' -fstack-protector-strong -L/usr/local/lib'
libpth=/usr/local/lib /usr/lib/llvm-7/lib/clang/7.0.1/lib /usr/include/i386-linux-gnu /usr/lib /lib/i386-linux-gnu /lib/../lib /usr/lib/i386-linux-gnu /usr/lib/../lib /lib /lib64 /usr/lib64
libs=-lpthread -lnsl -ldl -lm -lcrypt -lutil -lc
perllibs=-lpthread -lnsl -ldl -lm -lcrypt -lutil -lc
libc=libc-2.28.so
so=so
useshrplib=false
libperl=libperl.a
gnulibc_version='2.28'
Dynamic Linking:
dlsrc=dl_dlopen.xs
dlext=so
d_dlsymun=undef
ccdlflags='-Wl,-E'
cccdlflags='-fPIC'
lddlflags='-shared -O2 -L/usr/local/lib -fstack-protector-strong'
Characteristics of this binary (from libperl):
Compile-time options:
HAS_TIMES
PERLIO_LAYERS
PERL_COPY_ON_WRITE
PERL_DONT_CREATE_GVSV
PERL_HASH_FUNC_ONE_AT_A_TIME_HARD
PERL_MALLOC_WRAP
PERL_OP_PARENT
PERL_PRESERVE_IVUV
PERL_USE_DEVEL
USE_LARGE_FILES
USE_LOCALE
USE_LOCALE_COLLATE
USE_LOCALE_CTYPE
USE_LOCALE_NUMERIC
USE_LOCALE_TIME
USE_PERLIO
USE_PERL_ATOF
Locally applied patches:
Devel::PatchPerl 1.64
Built under linux
Compiled at Apr 21 2020 23:17:45
%ENV:
PERL5LIB=""
PERL5OPT=""
PERL5_CPANPLUS_IS_RUNNING="10006"
PERL5_CPAN_IS_RUNNING="10006"
PERL_MM_USE_DEFAULT="1"
PERL_USE_UNSAFE_INC="1"
@INC:
/home/ct/opt/perl/5.26.1/lib/site_perl/5.26.1/i686-linux
/home/ct/opt/perl/5.26.1/lib/site_perl/5.26.1
/home/ct/opt/perl/5.26.1/lib/5.26.1/i686-linux
/home/ct/opt/perl/5.26.1/lib/5.26.1
.