CatalystX-OAuth2 v0.001009 Perl 5 v5.32.0 x86_64-linux

Status
Pass
From
Andreas J. König (ANDK)
Dist
CatalystX-OAuth2 v0.001009
Platform
Perl 5 v5.32.0 x86_64-linux
Date
2020-06-28 02:41:44
ID
e752bc6c-b8e8-11ea-8dd8-e2d39ea62e10
This distribution has been tested as part of the CPAN Testers
project, supporting the Perl programming language.  See
http://wiki.cpantesters.org/ for more information or email
questions to cpan-testers-discuss@perl.org


--
Dear John Napiorkowski,

This is a computer-generated report for CatalystX-OAuth2-0.001009
on perl 5.32.0, created by CPAN-Reporter-1.2018.

Thank you for uploading your work to CPAN.  Congratulations!
All tests were successful.

Sections of this report:

    * Tester comments
    * Program output
    * Prerequisites
    * Environment and other context

------------------------------
TESTER COMMENTS
------------------------------

Additional comments from tester:

this report is from an automated smoke testing program
and was not reviewed by a human for accuracy

------------------------------
PROGRAM OUTPUT
------------------------------

Output from '/usr/bin/make test':

PERL_DL_NONLAZY=1 "/tmp/basesmoker-reloperl-dAz0/bin/perl" "-MExtUtils::Command::MM" "-MTest::Harness" "-e" "undef *Test::Harness::Switches; test_harness(0, 'blib/lib', 'blib/arch')" t/*.t t/integration/*.t t/unit/*.t
t/00-compile.t ........................................ ok
t/author-pod-syntax.t ................................. skipped: these tests are for testing by the author
t/author-synopsis.t ................................... skipped: these tests are for testing by the author
t/integration/100-client-access-protected-resource.t .. ok
[error] Attribute (client_id) is required at /home/sand/src/perl/repoperls/installed-perls/host/k93bionic/v5.32.0/2aaf/lib/site_perl/5.32.0/x86_64-linux/Moose/Object.pm line 24
	Moose::Object::new('CatalystX::OAuth2::Request::RequestAuth') called at /tmp/loop_over_bdir-23593-qAzDnv/CatalystX-OAuth2-0.001009-0/blib/lib/Catalyst/ActionRole/OAuth2/RequestAuth.pm line 21
	Catalyst::ActionRole::OAuth2::RequestAuth::try {...}  at /home/sand/src/perl/repoperls/installed-perls/host/k93bionic/v5.32.0/2aaf/lib/site_perl/5.32.0/Try/Tiny.pm line 102
	eval {...} at /home/sand/src/perl/repoperls/installed-perls/host/k93bionic/v5.32.0/2aaf/lib/site_perl/5.32.0/Try/Tiny.pm line 93
	Try::Tiny::try('CODE(0x55b0c8509b38)', 'Try::Tiny::Catch=REF(0x55b0c80ce450)') called at /tmp/loop_over_bdir-23593-qAzDnv/CatalystX-OAuth2-0.001009-0/blib/lib/Catalyst/ActionRole/OAuth2/RequestAuth.pm line 31
	Catalyst::ActionRole::OAuth2::RequestAuth::build_oauth2_request('Moose::Meta::Class::__ANON__::SERIAL::11=HASH(0x55b0c81d5c90)', 'AuthServer::Controller::OAuth2::Provider=HASH(0x55b0c80f5858)', 'AuthServer=HASH(0x55b0c80f55b8)') called at /tmp/loop_over_bdir-23593-qAzDnv/CatalystX-OAuth2-0.001009-0/blib/lib/CatalystX/OAuth2/ActionRole/RequestInjector.pm line 17
	Class::MOP::Class:::before('Moose::Meta::Class::__ANON__::SERIAL::11=HASH(0x55b0c81d5c90)', 'AuthServer::Controller::OAuth2::Provider=HASH(0x55b0c80f5858)', 'AuthServer=HASH(0x55b0c80f55b8)') called at /home/sand/src/perl/repoperls/installed-perls/host/k93bionic/v5.32.0/2aaf/lib/site_perl/5.32.0/x86_64-linux/Class/MOP/Method/Wrapped.pm line 27
	Moose::Meta::Class::__ANON__::SERIAL::11::_wrapped_execute('Moose::Meta::Class::__ANON__::SERIAL::11=HASH(0x55b0c81d5c90)', 'AuthServer::Controller::OAuth2::Provider=HASH(0x55b0c80f5858)', 'AuthServer=HASH(0x55b0c80f55b8)') called at /home/sand/src/perl/repoperls/installed-perls/host/k93bionic/v5.32.0/2aaf/lib/site_perl/5.32.0/x86_64-linux/Class/MOP/Method/Wrapped.pm line 95
	Moose::Meta::Class::__ANON__::SERIAL::11::execute('Moose::Meta::Class::__ANON__::SERIAL::11=HASH(0x55b0c81d5c90)', 'AuthServer::Controller::OAuth2::Provider=HASH(0x55b0c80f5858)', 'AuthServer=HASH(0x55b0c80f55b8)') called at /home/sand/src/perl/repoperls/installed-perls/host/k93bionic/v5.32.0/2aaf/lib/site_perl/5.32.0/Catalyst.pm line 2061
	eval {...} at /home/sand/src/perl/repoperls/installed-perls/host/k93bionic/v5.32.0/2aaf/lib/site_perl/5.32.0/Catalyst.pm line 2061
	Catalyst::execute('AuthServer=HASH(0x55b0c80f55b8)', 'AuthServer::Controller::OAuth2::Provider', 'Moose::Meta::Class::__ANON__::SERIAL::11=HASH(0x55b0c81d5c90)') called at /home/sand/src/perl/repoperls/installed-perls/host/k93bionic/v5.32.0/2aaf/lib/site_perl/5.32.0/Catalyst/Action.pm line 353
	Catalyst::Action::dispatch('Moose::Meta::Class::__ANON__::SERIAL::11=HASH(0x55b0c81d5c90)', 'AuthServer=HASH(0x55b0c80f55b8)') called at /home/sand/src/perl/repoperls/installed-perls/host/k93bionic/v5.32.0/2aaf/lib/site_perl/5.32.0/Catalyst/ActionChain.pm line 46
	Catalyst::ActionChain::dispatch('Catalyst::ActionChain=HASH(0x55b0c8506a98)', 'AuthServer=HASH(0x55b0c80f55b8)') called at /home/sand/src/perl/repoperls/installed-perls/host/k93bionic/v5.32.0/2aaf/lib/site_perl/5.32.0/Catalyst/Controller.pm line 170
	Catalyst::Controller::_ACTION('AuthServer::Controller::OAuth2::Provider=HASH(0x55b0c80f5858)', 'AuthServer=HASH(0x55b0c80f55b8)') called at /home/sand/src/perl/repoperls/installed-perls/host/k93bionic/v5.32.0/2aaf/lib/site_perl/5.32.0/Catalyst/Action.pm line 358
	Catalyst::Action::execute('Catalyst::Action=HASH(0x55b0c81c1830)', 'AuthServer::Controller::OAuth2::Provider=HASH(0x55b0c80f5858)', 'AuthServer=HASH(0x55b0c80f55b8)') called at /home/sand/src/perl/repoperls/installed-perls/host/k93bionic/v5.32.0/2aaf/lib/site_perl/5.32.0/Catalyst.pm line 2061
	eval {...} at /home/sand/src/perl/repoperls/installed-perls/host/k93bionic/v5.32.0/2aaf/lib/site_perl/5.32.0/Catalyst.pm line 2061
	Catalyst::execute('AuthServer=HASH(0x55b0c80f55b8)', 'AuthServer::Controller::OAuth2::Provider', 'Catalyst::Action=HASH(0x55b0c81c1830)') called at /home/sand/src/perl/repoperls/installed-perls/host/k93bionic/v5.32.0/2aaf/lib/site_perl/5.32.0/Catalyst/Action.pm line 353
	Catalyst::Action::dispatch('Catalyst::Action=HASH(0x55b0c81c1830)', 'AuthServer=HASH(0x55b0c80f55b8)') called at /home/sand/src/perl/repoperls/installed-perls/host/k93bionic/v5.32.0/2aaf/lib/site_perl/5.32.0/Catalyst/Dispatcher.pm line 261
	Catalyst::Dispatcher::_do_forward('Catalyst::Dispatcher=HASH(0x55b0c5e3cae0)', 'forward', 'AuthServer=HASH(0x55b0c80f55b8)', '_ACTION') called at /home/sand/src/perl/repoperls/installed-perls/host/k93bionic/v5.32.0/2aaf/lib/site_perl/5.32.0/Catalyst/Dispatcher.pm line 241
	Catalyst::Dispatcher::forward('Catalyst::Dispatcher=HASH(0x55b0c5e3cae0)', 'AuthServer=HASH(0x55b0c80f55b8)', '_ACTION') called at /home/sand/src/perl/repoperls/installed-perls/host/k93bionic/v5.32.0/2aaf/lib/site_perl/5.32.0/Catalyst.pm line 483
	Catalyst::forward('AuthServer=HASH(0x55b0c80f55b8)', '_ACTION') called at /home/sand/src/perl/repoperls/installed-perls/host/k93bionic/v5.32.0/2aaf/lib/site_perl/5.32.0/Catalyst/Controller.pm line 134
	Catalyst::Controller::_DISPATCH('AuthServer::Controller::OAuth2::Provider=HASH(0x55b0c80f5858)', 'AuthServer=HASH(0x55b0c80f55b8)') called at /home/sand/src/perl/repoperls/installed-perls/host/k93bionic/v5.32.0/2aaf/lib/site_perl/5.32.0/Catalyst/Action.pm line 358
	Catalyst::Action::execute('Catalyst::Action=HASH(0x55b0c81bda70)', 'AuthServer::Controller::OAuth2::Provider=HASH(0x55b0c80f5858)', 'AuthServer=HASH(0x55b0c80f55b8)') called at /home/sand/src/perl/repoperls/installed-perls/host/k93bionic/v5.32.0/2aaf/lib/site_perl/5.32.0/Catalyst.pm line 2061
	eval {...} at /home/sand/src/perl/repoperls/installed-perls/host/k93bionic/v5.32.0/2aaf/lib/site_perl/5.32.0/Catalyst.pm line 2061
	Catalyst::execute('AuthServer=HASH(0x55b0c80f55b8)', 'AuthServer::Controller::OAuth2::Provider', 'Catalyst::Action=HASH(0x55b0c81bda70)') called at /home/sand/src/perl/repoperls/installed-perls/host/k93bionic/v5.32.0/2aaf/lib/site_perl/5.32.0/Catalyst/Action.pm line 353
	Catalyst::Action::dispatch('Catalyst::Action=HASH(0x55b0c81bda70)', 'AuthServer=HASH(0x55b0c80f55b8)') called at /home/sand/src/perl/repoperls/installed-perls/host/k93bionic/v5.32.0/2aaf/lib/site_perl/5.32.0/Catalyst/Dispatcher.pm line 261
	Catalyst::Dispatcher::_do_forward('Catalyst::Dispatcher=HASH(0x55b0c5e3cae0)', 'forward', 'AuthServer=HASH(0x55b0c80f55b8)', '/oauth2/provider/_DISPATCH') called at /home/sand/src/perl/repoperls/installed-perls/host/k93bionic/v5.32.0/2aaf/lib/site_perl/5.32.0/Catalyst/Dispatcher.pm line 241
	Catalyst::Dispatcher::forward('Catalyst::Dispatcher=HASH(0x55b0c5e3cae0)', 'AuthServer=HASH(0x55b0c80f55b8)', '/oauth2/provider/_DISPATCH') called at /home/sand/src/perl/repoperls/installed-perls/host/k93bionic/v5.32.0/2aaf/lib/site_perl/5.32.0/Catalyst.pm line 483
	Catalyst::forward('AuthServer=HASH(0x55b0c80f55b8)', '/oauth2/provider/_DISPATCH') called at /home/sand/src/perl/repoperls/installed-perls/host/k93bionic/v5.32.0/2aaf/lib/site_perl/5.32.0/Catalyst/Dispatcher.pm line 107
	Catalyst::Dispatcher::dispatch('Catalyst::Dispatcher=HASH(0x55b0c5e3cae0)', 'AuthServer=HASH(0x55b0c80f55b8)') called at /home/sand/src/perl/repoperls/installed-perls/host/k93bionic/v5.32.0/2aaf/lib/site_perl/5.32.0/Catalyst.pm line 2007
	Catalyst::dispatch('AuthServer=HASH(0x55b0c80f55b8)') called at /home/sand/src/perl/repoperls/installed-perls/host/k93bionic/v5.32.0/2aaf/lib/site_perl/5.32.0/x86_64-linux/Class/MOP/Method/Wrapped.pm line 56
	AuthServer::_wrapped_dispatch('AuthServer=HASH(0x55b0c80f55b8)') called at /home/sand/src/perl/repoperls/installed-perls/host/k93bionic/v5.32.0/2aaf/lib/site_perl/5.32.0/x86_64-linux/Class/MOP/Method/Wrapped.pm line 95
	AuthServer::dispatch('AuthServer=HASH(0x55b0c80f55b8)') called at /home/sand/src/perl/repoperls/installed-perls/host/k93bionic/v5.32.0/2aaf/lib/site_perl/5.32.0/Catalyst.pm line 2413
	Catalyst::try {...}  at /home/sand/src/perl/repoperls/installed-perls/host/k93bionic/v5.32.0/2aaf/lib/site_perl/5.32.0/Try/Tiny.pm line 102
	eval {...} at /home/sand/src/perl/repoperls/installed-perls/host/k93bionic/v5.32.0/2aaf/lib/site_perl/5.32.0/Try/Tiny.pm line 93
	Try::Tiny::try('CODE(0x55b0c80fc878)', 'Try::Tiny::Catch=REF(0x55b0c7a42a50)') called at /home/sand/src/perl/repoperls/installed-perls/host/k93bionic/v5.32.0/2aaf/lib/site_perl/5.32.0/Catalyst.pm line 2422
	Catalyst::handle_request('AuthServer', 'env', 'HASH(0x55b0c80504a8)', 'response_cb', 'CODE(0x55b0c80f7c40)') called at /home/sand/src/perl/repoperls/installed-perls/host/k93bionic/v5.32.0/2aaf/lib/site_perl/5.32.0/Catalyst/Engine.pm line 807
	Catalyst::Engine::__ANON__('CODE(0x55b0c80f7c40)') called at /home/sand/src/perl/repoperls/installed-perls/host/k93bionic/v5.32.0/2aaf/lib/site_perl/5.32.0/Plack/Middleware/HTTPExceptions.pm line 32
	Plack::Middleware::HTTPExceptions::try {...}  at /home/sand/src/perl/repoperls/installed-perls/host/k93bionic/v5.32.0/2aaf/lib/site_perl/5.32.0/Try/Tiny.pm line 102
	eval {...} at /home/sand/src/perl/repoperls/installed-perls/host/k93bionic/v5.32.0/2aaf/lib/site_perl/5.32.0/Try/Tiny.pm line 93
	Try::Tiny::try('CODE(0x55b0c7a81418)', 'Try::Tiny::Catch=REF(0x55b0c78f5398)') called at /home/sand/src/perl/repoperls/installed-perls/host/k93bionic/v5.32.0/2aaf/lib/site_perl/5.32.0/Plack/Middleware/HTTPExceptions.pm line 41
	Plack::Middleware::HTTPExceptions::__ANON__('CODE(0x55b0c818d228)') called at /home/sand/src/perl/repoperls/installed-perls/host/k93bionic/v5.32.0/2aaf/lib/site_perl/5.32.0/Plack/Util.pm line 339
	Plack::Util::__ANON__('CODE(0x55b0c7dfc710)') called at /home/sand/src/perl/repoperls/installed-perls/host/k93bionic/v5.32.0/2aaf/lib/site_perl/5.32.0/Plack/Util.pm line 339
	Plack::Util::__ANON__('CODE(0x55b0c8101320)') called at /home/sand/src/perl/repoperls/installed-perls/host/k93bionic/v5.32.0/2aaf/lib/site_perl/5.32.0/Plack/Util.pm line 339
	Plack::Util::__ANON__('CODE(0x55b0c81688b8)') called at /home/sand/src/perl/repoperls/installed-perls/host/k93bionic/v5.32.0/2aaf/lib/site_perl/5.32.0/HTTP/Message/PSGI.pm line 100
	HTTP::Message::PSGI::res_from_psgi('CODE(0x55b0c7892990)') called at /home/sand/src/perl/repoperls/installed-perls/host/k93bionic/v5.32.0/2aaf/lib/site_perl/5.32.0/HTTP/Message/PSGI.pm line 156
	HTTP::Response::from_psgi('HTTP::Response', 'CODE(0x55b0c7892990)') called at /home/sand/src/perl/repoperls/installed-perls/host/k93bionic/v5.32.0/2aaf/lib/site_perl/5.32.0/Plack/Test/MockHTTP.pm line 24
	Plack::Test::MockHTTP::try {...}  at /home/sand/src/perl/repoperls/installed-perls/host/k93bionic/v5.32.0/2aaf/lib/site_perl/5.32.0/Try/Tiny.pm line 100
	eval {...} at /home/sand/src/perl/repoperls/installed-perls/host/k93bionic/v5.32.0/2aaf/lib/site_perl/5.32.0/Try/Tiny.pm line 93
	Try::Tiny::try('CODE(0x55b0c8195b08)', 'Try::Tiny::Catch=REF(0x55b0c84923b8)') called at /home/sand/src/perl/repoperls/installed-perls/host/k93bionic/v5.32.0/2aaf/lib/site_perl/5.32.0/Plack/Test/MockHTTP.pm line 27
	Plack::Test::MockHTTP::request('Plack::Test::MockHTTP=HASH(0x55b0c84a3e80)', 'HTTP::Request=HASH(0x55b0c84a3b08)') called at /home/sand/src/perl/repoperls/installed-perls/host/k93bionic/v5.32.0/2aaf/lib/site_perl/5.32.0/Plack/Test.pm line 38
	Plack::Test::__ANON__('HTTP::Request=HASH(0x55b0c84a3b08)') called at /home/sand/src/perl/repoperls/installed-perls/host/k93bionic/v5.32.0/2aaf/lib/site_perl/5.32.0/Catalyst/Test.pm line 290
	Catalyst::Test::__ANON__('CODE(0x55b0c84a3e20)') called at /home/sand/src/perl/repoperls/installed-perls/host/k93bionic/v5.32.0/2aaf/lib/site_perl/5.32.0/Plack/Test.pm line 38
	Plack::Test::test_psgi('app', 'CODE(0x55b0c84932f8)', 'mangle_response', 'CODE(0x55b0c844c508)', 'app', 'CODE(0x55b0c8400d98)', 'client', 'CODE(0x55b0c84a3cb8)') called at /home/sand/src/perl/repoperls/installed-perls/host/k93bionic/v5.32.0/2aaf/lib/site_perl/5.32.0/Catalyst/Test.pm line 293
	Catalyst::Test::_request('HASH(0x55b0c84a3880)', '/request') called at /home/sand/src/perl/repoperls/installed-perls/host/k93bionic/v5.32.0/2aaf/lib/site_perl/5.32.0/Catalyst/Test.pm line 336
	Catalyst::Test::_local_request('AuthServer', '/request') called at /home/sand/src/perl/repoperls/installed-perls/host/k93bionic/v5.32.0/2aaf/lib/site_perl/5.32.0/Catalyst/Test.pm line 32
	Catalyst::Test::__ANON__('/request') called at /home/sand/src/perl/repoperls/installed-perls/host/k93bionic/v5.32.0/2aaf/lib/site_perl/5.32.0/Catalyst/Test.pm line 72
	Catalyst::Test::__ANON__('/request') called at t/unit/100-controller-role-provider.t line 30
bless( {
  "Plugin::ConfigLoader" => {},
  action => bless( {
    args_constraints => [],
    attributes => {
      Args => [
        0,
      ],
      Chained => [
        "/oauth2/provider/base",
      ],
      Does => [
        "Catalyst::ActionRole::OAuth2::RequestAuth",
      ],
      PathPart => [
        bless( do{\(my $o = "request")}, 'URI::_generic' ),
      ],
    },
    chain => [
      bless( {
        attributes => {
          CaptureArgs => [
            0,
          ],
          Chained => [
            "/",
          ],
          PathPart => [
            bless( do{\(my $o = "")}, 'URI::_generic' ),
          ],
        },
        class => "AuthServer::Controller::OAuth2::Provider",
        code => sub {
            package AuthServer::Controller::OAuth2::Provider;
            use warnings;
            use strict;
            
        },
        name => "base",
        namespace => "oauth2/provider",
        number_of_captures => 0,
        reverse => "oauth2/provider/base",
      }, 'Catalyst::Action' ),
      bless( {
        args_constraints => $VAR1->{action}{args_constraints},
        attributes => $VAR1->{action}{attributes},
        class => "AuthServer::Controller::OAuth2::Provider",
        code => sub {
            package AuthServer::Controller::OAuth2::Provider;
            use warnings;
            use strict;
            
        },
        enable_client_secret => 0,
        name => "request",
        namespace => "oauth2/provider",
        number_of_args => 0,
        reverse => "oauth2/provider/request",
      }, 'Moose::Meta::Class::__ANON__::SERIAL::11' ),
    ],
    class => "AuthServer::Controller::OAuth2::Provider",
    code => $VAR1->{action}{chain}[1]{code},
    enable_client_secret => 0,
    name => "request",
    namespace => "oauth2/provider",
    number_of_args => 0,
    reverse => "oauth2/provider/request",
  }, 'Catalyst::ActionChain' ),
  counter => {},
  home => "/tmp/loop_over_bdir-23593-qAzDnv/CatalystX-OAuth2-0.001009-0/t/lib/AuthServer",
  namespace => "oauth2/provider",
  request => bless( {
    _body => 0,
    _log => bless( {
      _body => undef,
      _psgi_errors => *::STDERR,
      abort => undef,
      autoflush => 1,
      level => 31,
    }, 'Catalyst::Log' ),
    _path => "request",
    _read_length => 0,
    _read_position => 0,
    _use_hash_multivalue => 0,
    action => "/oauth2/provider/request",
    address => "127.0.0.1",
    arguments => [],
    base => bless( do{\(my $o = "http://localhost/")}, 'URI::http' ),
    body_parameters => {},
    captures => [],
    cookies => {},
    data_handlers => {
      "application/json" => sub {
          package Catalyst;
          use warnings;
          use strict;
          my($fh, $req) = @_;
          require JSON::MaybeXS;
          my $slurped;
          return eval {
              do {
                  local $/;
                  $slurped = $fh->getline;
                  &JSON::MaybeXS::decode_json($slurped)
              }
          } || 'Catalyst::Exception'->throw(sprintf(q[Error Parsing POST '%s', Error: %s], defined $slurped ? $slurped : 'undef', $@));
      },
      "application/x-www-form-urlencoded" => sub {
          package Catalyst;
          use warnings;
          use strict;
          my($fh, $req) = @_;
          my $params = $req->_use_hash_multivalue ? $req->body_parameters->mixed : $req->body_parameters;
          Class::Load::load_first_existing_class('CGI::Struct::XS', 'CGI::Struct')->can('build_cgi_struct')->($params);
      },
    },
    env => {
      CONTENT_LENGTH => 0,
      "Catalyst.Stash.v2" => sub {
          package Catalyst::Middleware::Stash;
          use warnings;
          use strict;
          if (@_) {
              my $new_stash = @_ > 1 ? {@_} : $_[0];
              croak('stash takes a hash or hashref') unless ref $new_stash;
              foreach my $key (keys %$new_stash) {
                  $stash->{$key} = $new_stash->{$key};
              }
          }
          $stash;
      },
      HTTP_HOST => "localhost",
      PATH_INFO => "/request",
      QUERY_STRING => "",
      REMOTE_ADDR => "127.0.0.1",
      REMOTE_HOST => "localhost",
      REMOTE_PORT => 14807,
      REQUEST_METHOD => "GET",
      REQUEST_URI => "/request",
      SCRIPT_NAME => "",
      SERVER_NAME => "localhost",
      SERVER_PORT => 80,
      SERVER_PROTOCOL => "HTTP/1.1",
      "plack.original_request_method" => "GET",
      "psgi.errors" => *::STDERR,
      "psgi.input" => \*{"HTTP::Message::PSGI::\$input"},
      "psgi.multiprocess" => "",
      "psgi.multithread" => "",
      "psgi.nonblocking" => "",
      "psgi.run_once" => 1,
      "psgi.streaming" => 1,
      "psgi.url_scheme" => "http",
      "psgi.version" => [
        1,
        1,
      ],
    },
    headers => bless( {
      "::std_case" => {
        cookie => "Cookie",
      },
      "content-length" => 0,
      host => "localhost",
    }, 'HTTP::Headers' ),
    hostname => "localhost",
    match => "/oauth2/provider/request",
    method => "GET",
    parameters => {},
    protocol => "HTTP/1.1",
    query_parameters => {},
    remote_user => undef,
    secure => 0,
    uploads => {},
    uri => bless( do{\(my $o = "http://localhost/request")}, 'URI::http' ),
  }, 'Catalyst::Request' ),
  response => bless( {
    _context => $VAR1,
    _log => $VAR1->{request}{_log},
    body => "warning: response_type/client_id invalid or missing",
    cookies => {},
    encodable_content_type => qr/text|xml$|javascript$/,
    encoding => bless( {
      Name => "utf-8-strict",
      strict_utf8 => 1,
    }, 'Encode::utf8' ),
    finalized_headers => 1,
    headers => bless( {}, 'HTTP::Headers' ),
    status => 200,
  }, 'Catalyst::Response' ),
  root => bless( {
    dirs => [
      "",
      "tmp",
      "loop_over_bdir-23593-qAzDnv",
      "CatalystX-OAuth2-0.001009-0",
      "t",
      "lib",
      "AuthServer",
      "root",
    ],
    file_spec_class => undef,
    volume => "",
  }, 'Path::Class::Dir' ),
  stack => [],
  stash => {},
  state => 1,
  stats => bless( {
    enable => 0,
    tree => bless( {
      _children => [],
      _depth => -1,
      _height => 1,
      _node => {
        t => [
          1593311953,
          899425,
        ],
      },
      _parent => "root",
      _uid => "0x55b0c80f1c68",
      _width => 1,
    }, 'Tree::Simple' ),
  }, 'Catalyst::Stats' ),
}, 'AuthServer' )
t/unit/100-controller-role-provider.t ................. ok
[error] Attribute (client_id) is required at /home/sand/src/perl/repoperls/installed-perls/host/k93bionic/v5.32.0/2aaf/lib/site_perl/5.32.0/x86_64-linux/Moose/Object.pm line 24
	Moose::Object::new('CatalystX::OAuth2::Request::RequestAuth') called at /tmp/loop_over_bdir-23593-qAzDnv/CatalystX-OAuth2-0.001009-0/blib/lib/Catalyst/ActionRole/OAuth2/RequestAuth.pm line 21
	Catalyst::ActionRole::OAuth2::RequestAuth::try {...}  at /home/sand/src/perl/repoperls/installed-perls/host/k93bionic/v5.32.0/2aaf/lib/site_perl/5.32.0/Try/Tiny.pm line 102
	eval {...} at /home/sand/src/perl/repoperls/installed-perls/host/k93bionic/v5.32.0/2aaf/lib/site_perl/5.32.0/Try/Tiny.pm line 93
	Try::Tiny::try('CODE(0x55a7b8159380)', 'Try::Tiny::Catch=REF(0x55a7b76cb388)') called at /tmp/loop_over_bdir-23593-qAzDnv/CatalystX-OAuth2-0.001009-0/blib/lib/Catalyst/ActionRole/OAuth2/RequestAuth.pm line 31
	Catalyst::ActionRole::OAuth2::RequestAuth::build_oauth2_request('Moose::Meta::Class::__ANON__::SERIAL::11=HASH(0x55a7b7e77370)', 'AuthServer::Controller::OAuth2::Provider=HASH(0x55a7b7d90018)', 'AuthServer=HASH(0x55a7b74faa60)') called at /tmp/loop_over_bdir-23593-qAzDnv/CatalystX-OAuth2-0.001009-0/blib/lib/CatalystX/OAuth2/ActionRole/RequestInjector.pm line 17
	Class::MOP::Class:::before('Moose::Meta::Class::__ANON__::SERIAL::11=HASH(0x55a7b7e77370)', 'AuthServer::Controller::OAuth2::Provider=HASH(0x55a7b7d90018)', 'AuthServer=HASH(0x55a7b74faa60)') called at /home/sand/src/perl/repoperls/installed-perls/host/k93bionic/v5.32.0/2aaf/lib/site_perl/5.32.0/x86_64-linux/Class/MOP/Method/Wrapped.pm line 27
	Moose::Meta::Class::__ANON__::SERIAL::11::_wrapped_execute('Moose::Meta::Class::__ANON__::SERIAL::11=HASH(0x55a7b7e77370)', 'AuthServer::Controller::OAuth2::Provider=HASH(0x55a7b7d90018)', 'AuthServer=HASH(0x55a7b74faa60)') called at /home/sand/src/perl/repoperls/installed-perls/host/k93bionic/v5.32.0/2aaf/lib/site_perl/5.32.0/x86_64-linux/Class/MOP/Method/Wrapped.pm line 95
	Moose::Meta::Class::__ANON__::SERIAL::11::execute('Moose::Meta::Class::__ANON__::SERIAL::11=HASH(0x55a7b7e77370)', 'AuthServer::Controller::OAuth2::Provider=HASH(0x55a7b7d90018)', 'AuthServer=HASH(0x55a7b74faa60)') called at /home/sand/src/perl/repoperls/installed-perls/host/k93bionic/v5.32.0/2aaf/lib/site_perl/5.32.0/Catalyst.pm line 2061
	eval {...} at /home/sand/src/perl/repoperls/installed-perls/host/k93bionic/v5.32.0/2aaf/lib/site_perl/5.32.0/Catalyst.pm line 2061
	Catalyst::execute('AuthServer=HASH(0x55a7b74faa60)', 'AuthServer::Controller::OAuth2::Provider', 'Moose::Meta::Class::__ANON__::SERIAL::11=HASH(0x55a7b7e77370)') called at /home/sand/src/perl/repoperls/installed-perls/host/k93bionic/v5.32.0/2aaf/lib/site_perl/5.32.0/Catalyst/Action.pm line 353
	Catalyst::Action::dispatch('Moose::Meta::Class::__ANON__::SERIAL::11=HASH(0x55a7b7e77370)', 'AuthServer=HASH(0x55a7b74faa60)') called at /home/sand/src/perl/repoperls/installed-perls/host/k93bionic/v5.32.0/2aaf/lib/site_perl/5.32.0/Catalyst/ActionChain.pm line 46
	Catalyst::ActionChain::dispatch('Catalyst::ActionChain=HASH(0x55a7b8155258)', 'AuthServer=HASH(0x55a7b74faa60)') called at /home/sand/src/perl/repoperls/installed-perls/host/k93bionic/v5.32.0/2aaf/lib/site_perl/5.32.0/Catalyst/Controller.pm line 170
	Catalyst::Controller::_ACTION('AuthServer::Controller::OAuth2::Provider=HASH(0x55a7b7d90018)', 'AuthServer=HASH(0x55a7b74faa60)') called at /home/sand/src/perl/repoperls/installed-perls/host/k93bionic/v5.32.0/2aaf/lib/site_perl/5.32.0/Catalyst/Action.pm line 358
	Catalyst::Action::execute('Catalyst::Action=HASH(0x55a7b7e65fa8)', 'AuthServer::Controller::OAuth2::Provider=HASH(0x55a7b7d90018)', 'AuthServer=HASH(0x55a7b74faa60)') called at /home/sand/src/perl/repoperls/installed-perls/host/k93bionic/v5.32.0/2aaf/lib/site_perl/5.32.0/Catalyst.pm line 2061
	eval {...} at /home/sand/src/perl/repoperls/installed-perls/host/k93bionic/v5.32.0/2aaf/lib/site_perl/5.32.0/Catalyst.pm line 2061
	Catalyst::execute('AuthServer=HASH(0x55a7b74faa60)', 'AuthServer::Controller::OAuth2::Provider', 'Catalyst::Action=HASH(0x55a7b7e65fa8)') called at /home/sand/src/perl/repoperls/installed-perls/host/k93bionic/v5.32.0/2aaf/lib/site_perl/5.32.0/Catalyst/Action.pm line 353
	Catalyst::Action::dispatch('Catalyst::Action=HASH(0x55a7b7e65fa8)', 'AuthServer=HASH(0x55a7b74faa60)') called at /home/sand/src/perl/repoperls/installed-perls/host/k93bionic/v5.32.0/2aaf/lib/site_perl/5.32.0/Catalyst/Dispatcher.pm line 261
	Catalyst::Dispatcher::_do_forward('Catalyst::Dispatcher=HASH(0x55a7b5adfa18)', 'forward', 'AuthServer=HASH(0x55a7b74faa60)', '_ACTION') called at /home/sand/src/perl/repoperls/installed-perls/host/k93bionic/v5.32.0/2aaf/lib/site_perl/5.32.0/Catalyst/Dispatcher.pm line 241
	Catalyst::Dispatcher::forward('Catalyst::Dispatcher=HASH(0x55a7b5adfa18)', 'AuthServer=HASH(0x55a7b74faa60)', '_ACTION') called at /home/sand/src/perl/repoperls/installed-perls/host/k93bionic/v5.32.0/2aaf/lib/site_perl/5.32.0/Catalyst.pm line 483
	Catalyst::forward('AuthServer=HASH(0x55a7b74faa60)', '_ACTION') called at /home/sand/src/perl/repoperls/installed-perls/host/k93bionic/v5.32.0/2aaf/lib/site_perl/5.32.0/Catalyst/Controller.pm line 134
	Catalyst::Controller::_DISPATCH('AuthServer::Controller::OAuth2::Provider=HASH(0x55a7b7d90018)', 'AuthServer=HASH(0x55a7b74faa60)') called at /home/sand/src/perl/repoperls/installed-perls/host/k93bionic/v5.32.0/2aaf/lib/site_perl/5.32.0/Catalyst/Action.pm line 358
	Catalyst::Action::execute('Catalyst::Action=HASH(0x55a7b7e62200)', 'AuthServer::Controller::OAuth2::Provider=HASH(0x55a7b7d90018)', 'AuthServer=HASH(0x55a7b74faa60)') called at /home/sand/src/perl/repoperls/installed-perls/host/k93bionic/v5.32.0/2aaf/lib/site_perl/5.32.0/Catalyst.pm line 2061
	eval {...} at /home/sand/src/perl/repoperls/installed-perls/host/k93bionic/v5.32.0/2aaf/lib/site_perl/5.32.0/Catalyst.pm line 2061
	Catalyst::execute('AuthServer=HASH(0x55a7b74faa60)', 'AuthServer::Controller::OAuth2::Provider', 'Catalyst::Action=HASH(0x55a7b7e62200)') called at /home/sand/src/perl/repoperls/installed-perls/host/k93bionic/v5.32.0/2aaf/lib/site_perl/5.32.0/Catalyst/Action.pm line 353
	Catalyst::Action::dispatch('Catalyst::Action=HASH(0x55a7b7e62200)', 'AuthServer=HASH(0x55a7b74faa60)') called at /home/sand/src/perl/repoperls/installed-perls/host/k93bionic/v5.32.0/2aaf/lib/site_perl/5.32.0/Catalyst/Dispatcher.pm line 261
	Catalyst::Dispatcher::_do_forward('Catalyst::Dispatcher=HASH(0x55a7b5adfa18)', 'forward', 'AuthServer=HASH(0x55a7b74faa60)', '/oauth2/provider/_DISPATCH') called at /home/sand/src/perl/repoperls/installed-perls/host/k93bionic/v5.32.0/2aaf/lib/site_perl/5.32.0/Catalyst/Dispatcher.pm line 241
	Catalyst::Dispatcher::forward('Catalyst::Dispatcher=HASH(0x55a7b5adfa18)', 'AuthServer=HASH(0x55a7b74faa60)', '/oauth2/provider/_DISPATCH') called at /home/sand/src/perl/repoperls/installed-perls/host/k93bionic/v5.32.0/2aaf/lib/site_perl/5.32.0/Catalyst.pm line 483
	Catalyst::forward('AuthServer=HASH(0x55a7b74faa60)', '/oauth2/provider/_DISPATCH') called at /home/sand/src/perl/repoperls/installed-perls/host/k93bionic/v5.32.0/2aaf/lib/site_perl/5.32.0/Catalyst/Dispatcher.pm line 107
	Catalyst::Dispatcher::dispatch('Catalyst::Dispatcher=HASH(0x55a7b5adfa18)', 'AuthServer=HASH(0x55a7b74faa60)') called at /home/sand/src/perl/repoperls/installed-perls/host/k93bionic/v5.32.0/2aaf/lib/site_perl/5.32.0/Catalyst.pm line 2007
	Catalyst::dispatch('AuthServer=HASH(0x55a7b74faa60)') called at /home/sand/src/perl/repoperls/installed-perls/host/k93bionic/v5.32.0/2aaf/lib/site_perl/5.32.0/x86_64-linux/Class/MOP/Method/Wrapped.pm line 56
	AuthServer::_wrapped_dispatch('AuthServer=HASH(0x55a7b74faa60)') called at /home/sand/src/perl/repoperls/installed-perls/host/k93bionic/v5.32.0/2aaf/lib/site_perl/5.32.0/x86_64-linux/Class/MOP/Method/Wrapped.pm line 95
	AuthServer::dispatch('AuthServer=HASH(0x55a7b74faa60)') called at /home/sand/src/perl/repoperls/installed-perls/host/k93bionic/v5.32.0/2aaf/lib/site_perl/5.32.0/Catalyst.pm line 2413
	Catalyst::try {...}  at /home/sand/src/perl/repoperls/installed-perls/host/k93bionic/v5.32.0/2aaf/lib/site_perl/5.32.0/Try/Tiny.pm line 102
	eval {...} at /home/sand/src/perl/repoperls/installed-perls/host/k93bionic/v5.32.0/2aaf/lib/site_perl/5.32.0/Try/Tiny.pm line 93
	Try::Tiny::try('CODE(0x55a7b7e621a0)', 'Try::Tiny::Catch=REF(0x55a7b7b09300)') called at /home/sand/src/perl/repoperls/installed-perls/host/k93bionic/v5.32.0/2aaf/lib/site_perl/5.32.0/Catalyst.pm line 2422
	Catalyst::handle_request('AuthServer', 'env', 'HASH(0x55a7b79e9690)', 'response_cb', 'CODE(0x55a7b80ba688)') called at /home/sand/src/perl/repoperls/installed-perls/host/k93bionic/v5.32.0/2aaf/lib/site_perl/5.32.0/Catalyst/Engine.pm line 807
	Catalyst::Engine::__ANON__('CODE(0x55a7b80ba688)') called at /home/sand/src/perl/repoperls/installed-perls/host/k93bionic/v5.32.0/2aaf/lib/site_perl/5.32.0/Plack/Middleware/HTTPExceptions.pm line 32
	Plack::Middleware::HTTPExceptions::try {...}  at /home/sand/src/perl/repoperls/installed-perls/host/k93bionic/v5.32.0/2aaf/lib/site_perl/5.32.0/Try/Tiny.pm line 102
	eval {...} at /home/sand/src/perl/repoperls/installed-perls/host/k93bionic/v5.32.0/2aaf/lib/site_perl/5.32.0/Try/Tiny.pm line 93
	Try::Tiny::try('CODE(0x55a7b80f1698)', 'Try::Tiny::Catch=REF(0x55a7b7e1a988)') called at /home/sand/src/perl/repoperls/installed-perls/host/k93bionic/v5.32.0/2aaf/lib/site_perl/5.32.0/Plack/Middleware/HTTPExceptions.pm line 41
	Plack::Middleware::HTTPExceptions::__ANON__('CODE(0x55a7b772fd40)') called at /home/sand/src/perl/repoperls/installed-perls/host/k93bionic/v5.32.0/2aaf/lib/site_perl/5.32.0/Plack/Util.pm line 339
	Plack::Util::__ANON__('CODE(0x55a7b81040f8)') called at /home/sand/src/perl/repoperls/installed-perls/host/k93bionic/v5.32.0/2aaf/lib/site_perl/5.32.0/Plack/Util.pm line 339
	Plack::Util::__ANON__('CODE(0x55a7b80a42d0)') called at /home/sand/src/perl/repoperls/installed-perls/host/k93bionic/v5.32.0/2aaf/lib/site_perl/5.32.0/Plack/Util.pm line 339
	Plack::Util::__ANON__('CODE(0x55a7b7fe0f10)') called at /home/sand/src/perl/repoperls/installed-perls/host/k93bionic/v5.32.0/2aaf/lib/site_perl/5.32.0/HTTP/Message/PSGI.pm line 100
	HTTP::Message::PSGI::res_from_psgi('CODE(0x55a7b772fb60)') called at /home/sand/src/perl/repoperls/installed-perls/host/k93bionic/v5.32.0/2aaf/lib/site_perl/5.32.0/HTTP/Message/PSGI.pm line 156
	HTTP::Response::from_psgi('HTTP::Response', 'CODE(0x55a7b772fb60)') called at /home/sand/src/perl/repoperls/installed-perls/host/k93bionic/v5.32.0/2aaf/lib/site_perl/5.32.0/Plack/Test/MockHTTP.pm line 24
	Plack::Test::MockHTTP::try {...}  at /home/sand/src/perl/repoperls/installed-perls/host/k93bionic/v5.32.0/2aaf/lib/site_perl/5.32.0/Try/Tiny.pm line 100
	eval {...} at /home/sand/src/perl/repoperls/installed-perls/host/k93bionic/v5.32.0/2aaf/lib/site_perl/5.32.0/Try/Tiny.pm line 93
	Try::Tiny::try('CODE(0x55a7b7d9f7d0)', 'Try::Tiny::Catch=REF(0x55a7b80e1898)') called at /home/sand/src/perl/repoperls/installed-perls/host/k93bionic/v5.32.0/2aaf/lib/site_perl/5.32.0/Plack/Test/MockHTTP.pm line 27
	Plack::Test::MockHTTP::request('Plack::Test::MockHTTP=HASH(0x55a7b80f1a88)', 'HTTP::Request=HASH(0x55a7b80f16f8)') called at /home/sand/src/perl/repoperls/installed-perls/host/k93bionic/v5.32.0/2aaf/lib/site_perl/5.32.0/Plack/Test.pm line 38
	Plack::Test::__ANON__('HTTP::Request=HASH(0x55a7b80f16f8)') called at /home/sand/src/perl/repoperls/installed-perls/host/k93bionic/v5.32.0/2aaf/lib/site_perl/5.32.0/Catalyst/Test.pm line 290
	Catalyst::Test::__ANON__('CODE(0x55a7b80f1a10)') called at /home/sand/src/perl/repoperls/installed-perls/host/k93bionic/v5.32.0/2aaf/lib/site_perl/5.32.0/Plack/Test.pm line 38
	Plack::Test::test_psgi('mangle_response', 'CODE(0x55a7b4e50740)', 'app', 'CODE(0x55a7b3602da8)', 'app', 'CODE(0x55a7b80cc348)', 'client', 'CODE(0x55a7b80f18a8)') called at /home/sand/src/perl/repoperls/installed-perls/host/k93bionic/v5.32.0/2aaf/lib/site_perl/5.32.0/Catalyst/Test.pm line 293
	Catalyst::Test::_request('HASH(0x55a7b80f1470)', '/request') called at /home/sand/src/perl/repoperls/installed-perls/host/k93bionic/v5.32.0/2aaf/lib/site_perl/5.32.0/Catalyst/Test.pm line 336
	Catalyst::Test::_local_request('AuthServer', '/request') called at /home/sand/src/perl/repoperls/installed-perls/host/k93bionic/v5.32.0/2aaf/lib/site_perl/5.32.0/Catalyst/Test.pm line 32
	Catalyst::Test::__ANON__('/request') called at /home/sand/src/perl/repoperls/installed-perls/host/k93bionic/v5.32.0/2aaf/lib/site_perl/5.32.0/Catalyst/Test.pm line 72
	Catalyst::Test::__ANON__('/request') called at t/unit/200-actionrole-request-auth.t line 15
[error] Attribute (client_id) is required at /home/sand/src/perl/repoperls/installed-perls/host/k93bionic/v5.32.0/2aaf/lib/site_perl/5.32.0/x86_64-linux/Moose/Object.pm line 24
	Moose::Object::new('CatalystX::OAuth2::Request::RequestAuth') called at /tmp/loop_over_bdir-23593-qAzDnv/CatalystX-OAuth2-0.001009-0/blib/lib/Catalyst/ActionRole/OAuth2/RequestAuth.pm line 21
	Catalyst::ActionRole::OAuth2::RequestAuth::try {...}  at /home/sand/src/perl/repoperls/installed-perls/host/k93bionic/v5.32.0/2aaf/lib/site_perl/5.32.0/Try/Tiny.pm line 102
	eval {...} at /home/sand/src/perl/repoperls/installed-perls/host/k93bionic/v5.32.0/2aaf/lib/site_perl/5.32.0/Try/Tiny.pm line 93
	Try::Tiny::try('CODE(0x55a7b820dd80)', 'Try::Tiny::Catch=REF(0x55a7b8159c98)') called at /tmp/loop_over_bdir-23593-qAzDnv/CatalystX-OAuth2-0.001009-0/blib/lib/Catalyst/ActionRole/OAuth2/RequestAuth.pm line 31
	Catalyst::ActionRole::OAuth2::RequestAuth::build_oauth2_request('Moose::Meta::Class::__ANON__::SERIAL::11=HASH(0x55a7b7e77370)', 'AuthServer::Controller::OAuth2::Provider=HASH(0x55a7b7d90018)', 'AuthServer=HASH(0x55a7b74faa60)') called at /tmp/loop_over_bdir-23593-qAzDnv/CatalystX-OAuth2-0.001009-0/blib/lib/CatalystX/OAuth2/ActionRole/RequestInjector.pm line 17
	Class::MOP::Class:::before('Moose::Meta::Class::__ANON__::SERIAL::11=HASH(0x55a7b7e77370)', 'AuthServer::Controller::OAuth2::Provider=HASH(0x55a7b7d90018)', 'AuthServer=HASH(0x55a7b74faa60)') called at /home/sand/src/perl/repoperls/installed-perls/host/k93bionic/v5.32.0/2aaf/lib/site_perl/5.32.0/x86_64-linux/Class/MOP/Method/Wrapped.pm line 27
	Moose::Meta::Class::__ANON__::SERIAL::11::_wrapped_execute('Moose::Meta::Class::__ANON__::SERIAL::11=HASH(0x55a7b7e77370)', 'AuthServer::Controller::OAuth2::Provider=HASH(0x55a7b7d90018)', 'AuthServer=HASH(0x55a7b74faa60)') called at /home/sand/src/perl/repoperls/installed-perls/host/k93bionic/v5.32.0/2aaf/lib/site_perl/5.32.0/x86_64-linux/Class/MOP/Method/Wrapped.pm line 95
	Moose::Meta::Class::__ANON__::SERIAL::11::execute('Moose::Meta::Class::__ANON__::SERIAL::11=HASH(0x55a7b7e77370)', 'AuthServer::Controller::OAuth2::Provider=HASH(0x55a7b7d90018)', 'AuthServer=HASH(0x55a7b74faa60)') called at /home/sand/src/perl/repoperls/installed-perls/host/k93bionic/v5.32.0/2aaf/lib/site_perl/5.32.0/Catalyst.pm line 2061
	eval {...} at /home/sand/src/perl/repoperls/installed-perls/host/k93bionic/v5.32.0/2aaf/lib/site_perl/5.32.0/Catalyst.pm line 2061
	Catalyst::execute('AuthServer=HASH(0x55a7b74faa60)', 'AuthServer::Controller::OAuth2::Provider', 'Moose::Meta::Class::__ANON__::SERIAL::11=HASH(0x55a7b7e77370)') called at /home/sand/src/perl/repoperls/installed-perls/host/k93bionic/v5.32.0/2aaf/lib/site_perl/5.32.0/Catalyst/Action.pm line 353
	Catalyst::Action::dispatch('Moose::Meta::Class::__ANON__::SERIAL::11=HASH(0x55a7b7e77370)', 'AuthServer=HASH(0x55a7b74faa60)') called at /home/sand/src/perl/repoperls/installed-perls/host/k93bionic/v5.32.0/2aaf/lib/site_perl/5.32.0/Catalyst/ActionChain.pm line 46
	Catalyst::ActionChain::dispatch('Catalyst::ActionChain=HASH(0x55a7b8155258)', 'AuthServer=HASH(0x55a7b74faa60)') called at /home/sand/src/perl/repoperls/installed-perls/host/k93bionic/v5.32.0/2aaf/lib/site_perl/5.32.0/Catalyst/Controller.pm line 170
	Catalyst::Controller::_ACTION('AuthServer::Controller::OAuth2::Provider=HASH(0x55a7b7d90018)', 'AuthServer=HASH(0x55a7b74faa60)') called at /home/sand/src/perl/repoperls/installed-perls/host/k93bionic/v5.32.0/2aaf/lib/site_perl/5.32.0/Catalyst/Action.pm line 358
	Catalyst::Action::execute('Catalyst::Action=HASH(0x55a7b7e65fa8)', 'AuthServer::Controller::OAuth2::Provider=HASH(0x55a7b7d90018)', 'AuthServer=HASH(0x55a7b74faa60)') called at /home/sand/src/perl/repoperls/installed-perls/host/k93bionic/v5.32.0/2aaf/lib/site_perl/5.32.0/Catalyst.pm line 2061
	eval {...} at /home/sand/src/perl/repoperls/installed-perls/host/k93bionic/v5.32.0/2aaf/lib/site_perl/5.32.0/Catalyst.pm line 2061
	Catalyst::execute('AuthServer=HASH(0x55a7b74faa60)', 'AuthServer::Controller::OAuth2::Provider', 'Catalyst::Action=HASH(0x55a7b7e65fa8)') called at /home/sand/src/perl/repoperls/installed-perls/host/k93bionic/v5.32.0/2aaf/lib/site_perl/5.32.0/Catalyst/Action.pm line 353
	Catalyst::Action::dispatch('Catalyst::Action=HASH(0x55a7b7e65fa8)', 'AuthServer=HASH(0x55a7b74faa60)') called at /home/sand/src/perl/repoperls/installed-perls/host/k93bionic/v5.32.0/2aaf/lib/site_perl/5.32.0/Catalyst/Dispatcher.pm line 261
	Catalyst::Dispatcher::_do_forward('Catalyst::Dispatcher=HASH(0x55a7b5adfa18)', 'forward', 'AuthServer=HASH(0x55a7b74faa60)', '_ACTION') called at /home/sand/src/perl/repoperls/installed-perls/host/k93bionic/v5.32.0/2aaf/lib/site_perl/5.32.0/Catalyst/Dispatcher.pm line 241
	Catalyst::Dispatcher::forward('Catalyst::Dispatcher=HASH(0x55a7b5adfa18)', 'AuthServer=HASH(0x55a7b74faa60)', '_ACTION') called at /home/sand/src/perl/repoperls/installed-perls/host/k93bionic/v5.32.0/2aaf/lib/site_perl/5.32.0/Catalyst.pm line 483
	Catalyst::forward('AuthServer=HASH(0x55a7b74faa60)', '_ACTION') called at /home/sand/src/perl/repoperls/installed-perls/host/k93bionic/v5.32.0/2aaf/lib/site_perl/5.32.0/Catalyst/Controller.pm line 134
	Catalyst::Controller::_DISPATCH('AuthServer::Controller::OAuth2::Provider=HASH(0x55a7b7d90018)', 'AuthServer=HASH(0x55a7b74faa60)') called at /home/sand/src/perl/repoperls/installed-perls/host/k93bionic/v5.32.0/2aaf/lib/site_perl/5.32.0/Catalyst/Action.pm line 358
	Catalyst::Action::execute('Catalyst::Action=HASH(0x55a7b7e62200)', 'AuthServer::Controller::OAuth2::Provider=HASH(0x55a7b7d90018)', 'AuthServer=HASH(0x55a7b74faa60)') called at /home/sand/src/perl/repoperls/installed-perls/host/k93bionic/v5.32.0/2aaf/lib/site_perl/5.32.0/Catalyst.pm line 2061
	eval {...} at /home/sand/src/perl/repoperls/installed-perls/host/k93bionic/v5.32.0/2aaf/lib/site_perl/5.32.0/Catalyst.pm line 2061
	Catalyst::execute('AuthServer=HASH(0x55a7b74faa60)', 'AuthServer::Controller::OAuth2::Provider', 'Catalyst::Action=HASH(0x55a7b7e62200)') called at /home/sand/src/perl/repoperls/installed-perls/host/k93bionic/v5.32.0/2aaf/lib/site_perl/5.32.0/Catalyst/Action.pm line 353
	Catalyst::Action::dispatch('Catalyst::Action=HASH(0x55a7b7e62200)', 'AuthServer=HASH(0x55a7b74faa60)') called at /home/sand/src/perl/repoperls/installed-perls/host/k93bionic/v5.32.0/2aaf/lib/site_perl/5.32.0/Catalyst/Dispatcher.pm line 261
	Catalyst::Dispatcher::_do_forward('Catalyst::Dispatcher=HASH(0x55a7b5adfa18)', 'forward', 'AuthServer=HASH(0x55a7b74faa60)', '/oauth2/provider/_DISPATCH') called at /home/sand/src/perl/repoperls/installed-perls/host/k93bionic/v5.32.0/2aaf/lib/site_perl/5.32.0/Catalyst/Dispatcher.pm line 241
	Catalyst::Dispatcher::forward('Catalyst::Dispatcher=HASH(0x55a7b5adfa18)', 'AuthServer=HASH(0x55a7b74faa60)', '/oauth2/provider/_DISPATCH') called at /home/sand/src/perl/repoperls/installed-perls/host/k93bionic/v5.32.0/2aaf/lib/site_perl/5.32.0/Catalyst.pm line 483
	Catalyst::forward('AuthServer=HASH(0x55a7b74faa60)', '/oauth2/provider/_DISPATCH') called at /home/sand/src/perl/repoperls/installed-perls/host/k93bionic/v5.32.0/2aaf/lib/site_perl/5.32.0/Catalyst/Dispatcher.pm line 107
	Catalyst::Dispatcher::dispatch('Catalyst::Dispatcher=HASH(0x55a7b5adfa18)', 'AuthServer=HASH(0x55a7b74faa60)') called at /home/sand/src/perl/repoperls/installed-perls/host/k93bionic/v5.32.0/2aaf/lib/site_perl/5.32.0/Catalyst.pm line 2007
	Catalyst::dispatch('AuthServer=HASH(0x55a7b74faa60)') called at /home/sand/src/perl/repoperls/installed-perls/host/k93bionic/v5.32.0/2aaf/lib/site_perl/5.32.0/x86_64-linux/Class/MOP/Method/Wrapped.pm line 56
	AuthServer::_wrapped_dispatch('AuthServer=HASH(0x55a7b74faa60)') called at /home/sand/src/perl/repoperls/installed-perls/host/k93bionic/v5.32.0/2aaf/lib/site_perl/5.32.0/x86_64-linux/Class/MOP/Method/Wrapped.pm line 95
	AuthServer::dispatch('AuthServer=HASH(0x55a7b74faa60)') called at t/unit/200-actionrole-request-auth.t line 19
[warn] Useless setting a header value after finalize_headers and the response callback has been called. Since we don't support tail headers this will not work as you might expect.
[warn] Useless setting a header value after finalize_headers and the response callback has been called. Since we don't support tail headers this will not work as you might expect.
t/unit/200-actionrole-request-auth.t .................. ok
[warn] Useless setting a header value after finalize_headers and the response callback has been called. Since we don't support tail headers this will not work as you might expect.
[warn] Useless setting a header value after finalize_headers and the response callback has been called. Since we don't support tail headers this will not work as you might expect.
[warn] Useless setting a header value after finalize_headers and the response callback has been called. Since we don't support tail headers this will not work as you might expect.
t/unit/300-actionrole-grant-auth.t .................... ok
t/unit/400-actionrole-auth-token-via-auth-grant.t ..... ok
t/unit/500-actionrole-auth-token-via-refresh-token.t .. ok
[warn] Useless setting a header value after finalize_headers and the response callback has been called. Since we don't support tail headers this will not work as you might expect.
t/unit/600-actionrole-protected-resource.t ............ ok
[error] No default action defined
[warn] Useless setting a header value after finalize_headers and the response callback has been called. Since we don't support tail headers this will not work as you might expect.
[error] No default action defined
t/unit/700-client.t ................................... ok
All tests successful.
Files=11, Tests=153, 17 wallclock secs ( 0.06 usr  0.04 sys + 12.94 cusr  3.28 csys = 16.32 CPU)
Result: PASS

------------------------------
PREREQUISITES
------------------------------

Prerequisite modules loaded:

requires:

    Module                                   Need    Have      
    ---------------------------------------- ------- ----------
    base                                     0       2.27      
    Class::Load                              0       0.25      
    DBIx::Class                              0       0.082842  
    DBIx::Class::ResultSet                   0       0         
    DBIx::Class::Schema                      0       0         
    HTTP::Request::Common                    0       6.24      
    JSON::Any                                0       1.39      
    LWP::UserAgent                           0       6.45      
    Moose                                    0       2.2012    
    Moose::Role                              0       2.2012    
    Moose::Util                              0       2.2012    
    Moose::Util::TypeConstraints             0       2.2012    
    MooseX::NonMoose                         0       0.26      
    MooseX::SetOnce                          0       0.200002  
    MooseX::Types::Common::String            0       0.001014  
    parent                                   0       0.238     
    perl                                     5.006   5.032000  
    Scalar::Util                             0       1.55      
    strict                                   0       1.11      
    Try::Tiny                                0       0.30      
    URI                                      0       1.76      
    warnings                                 0       1.47      

build_requires:

    Module                                   Need    Have      
    ---------------------------------------- ------- ----------
    blib                                     1.01    1.07      
    Catalyst                                 0       5.90126   
    Catalyst::Controller                     0       0         
    Catalyst::Controller::ActionRole         0       0.17      
    Catalyst::Model::DBIC::Schema            0       0.65      
    Catalyst::Plugin::Authentication         0       0.10023   
    Catalyst::Plugin::ConfigLoader           0       0.34      
    Catalyst::Plugin::Session                0       0.41      
    Catalyst::Plugin::Session::State::Cookie 0       0.17      
    Catalyst::Test                           0       0         
    Devel::Dwarn                             0       0         
    ExtUtils::MakeMaker                      0       7.44      
    File::Spec                               0       3.78      
    HTTP::Request                            0       6.24      
    IO::Handle                               0       1.42      
    IPC::Open3                               0       1.21      
    lib                                      0       0.65      
    namespace::autoclean                     0       0.29      
    Plack::Builder                           0       0         
    Plack::Test                              0       0         
    SQL::Translator                          0.11006 1.61      
    strictures                               1       2.000006  
    Test::Exception                          0       0.43      
    Test::MockObject                         0       1.20200122
    Test::More                               0       1.302175  
    Test::WWW::Mechanize::PSGI               0       0.39      

configure_requires:

    Module                                   Need    Have      
    ---------------------------------------- ------- ----------
    ExtUtils::MakeMaker                      0       7.44      


------------------------------
ENVIRONMENT AND OTHER CONTEXT
------------------------------

Environment variables:

    AUTOMATED_TESTING = 1
    LANG = en_US.UTF-8
    PATH = /home/sand/bin:/usr/local/bin:/usr/local/sbin:/usr/sbin:/usr/bin:/sbin:/bin:/usr/games:/usr/local/games:/usr/local/perl/bin:/usr/X11/bin
    PERL = /tmp/basesmoker-reloperl-dAz0/bin/perl
    PERL5LIB = /tmp/loop_over_bdir-23593-qAzDnv/App-nrun-v1.1.2-0/blib/arch:/tmp/loop_over_bdir-23593-qAzDnv/App-nrun-v1.1.2-0/blib/lib:/tmp/loop_over_bdir-23593-qAzDnv/dta-tokwrap-0.95-0/blib/arch:/tmp/loop_over_bdir-23593-qAzDnv/dta-tokwrap-0.95-0/blib/lib:/tmp/loop_over_bdir-23593-qAzDnv/MP3-PodcastFetch-1.05-0/blib/arch:/tmp/loop_over_bdir-23593-qAzDnv/MP3-PodcastFetch-1.05-0/blib/lib:/tmp/loop_over_bdir-23593-qAzDnv/perl-Hardware-UPS-Perl-0.43-0/blib/arch:/tmp/loop_over_bdir-23593-qAzDnv/perl-Hardware-UPS-Perl-0.43-0/blib/lib:/tmp/loop_over_bdir-23593-qAzDnv/App-rmcd-0.280-0/blib/arch:/tmp/loop_over_bdir-23593-qAzDnv/App-rmcd-0.280-0/blib/lib:/tmp/loop_over_bdir-23593-qAzDnv/Linux-InitFS-0.2-0/blib/arch:/tmp/loop_over_bdir-23593-qAzDnv/Linux-InitFS-0.2-0/blib/lib:/tmp/loop_over_bdir-23593-qAzDnv/ppt-0.14-0/blib/arch:/tmp/loop_over_bdir-23593-qAzDnv/ppt-0.14-0/blib/lib:/tmp/loop_over_bdir-23593-qAzDnv/CORBA-XS-0.63-0/blib/arch:/tmp/loop_over_bdir-23593-qAzDnv/CORBA-XS-0.63-0/blib/lib:/tmp/loop_over_bdir-23593-qAzDnv/BuzzSaw-0.12.0-0/blib/arch:/tmp/loop_over_bdir-23593-qAzDnv/BuzzSaw-0.12.0-0/blib/lib:/tmp/loop_over_bdir-23593-qAzDnv/LiquidWeb-Storm-CLI-1.03-0/blib/arch:/tmp/loop_over_bdir-23593-qAzDnv/LiquidWeb-Storm-CLI-1.03-0/blib/lib:/tmp/loop_over_bdir-23593-qAzDnv/Dpkg-1.20.0-0/blib/arch:/tmp/loop_over_bdir-23593-qAzDnv/Dpkg-1.20.0-0/blib/lib:/tmp/loop_over_bdir-23593-qAzDnv/Lingua-BioYaTeA-0.11-0/blib/arch:/tmp/loop_over_bdir-23593-qAzDnv/Lingua-BioYaTeA-0.11-0/blib/lib:/tmp/loop_over_bdir-23593-qAzDnv/Lingua-YaTeA-0.626-0/blib/arch:/tmp/loop_over_bdir-23593-qAzDnv/Lingua-YaTeA-0.626-0/blib/lib:/tmp/loop_over_bdir-23593-qAzDnv/DBIx-Migration-Directories-0.12-0/blib/arch:/tmp/loop_over_bdir-23593-qAzDnv/DBIx-Migration-Directories-0.12-0/blib/lib:/tmp/loop_over_bdir-23593-qAzDnv/makepp-1.19-0/blib/arch:/tmp/loop_over_bdir-23593-qAzDnv/makepp-1.19-0/blib/lib:/tmp/loop_over_bdir-23593-qAzDnv/Simulation-Automate-1.0.1-0/blib/arch:/tmp/loop_over_bdir-23593-qAzDnv/Simulation-Automate-1.0.1-0/blib/lib:/tmp/loop_over_bdir-23593-qAzDnv/Net-OpenVPN-DDNS-0.1-0/blib/arch:/tmp/loop_over_bdir-23593-qAzDnv/Net-OpenVPN-DDNS-0.1-0/blib/lib:/tmp/loop_over_bdir-23593-qAzDnv/mmds-1.902-0/blib/arch:/tmp/loop_over_bdir-23593-qAzDnv/mmds-1.902-0/blib/lib:/tmp/loop_over_bdir-23593-qAzDnv/Business-Shipping-DataFiles-1.02-0/blib/arch:/tmp/loop_over_bdir-23593-qAzDnv/Business-Shipping-DataFiles-1.02-0/blib/lib:/tmp/loop_over_bdir-23593-qAzDnv/Device-Kiln-0.03-0/blib/arch:/tmp/loop_over_bdir-23593-qAzDnv/Device-Kiln-0.03-0/blib/lib:/tmp/loop_over_bdir-23593-qAzDnv/Sysync-0.35-0/blib/arch:/tmp/loop_over_bdir-23593-qAzDnv/Sysync-0.35-0/blib/lib:/tmp/loop_over_bdir-23593-qAzDnv/Debian-Packages-0.03-0/blib/arch:/tmp/loop_over_bdir-23593-qAzDnv/Debian-Packages-0.03-0/blib/lib:/tmp/loop_over_bdir-23593-qAzDnv/shishi-0.0.1-0/blib/arch:/tmp/loop_over_bdir-23593-qAzDnv/shishi-0.0.1-0/blib/lib:/tmp/loop_over_bdir-23593-qAzDnv/ProjectBuilder-0.14.1-0/blib/arch:/tmp/loop_over_bdir-23593-qAzDnv/ProjectBuilder-0.14.1-0/blib/lib:/tmp/loop_over_bdir-23593-qAzDnv/CGI-Application-NetNewsIface-0.0204-0/blib/arch:/tmp/loop_over_bdir-23593-qAzDnv/CGI-Application-NetNewsIface-0.0204-0/blib/lib:/tmp/loop_over_bdir-23593-qAzDnv/RDF-NLP-SPARQLQuery-0.1-0/blib/arch:/tmp/loop_over_bdir-23593-qAzDnv/RDF-NLP-SPARQLQuery-0.1-0/blib/lib:/tmp/loop_over_bdir-23593-qAzDnv/Captive-Portal-4.10-0/blib/arch:/tmp/loop_over_bdir-23593-qAzDnv/Captive-Portal-4.10-0/blib/lib:/tmp/loop_over_bdir-23593-qAzDnv/EJBCA-CrlPublish-0.60-0/blib/arch:/tmp/loop_over_bdir-23593-qAzDnv/EJBCA-CrlPublish-0.60-0/blib/lib:/tmp/loop_over_bdir-23593-qAzDnv/downsexta-0/blib/arch:/tmp/loop_over_bdir-23593-qAzDnv/downsexta-0/blib/lib:/tmp/loop_over_bdir-23593-qAzDnv/Devel-Required-0.16-0/blib/arch:/tmp/loop_over_bdir-23593-qAzDnv/Devel-Required-0.16-0/blib/lib
    PERL5OPT = 
    PERL5_CPANPLUS_IS_RUNNING = 23602
    PERL5_CPAN_IS_RUNNING = 23602
    PERL_CANARY_STABILITY_NOPROMPT = 1
    PERL_MM_USE_DEFAULT = 1
    PERL_USE_UNSAFE_INC = 1
    SHELL = /usr/bin/zsh
    TERM = screen

Perl special variables (and OS-specific diagnostics, for MSWin32):

    $^X = /tmp/basesmoker-reloperl-dAz0/bin/perl
    $UID/$EUID = 1005 / 1005
    $GID = 1005 1005
    $EGID = 1005 1005

Perl module toolchain versions installed:

    Module              Have    
    ------------------- --------
    CPAN                2.28    
    CPAN::Meta          2.150010
    Cwd                 3.78    
    ExtUtils::CBuilder  0.280234
    ExtUtils::Command   7.44    
    ExtUtils::Install   2.14    
    ExtUtils::MakeMaker 7.44    
    ExtUtils::Manifest  1.72    
    ExtUtils::ParseXS   3.40    
    File::Spec          3.78    
    JSON                4.02    
    JSON::PP            4.04    
    Module::Build       0.4231  
    Module::Signature   0.83    
    Parse::CPAN::Meta   2.150010
    Test::Harness       3.42    
    Test::More          1.302175
    YAML                1.30    
    YAML::Syck          1.32    
    version             0.9924  


--

Summary of my perl5 (revision 5 version 32 subversion 0) configuration:
  Commit id: 0cf01644e9e0460386db76c3546d69b15e0806df
  Platform:
    osname=linux
    osvers=4.15.0-106-generic
    archname=x86_64-linux
    uname='linux k93bionic 4.15.0-106-generic #107-ubuntu smp thu jun 4 11:27:52 utc 2020 x86_64 x86_64 x86_64 gnulinux '
    config_args='-Dprefix=/home/sand/src/perl/repoperls/installed-perls/host/k93bionic/v5.32.0/2aaf -Dmyhostname=k93bionic -Dinstallusrbinperl=n -Uversiononly -Dusedevel -des -Ui_db -Dlibswanted=cl pthread socket inet nsl gdbm dbm malloc dl ld sun m crypt sec util c cposix posix ucb BSD gdbm_compat -Uuseithreads -Uuselongdouble -DEBUGGING=-g'
    hint=recommended
    useposix=true
    d_sigaction=define
    useithreads=undef
    usemultiplicity=undef
    use64bitint=define
    use64bitall=define
    uselongdouble=undef
    usemymalloc=n
    default_inc_excludes_dot=define
    bincompat5005=undef
  Compiler:
    cc='cc'
    ccflags ='-fwrapv -fno-strict-aliasing -pipe -fstack-protector-strong -I/usr/local/include -D_LARGEFILE_SOURCE -D_FILE_OFFSET_BITS=64'
    optimize='-O2 -g'
    cppflags='-fwrapv -fno-strict-aliasing -pipe -fstack-protector-strong -I/usr/local/include'
    ccversion=''
    gccversion='7.5.0'
    gccosandvers=''
    intsize=4
    longsize=8
    ptrsize=8
    doublesize=8
    byteorder=12345678
    doublekind=3
    d_longlong=define
    longlongsize=8
    d_longdbl=define
    longdblsize=16
    longdblkind=3
    ivtype='long'
    ivsize=8
    nvtype='double'
    nvsize=8
    Off_t='off_t'
    lseeksize=8
    alignbytes=8
    prototype=define
  Linker and Libraries:
    ld='cc'
    ldflags =' -fstack-protector-strong -L/usr/local/lib'
    libpth=/usr/local/lib /usr/lib/gcc/x86_64-linux-gnu/7/include-fixed /usr/include/x86_64-linux-gnu /usr/lib /lib/x86_64-linux-gnu /lib/../lib /usr/lib/x86_64-linux-gnu /usr/lib/../lib /lib
    libs=-lpthread -lnsl -ldl -lm -lcrypt -lutil -lc
    perllibs=-lpthread -lnsl -ldl -lm -lcrypt -lutil -lc
    libc=libc-2.27.so
    so=so
    useshrplib=false
    libperl=libperl.a
    gnulibc_version='2.27'
  Dynamic Linking:
    dlsrc=dl_dlopen.xs
    dlext=so
    d_dlsymun=undef
    ccdlflags='-Wl,-E'
    cccdlflags='-fPIC'
    lddlflags='-shared -O2 -g -L/usr/local/lib -fstack-protector-strong'


Characteristics of this binary (from libperl): 
  Compile-time options:
    HAS_TIMES
    PERLIO_LAYERS
    PERL_COPY_ON_WRITE
    PERL_DONT_CREATE_GVSV
    PERL_MALLOC_WRAP
    PERL_OP_PARENT
    PERL_PRESERVE_IVUV
    PERL_USE_DEVEL
    USE_64_BIT_ALL
    USE_64_BIT_INT
    USE_LARGE_FILES
    USE_LOCALE
    USE_LOCALE_COLLATE
    USE_LOCALE_CTYPE
    USE_LOCALE_NUMERIC
    USE_LOCALE_TIME
    USE_PERLIO
    USE_PERL_ATOF
  Built under linux
  Compiled at Jun 21 2020 12:06:23
  %ENV:
    PERL="/tmp/basesmoker-reloperl-dAz0/bin/perl"
    PERL5LIB="/tmp/loop_over_bdir-23593-qAzDnv/App-nrun-v1.1.2-0/blib/arch:/tmp/loop_over_bdir-23593-qAzDnv/App-nrun-v1.1.2-0/blib/lib:/tmp/loop_over_bdir-23593-qAzDnv/dta-tokwrap-0.95-0/blib/arch:/tmp/loop_over_bdir-23593-qAzDnv/dta-tokwrap-0.95-0/blib/lib:/tmp/loop_over_bdir-23593-qAzDnv/MP3-PodcastFetch-1.05-0/blib/arch:/tmp/loop_over_bdir-23593-qAzDnv/MP3-PodcastFetch-1.05-0/blib/lib:/tmp/loop_over_bdir-23593-qAzDnv/perl-Hardware-UPS-Perl-0.43-0/blib/arch:/tmp/loop_over_bdir-23593-qAzDnv/perl-Hardware-UPS-Perl-0.43-0/blib/lib:/tmp/loop_over_bdir-23593-qAzDnv/App-rmcd-0.280-0/blib/arch:/tmp/loop_over_bdir-23593-qAzDnv/App-rmcd-0.280-0/blib/lib:/tmp/loop_over_bdir-23593-qAzDnv/Linux-InitFS-0.2-0/blib/arch:/tmp/loop_over_bdir-23593-qAzDnv/Linux-InitFS-0.2-0/blib/lib:/tmp/loop_over_bdir-23593-qAzDnv/ppt-0.14-0/blib/arch:/tmp/loop_over_bdir-23593-qAzDnv/ppt-0.14-0/blib/lib:/tmp/loop_over_bdir-23593-qAzDnv/CORBA-XS-0.63-0/blib/arch:/tmp/loop_over_bdir-23593-qAzDnv/CORBA-XS-0.63-0/blib/lib:/tmp/loop_over_bdir-23593-qAzDnv/BuzzSaw-0.12.0-0/blib/arch:/tmp/loop_over_bdir-23593-qAzDnv/BuzzSaw-0.12.0-0/blib/lib:/tmp/loop_over_bdir-23593-qAzDnv/LiquidWeb-Storm-CLI-1.03-0/blib/arch:/tmp/loop_over_bdir-23593-qAzDnv/LiquidWeb-Storm-CLI-1.03-0/blib/lib:/tmp/loop_over_bdir-23593-qAzDnv/Dpkg-1.20.0-0/blib/arch:/tmp/loop_over_bdir-23593-qAzDnv/Dpkg-1.20.0-0/blib/lib:/tmp/loop_over_bdir-23593-qAzDnv/Lingua-BioYaTeA-0.11-0/blib/arch:/tmp/loop_over_bdir-23593-qAzDnv/Lingua-BioYaTeA-0.11-0/blib/lib:/tmp/loop_over_bdir-23593-qAzDnv/Lingua-YaTeA-0.626-0/blib/arch:/tmp/loop_over_bdir-23593-qAzDnv/Lingua-YaTeA-0.626-0/blib/lib:/tmp/loop_over_bdir-23593-qAzDnv/DBIx-Migration-Directories-0.12-0/blib/arch:/tmp/loop_over_bdir-23593-qAzDnv/DBIx-Migration-Directories-0.12-0/blib/lib:/tmp/loop_over_bdir-23593-qAzDnv/makepp-1.19-0/blib/arch:/tmp/loop_over_bdir-23593-qAzDnv/makepp-1.19-0/blib/lib:/tmp/loop_over_bdir-23593-qAzDnv/Simulation-Automate-1.0.1-0/blib/arch:/tmp/loop_over_bdir-23593-qAzDnv/Simulation-Automate-1.0.1-0/blib/lib:/tmp/loop_over_bdir-23593-qAzDnv/Net-OpenVPN-DDNS-0.1-0/blib/arch:/tmp/loop_over_bdir-23593-qAzDnv/Net-OpenVPN-DDNS-0.1-0/blib/lib:/tmp/loop_over_bdir-23593-qAzDnv/mmds-1.902-0/blib/arch:/tmp/loop_over_bdir-23593-qAzDnv/mmds-1.902-0/blib/lib:/tmp/loop_over_bdir-23593-qAzDnv/Business-Shipping-DataFiles-1.02-0/blib/arch:/tmp/loop_over_bdir-23593-qAzDnv/Business-Shipping-DataFiles-1.02-0/blib/lib:/tmp/loop_over_bdir-23593-qAzDnv/Device-Kiln-0.03-0/blib/arch:/tmp/loop_over_bdir-23593-qAzDnv/Device-Kiln-0.03-0/blib/lib:/tmp/loop_over_bdir-23593-qAzDnv/Sysync-0.35-0/blib/arch:/tmp/loop_over_bdir-23593-qAzDnv/Sysync-0.35-0/blib/lib:/tmp/loop_over_bdir-23593-qAzDnv/Debian-Packages-0.03-0/blib/arch:/tmp/loop_over_bdir-23593-qAzDnv/Debian-Packages-0.03-0/blib/lib:/tmp/loop_over_bdir-23593-qAzDnv/shishi-0.0.1-0/blib/arch:/tmp/loop_over_bdir-23593-qAzDnv/shishi-0.0.1-0/blib/lib:/tmp/loop_over_bdir-23593-qAzDnv/ProjectBuilder-0.14.1-0/blib/arch:/tmp/loop_over_bdir-23593-qAzDnv/ProjectBuilder-0.14.1-0/blib/lib:/tmp/loop_over_bdir-23593-qAzDnv/CGI-Application-NetNewsIface-0.0204-0/blib/arch:/tmp/loop_over_bdir-23593-qAzDnv/CGI-Application-NetNewsIface-0.0204-0/blib/lib:/tmp/loop_over_bdir-23593-qAzDnv/RDF-NLP-SPARQLQuery-0.1-0/blib/arch:/tmp/loop_over_bdir-23593-qAzDnv/RDF-NLP-SPARQLQuery-0.1-0/blib/lib:/tmp/loop_over_bdir-23593-qAzDnv/Captive-Portal-4.10-0/blib/arch:/tmp/loop_over_bdir-23593-qAzDnv/Captive-Portal-4.10-0/blib/lib:/tmp/loop_over_bdir-23593-qAzDnv/EJBCA-CrlPublish-0.60-0/blib/arch:/tmp/loop_over_bdir-23593-qAzDnv/EJBCA-CrlPublish-0.60-0/blib/lib:/tmp/loop_over_bdir-23593-qAzDnv/downsexta-0/blib/arch:/tmp/loop_over_bdir-23593-qAzDnv/downsexta-0/blib/lib:/tmp/loop_over_bdir-23593-qAzDnv/Devel-Required-0.16-0/blib/arch:/tmp/loop_over_bdir-23593-qAzDnv/Devel-Required-0.16-0/blib/lib"
    PERL5OPT=""
    PERL5_CPANPLUS_IS_RUNNING="23602"
    PERL5_CPAN_IS_RUNNING="23602"
    PERL_CANARY_STABILITY_NOPROMPT="1"
    PERL_MM_USE_DEFAULT="1"
    PERL_USE_UNSAFE_INC="1"
  @INC:
    /tmp/loop_over_bdir-23593-qAzDnv/App-nrun-v1.1.2-0/blib/arch
    /tmp/loop_over_bdir-23593-qAzDnv/App-nrun-v1.1.2-0/blib/lib
    /tmp/loop_over_bdir-23593-qAzDnv/dta-tokwrap-0.95-0/blib/arch
    /tmp/loop_over_bdir-23593-qAzDnv/dta-tokwrap-0.95-0/blib/lib
    /tmp/loop_over_bdir-23593-qAzDnv/MP3-PodcastFetch-1.05-0/blib/arch
    /tmp/loop_over_bdir-23593-qAzDnv/MP3-PodcastFetch-1.05-0/blib/lib
    /tmp/loop_over_bdir-23593-qAzDnv/perl-Hardware-UPS-Perl-0.43-0/blib/arch
    /tmp/loop_over_bdir-23593-qAzDnv/perl-Hardware-UPS-Perl-0.43-0/blib/lib
    /tmp/loop_over_bdir-23593-qAzDnv/App-rmcd-0.280-0/blib/arch
    /tmp/loop_over_bdir-23593-qAzDnv/App-rmcd-0.280-0/blib/lib
    /tmp/loop_over_bdir-23593-qAzDnv/Linux-InitFS-0.2-0/blib/arch
    /tmp/loop_over_bdir-23593-qAzDnv/Linux-InitFS-0.2-0/blib/lib
    /tmp/loop_over_bdir-23593-qAzDnv/ppt-0.14-0/blib/arch
    /tmp/loop_over_bdir-23593-qAzDnv/ppt-0.14-0/blib/lib
    /tmp/loop_over_bdir-23593-qAzDnv/CORBA-XS-0.63-0/blib/arch
    /tmp/loop_over_bdir-23593-qAzDnv/CORBA-XS-0.63-0/blib/lib
    /tmp/loop_over_bdir-23593-qAzDnv/BuzzSaw-0.12.0-0/blib/arch
    /tmp/loop_over_bdir-23593-qAzDnv/BuzzSaw-0.12.0-0/blib/lib
    /tmp/loop_over_bdir-23593-qAzDnv/LiquidWeb-Storm-CLI-1.03-0/blib/arch
    /tmp/loop_over_bdir-23593-qAzDnv/LiquidWeb-Storm-CLI-1.03-0/blib/lib
    /tmp/loop_over_bdir-23593-qAzDnv/Dpkg-1.20.0-0/blib/arch
    /tmp/loop_over_bdir-23593-qAzDnv/Dpkg-1.20.0-0/blib/lib
    /tmp/loop_over_bdir-23593-qAzDnv/Lingua-BioYaTeA-0.11-0/blib/arch
    /tmp/loop_over_bdir-23593-qAzDnv/Lingua-BioYaTeA-0.11-0/blib/lib
    /tmp/loop_over_bdir-23593-qAzDnv/Lingua-YaTeA-0.626-0/blib/arch
    /tmp/loop_over_bdir-23593-qAzDnv/Lingua-YaTeA-0.626-0/blib/lib
    /tmp/loop_over_bdir-23593-qAzDnv/DBIx-Migration-Directories-0.12-0/blib/arch
    /tmp/loop_over_bdir-23593-qAzDnv/DBIx-Migration-Directories-0.12-0/blib/lib
    /tmp/loop_over_bdir-23593-qAzDnv/makepp-1.19-0/blib/arch
    /tmp/loop_over_bdir-23593-qAzDnv/makepp-1.19-0/blib/lib
    /tmp/loop_over_bdir-23593-qAzDnv/Simulation-Automate-1.0.1-0/blib/arch
    /tmp/loop_over_bdir-23593-qAzDnv/Simulation-Automate-1.0.1-0/blib/lib
    /tmp/loop_over_bdir-23593-qAzDnv/Net-OpenVPN-DDNS-0.1-0/blib/arch
    /tmp/loop_over_bdir-23593-qAzDnv/Net-OpenVPN-DDNS-0.1-0/blib/lib
    /tmp/loop_over_bdir-23593-qAzDnv/mmds-1.902-0/blib/arch
    /tmp/loop_over_bdir-23593-qAzDnv/mmds-1.902-0/blib/lib
    /tmp/loop_over_bdir-23593-qAzDnv/Business-Shipping-DataFiles-1.02-0/blib/arch
    /tmp/loop_over_bdir-23593-qAzDnv/Business-Shipping-DataFiles-1.02-0/blib/lib
    /tmp/loop_over_bdir-23593-qAzDnv/Device-Kiln-0.03-0/blib/arch
    /tmp/loop_over_bdir-23593-qAzDnv/Device-Kiln-0.03-0/blib/lib
    /tmp/loop_over_bdir-23593-qAzDnv/Sysync-0.35-0/blib/arch
    /tmp/loop_over_bdir-23593-qAzDnv/Sysync-0.35-0/blib/lib
    /tmp/loop_over_bdir-23593-qAzDnv/Debian-Packages-0.03-0/blib/arch
    /tmp/loop_over_bdir-23593-qAzDnv/Debian-Packages-0.03-0/blib/lib
    /tmp/loop_over_bdir-23593-qAzDnv/shishi-0.0.1-0/blib/arch
    /tmp/loop_over_bdir-23593-qAzDnv/shishi-0.0.1-0/blib/lib
    /tmp/loop_over_bdir-23593-qAzDnv/ProjectBuilder-0.14.1-0/blib/arch
    /tmp/loop_over_bdir-23593-qAzDnv/ProjectBuilder-0.14.1-0/blib/lib
    /tmp/loop_over_bdir-23593-qAzDnv/CGI-Application-NetNewsIface-0.0204-0/blib/arch
    /tmp/loop_over_bdir-23593-qAzDnv/CGI-Application-NetNewsIface-0.0204-0/blib/lib
    /tmp/loop_over_bdir-23593-qAzDnv/RDF-NLP-SPARQLQuery-0.1-0/blib/arch
    /tmp/loop_over_bdir-23593-qAzDnv/RDF-NLP-SPARQLQuery-0.1-0/blib/lib
    /tmp/loop_over_bdir-23593-qAzDnv/Captive-Portal-4.10-0/blib/arch
    /tmp/loop_over_bdir-23593-qAzDnv/Captive-Portal-4.10-0/blib/lib
    /tmp/loop_over_bdir-23593-qAzDnv/EJBCA-CrlPublish-0.60-0/blib/arch
    /tmp/loop_over_bdir-23593-qAzDnv/EJBCA-CrlPublish-0.60-0/blib/lib
    /tmp/loop_over_bdir-23593-qAzDnv/downsexta-0/blib/arch
    /tmp/loop_over_bdir-23593-qAzDnv/downsexta-0/blib/lib
    /tmp/loop_over_bdir-23593-qAzDnv/Devel-Required-0.16-0/blib/arch
    /tmp/loop_over_bdir-23593-qAzDnv/Devel-Required-0.16-0/blib/lib
    /home/sand/src/perl/repoperls/installed-perls/host/k93bionic/v5.32.0/2aaf/lib/site_perl/5.32.0/x86_64-linux
    /home/sand/src/perl/repoperls/installed-perls/host/k93bionic/v5.32.0/2aaf/lib/site_perl/5.32.0
    /home/sand/src/perl/repoperls/installed-perls/host/k93bionic/v5.32.0/2aaf/lib/5.32.0/x86_64-linux
    /home/sand/src/perl/repoperls/installed-perls/host/k93bionic/v5.32.0/2aaf/lib/5.32.0
    .