Mail-Mbox-MessageParser v1.5111 Perl 5 v5.37.5 x86_64-linux

Status
Pass
From
Andreas J. König (ANDK)
Dist
Mail-Mbox-MessageParser v1.5111
Platform
Perl 5 v5.37.5 x86_64-linux
Date
2022-11-16 18:02:58
ID
e74e03da-65d8-11ed-84e9-f063bdeda619
This distribution has been tested as part of the CPAN Testers
project, supporting the Perl programming language.  See
http://wiki.cpantesters.org/ for more information or email
questions to cpan-testers-discuss@perl.org


--
Dear David Coppit,

This is a computer-generated report for Mail-Mbox-MessageParser-1.5111
on perl 5.37.5, created by CPAN-Reporter-1.2018.

Thank you for uploading your work to CPAN.  Congratulations!
All tests were successful.

Sections of this report:

    * Tester comments
    * Program output
    * Prerequisites
    * Environment and other context

------------------------------
TESTER COMMENTS
------------------------------

Additional comments from tester:

this report is from an automated smoke testing program
and was not reviewed by a human for accuracy

------------------------------
PROGRAM OUTPUT
------------------------------

Output from '/usr/bin/make test':

PERL_DL_NONLAZY=1 "/tmp/basesmoker-reloperl-BaSC/bin/perl" "-MExtUtils::Command::MM" "-MTest::Harness" "-e" "undef *Test::Harness::Switches; test_harness(1, 'blib/lib', 'blib/arch')" t/*.t
t/000_standard__compile.t ....... 
1..6
ok 1 - blib/lib/Mail/Mbox/MessageParser.pm compiles
ok 2 - blib/lib/Mail/Mbox/MessageParser/Grep.pm compiles
ok 3 - blib/lib/Mail/Mbox/MessageParser/Cache.pm compiles
ok 4 - blib/lib/Mail/Mbox/MessageParser/Config.pm compiles
ok 5 - blib/lib/Mail/Mbox/MessageParser/MetaInfo.pm compiles
ok 6 - blib/lib/Mail/Mbox/MessageParser/Perl.pm compiles
ok
t/000_standard__perl_critic.t ... skipped: Author test. Set $ENV{TEST_AUTHOR} to a true value to run.
t/000_standard__pod.t ........... 
1..6
ok 1 - POD test for blib/lib/Mail/Mbox/MessageParser.pm
ok 2 - POD test for blib/lib/Mail/Mbox/MessageParser/Grep.pm
ok 3 - POD test for blib/lib/Mail/Mbox/MessageParser/Cache.pm
ok 4 - POD test for blib/lib/Mail/Mbox/MessageParser/Config.pm
ok 5 - POD test for blib/lib/Mail/Mbox/MessageParser/MetaInfo.pm
ok 6 - POD test for blib/lib/Mail/Mbox/MessageParser/Perl.pm
ok
t/000_standard__pod_coverage.t .. 
1..6
ok 1 - Pod coverage on Mail::Mbox::MessageParser
ok 2 - Pod coverage on Mail::Mbox::MessageParser::Grep
ok 3 - Pod coverage on Mail::Mbox::MessageParser::Cache
ok 4 - Pod coverage on Mail::Mbox::MessageParser::Config
ok 5 - Pod coverage on Mail::Mbox::MessageParser::MetaInfo
ok 6 - Pod coverage on Mail::Mbox::MessageParser::Perl
ok
t/appended_mailbox.t ............ 
1..6
Testing modified mailbox with Perl implementation
Comparing /tmp/1Gd12sJH_z to t/mailboxes/mailarc-1.txt
Output /tmp/1Gd12sJH_z looks good.
ok 1 - Computing differences
Testing modified mailbox with Cache implementation
Comparing /tmp/LvvxuT4PQx to t/mailboxes/mailarc-1.txt
Output /tmp/LvvxuT4PQx looks good.
ok 2 - Computing differences
Testing modified mailbox with Grep implementation
ok 3 # skip GNU grep not available
Testing modified mailbox with Perl implementation
Comparing /tmp/EKYvYl_Utz to t/mailboxes/mailarc-1.txt
Output /tmp/EKYvYl_Utz looks good.
ok 4 - Computing differences
Testing modified mailbox with Cache implementation
Comparing /tmp/DD7lxkmHyv to t/mailboxes/mailarc-1.txt
Output /tmp/DD7lxkmHyv looks good.
ok 5 - Computing differences
Testing modified mailbox with Grep implementation
ok 6 # skip GNU grep not available
ok
t/bzip2.t ....................... 
1..1
Running test:
  "/usr/bin/cat" "t/mailboxes/mailarc-2.txt.bz2" | "/usr/bin/bzip2" -cd
Comparing /tmp/XWojunN_PE to t/results/mailarc-2.txt
Output /tmp/XWojunN_PE looks good.
Comparing /tmp/1p4HviHrgS to t/results/none
Output /tmp/1p4HviHrgS looks good.
ok 1 - Computing differences
ok
t/endline.t ..................... 
1..8
Testing filename: t/mailboxes/mailarc-1-dos.txt
ok 1 - Dos endline expected
ok 2 - Dos endline expected
ok 3 - Dos endline expected
ok 4 # skip GNU grep not available
Testing filename: t/mailboxes/mailarc-1.txt
ok 5 - Unix endline expected
ok 6 - Unix endline expected
ok 7 - Unix endline expected
ok 8 # skip GNU grep not available
ok
t/filehandle_compressed.t ....... 
1..16
Testing filename: t/mailboxes/mailarc-2.txt.bz2
Comparing /tmp/sTp_coGBwI to t/mailboxes/mailarc-2.txt
Output /tmp/sTp_coGBwI looks good.
ok 1 - Computing differences
Comparing /tmp/6oXOmbHQt9 to t/mailboxes/mailarc-2.txt
Output /tmp/6oXOmbHQt9 looks good.
ok 2 - Computing differences
Comparing /tmp/0RFJRYvMiv to t/mailboxes/mailarc-2.txt
Output /tmp/0RFJRYvMiv looks good.
ok 3 - Computing differences
ok 4 # skip GNU grep not available
Testing filename: t/mailboxes/mailarc-2.txt.gz
Comparing /tmp/Xn_qSlb1D3 to t/mailboxes/mailarc-2.txt
Output /tmp/Xn_qSlb1D3 looks good.
ok 5 - Computing differences
Comparing /tmp/oU7NgT46Sk to t/mailboxes/mailarc-2.txt
Output /tmp/oU7NgT46Sk looks good.
ok 6 - Computing differences
Comparing /tmp/ao3DJzxZ5D to t/mailboxes/mailarc-2.txt
Output /tmp/ao3DJzxZ5D looks good.
ok 7 - Computing differences
ok 8 # skip GNU grep not available
Testing filename: t/mailboxes/mailarc-2.txt.lz
ok 9 # skip lzip not available
ok 10 # skip lzip not available
ok 11 # skip lzip not available
ok 12 # skip lzip not available
Testing filename: t/mailboxes/mailarc-2.txt.xz
Comparing /tmp/z4gN62FuNW to t/mailboxes/mailarc-2.txt
Output /tmp/z4gN62FuNW looks good.
ok 13 - Computing differences
Comparing /tmp/vI00vG6ghB to t/mailboxes/mailarc-2.txt
Output /tmp/vI00vG6ghB looks good.
ok 14 - Computing differences
Comparing /tmp/fQQRIm2EVI to t/mailboxes/mailarc-2.txt
Output /tmp/fQQRIm2EVI looks good.
ok 15 - Computing differences
ok 16 # skip GNU grep not available
ok
t/filehandle_noncompressed.t .... 
1..44
Testing filename: t/mailboxes/binary_body.txt
Comparing /tmp/sXIjcqmLwO to t/mailboxes/binary_body.txt
Output /tmp/sXIjcqmLwO looks good.
ok 1 - Computing differences
Comparing /tmp/YIEBxgwe4n to t/mailboxes/binary_body.txt
Output /tmp/YIEBxgwe4n looks good.
ok 2 - Computing differences
Comparing /tmp/5X1A1ntnK_ to t/mailboxes/binary_body.txt
Output /tmp/5X1A1ntnK_ looks good.
ok 3 - Computing differences
ok 4 # skip GNU grep not available
Testing filename: t/mailboxes/hessbug.txt
Comparing /tmp/DBK2STA3U6 to t/mailboxes/hessbug.txt
Output /tmp/DBK2STA3U6 looks good.
ok 5 - Computing differences
Comparing /tmp/g7p0BQCV5V to t/mailboxes/hessbug.txt
Output /tmp/g7p0BQCV5V looks good.
ok 6 - Computing differences
Comparing /tmp/EZTtgJID_W to t/mailboxes/hessbug.txt
Output /tmp/EZTtgJID_W looks good.
ok 7 - Computing differences
ok 8 # skip GNU grep not available
Testing filename: t/mailboxes/invalid-boundaries.txt
Comparing /tmp/MnbQFvO5tH to t/mailboxes/invalid-boundaries.txt
Output /tmp/MnbQFvO5tH looks good.
ok 9 - Computing differences
Comparing /tmp/Rj6ncntFAu to t/mailboxes/invalid-boundaries.txt
Output /tmp/Rj6ncntFAu looks good.
ok 10 - Computing differences
Comparing /tmp/eA22gbBcJC to t/mailboxes/invalid-boundaries.txt
Output /tmp/eA22gbBcJC looks good.
ok 11 - Computing differences
ok 12 # skip GNU grep not available
Testing filename: t/mailboxes/mailarc-1-dos.txt
Comparing /tmp/hbeVLCXtpx to t/mailboxes/mailarc-1-dos.txt
Output /tmp/hbeVLCXtpx looks good.
ok 13 - Computing differences
Comparing /tmp/ykD4vcJdmS to t/mailboxes/mailarc-1-dos.txt
Output /tmp/ykD4vcJdmS looks good.
ok 14 - Computing differences
Comparing /tmp/ZF53cmnoId to t/mailboxes/mailarc-1-dos.txt
Output /tmp/ZF53cmnoId looks good.
ok 15 - Computing differences
ok 16 # skip GNU grep not available
Testing filename: t/mailboxes/mailarc-1.txt
Comparing /tmp/kg9TjgNH6A to t/mailboxes/mailarc-1.txt
Output /tmp/kg9TjgNH6A looks good.
ok 17 - Computing differences
Comparing /tmp/XU5U25wWP7 to t/mailboxes/mailarc-1.txt
Output /tmp/XU5U25wWP7 looks good.
ok 18 - Computing differences
Comparing /tmp/q3vOKZidw8 to t/mailboxes/mailarc-1.txt
Output /tmp/q3vOKZidw8 looks good.
ok 19 - Computing differences
ok 20 # skip GNU grep not available
Testing filename: t/mailboxes/mailarc-2.txt
Comparing /tmp/DkkF1vgWKe to t/mailboxes/mailarc-2.txt
Output /tmp/DkkF1vgWKe looks good.
ok 21 - Computing differences
Comparing /tmp/tJTwyZzTZy to t/mailboxes/mailarc-2.txt
Output /tmp/tJTwyZzTZy looks good.
ok 22 - Computing differences
Comparing /tmp/9ejkAu77Ol to t/mailboxes/mailarc-2.txt
Output /tmp/9ejkAu77Ol looks good.
ok 23 - Computing differences
ok 24 # skip GNU grep not available
Testing filename: t/mailboxes/mailarc-3.txt
Comparing /tmp/wGXyLgdzht to t/mailboxes/mailarc-3.txt
Output /tmp/wGXyLgdzht looks good.
ok 25 - Computing differences
Comparing /tmp/jfXl20QS0J to t/mailboxes/mailarc-3.txt
Output /tmp/jfXl20QS0J looks good.
ok 26 - Computing differences
Comparing /tmp/bu1DyUNdYs to t/mailboxes/mailarc-3.txt
Output /tmp/bu1DyUNdYs looks good.
ok 27 - Computing differences
ok 28 # skip GNU grep not available
Testing filename: t/mailboxes/mailseparators.txt
Comparing /tmp/vAqcf6U_Ck to t/mailboxes/mailseparators.txt
Output /tmp/vAqcf6U_Ck looks good.
ok 29 - Computing differences
Comparing /tmp/Kfw2okiIx3 to t/mailboxes/mailseparators.txt
Output /tmp/Kfw2okiIx3 looks good.
ok 30 - Computing differences
Comparing /tmp/nYvd9bjVvN to t/mailboxes/mailseparators.txt
Output /tmp/nYvd9bjVvN looks good.
ok 31 - Computing differences
ok 32 # skip GNU grep not available
Testing filename: t/mailboxes/malformed.txt
Comparing /tmp/mITWILg3DZ to t/mailboxes/malformed.txt
Output /tmp/mITWILg3DZ looks good.
ok 33 - Computing differences
Comparing /tmp/AnDt4N_c5T to t/mailboxes/malformed.txt
Output /tmp/AnDt4N_c5T looks good.
ok 34 - Computing differences
Comparing /tmp/CHqQBtw8PV to t/mailboxes/malformed.txt
Output /tmp/CHqQBtw8PV looks good.
ok 35 - Computing differences
ok 36 # skip GNU grep not available
Testing filename: t/mailboxes/newlines_at_beginning.txt
Comparing /tmp/A8GwOSsTxa to t/mailboxes/newlines_at_beginning.txt
Output /tmp/A8GwOSsTxa looks good.
ok 37 - Computing differences
Comparing /tmp/pOpjuDtK8V to t/mailboxes/newlines_at_beginning.txt
Output /tmp/pOpjuDtK8V looks good.
ok 38 - Computing differences
Comparing /tmp/BKJhg0siNI to t/mailboxes/newlines_at_beginning.txt
Output /tmp/BKJhg0siNI looks good.
ok 39 - Computing differences
ok 40 # skip GNU grep not available
Testing filename: t/mailboxes/vm-emacs.txt
Comparing /tmp/ViVeaEdJtx to t/mailboxes/vm-emacs.txt
Output /tmp/ViVeaEdJtx looks good.
ok 41 - Computing differences
Comparing /tmp/UPStRNeal8 to t/mailboxes/vm-emacs.txt
Output /tmp/UPStRNeal8 looks good.
ok 42 - Computing differences
Comparing /tmp/eVo1J9TOvV to t/mailboxes/vm-emacs.txt
Output /tmp/eVo1J9TOvV looks good.
ok 43 - Computing differences
ok 44 # skip GNU grep not available
ok
t/filename_compressed.t ......... 
1..4
Testing filename: t/mailboxes/mailarc-2.txt.bz2
Comparing /tmp/8GZuXsjgLa to t/mailboxes/mailarc-2.txt
Output /tmp/8GZuXsjgLa looks good.
ok 1 - Computing differences
Testing filename: t/mailboxes/mailarc-2.txt.gz
Comparing /tmp/6iNVOmxZaG to t/mailboxes/mailarc-2.txt
Output /tmp/6iNVOmxZaG looks good.
ok 2 - Computing differences
Testing filename: t/mailboxes/mailarc-2.txt.lz
ok 3 # skip lzip not available
Testing filename: t/mailboxes/mailarc-2.txt.xz
Comparing /tmp/x7qPpWXlWV to t/mailboxes/mailarc-2.txt
Output /tmp/x7qPpWXlWV looks good.
ok 4 - Computing differences
ok
t/filename_noncompressed.t ...... 
1..11
Testing filename: t/mailboxes/binary_body.txt
Comparing /tmp/LCB4Dc155X to t/mailboxes/binary_body.txt
Output /tmp/LCB4Dc155X looks good.
ok 1 - Computing differences
Testing filename: t/mailboxes/hessbug.txt
Comparing /tmp/c71R_jbTNu to t/mailboxes/hessbug.txt
Output /tmp/c71R_jbTNu looks good.
ok 2 - Computing differences
Testing filename: t/mailboxes/invalid-boundaries.txt
Comparing /tmp/6aWkEt_ISe to t/mailboxes/invalid-boundaries.txt
Output /tmp/6aWkEt_ISe looks good.
ok 3 - Computing differences
Testing filename: t/mailboxes/mailarc-1-dos.txt
Comparing /tmp/1kUbTJThPQ to t/mailboxes/mailarc-1-dos.txt
Output /tmp/1kUbTJThPQ looks good.
ok 4 - Computing differences
Testing filename: t/mailboxes/mailarc-1.txt
Comparing /tmp/ZxaFQVsAip to t/mailboxes/mailarc-1.txt
Output /tmp/ZxaFQVsAip looks good.
ok 5 - Computing differences
Testing filename: t/mailboxes/mailarc-2.txt
Comparing /tmp/gIiE_7kAux to t/mailboxes/mailarc-2.txt
Output /tmp/gIiE_7kAux looks good.
ok 6 - Computing differences
Testing filename: t/mailboxes/mailarc-3.txt
Comparing /tmp/8VaiOyGptl to t/mailboxes/mailarc-3.txt
Output /tmp/8VaiOyGptl looks good.
ok 7 - Computing differences
Testing filename: t/mailboxes/mailseparators.txt
Comparing /tmp/vYKWOcLvF2 to t/mailboxes/mailseparators.txt
Output /tmp/vYKWOcLvF2 looks good.
ok 8 - Computing differences
Testing filename: t/mailboxes/malformed.txt
Comparing /tmp/vEiCEJKOOv to t/mailboxes/malformed.txt
Output /tmp/vEiCEJKOOv looks good.
ok 9 - Computing differences
Testing filename: t/mailboxes/newlines_at_beginning.txt
Comparing /tmp/oB9povla0f to t/mailboxes/newlines_at_beginning.txt
Output /tmp/oB9povla0f looks good.
ok 10 - Computing differences
Testing filename: t/mailboxes/vm-emacs.txt
Comparing /tmp/J7aZIIMhdg to t/mailboxes/vm-emacs.txt
Output /tmp/J7aZIIMhdg looks good.
ok 11 - Computing differences
ok
t/grep.t ........................ 
1..4
Running test:
  unset LC_ALL LC_COLLATE LANG LC_CTYPE LC_MESSAGES; grep --extended-regexp --line-number --byte-offset --binary-files=text "^From [^:]+(:[0-9][0-9]){1,2}(  *([A-Z]{2,6}|[+-]?[0-9]{4})){1,3}( remote from .*)?
?$" t/mailboxes/mailarc-1.txt
ok 1 # skip 1
Running test:
  unset LC_ALL LC_COLLATE LANG LC_CTYPE LC_MESSAGES; grep --extended-regexp --line-number --byte-offset --binary-files=text "^From [^:]+(:[0-9][0-9]){1,2}(  *([A-Z]{2,6}|[+-]?[0-9]{4})){1,3}( remote from .*)?
?$" t/mailboxes/mailarc-2.txt
ok 2 # skip 1
Running test:
  unset LC_ALL LC_COLLATE LANG LC_CTYPE LC_MESSAGES; grep --extended-regexp --line-number --byte-offset --binary-files=text "^From [^:]+(:[0-9][0-9]){1,2}(  *([A-Z]{2,6}|[+-]?[0-9]{4})){1,3}( remote from .*)?
?$" t/mailboxes/mailarc-3.txt
ok 3 # skip 1
Running test:
  unset LC_ALL LC_COLLATE LANG LC_CTYPE LC_MESSAGES; grep --extended-regexp --line-number --byte-offset --binary-files=text "^From [^:]+(:[0-9][0-9]){1,2}(  *([A-Z]{2,6}|[+-]?[0-9]{4})){1,3}( remote from .*)?
?$" t/mailboxes/mailseparators.txt
ok 4 # skip 1
ok
t/gzip.t ........................ 
1..1
Running test:
  "/usr/bin/cat" "t/mailboxes/mailarc-2.txt.gz" | "/usr/bin/gzip" -cd
Comparing /tmp/4YBTcyrnFr to t/results/mailarc-2.txt
Output /tmp/4YBTcyrnFr looks good.
Comparing /tmp/Ekolsod8L5 to t/results/none
Output /tmp/Ekolsod8L5 looks good.
ok 1 - Computing differences
ok
t/length.t ...................... 
1..30
Testing filename: t/mailboxes/binary_body.txt
Comparing /tmp/YqZdtkrNex to t/results/length_binary_body.stdout
Output /tmp/YqZdtkrNex looks good.
ok 1 - Computing differences
Comparing /tmp/KDbLrWRUVD to t/results/length_binary_body.stdout
Output /tmp/KDbLrWRUVD looks good.
ok 2 - Computing differences
ok 3 # skip GNU grep not available
Testing filename: t/mailboxes/hessbug.txt
Comparing /tmp/Nn5LhShH4X to t/results/length_hessbug.stdout
Output /tmp/Nn5LhShH4X looks good.
ok 4 - Computing differences
Comparing /tmp/XI0pBG1rPv to t/results/length_hessbug.stdout
Output /tmp/XI0pBG1rPv looks good.
ok 5 - Computing differences
ok 6 # skip GNU grep not available
Testing filename: t/mailboxes/invalid-boundaries.txt
Comparing /tmp/sr4faIloEQ to t/results/length_invalid-boundaries.stdout
Output /tmp/sr4faIloEQ looks good.
ok 7 - Computing differences
Comparing /tmp/AnCWVJVrCm to t/results/length_invalid-boundaries.stdout
Output /tmp/AnCWVJVrCm looks good.
ok 8 - Computing differences
ok 9 # skip GNU grep not available
Testing filename: t/mailboxes/mailarc-1-dos.txt
Comparing /tmp/D0Au7Ftsd1 to t/results/length_mailarc-1-dos.stdout
Output /tmp/D0Au7Ftsd1 looks good.
ok 10 - Computing differences
Comparing /tmp/FwJ8Gg7anh to t/results/length_mailarc-1-dos.stdout
Output /tmp/FwJ8Gg7anh looks good.
ok 11 - Computing differences
ok 12 # skip GNU grep not available
Testing filename: t/mailboxes/mailarc-1.txt
Comparing /tmp/2lSa6bXtYn to t/results/length_mailarc-1.stdout
Output /tmp/2lSa6bXtYn looks good.
ok 13 - Computing differences
Comparing /tmp/5lz_VMuFPb to t/results/length_mailarc-1.stdout
Output /tmp/5lz_VMuFPb looks good.
ok 14 - Computing differences
ok 15 # skip GNU grep not available
Testing filename: t/mailboxes/mailarc-2.txt
Comparing /tmp/mFGZNytkkL to t/results/length_mailarc-2.stdout
Output /tmp/mFGZNytkkL looks good.
ok 16 - Computing differences
Comparing /tmp/PNNzTm23Gc to t/results/length_mailarc-2.stdout
Output /tmp/PNNzTm23Gc looks good.
ok 17 - Computing differences
ok 18 # skip GNU grep not available
Testing filename: t/mailboxes/mailarc-3.txt
Comparing /tmp/aCaFRSvLqR to t/results/length_mailarc-3.stdout
Output /tmp/aCaFRSvLqR looks good.
ok 19 - Computing differences
Comparing /tmp/WXJYQ0p0HL to t/results/length_mailarc-3.stdout
Output /tmp/WXJYQ0p0HL looks good.
ok 20 - Computing differences
ok 21 # skip GNU grep not available
Testing filename: t/mailboxes/mailseparators.txt
Comparing /tmp/YwFb137U4d to t/results/length_mailseparators.stdout
Output /tmp/YwFb137U4d looks good.
ok 22 - Computing differences
Comparing /tmp/Oo6b3FPJ4I to t/results/length_mailseparators.stdout
Output /tmp/Oo6b3FPJ4I looks good.
ok 23 - Computing differences
ok 24 # skip GNU grep not available
Testing filename: t/mailboxes/malformed.txt
Comparing /tmp/FjmbVrcPKa to t/results/length_malformed.stdout
Output /tmp/FjmbVrcPKa looks good.
ok 25 - Computing differences
Comparing /tmp/qfuprxSiHm to t/results/length_malformed.stdout
Output /tmp/qfuprxSiHm looks good.
ok 26 - Computing differences
ok 27 # skip GNU grep not available
Testing filename: t/mailboxes/newlines_at_beginning.txt
Comparing /tmp/rnvzSp2fi9 to t/results/length_newlines_at_beginning.stdout
Output /tmp/rnvzSp2fi9 looks good.
ok 28 - Computing differences
Comparing /tmp/zpkc5GJ3Ry to t/results/length_newlines_at_beginning.stdout
Output /tmp/zpkc5GJ3Ry looks good.
ok 29 - Computing differences
ok 30 # skip GNU grep not available
ok
t/line_number.t ................. 
1..30
Testing filename: t/mailboxes/binary_body.txt
Comparing /tmp/C64rgmo7Cs to t/results/line_number_binary_body.stdout
Output /tmp/C64rgmo7Cs looks good.
ok 1 - Computing differences
Comparing /tmp/5kqnFbng2w to t/results/line_number_binary_body.stdout
Output /tmp/5kqnFbng2w looks good.
ok 2 - Computing differences
ok 3 # skip GNU grep not available
Testing filename: t/mailboxes/hessbug.txt
Comparing /tmp/wUJxThs6Bn to t/results/line_number_hessbug.stdout
Output /tmp/wUJxThs6Bn looks good.
ok 4 - Computing differences
Comparing /tmp/scLV5W9_qH to t/results/line_number_hessbug.stdout
Output /tmp/scLV5W9_qH looks good.
ok 5 - Computing differences
ok 6 # skip GNU grep not available
Testing filename: t/mailboxes/invalid-boundaries.txt
Comparing /tmp/DRpWjyA3yY to t/results/line_number_invalid-boundaries.stdout
Output /tmp/DRpWjyA3yY looks good.
ok 7 - Computing differences
Comparing /tmp/g_xZcyLlQw to t/results/line_number_invalid-boundaries.stdout
Output /tmp/g_xZcyLlQw looks good.
ok 8 - Computing differences
ok 9 # skip GNU grep not available
Testing filename: t/mailboxes/mailarc-1-dos.txt
Comparing /tmp/FzBWIDUV7X to t/results/line_number_mailarc-1-dos.stdout
Output /tmp/FzBWIDUV7X looks good.
ok 10 - Computing differences
Comparing /tmp/HnBIyy_Guu to t/results/line_number_mailarc-1-dos.stdout
Output /tmp/HnBIyy_Guu looks good.
ok 11 - Computing differences
ok 12 # skip GNU grep not available
Testing filename: t/mailboxes/mailarc-1.txt
Comparing /tmp/EvTTsRv1SU to t/results/line_number_mailarc-1.stdout
Output /tmp/EvTTsRv1SU looks good.
ok 13 - Computing differences
Comparing /tmp/ITrRDMqxDH to t/results/line_number_mailarc-1.stdout
Output /tmp/ITrRDMqxDH looks good.
ok 14 - Computing differences
ok 15 # skip GNU grep not available
Testing filename: t/mailboxes/mailarc-2.txt
Comparing /tmp/ilfWBOAVKH to t/results/line_number_mailarc-2.stdout
Output /tmp/ilfWBOAVKH looks good.
ok 16 - Computing differences
Comparing /tmp/ftn56Q2tPO to t/results/line_number_mailarc-2.stdout
Output /tmp/ftn56Q2tPO looks good.
ok 17 - Computing differences
ok 18 # skip GNU grep not available
Testing filename: t/mailboxes/mailarc-3.txt
Comparing /tmp/YouY1wkw2i to t/results/line_number_mailarc-3.stdout
Output /tmp/YouY1wkw2i looks good.
ok 19 - Computing differences
Comparing /tmp/ImN7IGKjzP to t/results/line_number_mailarc-3.stdout
Output /tmp/ImN7IGKjzP looks good.
ok 20 - Computing differences
ok 21 # skip GNU grep not available
Testing filename: t/mailboxes/mailseparators.txt
Comparing /tmp/iXjakQD_WK to t/results/line_number_mailseparators.stdout
Output /tmp/iXjakQD_WK looks good.
ok 22 - Computing differences
Comparing /tmp/yYkiY_uuDz to t/results/line_number_mailseparators.stdout
Output /tmp/yYkiY_uuDz looks good.
ok 23 - Computing differences
ok 24 # skip GNU grep not available
Testing filename: t/mailboxes/malformed.txt
Comparing /tmp/RORemk32By to t/results/line_number_malformed.stdout
Output /tmp/RORemk32By looks good.
ok 25 - Computing differences
Comparing /tmp/eW4jz_9Oc4 to t/results/line_number_malformed.stdout
Output /tmp/eW4jz_9Oc4 looks good.
ok 26 - Computing differences
ok 27 # skip GNU grep not available
Testing filename: t/mailboxes/newlines_at_beginning.txt
Comparing /tmp/Ap4LJIUhkU to t/results/line_number_newlines_at_beginning.stdout
Output /tmp/Ap4LJIUhkU looks good.
ok 28 - Computing differences
Comparing /tmp/5NHK5yMhIq to t/results/line_number_newlines_at_beginning.stdout
Output /tmp/5NHK5yMhIq looks good.
ok 29 - Computing differences
ok 30 # skip GNU grep not available
ok
t/lzip.t ........................ 
1..1
Running test:
  "/usr/bin/cat" "t/mailboxes/mailarc-2.txt.lz" | "lzip" -cd
ok 1 # skip lzip not available
ok
t/number.t ...................... 
1..30
Testing filename: t/mailboxes/binary_body.txt
Comparing /tmp/wl_RoNwEfr to t/results/number_binary_body.stdout
Output /tmp/wl_RoNwEfr looks good.
ok 1 - Computing differences
Comparing /tmp/jcIZFB32dd to t/results/number_binary_body.stdout
Output /tmp/jcIZFB32dd looks good.
ok 2 - Computing differences
ok 3 # skip GNU grep not available
Testing filename: t/mailboxes/hessbug.txt
Comparing /tmp/O498fsRWj0 to t/results/number_hessbug.stdout
Output /tmp/O498fsRWj0 looks good.
ok 4 - Computing differences
Comparing /tmp/89Nxt990bl to t/results/number_hessbug.stdout
Output /tmp/89Nxt990bl looks good.
ok 5 - Computing differences
ok 6 # skip GNU grep not available
Testing filename: t/mailboxes/invalid-boundaries.txt
Comparing /tmp/iZfmunW3lB to t/results/number_invalid-boundaries.stdout
Output /tmp/iZfmunW3lB looks good.
ok 7 - Computing differences
Comparing /tmp/O7dhv6sPGk to t/results/number_invalid-boundaries.stdout
Output /tmp/O7dhv6sPGk looks good.
ok 8 - Computing differences
ok 9 # skip GNU grep not available
Testing filename: t/mailboxes/mailarc-1-dos.txt
Comparing /tmp/7Atxa3RC5Y to t/results/number_mailarc-1-dos.stdout
Output /tmp/7Atxa3RC5Y looks good.
ok 10 - Computing differences
Comparing /tmp/enzTEoKr0m to t/results/number_mailarc-1-dos.stdout
Output /tmp/enzTEoKr0m looks good.
ok 11 - Computing differences
ok 12 # skip GNU grep not available
Testing filename: t/mailboxes/mailarc-1.txt
Comparing /tmp/_qVO2eWy0q to t/results/number_mailarc-1.stdout
Output /tmp/_qVO2eWy0q looks good.
ok 13 - Computing differences
Comparing /tmp/8V1nApKnba to t/results/number_mailarc-1.stdout
Output /tmp/8V1nApKnba looks good.
ok 14 - Computing differences
ok 15 # skip GNU grep not available
Testing filename: t/mailboxes/mailarc-2.txt
Comparing /tmp/x00b4WIloT to t/results/number_mailarc-2.stdout
Output /tmp/x00b4WIloT looks good.
ok 16 - Computing differences
Comparing /tmp/VDnC4P89Vr to t/results/number_mailarc-2.stdout
Output /tmp/VDnC4P89Vr looks good.
ok 17 - Computing differences
ok 18 # skip GNU grep not available
Testing filename: t/mailboxes/mailarc-3.txt
Comparing /tmp/1wtAjGaMKm to t/results/number_mailarc-3.stdout
Output /tmp/1wtAjGaMKm looks good.
ok 19 - Computing differences
Comparing /tmp/SC8CLSlT0G to t/results/number_mailarc-3.stdout
Output /tmp/SC8CLSlT0G looks good.
ok 20 - Computing differences
ok 21 # skip GNU grep not available
Testing filename: t/mailboxes/mailseparators.txt
Comparing /tmp/rZehwsbBJB to t/results/number_mailseparators.stdout
Output /tmp/rZehwsbBJB looks good.
ok 22 - Computing differences
Comparing /tmp/L5e5e2iXQX to t/results/number_mailseparators.stdout
Output /tmp/L5e5e2iXQX looks good.
ok 23 - Computing differences
ok 24 # skip GNU grep not available
Testing filename: t/mailboxes/malformed.txt
Comparing /tmp/_d_vU4in96 to t/results/number_malformed.stdout
Output /tmp/_d_vU4in96 looks good.
ok 25 - Computing differences
Comparing /tmp/aO5crWLTPc to t/results/number_malformed.stdout
Output /tmp/aO5crWLTPc looks good.
ok 26 - Computing differences
ok 27 # skip GNU grep not available
Testing filename: t/mailboxes/newlines_at_beginning.txt
Comparing /tmp/T6Nl1oAXc6 to t/results/number_newlines_at_beginning.stdout
Output /tmp/T6Nl1oAXc6 looks good.
ok 28 - Computing differences
Comparing /tmp/wSiF7lT7Jt to t/results/number_newlines_at_beginning.stdout
Output /tmp/wSiF7lT7Jt looks good.
ok 29 - Computing differences
ok 30 # skip GNU grep not available
ok
t/offset.t ...................... 
1..30
Testing filename: t/mailboxes/binary_body.txt
Comparing /tmp/ZElepk80kA to t/results/offset_binary_body.stdout
Output /tmp/ZElepk80kA looks good.
ok 1 - Computing differences
Comparing /tmp/vEAUGdFeGU to t/results/offset_binary_body.stdout
Output /tmp/vEAUGdFeGU looks good.
ok 2 - Computing differences
ok 3 # skip GNU grep not available
Testing filename: t/mailboxes/hessbug.txt
Comparing /tmp/zh9JKHpRQg to t/results/offset_hessbug.stdout
Output /tmp/zh9JKHpRQg looks good.
ok 4 - Computing differences
Comparing /tmp/sO2f42bVFx to t/results/offset_hessbug.stdout
Output /tmp/sO2f42bVFx looks good.
ok 5 - Computing differences
ok 6 # skip GNU grep not available
Testing filename: t/mailboxes/invalid-boundaries.txt
Comparing /tmp/9_ogtJeRw5 to t/results/offset_invalid-boundaries.stdout
Output /tmp/9_ogtJeRw5 looks good.
ok 7 - Computing differences
Comparing /tmp/nGhyL3v95Q to t/results/offset_invalid-boundaries.stdout
Output /tmp/nGhyL3v95Q looks good.
ok 8 - Computing differences
ok 9 # skip GNU grep not available
Testing filename: t/mailboxes/mailarc-1-dos.txt
Comparing /tmp/TmjpL49_Rl to t/results/offset_mailarc-1-dos.stdout
Output /tmp/TmjpL49_Rl looks good.
ok 10 - Computing differences
Comparing /tmp/HfAJfCpEKH to t/results/offset_mailarc-1-dos.stdout
Output /tmp/HfAJfCpEKH looks good.
ok 11 - Computing differences
ok 12 # skip GNU grep not available
Testing filename: t/mailboxes/mailarc-1.txt
Comparing /tmp/M1ibaObMfn to t/results/offset_mailarc-1.stdout
Output /tmp/M1ibaObMfn looks good.
ok 13 - Computing differences
Comparing /tmp/QAyjHIByy8 to t/results/offset_mailarc-1.stdout
Output /tmp/QAyjHIByy8 looks good.
ok 14 - Computing differences
ok 15 # skip GNU grep not available
Testing filename: t/mailboxes/mailarc-2.txt
Comparing /tmp/mnEtyRPqf4 to t/results/offset_mailarc-2.stdout
Output /tmp/mnEtyRPqf4 looks good.
ok 16 - Computing differences
Comparing /tmp/d3Vn5t8uQq to t/results/offset_mailarc-2.stdout
Output /tmp/d3Vn5t8uQq looks good.
ok 17 - Computing differences
ok 18 # skip GNU grep not available
Testing filename: t/mailboxes/mailarc-3.txt
Comparing /tmp/1qWcMWYJOf to t/results/offset_mailarc-3.stdout
Output /tmp/1qWcMWYJOf looks good.
ok 19 - Computing differences
Comparing /tmp/EdZpD03mzS to t/results/offset_mailarc-3.stdout
Output /tmp/EdZpD03mzS looks good.
ok 20 - Computing differences
ok 21 # skip GNU grep not available
Testing filename: t/mailboxes/mailseparators.txt
Comparing /tmp/FoaraCXxPe to t/results/offset_mailseparators.stdout
Output /tmp/FoaraCXxPe looks good.
ok 22 - Computing differences
Comparing /tmp/GAOdxa0rLO to t/results/offset_mailseparators.stdout
Output /tmp/GAOdxa0rLO looks good.
ok 23 - Computing differences
ok 24 # skip GNU grep not available
Testing filename: t/mailboxes/malformed.txt
Comparing /tmp/3s4DEN6C9e to t/results/offset_malformed.stdout
Output /tmp/3s4DEN6C9e looks good.
ok 25 - Computing differences
Comparing /tmp/EaZ3nzMBfy to t/results/offset_malformed.stdout
Output /tmp/EaZ3nzMBfy looks good.
ok 26 - Computing differences
ok 27 # skip GNU grep not available
Testing filename: t/mailboxes/newlines_at_beginning.txt
Comparing /tmp/a0OUoa6IN5 to t/results/offset_newlines_at_beginning.stdout
Output /tmp/a0OUoa6IN5 looks good.
ok 28 - Computing differences
Comparing /tmp/8e9EmajEiK to t/results/offset_newlines_at_beginning.stdout
Output /tmp/8e9EmajEiK looks good.
ok 29 - Computing differences
ok 30 # skip GNU grep not available
ok
t/prologue.t .................... 
1..33
Testing filename: t/mailboxes/binary_body.txt
Comparing /tmp/rV7aENptTR to t/mailboxes/binary_body.txt
Output /tmp/rV7aENptTR looks good.
ok 1 - Computing differences
Comparing /tmp/6fur_zSwTv to t/mailboxes/binary_body.txt
Output /tmp/6fur_zSwTv looks good.
ok 2 - Computing differences
ok 3 # skip GNU grep not available
Testing filename: t/mailboxes/hessbug.txt
Comparing /tmp/n6zmX6pt0X to t/mailboxes/hessbug.txt
Output /tmp/n6zmX6pt0X looks good.
ok 4 - Computing differences
Comparing /tmp/P0tDvU6kTV to t/mailboxes/hessbug.txt
Output /tmp/P0tDvU6kTV looks good.
ok 5 - Computing differences
ok 6 # skip GNU grep not available
Testing filename: t/mailboxes/invalid-boundaries.txt
Comparing /tmp/zBFgj7Yor2 to t/mailboxes/invalid-boundaries.txt
Output /tmp/zBFgj7Yor2 looks good.
ok 7 - Computing differences
Comparing /tmp/PXXC38Ysyq to t/mailboxes/invalid-boundaries.txt
Output /tmp/PXXC38Ysyq looks good.
ok 8 - Computing differences
ok 9 # skip GNU grep not available
Testing filename: t/mailboxes/mailarc-1-dos.txt
Comparing /tmp/xUcJVUYl0c to t/mailboxes/mailarc-1-dos.txt
Output /tmp/xUcJVUYl0c looks good.
ok 10 - Computing differences
Comparing /tmp/0pV9CbIBtM to t/mailboxes/mailarc-1-dos.txt
Output /tmp/0pV9CbIBtM looks good.
ok 11 - Computing differences
ok 12 # skip GNU grep not available
Testing filename: t/mailboxes/mailarc-1.txt
Comparing /tmp/e7tw7eFmAf to t/mailboxes/mailarc-1.txt
Output /tmp/e7tw7eFmAf looks good.
ok 13 - Computing differences
Comparing /tmp/5PFzQngj0Y to t/mailboxes/mailarc-1.txt
Output /tmp/5PFzQngj0Y looks good.
ok 14 - Computing differences
ok 15 # skip GNU grep not available
Testing filename: t/mailboxes/mailarc-2.txt
Comparing /tmp/X5dtCB4ZSB to t/mailboxes/mailarc-2.txt
Output /tmp/X5dtCB4ZSB looks good.
ok 16 - Computing differences
Comparing /tmp/YTpS9LNzJ2 to t/mailboxes/mailarc-2.txt
Output /tmp/YTpS9LNzJ2 looks good.
ok 17 - Computing differences
ok 18 # skip GNU grep not available
Testing filename: t/mailboxes/mailarc-3.txt
Comparing /tmp/4fFayA_qjE to t/mailboxes/mailarc-3.txt
Output /tmp/4fFayA_qjE looks good.
ok 19 - Computing differences
Comparing /tmp/97wIL1HH3W to t/mailboxes/mailarc-3.txt
Output /tmp/97wIL1HH3W looks good.
ok 20 - Computing differences
ok 21 # skip GNU grep not available
Testing filename: t/mailboxes/mailseparators.txt
Comparing /tmp/5OJbIxiXa2 to t/mailboxes/mailseparators.txt
Output /tmp/5OJbIxiXa2 looks good.
ok 22 - Computing differences
Comparing /tmp/oGw8zuo03V to t/mailboxes/mailseparators.txt
Output /tmp/oGw8zuo03V looks good.
ok 23 - Computing differences
ok 24 # skip GNU grep not available
Testing filename: t/mailboxes/malformed.txt
Comparing /tmp/d2oRH5Dg3x to t/mailboxes/malformed.txt
Output /tmp/d2oRH5Dg3x looks good.
ok 25 - Computing differences
Comparing /tmp/I3rWDxtupP to t/mailboxes/malformed.txt
Output /tmp/I3rWDxtupP looks good.
ok 26 - Computing differences
ok 27 # skip GNU grep not available
Testing filename: t/mailboxes/newlines_at_beginning.txt
Comparing /tmp/aG_nelL6mi to t/mailboxes/newlines_at_beginning.txt
Output /tmp/aG_nelL6mi looks good.
ok 28 - Computing differences
Comparing /tmp/HPt5oqF97R to t/mailboxes/newlines_at_beginning.txt
Output /tmp/HPt5oqF97R looks good.
ok 29 - Computing differences
ok 30 # skip GNU grep not available
Testing filename: t/mailboxes/vm-emacs.txt
Comparing /tmp/_8EjuMFGHV to t/mailboxes/vm-emacs.txt
Output /tmp/_8EjuMFGHV looks good.
ok 31 - Computing differences
Comparing /tmp/h1ipPW_Ogt to t/mailboxes/vm-emacs.txt
Output /tmp/h1ipPW_Ogt looks good.
ok 32 - Computing differences
ok 33 # skip GNU grep not available
ok
t/reset.t ....................... 
1..60
Testing filename: t/mailboxes/binary_body.txt
Testing partial mailbox reset with Perl implementation
Comparing /tmp/I9MVntPYo8 to t/results/reset_binary_body.stdout
Output /tmp/I9MVntPYo8 looks good.
ok 1 - Computing differences
Testing partial mailbox reset with Cache implementation
Comparing /tmp/8jiXrhxke4 to t/results/reset_binary_body.stdout
Output /tmp/8jiXrhxke4 looks good.
ok 2 - Computing differences
Testing partial mailbox reset with Grep implementation
ok 3 # skip GNU grep not available
Testing full mailbox reset with Perl implementation
Comparing /tmp/7VGqKYZWdL to t/results/reset_binary_body.stdout
Output /tmp/7VGqKYZWdL looks good.
ok 4 - Computing differences
Testing full mailbox reset with Cache implementation
Comparing /tmp/ZASLHsq5fA to t/results/reset_binary_body.stdout
Output /tmp/ZASLHsq5fA looks good.
ok 5 - Computing differences
Testing full mailbox reset with Grep implementation
ok 6 # skip GNU grep not available
Testing filename: t/mailboxes/hessbug.txt
Testing partial mailbox reset with Perl implementation
Comparing /tmp/h5R1nEk5BH to t/results/reset_hessbug.stdout
Output /tmp/h5R1nEk5BH looks good.
ok 7 - Computing differences
Testing partial mailbox reset with Cache implementation
Comparing /tmp/6tbz056f_K to t/results/reset_hessbug.stdout
Output /tmp/6tbz056f_K looks good.
ok 8 - Computing differences
Testing partial mailbox reset with Grep implementation
ok 9 # skip GNU grep not available
Testing full mailbox reset with Perl implementation
Comparing /tmp/ZORZtFlxuc to t/results/reset_hessbug.stdout
Output /tmp/ZORZtFlxuc looks good.
ok 10 - Computing differences
Testing full mailbox reset with Cache implementation
Comparing /tmp/PigWONJscl to t/results/reset_hessbug.stdout
Output /tmp/PigWONJscl looks good.
ok 11 - Computing differences
Testing full mailbox reset with Grep implementation
ok 12 # skip GNU grep not available
Testing filename: t/mailboxes/invalid-boundaries.txt
Testing partial mailbox reset with Perl implementation
Comparing /tmp/vreA1IxdPF to t/results/reset_invalid-boundaries.stdout
Output /tmp/vreA1IxdPF looks good.
ok 13 - Computing differences
Testing partial mailbox reset with Cache implementation
Comparing /tmp/09VgZPPuOA to t/results/reset_invalid-boundaries.stdout
Output /tmp/09VgZPPuOA looks good.
ok 14 - Computing differences
Testing partial mailbox reset with Grep implementation
ok 15 # skip GNU grep not available
Testing full mailbox reset with Perl implementation
Comparing /tmp/lCjnNrHyGU to t/results/reset_invalid-boundaries.stdout
Output /tmp/lCjnNrHyGU looks good.
ok 16 - Computing differences
Testing full mailbox reset with Cache implementation
Comparing /tmp/tyOU5nkO_1 to t/results/reset_invalid-boundaries.stdout
Output /tmp/tyOU5nkO_1 looks good.
ok 17 - Computing differences
Testing full mailbox reset with Grep implementation
ok 18 # skip GNU grep not available
Testing filename: t/mailboxes/mailarc-1-dos.txt
Testing partial mailbox reset with Perl implementation
Comparing /tmp/XtqQF2Gwyl to t/results/reset_mailarc-1-dos.stdout
Output /tmp/XtqQF2Gwyl looks good.
ok 19 - Computing differences
Testing partial mailbox reset with Cache implementation
Comparing /tmp/ImzN75h8ms to t/results/reset_mailarc-1-dos.stdout
Output /tmp/ImzN75h8ms looks good.
ok 20 - Computing differences
Testing partial mailbox reset with Grep implementation
ok 21 # skip GNU grep not available
Testing full mailbox reset with Perl implementation
Comparing /tmp/GUF23UeNdC to t/results/reset_mailarc-1-dos.stdout
Output /tmp/GUF23UeNdC looks good.
ok 22 - Computing differences
Testing full mailbox reset with Cache implementation
Comparing /tmp/CN7zBJ_qKv to t/results/reset_mailarc-1-dos.stdout
Output /tmp/CN7zBJ_qKv looks good.
ok 23 - Computing differences
Testing full mailbox reset with Grep implementation
ok 24 # skip GNU grep not available
Testing filename: t/mailboxes/mailarc-1.txt
Testing partial mailbox reset with Perl implementation
Comparing /tmp/pF8USVScgm to t/results/reset_mailarc-1.stdout
Output /tmp/pF8USVScgm looks good.
ok 25 - Computing differences
Testing partial mailbox reset with Cache implementation
Comparing /tmp/Dn2btjkeb4 to t/results/reset_mailarc-1.stdout
Output /tmp/Dn2btjkeb4 looks good.
ok 26 - Computing differences
Testing partial mailbox reset with Grep implementation
ok 27 # skip GNU grep not available
Testing full mailbox reset with Perl implementation
Comparing /tmp/mdSKCzlCKH to t/results/reset_mailarc-1.stdout
Output /tmp/mdSKCzlCKH looks good.
ok 28 - Computing differences
Testing full mailbox reset with Cache implementation
Comparing /tmp/S1RmwLk3d1 to t/results/reset_mailarc-1.stdout
Output /tmp/S1RmwLk3d1 looks good.
ok 29 - Computing differences
Testing full mailbox reset with Grep implementation
ok 30 # skip GNU grep not available
Testing filename: t/mailboxes/mailarc-2.txt
Testing partial mailbox reset with Perl implementation
Comparing /tmp/5p3TSXC9I1 to t/results/reset_mailarc-2.stdout
Output /tmp/5p3TSXC9I1 looks good.
ok 31 - Computing differences
Testing partial mailbox reset with Cache implementation
Comparing /tmp/dyMRfHYbe0 to t/results/reset_mailarc-2.stdout
Output /tmp/dyMRfHYbe0 looks good.
ok 32 - Computing differences
Testing partial mailbox reset with Grep implementation
ok 33 # skip GNU grep not available
Testing full mailbox reset with Perl implementation
Comparing /tmp/v_uSPGDPuu to t/results/reset_mailarc-2.stdout
Output /tmp/v_uSPGDPuu looks good.
ok 34 - Computing differences
Testing full mailbox reset with Cache implementation
Comparing /tmp/_7sKHmGlKb to t/results/reset_mailarc-2.stdout
Output /tmp/_7sKHmGlKb looks good.
ok 35 - Computing differences
Testing full mailbox reset with Grep implementation
ok 36 # skip GNU grep not available
Testing filename: t/mailboxes/mailarc-3.txt
Testing partial mailbox reset with Perl implementation
Comparing /tmp/CwOijePp5L to t/results/reset_mailarc-3.stdout
Output /tmp/CwOijePp5L looks good.
ok 37 - Computing differences
Testing partial mailbox reset with Cache implementation
Comparing /tmp/jYZCkT2Xqj to t/results/reset_mailarc-3.stdout
Output /tmp/jYZCkT2Xqj looks good.
ok 38 - Computing differences
Testing partial mailbox reset with Grep implementation
ok 39 # skip GNU grep not available
Testing full mailbox reset with Perl implementation
Comparing /tmp/2h2UsbomCT to t/results/reset_mailarc-3.stdout
Output /tmp/2h2UsbomCT looks good.
ok 40 - Computing differences
Testing full mailbox reset with Cache implementation
Comparing /tmp/giPrw2iad4 to t/results/reset_mailarc-3.stdout
Output /tmp/giPrw2iad4 looks good.
ok 41 - Computing differences
Testing full mailbox reset with Grep implementation
ok 42 # skip GNU grep not available
Testing filename: t/mailboxes/mailseparators.txt
Testing partial mailbox reset with Perl implementation
Comparing /tmp/c8bwTU7CS2 to t/results/reset_mailseparators.stdout
Output /tmp/c8bwTU7CS2 looks good.
ok 43 - Computing differences
Testing partial mailbox reset with Cache implementation
Comparing /tmp/lXo8lrd3AC to t/results/reset_mailseparators.stdout
Output /tmp/lXo8lrd3AC looks good.
ok 44 - Computing differences
Testing partial mailbox reset with Grep implementation
ok 45 # skip GNU grep not available
Testing full mailbox reset with Perl implementation
Comparing /tmp/YSQiDyK9Ob to t/results/reset_mailseparators.stdout
Output /tmp/YSQiDyK9Ob looks good.
ok 46 - Computing differences
Testing full mailbox reset with Cache implementation
Comparing /tmp/nk05Dmo8s7 to t/results/reset_mailseparators.stdout
Output /tmp/nk05Dmo8s7 looks good.
ok 47 - Computing differences
Testing full mailbox reset with Grep implementation
ok 48 # skip GNU grep not available
Testing filename: t/mailboxes/malformed.txt
Testing partial mailbox reset with Perl implementation
Comparing /tmp/rFtSgBrfcu to t/results/reset_malformed.stdout
Output /tmp/rFtSgBrfcu looks good.
ok 49 - Computing differences
Testing partial mailbox reset with Cache implementation
Comparing /tmp/sYPqADa4Hw to t/results/reset_malformed.stdout
Output /tmp/sYPqADa4Hw looks good.
ok 50 - Computing differences
Testing partial mailbox reset with Grep implementation
ok 51 # skip GNU grep not available
Testing full mailbox reset with Perl implementation
Comparing /tmp/BKgaU6G_Ot to t/results/reset_malformed.stdout
Output /tmp/BKgaU6G_Ot looks good.
ok 52 - Computing differences
Testing full mailbox reset with Cache implementation
Comparing /tmp/od5dDEFVKn to t/results/reset_malformed.stdout
Output /tmp/od5dDEFVKn looks good.
ok 53 - Computing differences
Testing full mailbox reset with Grep implementation
ok 54 # skip GNU grep not available
Testing filename: t/mailboxes/newlines_at_beginning.txt
Testing partial mailbox reset with Perl implementation
Comparing /tmp/vI5yoJgwT7 to t/results/reset_newlines_at_beginning.stdout
Output /tmp/vI5yoJgwT7 looks good.
ok 55 - Computing differences
Testing partial mailbox reset with Cache implementation
Comparing /tmp/etgxUQqxV9 to t/results/reset_newlines_at_beginning.stdout
Output /tmp/etgxUQqxV9 looks good.
ok 56 - Computing differences
Testing partial mailbox reset with Grep implementation
ok 57 # skip GNU grep not available
Testing full mailbox reset with Perl implementation
Comparing /tmp/BA1OtEDBso to t/results/reset_newlines_at_beginning.stdout
Output /tmp/BA1OtEDBso looks good.
ok 58 - Computing differences
Testing full mailbox reset with Cache implementation
Comparing /tmp/oGmVkhu2PY to t/results/reset_newlines_at_beginning.stdout
Output /tmp/oGmVkhu2PY looks good.
ok 59 - Computing differences
Testing full mailbox reset with Grep implementation
ok 60 # skip GNU grep not available
ok
t/separators.t .................. 
1..6
Testing filename: t/mailboxes/separators2.sep
ok 1 - Number of emails in t/mailboxes/separators2.sep
ok 2 - Number of emails in t/mailboxes/separators2.sep
ok 3 # skip GNU grep not available
Testing filename: t/mailboxes/separators1.sep
ok 4 - Number of emails in t/mailboxes/separators1.sep
ok 5 - Number of emails in t/mailboxes/separators1.sep
ok 6 # skip GNU grep not available
ok
t/stdin_compressed.t ............ 
1..4
Testing filename: t/mailboxes/mailarc-2.txt.bz2
Comparing /tmp/QwmCEq96mN to t/mailboxes/mailarc-2.txt
Output /tmp/QwmCEq96mN looks good.
ok 1 - Computing differences
Testing filename: t/mailboxes/mailarc-2.txt.gz
Comparing /tmp/Ydk0WkvoYG to t/mailboxes/mailarc-2.txt
Output /tmp/Ydk0WkvoYG looks good.
ok 2 - Computing differences
Testing filename: t/mailboxes/mailarc-2.txt.lz
ok 3 # skip lzip not available
Testing filename: t/mailboxes/mailarc-2.txt.xz
Comparing /tmp/fVFqlSxnGg to t/mailboxes/mailarc-2.txt
Output /tmp/fVFqlSxnGg looks good.
ok 4 - Computing differences
ok
t/stdin_uncompressed.t .......... 
1..11
Testing filename: t/mailboxes/binary_body.txt
Comparing /tmp/uLpMNT37LF to t/mailboxes/binary_body.txt
Output /tmp/uLpMNT37LF looks good.
ok 1 - Computing differences
Testing filename: t/mailboxes/hessbug.txt
Comparing /tmp/YDovqnh4OS to t/mailboxes/hessbug.txt
Output /tmp/YDovqnh4OS looks good.
ok 2 - Computing differences
Testing filename: t/mailboxes/invalid-boundaries.txt
Comparing /tmp/xOLfBYfTuJ to t/mailboxes/invalid-boundaries.txt
Output /tmp/xOLfBYfTuJ looks good.
ok 3 - Computing differences
Testing filename: t/mailboxes/mailarc-1-dos.txt
Comparing /tmp/aEDXDJSH2g to t/mailboxes/mailarc-1-dos.txt
Output /tmp/aEDXDJSH2g looks good.
ok 4 - Computing differences
Testing filename: t/mailboxes/mailarc-1.txt
Comparing /tmp/uf35H1QzHy to t/mailboxes/mailarc-1.txt
Output /tmp/uf35H1QzHy looks good.
ok 5 - Computing differences
Testing filename: t/mailboxes/mailarc-2.txt
Comparing /tmp/IZBGs49Q9j to t/mailboxes/mailarc-2.txt
Output /tmp/IZBGs49Q9j looks good.
ok 6 - Computing differences
Testing filename: t/mailboxes/mailarc-3.txt
Comparing /tmp/qQ3SRdTb0w to t/mailboxes/mailarc-3.txt
Output /tmp/qQ3SRdTb0w looks good.
ok 7 - Computing differences
Testing filename: t/mailboxes/mailseparators.txt
Comparing /tmp/kMALjfubv4 to t/mailboxes/mailseparators.txt
Output /tmp/kMALjfubv4 looks good.
ok 8 - Computing differences
Testing filename: t/mailboxes/malformed.txt
Comparing /tmp/RgYKu2wXKE to t/mailboxes/malformed.txt
Output /tmp/RgYKu2wXKE looks good.
ok 9 - Computing differences
Testing filename: t/mailboxes/newlines_at_beginning.txt
Comparing /tmp/qCfWDeHm6X to t/mailboxes/newlines_at_beginning.txt
Output /tmp/qCfWDeHm6X looks good.
ok 10 - Computing differences
Testing filename: t/mailboxes/vm-emacs.txt
Comparing /tmp/FNNlTeFjBx to t/mailboxes/vm-emacs.txt
Output /tmp/FNNlTeFjBx looks good.
ok 11 - Computing differences
ok
t/undef_return_value.t .......... 
1..33
Testing Perl 
Comparing /tmp/n9pQgMuiUl to t/mailboxes/binary_body.txt
Output /tmp/n9pQgMuiUl looks good.
ok 1 - Computing differences
Testing Cache implementation
Comparing /tmp/x6AeFSkFf1 to t/mailboxes/binary_body.txt
Output /tmp/x6AeFSkFf1 looks good.
ok 2 - Computing differences
ok 3 # skip GNU grep not available
Testing Perl 
Comparing /tmp/3u6ZxsNvWp to t/mailboxes/hessbug.txt
Output /tmp/3u6ZxsNvWp looks good.
ok 4 - Computing differences
Testing Cache implementation
Comparing /tmp/o0wocEdvye to t/mailboxes/hessbug.txt
Output /tmp/o0wocEdvye looks good.
ok 5 - Computing differences
ok 6 # skip GNU grep not available
Testing Perl 
Comparing /tmp/vq205YNaGg to t/mailboxes/invalid-boundaries.txt
Output /tmp/vq205YNaGg looks good.
ok 7 - Computing differences
Testing Cache implementation
Comparing /tmp/M0x_sgLf6b to t/mailboxes/invalid-boundaries.txt
Output /tmp/M0x_sgLf6b looks good.
ok 8 - Computing differences
ok 9 # skip GNU grep not available
Testing Perl 
Comparing /tmp/7oytciktCE to t/mailboxes/mailarc-1-dos.txt
Output /tmp/7oytciktCE looks good.
ok 10 - Computing differences
Testing Cache implementation
Comparing /tmp/9RDLis30HV to t/mailboxes/mailarc-1-dos.txt
Output /tmp/9RDLis30HV looks good.
ok 11 - Computing differences
ok 12 # skip GNU grep not available
Testing Perl 
Comparing /tmp/fzQVmeDNJ3 to t/mailboxes/mailarc-1.txt
Output /tmp/fzQVmeDNJ3 looks good.
ok 13 - Computing differences
Testing Cache implementation
Comparing /tmp/lg1Bavtdmn to t/mailboxes/mailarc-1.txt
Output /tmp/lg1Bavtdmn looks good.
ok 14 - Computing differences
ok 15 # skip GNU grep not available
Testing Perl 
Comparing /tmp/Fa0BqKHbVx to t/mailboxes/mailarc-2.txt
Output /tmp/Fa0BqKHbVx looks good.
ok 16 - Computing differences
Testing Cache implementation
Comparing /tmp/wwgMA1yF3m to t/mailboxes/mailarc-2.txt
Output /tmp/wwgMA1yF3m looks good.
ok 17 - Computing differences
ok 18 # skip GNU grep not available
Testing Perl 
Comparing /tmp/biGEYJ2Pnx to t/mailboxes/mailarc-3.txt
Output /tmp/biGEYJ2Pnx looks good.
ok 19 - Computing differences
Testing Cache implementation
Comparing /tmp/CkUynYG2Pb to t/mailboxes/mailarc-3.txt
Output /tmp/CkUynYG2Pb looks good.
ok 20 - Computing differences
ok 21 # skip GNU grep not available
Testing Perl 
Comparing /tmp/f3mgXuVeid to t/mailboxes/mailseparators.txt
Output /tmp/f3mgXuVeid looks good.
ok 22 - Computing differences
Testing Cache implementation
Comparing /tmp/upCRkIxkhR to t/mailboxes/mailseparators.txt
Output /tmp/upCRkIxkhR looks good.
ok 23 - Computing differences
ok 24 # skip GNU grep not available
Testing Perl 
Comparing /tmp/qwgVQDnNF_ to t/mailboxes/malformed.txt
Output /tmp/qwgVQDnNF_ looks good.
ok 25 - Computing differences
Testing Cache implementation
Comparing /tmp/2rGRIDrsP6 to t/mailboxes/malformed.txt
Output /tmp/2rGRIDrsP6 looks good.
ok 26 - Computing differences
ok 27 # skip GNU grep not available
Testing Perl 
Comparing /tmp/mD270SNUy6 to t/mailboxes/newlines_at_beginning.txt
Output /tmp/mD270SNUy6 looks good.
ok 28 - Computing differences
Testing Cache implementation
Comparing /tmp/ShQRQmNy8u to t/mailboxes/newlines_at_beginning.txt
Output /tmp/ShQRQmNy8u looks good.
ok 29 - Computing differences
ok 30 # skip GNU grep not available
Testing Perl 
Comparing /tmp/xBVMg5jdv8 to t/mailboxes/vm-emacs.txt
Output /tmp/xBVMg5jdv8 looks good.
ok 31 - Computing differences
Testing Cache implementation
Comparing /tmp/BFlWVJ_3uy to t/mailboxes/vm-emacs.txt
Output /tmp/BFlWVJ_3uy looks good.
ok 32 - Computing differences
ok 33 # skip GNU grep not available
ok
t/xz.t .......................... 
1..1
Running test:
  "/usr/bin/cat" "t/mailboxes/mailarc-2.txt.xz" | "/usr/bin/xz" -cd
Comparing /tmp/3RxuSACuBb to t/results/mailarc-2.txt
Output /tmp/3RxuSACuBb looks good.
Comparing /tmp/iX04qA7mmt to t/results/none
Output /tmp/iX04qA7mmt looks good.
ok 1 - Computing differences
ok
All tests successful.
Files=25, Tests=382,  5 wallclock secs ( 0.15 usr  0.02 sys +  3.60 cusr  0.77 csys =  4.54 CPU)
Result: PASS

------------------------------
PREREQUISITES
------------------------------

Prerequisite modules loaded:

requires:

    Module              Need  Have    
    ------------------- ----- --------
    FileHandle::Unget   0     0.1634  
    perl                5.005 5.037005
    Storable            0     3.27    

build_requires:

    Module              Need  Have    
    ------------------- ----- --------
    ExtUtils::MakeMaker 6.36  7.64    
    File::Path          2.08  2.18    
    File::Slurper       0     0.013   
    Test::Compile       0     v3.1.0  
    Test::More          0     1.302191
    Text::Diff          0     1.45    
    UNIVERSAL::require  0     0.19    
    URI::Escape         0     5.17    

configure_requires:

    Module              Need  Have    
    ------------------- ----- --------
    ExtUtils::MakeMaker 6.36  7.64    
    URI::Escape         0     5.17    


------------------------------
ENVIRONMENT AND OTHER CONTEXT
------------------------------

Environment variables:

    AUTOMATED_TESTING = 1
    LANG = en_US.UTF-8
    LC_ADDRESS = de_DE.UTF-8
    LC_IDENTIFICATION = de_DE.UTF-8
    LC_MEASUREMENT = de_DE.UTF-8
    LC_MONETARY = de_DE.UTF-8
    LC_NAME = de_DE.UTF-8
    LC_NUMERIC = de_DE.UTF-8
    LC_PAPER = de_DE.UTF-8
    LC_TELEPHONE = de_DE.UTF-8
    LC_TIME = de_DE.UTF-8
    PATH = /home/sand/bin:/usr/local/bin:/usr/local/sbin:/usr/sbin:/usr/bin:/sbin:/bin:/usr/games:/usr/local/games:/snap/bin:/usr/local/perl/bin:/usr/X11/bin
    PERL = /tmp/basesmoker-reloperl-BaSC/bin/perl
    PERL5LIB = /tmp/loop_over_bdir-9853-VMv97Q/CORBA-Python-2.66-0/blib/arch:/tmp/loop_over_bdir-9853-VMv97Q/CORBA-Python-2.66-0/blib/lib:/tmp/loop_over_bdir-9853-VMv97Q/shishi-0.0.1-0/blib/arch:/tmp/loop_over_bdir-9853-VMv97Q/shishi-0.0.1-0/blib/lib:/tmp/loop_over_bdir-9853-VMv97Q/Lemonldap-NG-Cli-0.2-0/blib/arch:/tmp/loop_over_bdir-9853-VMv97Q/Lemonldap-NG-Cli-0.2-0/blib/lib:/tmp/loop_over_bdir-9853-VMv97Q/DBIx-Migration-Directories-0.12-0/blib/arch:/tmp/loop_over_bdir-9853-VMv97Q/DBIx-Migration-Directories-0.12-0/blib/lib:/tmp/loop_over_bdir-9853-VMv97Q/downsexta-0/blib/arch:/tmp/loop_over_bdir-9853-VMv97Q/downsexta-0/blib/lib:/tmp/loop_over_bdir-9853-VMv97Q/Net-OpenVPN-DDNS-0.1-0/blib/arch:/tmp/loop_over_bdir-9853-VMv97Q/Net-OpenVPN-DDNS-0.1-0/blib/lib:/tmp/loop_over_bdir-9853-VMv97Q/Devel-Required-0.16-0/blib/arch:/tmp/loop_over_bdir-9853-VMv97Q/Devel-Required-0.16-0/blib/lib:/tmp/loop_over_bdir-9853-VMv97Q/Business-Shipping-DataFiles-1.02-0/blib/arch:/tmp/loop_over_bdir-9853-VMv97Q/Business-Shipping-DataFiles-1.02-0/blib/lib
    PERL5OPT = 
    PERL5_CPANPLUS_IS_RUNNING = 9871
    PERL5_CPAN_IS_RUNNING = 9871
    PERL_CANARY_STABILITY_NOPROMPT = 1
    PERL_MM_USE_DEFAULT = 1
    PERL_USE_UNSAFE_INC = 1
    SHELL = /usr/bin/zsh
    TERM = screen

Perl special variables (and OS-specific diagnostics, for MSWin32):

    $^X = /tmp/basesmoker-reloperl-BaSC/bin/perl
    $UID/$EUID = 1005 / 1005
    $GID = 1005 1005
    $EGID = 1005 1005

Perl module toolchain versions installed:

    Module              Have    
    ------------------- --------
    CPAN                2.34    
    CPAN::Meta          2.150010
    Cwd                 3.86    
    ExtUtils::CBuilder  0.280237
    ExtUtils::Command   7.64    
    ExtUtils::Install   2.20    
    ExtUtils::MakeMaker 7.64    
    ExtUtils::Manifest  1.73    
    ExtUtils::ParseXS   3.46    
    File::Spec          3.87    
    JSON                4.10    
    JSON::PP            4.12    
    Module::Build       0.4231  
    Module::Signature   0.88    
    Parse::CPAN::Meta   2.150010
    Test::Harness       3.44    
    Test::More          1.302191
    YAML                1.30    
    YAML::Syck          1.34    
    version             0.9929  


--

Summary of my perl5 (revision 5 version 37 subversion 5) configuration:
  Commit id: 064941484781d9099db0bbe7d6ea22a826df1e15
  Platform:
    osname=linux
    osvers=5.15.0-52-generic
    archname=x86_64-linux
    uname='linux k93jammy 5.15.0-52-generic #58-ubuntu smp thu oct 13 08:03:55 utc 2022 x86_64 x86_64 x86_64 gnulinux '
    config_args='-Dprefix=/home/sand/src/perl/repoperls/installed-perls/host/k93jammy/v5.37.4-160-g0649414847/6567 -Dmyhostname=k93jammy -Dinstallusrbinperl=n -Uversiononly -Dusedevel -des -Ui_db -Dlibswanted=cl pthread socket inet nsl gdbm dbm malloc dl ld sun m crypt sec util c cposix posix ucb BSD gdbm_compat -Uuseithreads -Uuselongdouble -DEBUGGING=-g'
    hint=recommended
    useposix=true
    d_sigaction=define
    useithreads=undef
    usemultiplicity=undef
    use64bitint=define
    use64bitall=define
    uselongdouble=undef
    usemymalloc=n
    default_inc_excludes_dot=define
  Compiler:
    cc='cc'
    ccflags ='-fwrapv -fno-strict-aliasing -pipe -fstack-protector-strong -I/usr/local/include -D_LARGEFILE_SOURCE -D_FILE_OFFSET_BITS=64'
    optimize='-O2 -g'
    cppflags='-fwrapv -fno-strict-aliasing -pipe -fstack-protector-strong -I/usr/local/include'
    ccversion=''
    gccversion='11.3.0'
    gccosandvers=''
    intsize=4
    longsize=8
    ptrsize=8
    doublesize=8
    byteorder=12345678
    doublekind=3
    d_longlong=define
    longlongsize=8
    d_longdbl=define
    longdblsize=16
    longdblkind=3
    ivtype='long'
    ivsize=8
    nvtype='double'
    nvsize=8
    Off_t='off_t'
    lseeksize=8
    alignbytes=8
    prototype=define
  Linker and Libraries:
    ld='cc'
    ldflags =' -fstack-protector-strong -L/usr/local/lib'
    libpth=/usr/local/lib /usr/lib/x86_64-linux-gnu /usr/lib /usr/lib64
    libs=-lpthread -lnsl -ldl -lm -lcrypt -lutil -lc
    perllibs=-lpthread -lnsl -ldl -lm -lcrypt -lutil -lc
    libc=/lib/x86_64-linux-gnu/libc.so.6
    so=so
    useshrplib=false
    libperl=libperl.a
    gnulibc_version='2.35'
  Dynamic Linking:
    dlsrc=dl_dlopen.xs
    dlext=so
    d_dlsymun=undef
    ccdlflags='-Wl,-E'
    cccdlflags='-fPIC'
    lddlflags='-shared -O2 -g -L/usr/local/lib -fstack-protector-strong'


Characteristics of this binary (from libperl): 
  Compile-time options:
    HAS_TIMES
    PERLIO_LAYERS
    PERL_COPY_ON_WRITE
    PERL_DONT_CREATE_GVSV
    PERL_HASH_FUNC_SIPHASH13
    PERL_HASH_USE_SBOX32
    PERL_MALLOC_WRAP
    PERL_OP_PARENT
    PERL_PRESERVE_IVUV
    PERL_USE_DEVEL
    PERL_USE_SAFE_PUTENV
    USE_64_BIT_ALL
    USE_64_BIT_INT
    USE_LARGE_FILES
    USE_LOCALE
    USE_LOCALE_COLLATE
    USE_LOCALE_CTYPE
    USE_LOCALE_NUMERIC
    USE_LOCALE_TIME
    USE_PERLIO
    USE_PERL_ATOF
  Built under linux
  Compiled at Nov 13 2022 11:55:34
  %ENV:
    PERL="/tmp/basesmoker-reloperl-BaSC/bin/perl"
    PERL5LIB="/tmp/loop_over_bdir-9853-VMv97Q/CORBA-Python-2.66-0/blib/arch:/tmp/loop_over_bdir-9853-VMv97Q/CORBA-Python-2.66-0/blib/lib:/tmp/loop_over_bdir-9853-VMv97Q/shishi-0.0.1-0/blib/arch:/tmp/loop_over_bdir-9853-VMv97Q/shishi-0.0.1-0/blib/lib:/tmp/loop_over_bdir-9853-VMv97Q/Lemonldap-NG-Cli-0.2-0/blib/arch:/tmp/loop_over_bdir-9853-VMv97Q/Lemonldap-NG-Cli-0.2-0/blib/lib:/tmp/loop_over_bdir-9853-VMv97Q/DBIx-Migration-Directories-0.12-0/blib/arch:/tmp/loop_over_bdir-9853-VMv97Q/DBIx-Migration-Directories-0.12-0/blib/lib:/tmp/loop_over_bdir-9853-VMv97Q/downsexta-0/blib/arch:/tmp/loop_over_bdir-9853-VMv97Q/downsexta-0/blib/lib:/tmp/loop_over_bdir-9853-VMv97Q/Net-OpenVPN-DDNS-0.1-0/blib/arch:/tmp/loop_over_bdir-9853-VMv97Q/Net-OpenVPN-DDNS-0.1-0/blib/lib:/tmp/loop_over_bdir-9853-VMv97Q/Devel-Required-0.16-0/blib/arch:/tmp/loop_over_bdir-9853-VMv97Q/Devel-Required-0.16-0/blib/lib:/tmp/loop_over_bdir-9853-VMv97Q/Business-Shipping-DataFiles-1.02-0/blib/arch:/tmp/loop_over_bdir-9853-VMv97Q/Business-Shipping-DataFiles-1.02-0/blib/lib"
    PERL5OPT=""
    PERL5_CPANPLUS_IS_RUNNING="9871"
    PERL5_CPAN_IS_RUNNING="9871"
    PERL_CANARY_STABILITY_NOPROMPT="1"
    PERL_MM_USE_DEFAULT="1"
    PERL_USE_UNSAFE_INC="1"
  @INC:
    /tmp/loop_over_bdir-9853-VMv97Q/CORBA-Python-2.66-0/blib/arch
    /tmp/loop_over_bdir-9853-VMv97Q/CORBA-Python-2.66-0/blib/lib
    /tmp/loop_over_bdir-9853-VMv97Q/shishi-0.0.1-0/blib/arch
    /tmp/loop_over_bdir-9853-VMv97Q/shishi-0.0.1-0/blib/lib
    /tmp/loop_over_bdir-9853-VMv97Q/Lemonldap-NG-Cli-0.2-0/blib/arch
    /tmp/loop_over_bdir-9853-VMv97Q/Lemonldap-NG-Cli-0.2-0/blib/lib
    /tmp/loop_over_bdir-9853-VMv97Q/DBIx-Migration-Directories-0.12-0/blib/arch
    /tmp/loop_over_bdir-9853-VMv97Q/DBIx-Migration-Directories-0.12-0/blib/lib
    /tmp/loop_over_bdir-9853-VMv97Q/downsexta-0/blib/arch
    /tmp/loop_over_bdir-9853-VMv97Q/downsexta-0/blib/lib
    /tmp/loop_over_bdir-9853-VMv97Q/Net-OpenVPN-DDNS-0.1-0/blib/arch
    /tmp/loop_over_bdir-9853-VMv97Q/Net-OpenVPN-DDNS-0.1-0/blib/lib
    /tmp/loop_over_bdir-9853-VMv97Q/Devel-Required-0.16-0/blib/arch
    /tmp/loop_over_bdir-9853-VMv97Q/Devel-Required-0.16-0/blib/lib
    /tmp/loop_over_bdir-9853-VMv97Q/Business-Shipping-DataFiles-1.02-0/blib/arch
    /tmp/loop_over_bdir-9853-VMv97Q/Business-Shipping-DataFiles-1.02-0/blib/lib
    /home/sand/src/perl/repoperls/installed-perls/host/k93jammy/v5.37.4-160-g0649414847/6567/lib/site_perl/5.37.5/x86_64-linux
    /home/sand/src/perl/repoperls/installed-perls/host/k93jammy/v5.37.4-160-g0649414847/6567/lib/site_perl/5.37.5
    /home/sand/src/perl/repoperls/installed-perls/host/k93jammy/v5.37.4-160-g0649414847/6567/lib/5.37.5/x86_64-linux
    /home/sand/src/perl/repoperls/installed-perls/host/k93jammy/v5.37.4-160-g0649414847/6567/lib/5.37.5
    .