Sodium-FFI v0.009 Perl 5 v5.30.3 amd64-freebsd
- Status
- Pass
- From
- Slaven Rezić
- Dist
-
Sodium-FFI v0.009
- Platform
- Perl 5 v5.30.3 amd64-freebsd
- Date
- 2023-04-08 03:17:32
- ID
- e7025586-d5bb-11ed-b940-c61b6e8775ea
This distribution has been tested as part of the CPAN Testers
project, supporting the Perl programming language. See
http://wiki.cpantesters.org/ for more information or email
questions to cpan-testers-discuss@perl.org
--
Dear Chase Whitener,
This is a computer-generated report for Sodium-FFI-0.009
on perl 5.30.3, created by CPAN-Reporter-1.2018.
Thank you for uploading your work to CPAN. Congratulations!
All tests were successful.
Sections of this report:
* Tester comments
* Program output
* Prerequisites
* Environment and other context
------------------------------
TESTER COMMENTS
------------------------------
Additional comments from tester:
none provided
------------------------------
PROGRAM OUTPUT
------------------------------
Output from '/usr/bin/make test':
"/usr/perl5.30.3p/bin/perl5.30.3" -MFFI::Build::MM=cmd -e fbx_build
"/usr/perl5.30.3p/bin/perl5.30.3" -MFFI::Build::MM=cmd -e fbx_test
PERL_DL_NONLAZY=1 "/usr/perl5.30.3p/bin/perl5.30.3" "-MExtUtils::Command::MM" "-MTest::Harness" "-e" "undef *Test::Harness::Switches; test_harness(0, 'blib/lib', 'blib/arch')" t/*.t t/aead/*.t t/pub_key_crypto/*.t
#
# Versions for all modules listed in MYMETA.json (including optional ones):
#
# === Configure Requires ===
#
# Module Want Have
# -------------------- ----- --------
# Alien::Base::Wrapper any 2.78
# Alien::Sodium 2.00 2.000
# ExtUtils::MakeMaker any 7.70
# FFI::Build::MM 0.83 2.05
# perl 5.008 5.030003
#
# === Build Requires ===
#
# Module Want Have
# ------------- ---- -----
# Alien::Sodium any 2.000
#
# === Test Requires ===
#
# Module Want Have
# ------------------- ----- --------
# ExtUtils::MakeMaker any 7.70
# File::Spec any 3.78
# Test::More 0.88 1.302192
# perl 5.008 5.030003
#
# === Test Recommends ===
#
# Module Want Have
# ---------- -------- --------
# CPAN::Meta 2.120900 2.150010
#
# === Runtime Requires ===
#
# Module Want Have
# -------------------- ----- --------
# Alien::Base::Wrapper any 2.78
# Alien::Sodium 2.000 2.000
# Carp any 1.50
# Cwd any 3.78
# Exporter 5.57 5.74
# FFI::Platypus 1.00 2.05
# File::Basename any 2.85
# File::ShareDir any 1.118
# File::Spec any 3.78
# Path::Tiny any 0.144
# Ref::Util any 0.204
# Sub::Util any 1.63
# feature any 1.54
# perl 5.008 5.030003
# strict any 1.11
# utf8 any 1.22
# warnings any 1.44
#
t/00-report-prereqs.t ........... ok
t/10-versions.t ................. ok
t/11-utils.t .................... ok
t/12-random.t ................... ok
t/aead/aes256gcm.t .............. ok
t/aead/chacha20poly1305.t ....... ok
t/aead/chacha20poly1305_ietf.t .. ok
t/crypto_auth.t ................. ok
t/pub_key_crypto/box.t .......... ok
t/pub_key_crypto/pubkey_sig.t ... ok
All tests successful.
Files=10, Tests=144, 2 wallclock secs ( 0.04 usr 0.03 sys + 1.62 cusr 0.23 csys = 1.92 CPU)
Result: PASS
------------------------------
PREREQUISITES
------------------------------
Prerequisite modules loaded:
requires:
Module Need Have
-------------------- ----- --------
Alien::Base::Wrapper 0 2.78
Alien::Sodium 2.000 2.000
Carp 0 1.50
Cwd 0 3.78
Exporter 5.57 5.74
feature 0 1.54
FFI::Platypus 1.00 2.05
File::Basename 0 2.85
File::ShareDir 0 1.118
File::Spec 0 3.78
Path::Tiny 0 0.144
Ref::Util 0 0.204
strict 0 1.11
Sub::Util 0 1.63
utf8 0 1.22
warnings 0 1.44
build_requires:
Module Need Have
-------------------- ----- --------
Alien::Sodium 0 2.000
ExtUtils::MakeMaker 0 7.70
File::Spec 0 3.78
Test::More 0.88 1.302192
configure_requires:
Module Need Have
-------------------- ----- --------
Alien::Base::Wrapper 0 2.78
Alien::Sodium 2.00 2.000
ExtUtils::MakeMaker 0 7.70
FFI::Build::MM 0.83 2.05
perl 5.008 5.030003
------------------------------
ENVIRONMENT AND OTHER CONTEXT
------------------------------
Environment variables:
PATH = /usr/local/bin:/usr/bin:/bin:/usr/local/sbin:/usr/sbin:/sbin:/home/cpansand/bin/sh:/home/cpansand/bin:/usr/games:/home/cpansand/devel:/usr/home/eserte/src/srezic-misc/scripts
PERL5LIB =
PERL5OPT =
PERL5_CPANPLUS_IS_RUNNING = 48679
PERL5_CPAN_IS_RUNNING = 48679
PERL5_CPAN_IS_RUNNING_IN_RECURSION = 47662,48679
PERL_BATCH = yes
PERL_CANARY_STABILITY_NOPROMPT = 1
PERL_CPAN_REPORTER_CONFIG = /var/tmp/cpansmoker-1023/2023040803/cpanreporter_000_config.ini
PERL_EXTUTILS_AUTOINSTALL = --defaultdeps
PERL_USE_UNSAFE_INC = 1
SHELL = /bin/sh
TMPDIR = /var/tmp/cpansmoker-1023/2023040803
Perl special variables (and OS-specific diagnostics, for MSWin32):
$^X = /usr/perl5.30.3p/bin/perl5.30.3
$UID/$EUID = 1023 / 1023
$GID = 1023 1023
$EGID = 1023 1023
Perl module toolchain versions installed:
Module Have
------------------- --------
CPAN 2.29
CPAN::Meta 2.150010
Cwd 3.78
ExtUtils::CBuilder 0.280236
ExtUtils::Command 7.70
ExtUtils::Install 2.20
ExtUtils::MakeMaker 7.70
ExtUtils::Manifest 1.72
ExtUtils::ParseXS 3.40
File::Spec 3.78
JSON 4.10
JSON::PP 4.15
Module::Build 0.4232
Module::Signature 0.88
Parse::CPAN::Meta 2.150010
Test::Harness 3.42
Test::More 1.302192
YAML 1.30
YAML::Syck 1.34
version 0.9929
--
Summary of my perl5 (revision 5 version 30 subversion 3) configuration:
Platform:
osname=freebsd
osvers=12.1-stable
archname=amd64-freebsd
uname='freebsd cloud1.bbbike.org 12.1-stable freebsd 12.1-stable c3d9189e4c2(stable12) generic amd64 '
config_args='-ds -e -Dprefix=/usr/perl5.30.3p -Dcf_email=srezic@cpan.org -Doptimize=-O2 -pipe'
hint=recommended
useposix=true
d_sigaction=define
useithreads=undef
usemultiplicity=undef
use64bitint=define
use64bitall=define
uselongdouble=undef
usemymalloc=n
default_inc_excludes_dot=define
bincompat5005=undef
Compiler:
cc='cc'
ccflags ='-DHAS_FPSETMASK -DHAS_FLOATINGPOINT_H -fno-strict-aliasing -pipe -fstack-protector-strong -I/usr/local/include'
optimize='-O2 -pipe'
cppflags='-DHAS_FPSETMASK -DHAS_FLOATINGPOINT_H -fno-strict-aliasing -pipe -fstack-protector-strong -I/usr/local/include'
ccversion=''
gccversion='FreeBSD Clang 10.0.0 (git@github.com:llvm/llvm-project.git llvmorg-10.0.0-0-gd32170dbd5b)'
gccosandvers=''
intsize=4
longsize=8
ptrsize=8
doublesize=8
byteorder=12345678
doublekind=3
d_longlong=define
longlongsize=8
d_longdbl=define
longdblsize=16
longdblkind=3
ivtype='long'
ivsize=8
nvtype='double'
nvsize=8
Off_t='off_t'
lseeksize=8
alignbytes=8
prototype=define
Linker and Libraries:
ld='cc'
ldflags ='-pthread -Wl,-E -fstack-protector-strong -L/usr/local/lib'
libpth=/usr/lib /usr/local/lib /usr/lib/clang/10.0.0/lib /usr/lib
libs=-lpthread -lgdbm -ldl -lm -lcrypt -lutil -lc
perllibs=-lpthread -ldl -lm -lcrypt -lutil -lc
libc=
so=so
useshrplib=false
libperl=libperl.a
gnulibc_version=''
Dynamic Linking:
dlsrc=dl_dlopen.xs
dlext=so
d_dlsymun=undef
ccdlflags=' '
cccdlflags='-DPIC -fPIC'
lddlflags='-shared -L/usr/local/lib -fstack-protector-strong'
Characteristics of this binary (from libperl):
Compile-time options:
HAS_TIMES
PERLIO_LAYERS
PERL_COPY_ON_WRITE
PERL_DONT_CREATE_GVSV
PERL_MALLOC_WRAP
PERL_OP_PARENT
PERL_PRESERVE_IVUV
USE_64_BIT_ALL
USE_64_BIT_INT
USE_LARGE_FILES
USE_LOCALE
USE_LOCALE_COLLATE
USE_LOCALE_CTYPE
USE_LOCALE_NUMERIC
USE_LOCALE_TIME
USE_PERLIO
USE_PERL_ATOF
Built under freebsd
Compiled at Jul 6 2020 19:02:57
%ENV:
PERL5LIB=""
PERL5OPT=""
PERL5_CPANPLUS_IS_RUNNING="48679"
PERL5_CPAN_IS_RUNNING="48679"
PERL5_CPAN_IS_RUNNING_IN_RECURSION="47662,48679"
PERL_BATCH="yes"
PERL_CANARY_STABILITY_NOPROMPT="1"
PERL_CPAN_REPORTER_CONFIG="/var/tmp/cpansmoker-1023/2023040803/cpanreporter_000_config.ini"
PERL_EXTUTILS_AUTOINSTALL="--defaultdeps"
PERL_USE_UNSAFE_INC="1"
@INC:
/usr/perl5.30.3p/lib/site_perl/5.30.3/amd64-freebsd
/usr/perl5.30.3p/lib/site_perl/5.30.3
/usr/perl5.30.3p/lib/5.30.3/amd64-freebsd
/usr/perl5.30.3p/lib/5.30.3
.