Catalyst-View-RRDGraph v0.10 Perl 5 v5.12.5 x86_64-linux
- Status
- Pass
- From
- Andreas J. König (ANDK)
- Dist
-
Catalyst-View-RRDGraph v0.10
- Platform
- Perl 5 v5.12.5 x86_64-linux
- Date
- 2017-12-17 02:49:29
- ID
- e6e0051a-e2d4-11e7-89ee-89de1a9bfa2c
This distribution has been tested as part of the CPAN Testers
project, supporting the Perl programming language. See
http://wiki.cpantesters.org/ for more information or email
questions to cpan-testers-discuss@perl.org
--
Dear Miquel Ruiz Martin,
This is a computer-generated report for Catalyst-View-RRDGraph-0.10
on perl 5.12.5, created by CPAN-Reporter-1.2018.
Thank you for uploading your work to CPAN. Congratulations!
All tests were successful.
Sections of this report:
* Tester comments
* Program output
* Prerequisites
* Environment and other context
------------------------------
TESTER COMMENTS
------------------------------
Additional comments from tester:
this report is from an automated smoke testing program
and was not reviewed by a human for accuracy
------------------------------
PROGRAM OUTPUT
------------------------------
Output from '/usr/bin/make test':
PERL_DL_NONLAZY=1 "/home/sand/src/perl/repoperls/installed-perls/host/k93msid/v5.12.5/89ad/bin/perl" "-MExtUtils::Command::MM" "-MTest::Harness" "-e" "undef *Test::Harness::Switches; test_harness(0, 'blib/lib', 'blib/arch')" t/*.t
t/001_load.t ............ ok
t/002_process.t ......... ok
[debug] Debug messages enabled
[debug] Statistics enabled
[debug] Loaded PSGI Middleware:
.------------------------------------------------------------------------------------------------------------------.
| Catalyst::Middleware::Stash |
| Plack::Middleware::HTTPExceptions |
| Plack::Middleware::RemoveRedundantBody 0.06 |
| Plack::Middleware::FixMissingBodyInRedirect 0.12 |
| Plack::Middleware::ContentLength |
| Plack::Middleware::MethodOverride 0.15 |
| Plack::Middleware::Head |
'------------------------------------------------------------------------------------------------------------------'
[debug] Loaded Request Data Handlers:
.------------------------------------------------------------------------------------------------------------------.
| application/json |
| application/x-www-form-urlencoded |
'------------------------------------------------------------------------------------------------------------------'
[debug] Loaded dispatcher "Catalyst::Dispatcher"
[debug] Loaded engine "Catalyst::Engine"
[debug] Found home "/tmp/loop_over_bdir-7262-0HrHB6/Catalyst-View-RRDGraph-0.10-0/t/lib/RRDGraphTest003"
[debug] Loaded components:
.-------------------------------------------------------------------------------------------------------+----------.
| Class | Type |
+-------------------------------------------------------------------------------------------------------+----------+
| RRDGraphTest003::Controller::Root | instance |
| RRDGraphTest003::View::RRDNormal | instance |
| RRDGraphTest003::View::RRDOnServe | instance |
| RRDGraphTest003::View::RRDOnServeFunction | instance |
'-------------------------------------------------------------------------------------------------------+----------'
[debug] Loaded Private actions:
.----------------------------+-------------------------------------------------------+-----------------------------.
| Private | Class | Method |
+----------------------------+-------------------------------------------------------+-----------------------------+
| /zero_byte_error_function | RRDGraphTest003::Controller::Root | zero_byte_error_function |
| /zero_byte_error_normal | RRDGraphTest003::Controller::Root | zero_byte_error_normal |
| /image_error_function | RRDGraphTest003::Controller::Root | image_error_function |
| /zero_byte_error | RRDGraphTest003::Controller::Root | zero_byte_error |
| /image_error_normal | RRDGraphTest003::Controller::Root | image_error_normal |
| /image_error | RRDGraphTest003::Controller::Root | image_error |
'----------------------------+-------------------------------------------------------+-----------------------------'
[debug] Loaded Path actions:
.--------------------------------------------------------+---------------------------------------------------------.
| Path | Private |
+--------------------------------------------------------+---------------------------------------------------------+
| /image_error/... | /image_error |
| /image_error_function/... | /image_error_function |
| /image_error_normal/... | /image_error_normal |
| /zero_byte_error/... | /zero_byte_error |
| /zero_byte_error_function/... | /zero_byte_error_function |
| /zero_byte_error_normal/... | /zero_byte_error_normal |
'--------------------------------------------------------+---------------------------------------------------------'
[info] RRDGraphTest003 powered by Catalyst 5.90115
[info] *** Request 1 (1.000/s) [9373] [Sun Dec 17 02:49:02 2017] ***
[debug] Path is "zero_byte_error"
[debug] "GET" request for "zero_byte_error" from "127.0.0.1"
[error] RRDgraph is 0 bytes
[debug] Static::Simple: Serving static file: error_image.png as image/png
[debug] Response Code: 200; Content-Type: image/png; Content-Length: 14
[info] Request took 0.091879s (10.884/s)
.--------------------------------------------------------------------------------------------------+-----------.
| Action | Time |
+--------------------------------------------------------------------------------------------------+-----------+
| /zero_byte_error | 0.082186s |
| -> RRDGraphTest003::View::RRDOnServe->process | 0.081834s |
'--------------------------------------------------------------------------------------------------+-----------'
[info] *** Request 2 (2.000/s) [9373] [Sun Dec 17 02:49:02 2017] ***
[debug] Path is "image_error"
[debug] "GET" request for "image_error" from "127.0.0.1"
[error] Unknown option
[debug] Static::Simple: Serving static file: error_image.png as image/png
[debug] Response Code: 200; Content-Type: image/png; Content-Length: 14
[info] Request took 0.003725s (268.456/s)
.--------------------------------------------------------------------------------------------------+-----------.
| Action | Time |
+--------------------------------------------------------------------------------------------------+-----------+
| /image_error | 0.001065s |
| -> RRDGraphTest003::View::RRDOnServe->process | 0.000770s |
'--------------------------------------------------------------------------------------------------+-----------'
[info] *** Request 3 (3.000/s) [9373] [Sun Dec 17 02:49:02 2017] ***
[debug] Path is "zero_byte_error_normal"
[debug] "GET" request for "zero_byte_error_normal" from "127.0.0.1"
[error] RRDgraph is 0 bytes
[debug] Response Code: 500; Content-Type: text/html; charset=utf-8; Content-Length: unknown
[info] Request took 0.015104s (66.208/s)
.--------------------------------------------------------------------------------------------------+-----------.
| Action | Time |
+--------------------------------------------------------------------------------------------------+-----------+
| /zero_byte_error_normal | 0.000944s |
| -> RRDGraphTest003::View::RRDNormal->process | 0.000577s |
'--------------------------------------------------------------------------------------------------+-----------'
[info] *** Request 4 (4.000/s) [9373] [Sun Dec 17 02:49:02 2017] ***
[debug] Path is "image_error_normal"
[debug] "GET" request for "image_error_normal" from "127.0.0.1"
[error] Unknown option
[debug] Response Code: 500; Content-Type: text/html; charset=utf-8; Content-Length: unknown
[info] Request took 0.015859s (63.056/s)
.--------------------------------------------------------------------------------------------------+-----------.
| Action | Time |
+--------------------------------------------------------------------------------------------------+-----------+
| /image_error_normal | 0.000894s |
| -> RRDGraphTest003::View::RRDNormal->process | 0.000517s |
'--------------------------------------------------------------------------------------------------+-----------'
[info] *** Request 5 (5.000/s) [9373] [Sun Dec 17 02:49:02 2017] ***
[debug] Path is "zero_byte_error_function"
[debug] "GET" request for "zero_byte_error_function" from "127.0.0.1"
[debug] Response Code: 200; Content-Type: unknown; Content-Length: unknown
[info] Request took 0.00277s (361.011/s)
.--------------------------------------------------------------------------------------------------+-----------.
| Action | Time |
+--------------------------------------------------------------------------------------------------+-----------+
| /zero_byte_error_function | 0.000756s |
| -> RRDGraphTest003::View::RRDOnServeFunction->process | 0.000461s |
'--------------------------------------------------------------------------------------------------+-----------'
[info] *** Request 6 (6.000/s) [9373] [Sun Dec 17 02:49:02 2017] ***
[debug] Path is "image_error_function"
[debug] "GET" request for "image_error_function" from "127.0.0.1"
[debug] Response Code: 200; Content-Type: unknown; Content-Length: unknown
[info] Request took 0.002873s (348.068/s)
.--------------------------------------------------------------------------------------------------+-----------.
| Action | Time |
+--------------------------------------------------------------------------------------------------+-----------+
| /image_error_function | 0.000692s |
| -> RRDGraphTest003::View::RRDOnServeFunction->process | 0.000434s |
'--------------------------------------------------------------------------------------------------+-----------'
t/003_on_error_serve.t .. ok
All tests successful.
Files=3, Tests=17, 4 wallclock secs ( 0.01 usr 0.03 sys + 1.11 cusr 0.18 csys = 1.33 CPU)
Result: PASS
------------------------------
PREREQUISITES
------------------------------
Prerequisite modules loaded:
requires:
Module Need Have
-------------------------------- ---- ----------
Catalyst::Plugin::Static::Simple 0 0.34
Catalyst::Runtime 5.7 5.90115
MRO::Compat 0 0.13
build_requires:
Module Need Have
-------------------------------- ---- ----------
Catalyst::Test 0 0
Test::MockObject 0 1.20161202
Test::More 0 1.302120
configure_requires:
Module Need Have
-------------------------------- ---- ----------
ExtUtils::MakeMaker 6.30 7.31_05
------------------------------
ENVIRONMENT AND OTHER CONTEXT
------------------------------
Environment variables:
AUTOMATED_TESTING = 1
LANG = en_US.UTF-8
PATH = /home/sand/bin:/usr/local/bin:/usr/bin:/bin:/usr/games:/usr/local/perl/bin:/usr/X11/bin:/sbin:/usr/sbin
PERL5LIB = /tmp/loop_over_bdir-7262-0HrHB6/Catalyst-Plugin-Static-Simple-0.34-0/blib/arch:/tmp/loop_over_bdir-7262-0HrHB6/Catalyst-Plugin-Static-Simple-0.34-0/blib/lib
PERL5OPT =
PERL5_CPANPLUS_IS_RUNNING = 7272
PERL5_CPAN_IS_RUNNING = 7272
PERL5_CPAN_IS_RUNNING_IN_RECURSION = 22402,7272
PERL_CANARY_STABILITY_NOPROMPT = 1
PERL_MM_USE_DEFAULT = 1
PERL_USE_UNSAFE_INC = 1
SHELL = /usr/bin/zsh
TERM = screen
Perl special variables (and OS-specific diagnostics, for MSWin32):
$^X = /home/sand/src/perl/repoperls/installed-perls/host/k93msid/v5.12.5/89ad/bin/perl
$UID/$EUID = 1005 / 1005
$GID = 1005 1005
$EGID = 1005 1005
Perl module toolchain versions installed:
Module Have
------------------- --------
CPAN 2.20
CPAN::Meta 2.150010
Cwd 3.62
ExtUtils::CBuilder 0.280226
ExtUtils::Command 7.31_05
ExtUtils::Install 2.06
ExtUtils::MakeMaker 7.31_05
ExtUtils::Manifest 1.70
ExtUtils::ParseXS 3.35
File::Spec 3.62
JSON 2.95
JSON::PP 2.97000
Module::Build 0.4224
Module::Signature 0.81
Parse::CPAN::Meta 2.150010
Test::Harness 3.39
Test::More 1.302120
YAML 1.23
YAML::Syck 1.30
version 0.9918
--
Summary of my perl5 (revision 5 version 12 subversion 5) configuration:
Derived from: 9a9cbd715960a905dcbc9166349a73a64a007e4e
Platform:
osname=linux, osvers=4.12.0-2-amd64, archname=x86_64-linux
uname='linux k93msid 4.12.0-2-amd64 #1 smp debian 4.12.13-1 (2017-09-19) x86_64 gnulinux '
config_args='-Dprefix=/home/sand/src/perl/repoperls/installed-perls/host/k93msid/v5.12.5/89ad -Dmyhostname=k93msid -Dinstallusrbinperl=n -Uversiononly -Dusedevel -des -Ui_db -Dlibswanted=cl pthread socket inet nsl gdbm dbm malloc dl ld sun m crypt sec util c cposix posix ucb BSD gdbm_compat -Uuseithreads -Uuselongdouble -DDEBUGGING=-g'
hint=recommended, useposix=true, d_sigaction=define
useithreads=undef, usemultiplicity=undef
useperlio=define, d_sfio=undef, uselargefiles=define, usesocks=undef
use64bitint=define, use64bitall=define, uselongdouble=undef
usemymalloc=n, bincompat5005=undef
Compiler:
cc='cc', ccflags ='-fno-strict-aliasing -pipe -fstack-protector -I/usr/local/include -D_LARGEFILE_SOURCE -D_FILE_OFFSET_BITS=64',
optimize='-O2 -g',
cppflags='-fno-strict-aliasing -pipe -fstack-protector -I/usr/local/include'
ccversion='', gccversion='7.2.0', gccosandvers=''
intsize=4, longsize=8, ptrsize=8, doublesize=8, byteorder=12345678
d_longlong=define, longlongsize=8, d_longdbl=define, longdblsize=16
ivtype='long', ivsize=8, nvtype='double', nvsize=8, Off_t='off_t', lseeksize=8
alignbytes=8, prototype=define
Linker and Libraries:
ld='cc', ldflags =' -fstack-protector -L/usr/local/lib'
libpth=/usr/local/lib /lib/x86_64-linux-gnu /lib/../lib /usr/lib/x86_64-linux-gnu /usr/lib/../lib /lib /usr/lib
libs=-lpthread -lnsl -ldl -lm -lcrypt -lutil -lc
perllibs=-lpthread -lnsl -ldl -lm -lcrypt -lutil -lc
libc=libc-2.24.so, so=so, useshrplib=false, libperl=libperl.a
gnulibc_version='2.24'
Dynamic Linking:
dlsrc=dl_dlopen.xs, dlext=so, d_dlsymun=undef, ccdlflags='-Wl,-E'
cccdlflags='-fPIC', lddlflags='-shared -O2 -g -L/usr/local/lib -fstack-protector'
Characteristics of this binary (from libperl):
Compile-time options: PERL_DONT_CREATE_GVSV PERL_MALLOC_WRAP PERL_USE_DEVEL
USE_64_BIT_ALL USE_64_BIT_INT USE_LARGE_FILES
USE_PERLIO USE_PERL_ATOF
Locally applied patches:
uncommitted-changes
Built under linux
Compiled at Oct 3 2017 11:46:41
%ENV:
PERL5LIB="/tmp/loop_over_bdir-7262-0HrHB6/Catalyst-Plugin-Static-Simple-0.34-0/blib/arch:/tmp/loop_over_bdir-7262-0HrHB6/Catalyst-Plugin-Static-Simple-0.34-0/blib/lib"
PERL5OPT=""
PERL5_CPANPLUS_IS_RUNNING="7272"
PERL5_CPAN_IS_RUNNING="7272"
PERL5_CPAN_IS_RUNNING_IN_RECURSION="22402,7272"
PERL_CANARY_STABILITY_NOPROMPT="1"
PERL_MM_USE_DEFAULT="1"
PERL_USE_UNSAFE_INC="1"
@INC:
/tmp/loop_over_bdir-7262-0HrHB6/Catalyst-Plugin-Static-Simple-0.34-0/blib/arch
/tmp/loop_over_bdir-7262-0HrHB6/Catalyst-Plugin-Static-Simple-0.34-0/blib/lib
/home/sand/src/perl/repoperls/installed-perls/host/k93msid/v5.12.5/89ad/lib/site_perl/5.12.5/x86_64-linux
/home/sand/src/perl/repoperls/installed-perls/host/k93msid/v5.12.5/89ad/lib/site_perl/5.12.5
/home/sand/src/perl/repoperls/installed-perls/host/k93msid/v5.12.5/89ad/lib/5.12.5/x86_64-linux
/home/sand/src/perl/repoperls/installed-perls/host/k93msid/v5.12.5/89ad/lib/5.12.5
.