Git-Wrapper-Plus v0.004011 Perl 5 v5.27.5 x86_64-linux-thread-multi
- Status
- Pass
- From
- Andreas J. König (ANDK)
- Dist
-
Git-Wrapper-Plus v0.004011
- Platform
- Perl 5 v5.27.5 x86_64-linux-thread-multi
- Date
- 2017-12-20 19:06:36
- ID
- e6ddf59a-e5b8-11e7-a91f-092bc3489f64
This distribution has been tested as part of the CPAN Testers
project, supporting the Perl programming language. See
http://wiki.cpantesters.org/ for more information or email
questions to cpan-testers-discuss@perl.org
--
Dear Kent Fredric,
This is a computer-generated report for Git-Wrapper-Plus-0.004011
on perl 5.27.5, created by CPAN-Reporter-1.2018.
Thank you for uploading your work to CPAN. Congratulations!
All tests were successful.
Sections of this report:
* Tester comments
* Program output
* Prerequisites
* Environment and other context
------------------------------
TESTER COMMENTS
------------------------------
Additional comments from tester:
this report is from an automated smoke testing program
and was not reviewed by a human for accuracy
------------------------------
PROGRAM OUTPUT
------------------------------
Output from '/usr/bin/make test':
PERL_DL_NONLAZY=1 "/home/sand/src/perl/repoperls/installed-perls/host/k93msid/v5.27.5/276a/bin/perl" "-MExtUtils::Command::MM" "-MTest::Harness" "-e" "undef *Test::Harness::Switches; test_harness(0, 'blib/lib', 'blib/arch')" t/*.t t/00-compile/*.t t/branches/*.t t/plus/*.t t/refs/*.t t/tags/*.t
t/00-compile/lib_Git_Wrapper_Plus_Branches_pm.t ................. ok
t/00-compile/lib_Git_Wrapper_Plus_pm.t .......................... ok
t/00-compile/lib_Git_Wrapper_Plus_Ref_Branch_pm.t ............... ok
t/00-compile/lib_Git_Wrapper_Plus_Ref_pm.t ...................... ok
t/00-compile/lib_Git_Wrapper_Plus_Ref_Tag_pm.t .................. ok
t/00-compile/lib_Git_Wrapper_Plus_Refs_pm.t ..................... ok
t/00-compile/lib_Git_Wrapper_Plus_Support_Arguments_pm.t ........ ok
t/00-compile/lib_Git_Wrapper_Plus_Support_Behaviors_pm.t ........ ok
t/00-compile/lib_Git_Wrapper_Plus_Support_Commands_pm.t ......... ok
t/00-compile/lib_Git_Wrapper_Plus_Support_pm.t .................. ok
t/00-compile/lib_Git_Wrapper_Plus_Support_Range_pm.t ............ ok
t/00-compile/lib_Git_Wrapper_Plus_Support_RangeDictionary_pm.t .. ok
t/00-compile/lib_Git_Wrapper_Plus_Support_RangeSet_pm.t ......... ok
t/00-compile/lib_Git_Wrapper_Plus_Tags_pm.t ..................... ok
t/00-compile/lib_Git_Wrapper_Plus_Tester_pm.t ................... ok
t/00-compile/lib_Git_Wrapper_Plus_Util_pm.t ..................... ok
t/00-compile/lib_Git_Wrapper_Plus_Versions_pm.t ................. ok
#
# arguments supported | cat-file -e
# behaviors supported | 2-arg-cat-file, add-updates-index, can-checkout-detached
# commands supported | cat-file, commit-tree, for-each-ref, init, init-db, ls-remote, peek-remote, read-tree
# | show-diff, update-index, write-tree
# commands unsupported | update-cache
t/00-report-git-support.t ....................................... ok
# Git Version: 2.14.2
# Git is >= 2.0
t/00-report-git-version.t ....................................... ok
#
# Versions for all modules listed in MYMETA.json (including optional ones):
#
# === Configure Requires ===
#
# Module Want Have
# ------------------- ---- -------
# ExtUtils::MakeMaker any 7.31_05
#
# === Configure Recommends ===
#
# Module Want Have
# ------------------- ---- -------
# ExtUtils::MakeMaker 7.00 7.31_05
#
# === Build Requires ===
#
# Module Want Have
# ------------------- ---- -------
# ExtUtils::MakeMaker any 7.31_05
#
# === Test Requires ===
#
# Module Want Have
# ------------------- ---- --------
# ExtUtils::MakeMaker any 7.31_05
# File::Spec any 3.68
# Test::Fatal any 0.014
# Test::More any 1.302120
# Test::Requires any 0.10
#
# === Test Recommends ===
#
# Module Want Have
# ------------------- -------- --------
# CPAN::Meta 2.120900 2.150010
# ExtUtils::MakeMaker 7.00 7.31_05
# Test::More 0.99 1.302120
#
# === Runtime Requires ===
#
# Module Want Have
# -------------------------- ---- --------
# Carp any 1.43
# Git::Wrapper any 0.047
# Moo any 2.003002
# Path::Tiny any 0.104
# Scalar::Util any 1.49
# Sort::Versions any 1.62
# Sub::Exporter::Progressive any 0.001013
# Try::Tiny any 0.28
# strict any 1.11
# warnings any 1.37
#
# === Runtime Recommends ===
#
# Module Want Have
# ---------- -------- --------
# Moo 1.000008 2.003002
# Path::Tiny 0.058 0.104
#
t/00-report-prereqs.t ........................................... ok
t/branches/basic.t .............................................. ok
t/plus/basic.t .................................................. ok
t/plus/path-class-constructor.t ................................. ok
t/plus/path-tiny-constructor.t .................................. ok
t/refs/basic_branches.t ......................................... ok
t/refs/basic_tags.t ............................................. ok
t/tags/basic.t .................................................. ok
All tests successful.
Files=27, Tests=63, 7 wallclock secs ( 0.10 usr 0.12 sys + 2.09 cusr 1.56 csys = 3.87 CPU)
Result: PASS
------------------------------
PREREQUISITES
------------------------------
Prerequisite modules loaded:
requires:
Module Need Have
-------------------------- ----- --------
Carp 0 1.43
Git::Wrapper 0 0.047
Moo 0 2.003002
Path::Tiny 0 0.104
perl 5.006 5.027005
Scalar::Util 0 1.49
Sort::Versions 0 1.62
strict 0 1.11
Sub::Exporter::Progressive 0 0.001013
Try::Tiny 0 0.28
warnings 0 1.37
build_requires:
Module Need Have
-------------------------- ----- --------
ExtUtils::MakeMaker 0 7.31_05
File::Spec 0 3.68
Test::Fatal 0 0.014
Test::More 0 1.302120
Test::Requires 0 0.10
configure_requires:
Module Need Have
-------------------------- ----- --------
ExtUtils::MakeMaker 0 7.31_05
perl 5.006 5.027005
------------------------------
ENVIRONMENT AND OTHER CONTEXT
------------------------------
Environment variables:
AUTOMATED_TESTING = 1
LANG = en_US.UTF-8
PATH = /home/sand/bin:/usr/local/bin:/usr/bin:/bin:/usr/games:/usr/local/perl/bin:/usr/X11/bin:/sbin:/usr/sbin
PERL5LIB = /tmp/loop_over_bdir-7285-DRSzhL/Array-Compare-v3.0.0-0/blib/arch:/tmp/loop_over_bdir-7285-DRSzhL/Array-Compare-v3.0.0-0/blib/lib:/tmp/loop_over_bdir-7285-DRSzhL/Algorithm-Dependency-1.110-0/blib/arch:/tmp/loop_over_bdir-7285-DRSzhL/Algorithm-Dependency-1.110-0/blib/lib:/tmp/loop_over_bdir-7285-DRSzhL/Test-ClassAPI-1.06-0/blib/arch:/tmp/loop_over_bdir-7285-DRSzhL/Test-ClassAPI-1.06-0/blib/lib
PERL5OPT =
PERL5_CPANPLUS_IS_RUNNING = 7287
PERL5_CPAN_IS_RUNNING = 7287
PERL5_CPAN_IS_RUNNING_IN_RECURSION = 5733,7287
PERL_CANARY_STABILITY_NOPROMPT = 1
PERL_MM_USE_DEFAULT = 1
PERL_USE_UNSAFE_INC = 1
SHELL = /usr/bin/zsh
TERM = screen
Perl special variables (and OS-specific diagnostics, for MSWin32):
$^X = /home/sand/src/perl/repoperls/installed-perls/host/k93msid/v5.27.5/276a/bin/perl
$UID/$EUID = 1005 / 1005
$GID = 1005 1005
$EGID = 1005 1005
Perl module toolchain versions installed:
Module Have
------------------- --------
CPAN 2.20
CPAN::Meta 2.150010
Cwd 3.68
ExtUtils::CBuilder 0.280230
ExtUtils::Command 7.31_05
ExtUtils::Install 2.14
ExtUtils::MakeMaker 7.31_05
ExtUtils::Manifest 1.70
ExtUtils::ParseXS 3.35
File::Spec 3.68
JSON 2.97000
JSON::PP 2.96
Module::Build 0.42_26
Module::Signature 0.81
Parse::CPAN::Meta 2.150010
Test::Harness 3.39
Test::More 1.302120
YAML 1.23_003
YAML::Syck 1.30
version 0.9918
--
Summary of my perl5 (revision 5 version 27 subversion 5) configuration:
Commit id: 3c675937046386c0f536bcf1409bcbb3af65588c
Platform:
osname=linux
osvers=4.12.0-2-amd64
archname=x86_64-linux-thread-multi
uname='linux k93msid 4.12.0-2-amd64 #1 smp debian 4.12.13-1 (2017-09-19) x86_64 gnulinux '
config_args='-Dprefix=/home/sand/src/perl/repoperls/installed-perls/host/k93msid/v5.27.5/276a -Dmyhostname=k93msid -Dinstallusrbinperl=n -Uversiononly -Dusedevel -des -Ui_db -Dlibswanted=cl pthread socket inet nsl gdbm dbm malloc dl ld sun m crypt sec util c cposix posix ucb BSD gdbm_compat -Duseithreads -Uuselongdouble -DDEBUGGING=both'
hint=recommended
useposix=true
d_sigaction=define
useithreads=define
usemultiplicity=define
use64bitint=define
use64bitall=define
uselongdouble=undef
usemymalloc=n
default_inc_excludes_dot=define
bincompat5005=undef
Compiler:
cc='cc'
ccflags ='-D_REENTRANT -D_GNU_SOURCE -fwrapv -DDEBUGGING -fno-strict-aliasing -pipe -fstack-protector-strong -I/usr/local/include -D_LARGEFILE_SOURCE -D_FILE_OFFSET_BITS=64 -D_FORTIFY_SOURCE=2'
optimize='-O2 -g'
cppflags='-D_REENTRANT -D_GNU_SOURCE -fwrapv -DDEBUGGING -fno-strict-aliasing -pipe -fstack-protector-strong -I/usr/local/include'
ccversion=''
gccversion='7.2.0'
gccosandvers=''
intsize=4
longsize=8
ptrsize=8
doublesize=8
byteorder=12345678
doublekind=3
d_longlong=define
longlongsize=8
d_longdbl=define
longdblsize=16
longdblkind=3
ivtype='long'
ivsize=8
nvtype='double'
nvsize=8
Off_t='off_t'
lseeksize=8
alignbytes=8
prototype=define
Linker and Libraries:
ld='cc'
ldflags =' -fstack-protector-strong -L/usr/local/lib'
libpth=/usr/local/lib /usr/lib/gcc/x86_64-linux-gnu/7/include-fixed /usr/include/x86_64-linux-gnu /usr/lib /lib/x86_64-linux-gnu /lib/../lib /usr/lib/x86_64-linux-gnu /usr/lib/../lib /lib
libs=-lpthread -lnsl -ldl -lm -lcrypt -lutil -lc
perllibs=-lpthread -lnsl -ldl -lm -lcrypt -lutil -lc
libc=libc-2.24.so
so=so
useshrplib=false
libperl=libperl.a
gnulibc_version='2.24'
Dynamic Linking:
dlsrc=dl_dlopen.xs
dlext=so
d_dlsymun=undef
ccdlflags='-Wl,-E'
cccdlflags='-fPIC'
lddlflags='-shared -O2 -g -L/usr/local/lib -fstack-protector-strong'
Characteristics of this binary (from libperl):
Compile-time options:
DEBUGGING
HAS_TIMES
MULTIPLICITY
PERLIO_LAYERS
PERL_COPY_ON_WRITE
PERL_DONT_CREATE_GVSV
PERL_IMPLICIT_CONTEXT
PERL_MALLOC_WRAP
PERL_OP_PARENT
PERL_PRESERVE_IVUV
PERL_TRACK_MEMPOOL
PERL_USE_DEVEL
USE_64_BIT_ALL
USE_64_BIT_INT
USE_ITHREADS
USE_LARGE_FILES
USE_LOCALE
USE_LOCALE_COLLATE
USE_LOCALE_CTYPE
USE_LOCALE_NUMERIC
USE_LOCALE_TIME
USE_PERLIO
USE_PERL_ATOF
USE_REENTRANT_API
Built under linux
Compiled at Oct 21 2017 05:28:03
%ENV:
PERL5LIB="/tmp/loop_over_bdir-7285-DRSzhL/Array-Compare-v3.0.0-0/blib/arch:/tmp/loop_over_bdir-7285-DRSzhL/Array-Compare-v3.0.0-0/blib/lib:/tmp/loop_over_bdir-7285-DRSzhL/Algorithm-Dependency-1.110-0/blib/arch:/tmp/loop_over_bdir-7285-DRSzhL/Algorithm-Dependency-1.110-0/blib/lib:/tmp/loop_over_bdir-7285-DRSzhL/Test-ClassAPI-1.06-0/blib/arch:/tmp/loop_over_bdir-7285-DRSzhL/Test-ClassAPI-1.06-0/blib/lib"
PERL5OPT=""
PERL5_CPANPLUS_IS_RUNNING="7287"
PERL5_CPAN_IS_RUNNING="7287"
PERL5_CPAN_IS_RUNNING_IN_RECURSION="5733,7287"
PERL_CANARY_STABILITY_NOPROMPT="1"
PERL_MM_USE_DEFAULT="1"
PERL_USE_UNSAFE_INC="1"
@INC:
/tmp/loop_over_bdir-7285-DRSzhL/Array-Compare-v3.0.0-0/blib/arch
/tmp/loop_over_bdir-7285-DRSzhL/Array-Compare-v3.0.0-0/blib/lib
/tmp/loop_over_bdir-7285-DRSzhL/Algorithm-Dependency-1.110-0/blib/arch
/tmp/loop_over_bdir-7285-DRSzhL/Algorithm-Dependency-1.110-0/blib/lib
/tmp/loop_over_bdir-7285-DRSzhL/Test-ClassAPI-1.06-0/blib/arch
/tmp/loop_over_bdir-7285-DRSzhL/Test-ClassAPI-1.06-0/blib/lib
/home/sand/src/perl/repoperls/installed-perls/host/k93msid/v5.27.5/276a/lib/site_perl/5.27.5/x86_64-linux-thread-multi
/home/sand/src/perl/repoperls/installed-perls/host/k93msid/v5.27.5/276a/lib/site_perl/5.27.5
/home/sand/src/perl/repoperls/installed-perls/host/k93msid/v5.27.5/276a/lib/5.27.5/x86_64-linux-thread-multi
/home/sand/src/perl/repoperls/installed-perls/host/k93msid/v5.27.5/276a/lib/5.27.5
.