Jedi-Plugin-Session v0.05 Perl 5 v5.27.11 x86_64-linux
- Status
- Pass
- From
- Slaven Rezić (SREZIC)
- Dist
-
Jedi-Plugin-Session v0.05
- Platform
- Perl 5 v5.27.11 x86_64-linux
- Date
- 2018-04-24 02:33:41
- ID
- e6d986d4-4767-11e8-bec1-d3e4465ced43
This distribution has been tested as part of the CPAN Testers
project, supporting the Perl programming language. See
http://wiki.cpantesters.org/ for more information or email
questions to cpan-testers-discuss@perl.org
--
Dear celogeek,
This is a computer-generated report for Jedi-Plugin-Session-0.05
on perl 5.27.11, created by CPAN-Reporter-1.2018.
Thank you for uploading your work to CPAN. Congratulations!
All tests were successful.
Sections of this report:
* Tester comments
* Program output
* Prerequisites
* Environment and other context
------------------------------
TESTER COMMENTS
------------------------------
Additional comments from tester:
none provided
------------------------------
PROGRAM OUTPUT
------------------------------
Output from './Build test':
t/00-compile.t ........... ok
# Testing with Perl 5.027011, /opt/perl-5.27.11/bin/perl5.27.11
# B::Hooks::EndOfScope version is 0.24
# CGI::Cookie version is 4.38
# Cache::LRU::WithExpires version is 0.03
# Carp version is 1.50
# DBIx::Class::Core version is undefined
# DBIx::Class::Migration version is 0.06
# DBIx::Class::Schema version is undefined
# Digest::SHA1 version is 2.13
# File::ShareDir version is 1.104
# File::Spec version is 3.74
# HTTP::Request::Common version is 6.16
# IO::Handle version is 1.39
# IPC::Open3 version is 1.20
# Import::Into version is 1.002005
# Jedi version is 1.008
# Jedi::App version is 1.008
# Module::Build version is 0.4224
# Module::Runtime version is 0.016
# Moo version is 2.003004
# Moo::Role version is 2.003004
# Path::Class version is 0.37
# Plack::Test version is undefined
# Redis version is 1.991
# Scalar::Util version is 1.5
# Sereal version is 4.005
# Test::File::ShareDir version is 1.001002
# Test::More version is 1.302136
# Test::Most version is 0.35
# Time::Duration::Parse version is 0.13
# base version is 2.27
# strict version is 1.11
# warnings version is 1.42
t/000-report-versions.t .. ok
t/author-critic.t ........ skipped: these tests are for testing by the author
t/release-kwalitee.t ..... skipped: these tests are for release candidate testing
t/release-unused-vars.t .. skipped: these tests are for release candidate testing
# Expiration t::lib::session : Waiting 3 s ...
# Expiration t::lib::session_redis : Waiting 3 s ...
[DBICDH] [warn] no need to run upgrade
[DBICDH] [warn] no need to run upgrade
# Expiration t::lib::session_sqlite : Waiting 3 s ...
t/session.t .............. ok
All tests successful.
Files=6, Tests=90, 12 wallclock secs ( 0.02 usr 0.04 sys + 2.07 cusr 1.09 csys = 3.22 CPU)
Result: PASS
------------------------------
PREREQUISITES
------------------------------
Prerequisite modules loaded:
requires:
Module Need Have
----------------------- ------ --------
B::Hooks::EndOfScope 0 0.24
base 0 2.27
Cache::LRU::WithExpires 0 0.03
Carp 0 1.50
CGI::Cookie 0 4.38
DBIx::Class::Core 0 0
DBIx::Class::Migration 0 0.060
DBIx::Class::Schema 0 0
Digest::SHA1 0 2.13
File::ShareDir 1.00 1.104
Import::Into 0 1.002005
Jedi 1.002 1.008
Module::Runtime 0 0.016
Moo 0 2.003004
Moo::Role 0 2.003004
Path::Class 0.33 0.37
perl 5.010 5.027011
Redis 0 1.991
Sereal 0 4.005
strict 0 1.11
Time::Duration::Parse 0 0.13
warnings 0 1.42
build_requires:
Module Need Have
----------------------- ------ --------
File::Spec 0 3.74
HTTP::Request::Common 0 6.16
IO::Handle 0 1.39
IPC::Open3 0 1.20
Jedi 1.002 1.008
Jedi::App 0 1.008
Module::Build 0.3601 0.4224
Path::Class 0.33 0.37
perl 5.010 5.027011
Plack::Test 0 0
Scalar::Util 0 1.50
Test::File::ShareDir 0 1.001002
Test::More 0.94 1.302136
Test::Most 0 0.35
configure_requires:
Module Need Have
----------------------- ------ --------
Module::Build 0.3601 0.4224
------------------------------
ENVIRONMENT AND OTHER CONTEXT
------------------------------
Environment variables:
LANG = C
LC_ALL = de_DE.UTF-8
PATH = /usr/local/bin:/usr/bin:/bin:/usr/local/sbin:/usr/sbin:/sbin:/home/cpansand/bin/linux-gnu:/home/cpansand/bin/sh:/home/cpansand/bin:/usr/games:/home/cpansand/devel:/home/eserte/src/srezic-misc/scripts
PERL5LIB =
PERL5OPT =
PERL5_CPANPLUS_IS_RUNNING = 11219
PERL5_CPAN_IS_RUNNING = 11219
PERL5_CPAN_IS_RUNNING_IN_RECURSION = 20040,11219
PERLDOC = -MPod::Perldoc::ToTextOverstrike
PERL_BATCH = yes
PERL_CANARY_STABILITY_NOPROMPT = 1
PERL_CPAN_REPORTER_CONFIG = /var/tmp/cpansmoker-1023/2018042306/cpanreporter_001_config.ini
PERL_EXTUTILS_AUTOINSTALL = --defaultdeps
PERL_PARALLEL_SMOKER = yes
PERL_USE_UNSAFE_INC = 1
SHELL = /usr/bin/zsh
TERM = screen
TMPDIR = /var/tmp/cpansmoker-1023/2018042306
Perl special variables (and OS-specific diagnostics, for MSWin32):
$^X = /opt/perl-5.27.11/bin/perl5.27.11
$UID/$EUID = 1023 / 1023
$GID = 1023 1023
$EGID = 1023 1023
Perl module toolchain versions installed:
Module Have
------------------- --------
CPAN 2.20
CPAN::Meta 2.150010
Cwd 3.74
ExtUtils::CBuilder 0.280230
ExtUtils::Command 7.34
ExtUtils::Install 2.14
ExtUtils::MakeMaker 7.34
ExtUtils::Manifest 1.70
ExtUtils::ParseXS 3.39
File::Spec 3.74
JSON 2.97001
JSON::PP 2.97001
Module::Build 0.4224
Module::Signature 0.81
Parse::CPAN::Meta 2.150010
Test::Harness 3.42
Test::More 1.302136
YAML 1.24
YAML::Syck 1.30
version 0.9924
--
Summary of my perl5 (revision 5 version 27 subversion 11) configuration:
Platform:
osname=linux
osvers=4.9.0-3-amd64
archname=x86_64-linux
uname='linux debian9 4.9.0-3-amd64 #1 smp debian 4.9.30-2+deb9u5 (2017-09-19) x86_64 gnulinux '
config_args='-ds -e -Dprefix=/opt/perl-5.27.11 -Dusedevel -Dusemallocwrap=no -Dcf_email=srezic@cpan.org'
hint=recommended
useposix=true
d_sigaction=define
useithreads=undef
usemultiplicity=undef
use64bitint=define
use64bitall=define
uselongdouble=undef
usemymalloc=n
default_inc_excludes_dot=define
bincompat5005=undef
Compiler:
cc='cc'
ccflags ='-fwrapv -fno-strict-aliasing -pipe -fstack-protector-strong -I/usr/local/include -D_LARGEFILE_SOURCE -D_FILE_OFFSET_BITS=64 -D_FORTIFY_SOURCE=2'
optimize='-O2'
cppflags='-fwrapv -fno-strict-aliasing -pipe -fstack-protector-strong -I/usr/local/include'
ccversion=''
gccversion='6.3.0 20170516'
gccosandvers=''
intsize=4
longsize=8
ptrsize=8
doublesize=8
byteorder=12345678
doublekind=3
d_longlong=define
longlongsize=8
d_longdbl=define
longdblsize=16
longdblkind=3
ivtype='long'
ivsize=8
nvtype='double'
nvsize=8
Off_t='off_t'
lseeksize=8
alignbytes=8
prototype=define
Linker and Libraries:
ld='cc'
ldflags =' -fstack-protector-strong -L/usr/local/lib'
libpth=/usr/local/lib /usr/lib/gcc/x86_64-linux-gnu/6/include-fixed /usr/include/x86_64-linux-gnu /usr/lib /lib/x86_64-linux-gnu /lib/../lib /usr/lib/x86_64-linux-gnu /usr/lib/../lib /lib
libs=-lpthread -lnsl -lgdbm -ldb -ldl -lm -lcrypt -lutil -lc -lgdbm_compat
perllibs=-lpthread -lnsl -ldl -lm -lcrypt -lutil -lc
libc=libc-2.24.so
so=so
useshrplib=false
libperl=libperl.a
gnulibc_version='2.24'
Dynamic Linking:
dlsrc=dl_dlopen.xs
dlext=so
d_dlsymun=undef
ccdlflags='-Wl,-E'
cccdlflags='-fPIC'
lddlflags='-shared -O2 -L/usr/local/lib -fstack-protector-strong'
Characteristics of this binary (from libperl):
Compile-time options:
HAS_TIMES
PERLIO_LAYERS
PERL_COPY_ON_WRITE
PERL_DONT_CREATE_GVSV
PERL_OP_PARENT
PERL_PRESERVE_IVUV
PERL_USE_DEVEL
USE_64_BIT_ALL
USE_64_BIT_INT
USE_LARGE_FILES
USE_LOCALE
USE_LOCALE_COLLATE
USE_LOCALE_CTYPE
USE_LOCALE_NUMERIC
USE_LOCALE_TIME
USE_PERLIO
USE_PERL_ATOF
Built under linux
Compiled at Apr 20 2018 20:12:12
%ENV:
PERL5LIB=""
PERL5OPT=""
PERL5_CPANPLUS_IS_RUNNING="11219"
PERL5_CPAN_IS_RUNNING="11219"
PERL5_CPAN_IS_RUNNING_IN_RECURSION="20040,11219"
PERLDOC="-MPod::Perldoc::ToTextOverstrike"
PERL_BATCH="yes"
PERL_CANARY_STABILITY_NOPROMPT="1"
PERL_CPAN_REPORTER_CONFIG="/var/tmp/cpansmoker-1023/2018042306/cpanreporter_001_config.ini"
PERL_EXTUTILS_AUTOINSTALL="--defaultdeps"
PERL_PARALLEL_SMOKER="yes"
PERL_USE_UNSAFE_INC="1"
@INC:
/opt/perl-5.27.11/lib/site_perl/5.27.11/x86_64-linux
/opt/perl-5.27.11/lib/site_perl/5.27.11
/opt/perl-5.27.11/lib/5.27.11/x86_64-linux
/opt/perl-5.27.11/lib/5.27.11
.