Report for Data-NestedParams-0.07

Back
From: metabase:user:314402c4-2aae-11df-837a-5e0a49663a4f
Subject: PASS Data-NestedParams-0.07 v5.24.0 GNU/Linux
Date: 2016-10-02T18:41:59Z

This distribution has been tested as part of the CPAN Testers
project, supporting the Perl programming language.  See
http://wiki.cpantesters.org/ for more information or email
questions to cpan-testers-discuss@perl.org


--
Dear Author,

This is a computer-generated report for Data-NestedParams-0.07
on perl 5.24.0, created by CPAN-Reporter-1.2018.

Thank you for uploading your work to CPAN.  Congratulations!
All tests were successful.

Sections of this report:

    * Tester comments
    * Program output
    * Prerequisites
    * Environment and other context

------------------------------
TESTER COMMENTS
------------------------------

Additional comments from tester:

none provided

------------------------------
PROGRAM OUTPUT
------------------------------

Output from './Build test':

t/00_compile.t ... ok
# --- Testing --- 
# --- input: ['a','x']
# --- expected: {'a' => 'x'}
# --- got: {'a' => 'x'}
# --- Testing --- 
# --- input: ['foo','bar','foo','quux']
# --- expected: {'foo' => 'quux'}
# --- got: {'foo' => 'quux'}
# --- Testing --- 
# --- input: ['a[]','x','a[]','y']
# --- expected: {'a' => ['x','y']}
# --- got: {'a' => ['x','y']}
# --- Testing --- 
# --- input: ['a[foo]','x']
# --- expected: {'a' => {'foo' => 'x'}}
# --- got: {'a' => {'foo' => 'x'}}
# --- Testing --- 
# --- input: ['a[foo][bar]','x']
# --- expected: {'a' => {'foo' => {'bar' => 'x'}}}
# --- got: {'a' => {'foo' => {'bar' => 'x'}}}
# --- Testing --- 
# --- input: ['a[foo][bar][]','x']
# --- expected: {'a' => {'foo' => {'bar' => ['x']}}}
# --- got: {'a' => {'foo' => {'bar' => ['x']}}}
# --- Testing --- 
# --- input: ['a[fo-o]','x','a[ba_r]','x']
# --- expected: {'a' => {'ba_r' => 'x','fo-o' => 'x'}}
# --- got: {'a' => {'ba_r' => 'x','fo-o' => 'x'}}
# --- Testing --- 
# --- input: ['a[]','J','a[]','T','a[]','K']
# --- expected: {'a' => ['J','T','K']}
# --- got: {'a' => ['J','T','K']}
# --- Testing --- 
# --- input: ['r[p1]','a','r[p2]','c']
# --- expected: {'r' => {'p2' => 'c','p1' => 'a'}}
# --- got: {'r' => {'p1' => 'a','p2' => 'c'}}
t/01_simple.t .... ok
# ===
# --- input: ['foo']
# --- expected: {'foo' => undef}
# --- got: {'foo' => undef}
# ===
# --- input: ['foo','']
# --- expected: {'foo' => ''}
# --- got: {'foo' => ''}
# ===
# --- input: ['foo','bar']
# --- expected: {'foo' => 'bar'}
# --- got: {'foo' => 'bar'}
# ===
# --- input: ['foo','"bar"']
# --- expected: {'foo' => '"bar"'}
# --- got: {'foo' => '"bar"'}
# ===
# --- input: ['foo','bar','foo','quux']
# --- expected: {'foo' => 'quux'}
# --- got: {'foo' => 'quux'}
# ===
# --- input: ['foo','','foo','']
# --- expected: {'foo' => ''}
# --- got: {'foo' => ''}
# ===
# --- input: ['foo',1,'bar',2]
# --- expected: {'foo' => '1','bar' => '2'}
# --- got: {'foo' => 1,'bar' => 2}
# ===
# --- input: ['foo','1','bar',2]
# --- expected: {'foo' => '1','bar' => '2'}
# --- got: {'foo' => '1','bar' => 2}
# ===
# --- input: ['foo','bar','baz','']
# --- expected: {'baz' => '','foo' => 'bar'}
# --- got: {'baz' => '','foo' => 'bar'}
# ===
# --- input: ['my weird field','q1!2"\'w$5&7/z8)?']
# --- expected: {'my weird field' => 'q1!2"\'w$5&7/z8)?'}
# --- got: {'my weird field' => 'q1!2"\'w$5&7/z8)?'}
# ===
# --- input: ['a','b','pid=1234',1023]
# --- expected: {'a' => 'b','pid=1234' => '1023'}
# --- got: {'a' => 'b','pid=1234' => 1023}
# ===
# --- input: ['foo[]',undef]
# --- expected: {'foo' => [undef]}
# --- got: {'foo' => [undef]}
# ===
# --- input: ['foo[]','']
# --- expected: {'foo' => ['']}
# --- got: {'foo' => ['']}
# ===
# --- input: ['foo[]','bar']
# --- expected: {'foo' => ['bar']}
# --- got: {'foo' => ['bar']}
# ===
# --- input: ['foo[]','bar','foo',undef]
# --- expected: {'foo' => undef}
# --- got: {'foo' => undef}
# ===
# --- input: ['foo[]','bar','foo[',undef]
# --- expected: {'foo[' => undef,'foo' => ['bar']}
# --- got: {'foo' => ['bar'],'foo[' => undef}
# ===
# --- input: ['foo[]','bar','foo[','baz']
# --- expected: {'foo' => ['bar'],'foo[' => 'baz'}
# --- got: {'foo' => ['bar'],'foo[' => 'baz'}
# ===
# --- input: ['foo[]','bar','foo[]',undef]
# --- expected: {'foo' => ['bar',undef]}
# --- got: {'foo' => ['bar',undef]}
# ===
# --- input: ['foo[]','bar','foo[]','']
# --- expected: {'foo' => ['bar','']}
# --- got: {'foo' => ['bar','']}
# ===
# --- input: ['foo[]',1,'foo[]',2]
# --- expected: {'foo' => ['1','2']}
# --- got: {'foo' => [1,2]}
# ===
# --- input: ['foo','bar','baz[]',1,'baz[]',2,'baz[]',3]
# --- expected: {'baz' => ['1','2','3'],'foo' => 'bar'}
# --- got: {'baz' => [1,2,3],'foo' => 'bar'}
# ===
# --- input: ['foo[]','bar','baz[]',1,'baz[]',2,'baz[]',3]
# --- expected: {'baz' => ['1','2','3'],'foo' => ['bar']}
# --- got: {'foo' => ['bar'],'baz' => [1,2,3]}
# ===
# --- input: ['x[y][z]',1]
# --- expected: {'x' => {'y' => {'z' => '1'}}}
# --- got: {'x' => {'y' => {'z' => 1}}}
# ===
# --- input: ['x[y][z][]',1]
# --- expected: {'x' => {'y' => {'z' => ['1']}}}
# --- got: {'x' => {'y' => {'z' => [1]}}}
# ===
# --- input: ['x[y][z]',1,'x[y][z]',2]
# --- expected: {'x' => {'y' => {'z' => '2'}}}
# --- got: {'x' => {'y' => {'z' => 2}}}
# ===
# --- input: ['x[y][z][]',1,'x[y][z][]',2]
# --- expected: {'x' => {'y' => {'z' => ['1','2']}}}
# --- got: {'x' => {'y' => {'z' => [1,2]}}}
# ===
# --- input: ['x[y][][z]','1']
# --- expected: {'x' => {'y' => [{'z' => '1'}]}}
# --- got: {'x' => {'y' => [{'z' => '1'}]}}
# ===
# --- input: ['x[y][][z][]',1]
# --- expected: {'x' => {'y' => [{'z' => ['1']}]}}
# --- got: {'x' => {'y' => [{'z' => [1]}]}}
# ===
# --- input: ['x[y][][z]',1,'x[y][][w]',2]
# --- expected: {'x' => {'y' => [{'w' => '2','z' => '1'}]}}
# --- got: {'x' => {'y' => [{'z' => 1,'w' => 2}]}}
# ===
# --- input: ['x[y][][v][w]',1]
# --- expected: {'x' => {'y' => [{'v' => {'w' => '1'}}]}}
# --- got: {'x' => {'y' => [{'v' => {'w' => 1}}]}}
# ===
# --- input: ['x[y][][z]',1,'x[y][][v][w]',2]
# --- expected: {'x' => {'y' => [{'v' => {'w' => '2'},'z' => '1'}]}}
# --- got: {'x' => {'y' => [{'v' => {'w' => 2},'z' => 1}]}}
# ===
# --- input: ['x[y][][z]',1,'x[y][][z]',2]
# --- expected: {'x' => {'y' => [{'z' => '1'},{'z' => '2'}]}}
# --- got: {'x' => {'y' => [{'z' => 1},{'z' => 2}]}}
# ===
# --- input: ['x[y][][z]',1,'x[y][][w]','a','x[y][][z]',2,'x[y][][w]',3]
# --- expected: {'x' => {'y' => [{'w' => 'a','z' => '1'},{'w' => '3','z' => '2'}]}}
# --- got: {'x' => {'y' => [{'w' => 'a','z' => 1},{'z' => 2,'w' => 3}]}}
t/02_rack.t ...... ok
t/03_collapse.t .. ok
All tests successful.
Files=4, Tests=48,  0 wallclock secs ( 0.02 usr  0.03 sys +  0.14 cusr  0.03 csys =  0.22 CPU)
Result: PASS

------------------------------
PREREQUISITES
------------------------------

Prerequisite modules loaded:

requires:

    Module           Need     Have    
    ---------------- -------- --------
    perl             5.008005 5.024000

build_requires:

    Module           Need     Have    
    ---------------- -------- --------
    Test::Base::Less 0.12     0.13    
    Test::Deep       0        1.123   
    Test::More       0.98     1.302059

configure_requires:

    Module           Need     Have    
    ---------------- -------- --------
    Module::Build    0.38     0.4220  


------------------------------
ENVIRONMENT AND OTHER CONTEXT
------------------------------

Environment variables:

    LANG = C
    LC_ALL = de_DE.UTF-8
    PATH = /usr/local/bin:/usr/bin:/bin:/usr/local/sbin:/usr/sbin:/sbin:/home/cpansand/bin/linux-gnu:/home/cpansand/bin/sh:/home/cpansand/bin:/usr/games:/home/cpansand/devel:/home/eserte/src/srezic-misc/scripts
    PERL5LIB = 
    PERL5OPT = 
    PERL5_CPANPLUS_IS_RUNNING = 4918
    PERL5_CPAN_IS_RUNNING = 4918
    PERL5_CPAN_IS_RUNNING_IN_RECURSION = 9554,4918
    PERLDOC = -MPod::Perldoc::ToTextOverstrike
    PERL_BATCH = yes
    PERL_CANARY_STABILITY_NOPROMPT = 1
    PERL_CPAN_REPORTER_CONFIG = /run/user/1023/cpansmoker/2016100209/cpanreporter_001_config.ini
    PERL_EXTUTILS_AUTOINSTALL = --defaultdeps
    PERL_PARALLEL_SMOKER = yes
    PERL_USE_UNSAFE_INC = 1
    SHELL = /bin/zsh
    TERM = screen
    TMPDIR = /run/user/1023/cpansmoker/2016100209

Perl special variables (and OS-specific diagnostics, for MSWin32):

    $^X = /bbbike/perl-5.24.0/bin/perl5.24.0
    $UID/$EUID = 1023 / 1023
    $GID = 1023 1023
    $EGID = 1023 1023

Perl module toolchain versions installed:

    Module              Have    
    ------------------- --------
    CPAN                2.14    
    CPAN::Meta          2.150010
    Cwd                 3.63    
    ExtUtils::CBuilder  0.280225
    ExtUtils::Command   7.24    
    ExtUtils::Install   2.04    
    ExtUtils::MakeMaker 7.24    
    ExtUtils::Manifest  1.70    
    ExtUtils::ParseXS   3.31    
    File::Spec          3.63    
    JSON                2.90    
    JSON::PP            2.27400 
    Module::Build       0.4220  
    Module::Signature   0.79    
    Parse::CPAN::Meta   2.150010
    Test::Harness       3.36    
    Test::More          1.302059
    YAML                1.18    
    YAML::Syck          1.29    
    version             0.9917  


--

Summary of my perl5 (revision 5 version 24 subversion 0) configuration:
   
  Platform:
    osname=linux, osvers=3.16.0-4-amd64, archname=x86_64-linux
    uname='linux eserte 3.16.0-4-amd64 #1 smp debian 3.16.7-ckt25-2 (2016-04-08) x86_64 gnulinux '
    config_args='-ds -e -Dprefix=/opt/perl-5.24.0 -Dcf_email=srezic@cpan.org'
    hint=recommended, useposix=true, d_sigaction=define
    useithreads=undef, usemultiplicity=undef
    use64bitint=define, use64bitall=define, uselongdouble=undef
    usemymalloc=n, bincompat5005=undef
  Compiler:
    cc='cc', ccflags ='-fwrapv -fno-strict-aliasing -pipe -fstack-protector-strong -I/usr/local/include -D_LARGEFILE_SOURCE -D_FILE_OFFSET_BITS=64 -D_FORTIFY_SOURCE=2',
    optimize='-O2',
    cppflags='-fwrapv -fno-strict-aliasing -pipe -fstack-protector-strong -I/usr/local/include'
    ccversion='', gccversion='4.9.2', gccosandvers=''
    intsize=4, longsize=8, ptrsize=8, doublesize=8, byteorder=12345678, doublekind=3
    d_longlong=define, longlongsize=8, d_longdbl=define, longdblsize=16, longdblkind=3
    ivtype='long', ivsize=8, nvtype='double', nvsize=8, Off_t='off_t', lseeksize=8
    alignbytes=8, prototype=define
  Linker and Libraries:
    ld='cc', ldflags =' -fstack-protector-strong -L/usr/local/lib'
    libpth=/usr/local/lib /usr/lib/gcc/x86_64-linux-gnu/4.9/include-fixed /usr/include/x86_64-linux-gnu /usr/lib /lib/x86_64-linux-gnu /lib/../lib /usr/lib/x86_64-linux-gnu /usr/lib/../lib /lib
    libs=-lpthread -lnsl -lgdbm -ldb -ldl -lm -lcrypt -lutil -lc -lgdbm_compat
    perllibs=-lpthread -lnsl -ldl -lm -lcrypt -lutil -lc
    libc=libc-2.19.so, so=so, useshrplib=false, libperl=libperl.a
    gnulibc_version='2.19'
  Dynamic Linking:
    dlsrc=dl_dlopen.xs, dlext=so, d_dlsymun=undef, ccdlflags='-Wl,-E'
    cccdlflags='-fPIC', lddlflags='-shared -O2 -L/usr/local/lib -fstack-protector-strong'


Characteristics of this binary (from libperl): 
  Compile-time options: HAS_TIMES PERLIO_LAYERS PERL_COPY_ON_WRITE
                        PERL_DONT_CREATE_GVSV
                        PERL_HASH_FUNC_ONE_AT_A_TIME_HARD PERL_MALLOC_WRAP
                        PERL_PRESERVE_IVUV USE_64_BIT_ALL USE_64_BIT_INT
                        USE_LARGE_FILES USE_LOCALE USE_LOCALE_COLLATE
                        USE_LOCALE_CTYPE USE_LOCALE_NUMERIC USE_LOCALE_TIME
                        USE_PERLIO USE_PERL_ATOF
  Built under linux
  Compiled at May  9 2016 17:35:52
  %ENV:
    PERL5LIB=""
    PERL5OPT=""
    PERL5_CPANPLUS_IS_RUNNING="4918"
    PERL5_CPAN_IS_RUNNING="4918"
    PERL5_CPAN_IS_RUNNING_IN_RECURSION="9554,4918"
    PERLDOC="-MPod::Perldoc::ToTextOverstrike"
    PERL_BATCH="yes"
    PERL_CANARY_STABILITY_NOPROMPT="1"
    PERL_CPAN_REPORTER_CONFIG="/run/user/1023/cpansmoker/2016100209/cpanreporter_001_config.ini"
    PERL_EXTUTILS_AUTOINSTALL="--defaultdeps"
    PERL_PARALLEL_SMOKER="yes"
    PERL_USE_UNSAFE_INC="1"
  @INC:
    /opt/perl-5.24.0/lib/site_perl/5.24.0/x86_64-linux
    /opt/perl-5.24.0/lib/site_perl/5.24.0
    /opt/perl-5.24.0/lib/5.24.0/x86_64-linux
    /opt/perl-5.24.0/lib/5.24.0
    .