Report for Module-Build-Pluggable-XSUtil-1.02

Back
From: metabase:user:a4c8db82-c067-11e2-a10d-6f854c5cac9b
Subject: PASS Module-Build-Pluggable-XSUtil-1.02 v5.18.0 GNU/Linux
Date: 2013-05-19T13:27:49Z

This distribution has been tested as part of the CPAN Testers
project, supporting the Perl programming language.  See
http://wiki.cpantesters.org/ for more information or email
questions to cpan-testers-discuss@perl.org


--
Dear Tokuhiro Matsuno,

This is a computer-generated report for Module-Build-Pluggable-XSUtil-1.02
on perl 5.18.0, created by CPAN-Reporter-1.2010.

Thank you for uploading your work to CPAN.  Congratulations!
All tests were successful.

Sections of this report:

    * Tester comments
    * Program output
    * Prerequisites
    * Environment and other context

------------------------------
TESTER COMMENTS
------------------------------

Additional comments from tester:

this report is from an automated smoke testing program
and was not reviewed by a human for accuracy

------------------------------
PROGRAM OUTPUT
------------------------------

Output from './Build test':

t/00_compile.t .... ok
Can't find dist packages without a MANIFEST file
Run 'Build manifest' to generate one

WARNING: Possible missing or corrupt 'MANIFEST' file.
Nothing to enter for 'provides' field in metafile.
Can't find dist packages without a MANIFEST file
Run 'Build manifest' to generate one

WARNING: Possible missing or corrupt 'MANIFEST' file.
Nothing to enter for 'provides' field in metafile.
Can't find dist packages without a MANIFEST file
Run 'Build manifest' to generate one

WARNING: Possible missing or corrupt 'MANIFEST' file.
Nothing to enter for 'provides' field in metafile.
Can't find dist packages without a MANIFEST file
Run 'Build manifest' to generate one

WARNING: Possible missing or corrupt 'MANIFEST' file.
Nothing to enter for 'provides' field in metafile.
Can't find dist packages without a MANIFEST file
Run 'Build manifest' to generate one

WARNING: Possible missing or corrupt 'MANIFEST' file.
Nothing to enter for 'provides' field in metafile.
Can't find dist packages without a MANIFEST file
Run 'Build manifest' to generate one

WARNING: Possible missing or corrupt 'MANIFEST' file.
Nothing to enter for 'provides' field in metafile.
Can't find dist packages without a MANIFEST file
Run 'Build manifest' to generate one

WARNING: Possible missing or corrupt 'MANIFEST' file.
Nothing to enter for 'provides' field in metafile.
Can't find dist packages without a MANIFEST file
Run 'Build manifest' to generate one

WARNING: Possible missing or corrupt 'MANIFEST' file.
Nothing to enter for 'provides' field in metafile.
t/01_simple.t ..... ok
t/Devel-WantXS.t .. ok
All tests successful.
Files=3, Tests=17,  2 wallclock secs ( 0.03 usr  0.00 sys +  1.37 cusr  0.32 csys =  1.72 CPU)
Result: PASS

------------------------------
PREREQUISITES
------------------------------

Prerequisite modules loaded:

requires:

    Module                         Need     Have    
    ------------------------------ -------- --------
    Devel::CheckCompiler           0.02     0.02    
    Devel::CheckLib                0.04     0.99    
    Devel::PPPort                  3.19     3.20    
    Exporter                       0        5.68    
    ExtUtils::CBuilder             0        0.280210
    ExtUtils::ParseXS              2.21     3.18    
    Module::Build::Pluggable       0.10     0.10    
    Module::Build::Pluggable::Base 0        0       
    parent                         0        0.225   
    perl                           5.008005 5.018000
    XSLoader                       0.02     0.16    

build_requires:

    Module                         Need     Have    
    ------------------------------ -------- --------
    Test::Module::Build::Pluggable 0        0       
    Test::More                     0.98     0.98    
    Test::Requires                 0        0.06    

configure_requires:

    Module                         Need     Have    
    ------------------------------ -------- --------
    CPAN::Meta                     0        2.120921
    CPAN::Meta::Prereqs            0        2.120921
    Module::Build                  0.38     0.4003  


------------------------------
ENVIRONMENT AND OTHER CONTEXT
------------------------------

Environment variables:

    AUTOMATED_TESTING = 1
    LANG = en_US.UTF-8
    PATH = /home/user/perl5/perlbrew/bin:/home/user/perl5/perlbrew/perls/perl-5.18.0/bin:/usr/lib/lightdm/lightdm:/usr/local/sbin:/usr/local/bin:/usr/sbin:/usr/bin:/sbin:/bin:/usr/games:/usr/local/games
    PERL5LIB = /home/user/.cpan/build/Devel-CheckCompiler-0.02-doF2_E/blib/arch:/home/user/.cpan/build/Devel-CheckCompiler-0.02-doF2_E/blib/lib:/home/user/.cpan/build/Module-Build-Pluggable-0.10-D1jP8K/blib/arch:/home/user/.cpan/build/Module-Build-Pluggable-0.10-D1jP8K/blib/lib:/home/user/.cpan/build/Class-Method-Modifiers-2.04-dPME01/blib/arch:/home/user/.cpan/build/Class-Method-Modifiers-2.04-dPME01/blib/lib:/home/user/.cpan/build/Test-Fatal-0.010-rt6lIm/blib/arch:/home/user/.cpan/build/Test-Fatal-0.010-rt6lIm/blib/lib:/home/user/.cpan/build/Try-Tiny-0.12-bNVZlW/blib/arch:/home/user/.cpan/build/Try-Tiny-0.12-bNVZlW/blib/lib:/home/user/.cpan/build/Class-Accessor-Lite-0.05-2yrbw1/blib/arch:/home/user/.cpan/build/Class-Accessor-Lite-0.05-2yrbw1/blib/lib:/home/user/.cpan/build/Test-SharedFork-0.21-Kh7aP3/blib/arch:/home/user/.cpan/build/Test-SharedFork-0.21-Kh7aP3/blib/lib:/home/user/.cpan/build/Test-Requires-0.06-YlZBHm/blib/arch:/home/user/.cpan/build/Test-Requires-0.06-YlZBHm/blib/lib:/home/user/.cpan/build/Devel-CheckLib-0.99-5__Ctf/blib/arch:/home/user/.cpan/build/Devel-CheckLib-0.99-5__Ctf/blib/lib
    PERL5OPT = 
    PERL5_CPANPLUS_IS_RUNNING = 28476
    PERL5_CPAN_IS_RUNNING = 28476
    PERL5_CPAN_IS_RUNNING_IN_RECURSION = 45714,28476
    PERLBREW_BASHRC_VERSION = 0.58
    PERLBREW_HOME = /home/user/.perlbrew
    PERLBREW_MANPATH = /home/user/perl5/perlbrew/perls/perl-5.18.0/man
    PERLBREW_PATH = /home/user/perl5/perlbrew/bin:/home/user/perl5/perlbrew/perls/perl-5.18.0/bin
    PERLBREW_PERL = perl-5.18.0
    PERLBREW_ROOT = /home/user/perl5/perlbrew
    PERLBREW_VERSION = 0.58
    PERL_CR_SMOKER_CURRENT = PDL-Opt-QP-0.21
    PERL_EXTUTILS_AUTOINSTALL = --defaultdeps
    PERL_MM_USE_DEFAULT = 1
    SHELL = /bin/bash
    TERM = xterm

Perl special variables (and OS-specific diagnostics, for MSWin32):

    $^X = /home/user/perl5/perlbrew/perls/perl-5.18.0/bin/perl
    $UID/$EUID = 1000 / 1000
    $GID = 1000 4 24 27 30 46 108 124 1000
    $EGID = 1000 4 24 27 30 46 108 124 1000

Perl module toolchain versions installed:

    Module              Have    
    ------------------- --------
    CPAN                2.00    
    CPAN::Meta          2.120921
    Cwd                 3.40    
    ExtUtils::CBuilder  0.280210
    ExtUtils::Command   1.17    
    ExtUtils::Install   1.59    
    ExtUtils::MakeMaker 6.66    
    ExtUtils::Manifest  1.63    
    ExtUtils::ParseXS   3.18    
    File::Spec          3.40    
    JSON                2.57    
    JSON::PP            2.27202 
    Module::Build       0.4003  
    Module::Signature   n/a     
    Parse::CPAN::Meta   1.4404  
    Test::Harness       3.26    
    Test::More          0.98    
    YAML                0.84    
    YAML::Syck          n/a     
    version             0.9902  


--

Summary of my perl5 (revision 5 version 18 subversion 0) configuration:
   
  Platform:
    osname=linux, osvers=3.8.0-21-generic, archname=x86_64-linux
    uname='linux ubuntu 3.8.0-21-generic #32-ubuntu smp tue may 14 22:16:46 utc 2013 x86_64 x86_64 x86_64 gnulinux '
    config_args='-de -Dprefix=/home/user/perl5/perlbrew/perls/perl-5.18.0 -Aeval:scriptdir=/home/user/perl5/perlbrew/perls/perl-5.18.0/bin'
    hint=recommended, useposix=true, d_sigaction=define
    useithreads=undef, usemultiplicity=undef
    useperlio=define, d_sfio=undef, uselargefiles=define, usesocks=undef
    use64bitint=define, use64bitall=define, uselongdouble=undef
    usemymalloc=n, bincompat5005=undef
  Compiler:
    cc='cc', ccflags ='-fno-strict-aliasing -pipe -fstack-protector -I/usr/local/include -D_LARGEFILE_SOURCE -D_FILE_OFFSET_BITS=64',
    optimize='-O2',
    cppflags='-fno-strict-aliasing -pipe -fstack-protector -I/usr/local/include'
    ccversion='', gccversion='4.7.3', gccosandvers=''
    intsize=4, longsize=8, ptrsize=8, doublesize=8, byteorder=12345678
    d_longlong=define, longlongsize=8, d_longdbl=define, longdblsize=16
    ivtype='long', ivsize=8, nvtype='double', nvsize=8, Off_t='off_t', lseeksize=8
    alignbytes=8, prototype=define
  Linker and Libraries:
    ld='cc', ldflags =' -fstack-protector -L/usr/local/lib'
    libpth=/usr/local/lib /lib/x86_64-linux-gnu /lib/../lib /usr/lib/x86_64-linux-gnu /usr/lib/../lib /lib /usr/lib
    libs=-lnsl -ldl -lm -lcrypt -lutil -lc
    perllibs=-lnsl -ldl -lm -lcrypt -lutil -lc
    libc=, so=so, useshrplib=false, libperl=libperl.a
    gnulibc_version='2.17'
  Dynamic Linking:
    dlsrc=dl_dlopen.xs, dlext=so, d_dlsymun=undef, ccdlflags='-Wl,-E'
    cccdlflags='-fPIC', lddlflags='-shared -O2 -L/usr/local/lib -fstack-protector'


Characteristics of this binary (from libperl): 
  Compile-time options: HAS_TIMES PERLIO_LAYERS PERL_DONT_CREATE_GVSV
                        PERL_HASH_FUNC_ONE_AT_A_TIME_HARD PERL_MALLOC_WRAP
                        PERL_PRESERVE_IVUV PERL_SAWAMPERSAND USE_64_BIT_ALL
                        USE_64_BIT_INT USE_LARGE_FILES USE_LOCALE
                        USE_LOCALE_COLLATE USE_LOCALE_CTYPE
                        USE_LOCALE_NUMERIC USE_PERLIO USE_PERL_ATOF
  Built under linux
  Compiled at May 19 2013 11:05:14
  %ENV:
    PERL5LIB="/home/user/.cpan/build/Devel-CheckCompiler-0.02-doF2_E/blib/arch:/home/user/.cpan/build/Devel-CheckCompiler-0.02-doF2_E/blib/lib:/home/user/.cpan/build/Module-Build-Pluggable-0.10-D1jP8K/blib/arch:/home/user/.cpan/build/Module-Build-Pluggable-0.10-D1jP8K/blib/lib:/home/user/.cpan/build/Class-Method-Modifiers-2.04-dPME01/blib/arch:/home/user/.cpan/build/Class-Method-Modifiers-2.04-dPME01/blib/lib:/home/user/.cpan/build/Test-Fatal-0.010-rt6lIm/blib/arch:/home/user/.cpan/build/Test-Fatal-0.010-rt6lIm/blib/lib:/home/user/.cpan/build/Try-Tiny-0.12-bNVZlW/blib/arch:/home/user/.cpan/build/Try-Tiny-0.12-bNVZlW/blib/lib:/home/user/.cpan/build/Class-Accessor-Lite-0.05-2yrbw1/blib/arch:/home/user/.cpan/build/Class-Accessor-Lite-0.05-2yrbw1/blib/lib:/home/user/.cpan/build/Test-SharedFork-0.21-Kh7aP3/blib/arch:/home/user/.cpan/build/Test-SharedFork-0.21-Kh7aP3/blib/lib:/home/user/.cpan/build/Test-Requires-0.06-YlZBHm/blib/arch:/home/user/.cpan/build/Test-Requires-0.06-YlZBHm/blib/lib:/home/user/.cpan/build/Devel-CheckLib-0.99-5__Ctf/blib/arch:/home/user/.cpan/build/Devel-CheckLib-0.99-5__Ctf/blib/lib"
    PERL5OPT=""
    PERL5_CPANPLUS_IS_RUNNING="28476"
    PERL5_CPAN_IS_RUNNING="28476"
    PERL5_CPAN_IS_RUNNING_IN_RECURSION="45714,28476"
    PERLBREW_BASHRC_VERSION="0.58"
    PERLBREW_HOME="/home/user/.perlbrew"
    PERLBREW_MANPATH="/home/user/perl5/perlbrew/perls/perl-5.18.0/man"
    PERLBREW_PATH="/home/user/perl5/perlbrew/bin:/home/user/perl5/perlbrew/perls/perl-5.18.0/bin"
    PERLBREW_PERL="perl-5.18.0"
    PERLBREW_ROOT="/home/user/perl5/perlbrew"
    PERLBREW_VERSION="0.58"
    PERL_CR_SMOKER_CURRENT="PDL-Opt-QP-0.21"
    PERL_EXTUTILS_AUTOINSTALL="--defaultdeps"
    PERL_MM_USE_DEFAULT="1"
  @INC:
    /home/user/.cpan/build/Devel-CheckCompiler-0.02-doF2_E/blib/arch
    /home/user/.cpan/build/Devel-CheckCompiler-0.02-doF2_E/blib/lib
    /home/user/.cpan/build/Module-Build-Pluggable-0.10-D1jP8K/blib/arch
    /home/user/.cpan/build/Module-Build-Pluggable-0.10-D1jP8K/blib/lib
    /home/user/.cpan/build/Class-Method-Modifiers-2.04-dPME01/blib/arch
    /home/user/.cpan/build/Class-Method-Modifiers-2.04-dPME01/blib/lib
    /home/user/.cpan/build/Test-Fatal-0.010-rt6lIm/blib/arch
    /home/user/.cpan/build/Test-Fatal-0.010-rt6lIm/blib/lib
    /home/user/.cpan/build/Try-Tiny-0.12-bNVZlW/blib/arch
    /home/user/.cpan/build/Try-Tiny-0.12-bNVZlW/blib/lib
    /home/user/.cpan/build/Class-Accessor-Lite-0.05-2yrbw1/blib/arch
    /home/user/.cpan/build/Class-Accessor-Lite-0.05-2yrbw1/blib/lib
    /home/user/.cpan/build/Test-SharedFork-0.21-Kh7aP3/blib/arch
    /home/user/.cpan/build/Test-SharedFork-0.21-Kh7aP3/blib/lib
    /home/user/.cpan/build/Test-Requires-0.06-YlZBHm/blib/arch
    /home/user/.cpan/build/Test-Requires-0.06-YlZBHm/blib/lib
    /home/user/.cpan/build/Devel-CheckLib-0.99-5__Ctf/blib/arch
    /home/user/.cpan/build/Devel-CheckLib-0.99-5__Ctf/blib/lib
    /home/user/perl5/perlbrew/perls/perl-5.18.0/lib/site_perl/5.18.0/x86_64-linux
    /home/user/perl5/perlbrew/perls/perl-5.18.0/lib/site_perl/5.18.0
    /home/user/perl5/perlbrew/perls/perl-5.18.0/lib/5.18.0/x86_64-linux
    /home/user/perl5/perlbrew/perls/perl-5.18.0/lib/5.18.0
    .