Batch-Interpreter v0.01 Perl 5 v5.24.3 RC1 amd64-freebsd
- Status
- Pass
- From
- Slaven Rezić (SREZIC)
- Dist
-
Batch-Interpreter v0.01
- Platform
- Perl 5 v5.24.3 RC1 amd64-freebsd
- Date
- 2017-09-12 11:09:52
- ID
- e687eada-97aa-11e7-8f5b-c1a2c62b0e14
This distribution has been tested as part of the CPAN Testers
project, supporting the Perl programming language. See
http://wiki.cpantesters.org/ for more information or email
questions to cpan-testers-discuss@perl.org
--
Dear Ralf Neubauer,
This is a computer-generated report for Batch-Interpreter-0.01
on perl 5.24.3, created by CPAN-Reporter-1.2018.
Thank you for uploading your work to CPAN. Congratulations!
All tests were successful.
Sections of this report:
* Tester comments
* Program output
* Prerequisites
* Environment and other context
------------------------------
TESTER COMMENTS
------------------------------
Additional comments from tester:
none provided
------------------------------
PROGRAM OUTPUT
------------------------------
Output from '/usr/bin/make test':
PERL_DL_NONLAZY=1 "/usr/perl5.24.3-RC1p/bin/perl5.24.3" "-MExtUtils::Command::MM" "-MTest::Harness" "-e" "undef *Test::Harness::Switches; test_harness(0, 'blib/lib', 'blib/arch')" t/*.t
# Testing Batch::Interpreter 0.01, Perl 5.024003, /usr/perl5.24.3-RC1p/bin/perl5.24.3
t/00-load.t ............... ok
t/01-example.t ............ ok
t/02-newlines.t ........... ok
t/10-hello.t .............. ok
t/11-options.t ............ ok
t/12-options2.t ........... ok
t/13-callargs.t ........... ok
t/14-delayedexpansion.t ... ok
t/15-for_amp.t ............ ok
t/16-for_f.t .............. ok
t/17-for_filename.t ....... ok
t/18-for_if.t ............. ok
t/19-for_l.t .............. ok
t/20-for_nested.t ......... ok
t/21-for_r.t .............. ok
t/22-redirect.t ........... ok
Can't exec "t/notexist.com": No such file or directory at lib/Batch/Interpreter.pm line 2192.
ERROR: < 't\notexist.txt': No such file or directory
t/23-set.t ................ ok
t/24-tilde.t .............. ok
t/25-line_continuation.t .. ok
t/26-callperl.t ........... ok
t/90-manifest.t ........... skipped: Author tests not required for installation
t/91-pod.t ................ skipped: Author tests not required for installation
t/92-pod-coverage.t ....... skipped: Author tests not required for installation
All tests successful.
Files=23, Tests=87, 5 wallclock secs ( 0.07 usr 0.03 sys + 3.80 cusr 0.99 csys = 4.90 CPU)
Result: PASS
------------------------------
PREREQUISITES
------------------------------
Prerequisite modules loaded:
requires:
Module Need Have
------------------- ---- --------
Clone 0 0.39
Cwd 0 3.63_01
Data::Dump 0 1.23
File::Copy 0 2.31
File::DosGlob 0 1.12
File::Find 0 1.34
File::Spec 0 3.63_01
File::Spec::Win32 0 3.63_01
File::Temp 0 0.2304
Getopt::Long 0 2.5
List::MoreUtils 0 0.425
perl 5.01 5.024003
Term::ReadLine 0 1.15
Time::HiRes 0 1.9746
build_requires:
Module Need Have
------------------- ---- --------
Test::Differences 0 0.64
Test::More 0 1.302096
configure_requires:
Module Need Have
------------------- ---- --------
ExtUtils::MakeMaker 0 7.30
------------------------------
ENVIRONMENT AND OTHER CONTEXT
------------------------------
Environment variables:
PATH = /usr/local/bin:/usr/bin:/bin:/usr/local/sbin:/usr/sbin:/sbin:/home/cpansand/bin/freebsd11.0:/home/cpansand/bin/sh:/home/cpansand/bin:/usr/games:/home/cpansand/devel:/home/eserte/src/srezic-misc/scripts
PERL5LIB =
PERL5OPT =
PERL5_CPANPLUS_IS_RUNNING = 44313
PERL5_CPAN_IS_RUNNING = 44313
PERL5_CPAN_IS_RUNNING_IN_RECURSION = 91188,44313
PERLDOC = -MPod::Perldoc::ToTextOverstrike
PERL_BATCH = yes
PERL_CANARY_STABILITY_NOPROMPT = 1
PERL_CPAN_REPORTER_CONFIG = /var/tmp/cpansmoker-1023/2017091206/cpanreporter_000_config.ini
PERL_EXTUTILS_AUTOINSTALL = --defaultdeps
SHELL = /usr/local/bin/zsh
TERM = screen
TMPDIR = /var/tmp/cpansmoker-1023/2017091206
Perl special variables (and OS-specific diagnostics, for MSWin32):
$^X = /usr/perl5.24.3-RC1p/bin/perl5.24.3
$UID/$EUID = 1023 / 1023
$GID = 1023 1023
$EGID = 1023 1023
Perl module toolchain versions installed:
Module Have
------------------- ----------
CPAN 2.11_01
CPAN::Meta 2.150005
Cwd 3.63_01
ExtUtils::CBuilder 0.280226
ExtUtils::Command 7.30
ExtUtils::Install 2.14
ExtUtils::MakeMaker 7.30
ExtUtils::Manifest 1.70
ExtUtils::ParseXS 3.35
File::Spec 3.63_01
JSON 2.94
JSON::PP 2.94
Module::Build 0.4224
Module::Signature 0.81
Parse::CPAN::Meta 1.4417_001
Test::Harness 3.39
Test::More 1.302096
YAML 1.23
YAML::Syck 1.30
version 0.9918
--
Summary of my perl5 (revision 5 version 24 subversion 3) configuration:
Platform:
osname=freebsd, osvers=11.1-stable, archname=amd64-freebsd
uname='freebsd ali3.bbbike.org 11.1-stable freebsd 11.1-stable #0 r313908+86423c22e2d(stable11): thu sep 7 22:30:27 utc 2017 root@ali3.bbbike.org:usrobjhomeprojectsfreebsdsysgeneric amd64 '
config_args='-ds -e -Dprefix=/usr/perl5.24.3-RC1p -Dcf_email=srezic@cpan.org -Doptimize=-O2 -pipe'
hint=recommended, useposix=true, d_sigaction=define
useithreads=undef, usemultiplicity=undef
use64bitint=define, use64bitall=define, uselongdouble=undef
usemymalloc=n, bincompat5005=undef
Compiler:
cc='cc', ccflags ='-DHAS_FPSETMASK -DHAS_FLOATINGPOINT_H -fno-strict-aliasing -pipe -fstack-protector-strong -I/usr/local/include -D_FORTIFY_SOURCE=2',
optimize='-O2 -pipe',
cppflags='-DHAS_FPSETMASK -DHAS_FLOATINGPOINT_H -fno-strict-aliasing -pipe -fstack-protector-strong -I/usr/local/include'
ccversion='', gccversion='4.2.1 Compatible FreeBSD Clang 4.0.0 (tags/RELEASE_400/final 297347)', gccosandvers=''
intsize=4, longsize=8, ptrsize=8, doublesize=8, byteorder=12345678, doublekind=3
d_longlong=define, longlongsize=8, d_longdbl=define, longdblsize=16, longdblkind=3
ivtype='long', ivsize=8, nvtype='double', nvsize=8, Off_t='off_t', lseeksize=8
alignbytes=8, prototype=define
Linker and Libraries:
ld='cc', ldflags ='-pthread -Wl,-E -fstack-protector-strong -L/usr/local/lib'
libpth=/usr/lib /usr/local/lib /usr/bin/../lib/clang/4.0.0/lib /usr/lib
libs=-lpthread -lgdbm -lm -lcrypt -lutil -lc
perllibs=-lpthread -lm -lcrypt -lutil -lc
libc=, so=so, useshrplib=false, libperl=libperl.a
gnulibc_version=''
Dynamic Linking:
dlsrc=dl_dlopen.xs, dlext=so, d_dlsymun=undef, ccdlflags=' '
cccdlflags='-DPIC -fPIC', lddlflags='-shared -L/usr/local/lib -fstack-protector-strong'
Characteristics of this binary (from libperl):
Compile-time options: HAS_TIMES PERLIO_LAYERS PERL_COPY_ON_WRITE
PERL_DONT_CREATE_GVSV
PERL_HASH_FUNC_ONE_AT_A_TIME_HARD PERL_MALLOC_WRAP
PERL_PRESERVE_IVUV USE_64_BIT_ALL USE_64_BIT_INT
USE_LARGE_FILES USE_LOCALE USE_LOCALE_COLLATE
USE_LOCALE_CTYPE USE_LOCALE_NUMERIC USE_LOCALE_TIME
USE_PERLIO USE_PERL_ATOF
Locally applied patches:
RC1
Built under freebsd
Compiled at Sep 10 2017 16:26:52
%ENV:
PERL5LIB=""
PERL5OPT=""
PERL5_CPANPLUS_IS_RUNNING="44313"
PERL5_CPAN_IS_RUNNING="44313"
PERL5_CPAN_IS_RUNNING_IN_RECURSION="91188,44313"
PERLDOC="-MPod::Perldoc::ToTextOverstrike"
PERL_BATCH="yes"
PERL_CANARY_STABILITY_NOPROMPT="1"
PERL_CPAN_REPORTER_CONFIG="/var/tmp/cpansmoker-1023/2017091206/cpanreporter_000_config.ini"
PERL_EXTUTILS_AUTOINSTALL="--defaultdeps"
@INC:
/usr/perl5.24.3-RC1p/lib/site_perl/5.24.3/amd64-freebsd
/usr/perl5.24.3-RC1p/lib/site_perl/5.24.3
/usr/perl5.24.3-RC1p/lib/5.24.3/amd64-freebsd
/usr/perl5.24.3-RC1p/lib/5.24.3
.