Smartcat-App v0.0.9 Perl 5 v5.16.3 x86_64-linux

Status
Pass
From
Slaven Rezić
Dist
Smartcat-App v0.0.9
Platform
Perl 5 v5.16.3 x86_64-linux
Date
2021-03-29 14:49:01
ID
e679b51a-909d-11eb-b4ea-f5151f24ea8f
This distribution has been tested as part of the CPAN Testers
project, supporting the Perl programming language.  See
http://wiki.cpantesters.org/ for more information or email
questions to cpan-testers-discuss@perl.org


--
Dear Taras Semenenko,

This is a computer-generated report for Smartcat-App-0.0.9
on perl 5.16.3, created by CPAN-Reporter-1.2018.

Thank you for uploading your work to CPAN.  Congratulations!
All tests were successful.

Sections of this report:

    * Tester comments
    * Program output
    * Prerequisites
    * Environment and other context

------------------------------
TESTER COMMENTS
------------------------------

Additional comments from tester:

none provided

------------------------------
PROGRAM OUTPUT
------------------------------

Output from './Build test':

t/Config.t ............. ok
t/Utils.t .............. ok
t/author-pod-syntax.t .. skipped: these tests are for testing by the author
Odd number of elements in hash assignment at /opt/perl-5.16.3/lib/site_perl/5.16.3/Smartcat/Client/Configuration.pm line 95.
Use of uninitialized value $_[0] in list assignment at /opt/perl-5.16.3/lib/site_perl/5.16.3/Smartcat/Client/Configuration.pm line 95.
Odd number of elements in hash assignment at /opt/perl-5.16.3/lib/site_perl/5.16.3/Smartcat/Client/Configuration.pm line 95.
Use of uninitialized value $_[0] in list assignment at /opt/perl-5.16.3/lib/site_perl/5.16.3/Smartcat/Client/Configuration.pm line 95.
Odd number of elements in hash assignment at /opt/perl-5.16.3/lib/site_perl/5.16.3/Smartcat/Client/Configuration.pm line 95.
Use of uninitialized value $_[0] in list assignment at /opt/perl-5.16.3/lib/site_perl/5.16.3/Smartcat/Client/Configuration.pm line 95.
t/basic.t .............. ok
t/project.t ............ ok
All tests successful.
Files=5, Tests=43,  1 wallclock secs ( 0.01 usr  0.05 sys +  0.51 cusr  0.14 csys =  0.71 CPU)
Result: PASS

------------------------------
PREREQUISITES
------------------------------

Prerequisite modules loaded:

requires:

    Module                                                    Need   Have    
    --------------------------------------------------------- ------ --------
    App::Cmd::Setup                                           0      0.331   
    base                                                      0      2.18    
    Carp                                                      0      1.50    
    Class::Load                                               0      0.25    
    Config::Tiny                                              0      2.26    
    constant                                                  0      1.33    
    Data::Dumper                                              0      2.173   
    Exporter                                                  0      5.73    
    File::Basename                                            0      2.84    
    File::Copy                                                0      2.23    
    File::Find                                                0      1.20    
    File::HomeDir                                             0      1.006   
    File::Spec::Functions                                     0      3.75    
    HTTP::Message                                             6.11   6.28    
    IO::Uncompress::Unzip                                     0      2.100   
    JSON                                                      0      4.03    
    List::Util                                                0      1.55    
    Log::Any                                                  0      1.709   
    Log::Any::Adapter                                         0      1.709   
    Log::Any::Adapter::Log4perl                               0      0.09    
    Log::Log4perl                                             0      1.54    
    Smartcat::Client                                          v0.0.3 0.0.3   
    Smartcat::Client::AccountApi                              0      0       
    Smartcat::Client::DocumentApi                             0      0       
    Smartcat::Client::DocumentExportApi                       0      0       
    Smartcat::Client::Object::BilingualFileImportSetingsModel 0      0       
    Smartcat::Client::Object::CreateDocumentPropertyModel     0      0       
    Smartcat::Client::Object::UploadDocumentPropertiesModel   0      0       
    Smartcat::Client::ProjectApi                              0      0       
    strict                                                    0      1.07    
    warnings                                                  0      1.13    

build_requires:

    Module                                                    Need   Have    
    --------------------------------------------------------- ------ --------
    File::Remove                                              0      1.58    
    File::Spec                                                0      3.75    
    IO::Handle                                                0      1.45    
    IPC::Open3                                                0      1.12    
    perl                                                      5.006  5.016003
    Test::MockModule                                          0      0.176.0 
    Test::More                                                0      1.302183

configure_requires:

    Module                                                    Need   Have    
    --------------------------------------------------------- ------ --------
    ExtUtils::MakeMaker                                       0      7.58    
    Module::Build::Tiny                                       0.034  0.039   


------------------------------
ENVIRONMENT AND OTHER CONTEXT
------------------------------

Environment variables:

    LANG = en_US.UTF-8
    PATH = /usr/local/bin:/usr/bin:/bin:/usr/local/sbin:/usr/sbin:/sbin:/home/cpansand/bin/linux-gnu:/home/cpansand/bin/sh:/home/cpansand/bin:/usr/games:/home/cpansand/devel:/home/eserte/src/srezic-misc/scripts
    PERL5LIB = 
    PERL5OPT = 
    PERL5_CPANPLUS_IS_RUNNING = 6244
    PERL5_CPAN_IS_RUNNING = 6244
    PERL5_CPAN_IS_RUNNING_IN_RECURSION = 5915,6244
    PERLDOC = -MPod::Perldoc::ToTextOverstrike
    PERL_BATCH = yes
    PERL_CANARY_STABILITY_NOPROMPT = 1
    PERL_CPAN_REPORTER_CONFIG = /var/tmp/cpansmoker-1023/2021032914/cpanreporter_000_config.ini
    PERL_EXTUTILS_AUTOINSTALL = --defaultdeps
    PERL_USE_UNSAFE_INC = 1
    SHELL = /usr/bin/zsh
    TERM = screen
    TMPDIR = /var/tmp/cpansmoker-1023/2021032914

Perl special variables (and OS-specific diagnostics, for MSWin32):

    $^X = /opt/perl-5.16.3/bin/perl
    $UID/$EUID = 1023 / 1023
    $GID = 1023 1023
    $EGID = 1023 1023

Perl module toolchain versions installed:

    Module              Have    
    ------------------- --------
    CPAN                2.27    
    CPAN::Meta          2.150010
    Cwd                 3.75    
    ExtUtils::CBuilder  0.280235
    ExtUtils::Command   7.58    
    ExtUtils::Install   2.20    
    ExtUtils::MakeMaker 7.58    
    ExtUtils::Manifest  1.70    
    ExtUtils::ParseXS   3.35    
    File::Spec          3.75    
    JSON                4.03    
    JSON::PP            4.06    
    Module::Build       0.4231  
    Module::Signature   0.87    
    Parse::CPAN::Meta   2.150010
    Test::Harness       3.42    
    Test::More          1.302183
    YAML                1.30    
    YAML::Syck          1.34    
    version             0.9924  


--

Summary of my perl5 (revision 5 version 16 subversion 3) configuration:
   
  Platform:
    osname=linux, osvers=4.4.0-157-generic, archname=x86_64-linux
    uname='linux ubuntu16 4.4.0-157-generic #185-ubuntu smp tue jul 23 09:17:01 utc 2019 x86_64 x86_64 x86_64 gnulinux '
    config_args='-ds -e -Dprefix=/opt/perl-5.16.3 -Dcf_email=srezic@cpan.org'
    hint=recommended, useposix=true, d_sigaction=define
    useithreads=undef, usemultiplicity=undef
    useperlio=define, d_sfio=undef, uselargefiles=define, usesocks=undef
    use64bitint=define, use64bitall=define, uselongdouble=undef
    usemymalloc=n, bincompat5005=undef
  Compiler:
    cc='cc', ccflags ='-fwrapv -fno-strict-aliasing -pipe -fstack-protector -I/usr/local/include -D_LARGEFILE_SOURCE -D_FILE_OFFSET_BITS=64',
    optimize='-O2',
    cppflags='-fwrapv -fno-strict-aliasing -pipe -fstack-protector -I/usr/local/include'
    ccversion='', gccversion='5.4.0 20160609', gccosandvers=''
    intsize=4, longsize=8, ptrsize=8, doublesize=8, byteorder=12345678
    d_longlong=define, longlongsize=8, d_longdbl=define, longdblsize=16
    ivtype='long', ivsize=8, nvtype='double', nvsize=8, Off_t='off_t', lseeksize=8
    alignbytes=8, prototype=define
  Linker and Libraries:
    ld='cc', ldflags =' -fstack-protector -L/usr/local/lib'
    libpth=/usr/local/lib /lib/x86_64-linux-gnu /lib/../lib /usr/lib/x86_64-linux-gnu /usr/lib/../lib /lib /usr/lib
    libs=-lnsl -lgdbm -ldb -ldl -lm -lcrypt -lutil -lc -lgdbm_compat
    perllibs=-lnsl -ldl -lm -lcrypt -lutil -lc
    libc=libc-2.23.so, so=so, useshrplib=false, libperl=libperl.a
    gnulibc_version='2.23'
  Dynamic Linking:
    dlsrc=dl_dlopen.xs, dlext=so, d_dlsymun=undef, ccdlflags='-Wl,-E'
    cccdlflags='-fPIC', lddlflags='-shared -O2 -L/usr/local/lib -fstack-protector'


Characteristics of this binary (from libperl): 
  Compile-time options: HAS_TIMES PERLIO_LAYERS PERL_DONT_CREATE_GVSV
                        PERL_MALLOC_WRAP PERL_PRESERVE_IVUV USE_64_BIT_ALL
                        USE_64_BIT_INT USE_LARGE_FILES USE_LOCALE
                        USE_LOCALE_COLLATE USE_LOCALE_CTYPE
                        USE_LOCALE_NUMERIC USE_PERLIO USE_PERL_ATOF
  Locally applied patches:
	Devel::PatchPerl 1.64
  Built under linux
  Compiled at Aug  6 2019 21:04:50
  %ENV:
    PERL5LIB=""
    PERL5OPT=""
    PERL5_CPANPLUS_IS_RUNNING="6244"
    PERL5_CPAN_IS_RUNNING="6244"
    PERL5_CPAN_IS_RUNNING_IN_RECURSION="5915,6244"
    PERLDOC="-MPod::Perldoc::ToTextOverstrike"
    PERL_BATCH="yes"
    PERL_CANARY_STABILITY_NOPROMPT="1"
    PERL_CPAN_REPORTER_CONFIG="/var/tmp/cpansmoker-1023/2021032914/cpanreporter_000_config.ini"
    PERL_EXTUTILS_AUTOINSTALL="--defaultdeps"
    PERL_USE_UNSAFE_INC="1"
  @INC:
    /opt/perl-5.16.3/lib/site_perl/5.16.3/x86_64-linux
    /opt/perl-5.16.3/lib/site_perl/5.16.3
    /opt/perl-5.16.3/lib/5.16.3/x86_64-linux
    /opt/perl-5.16.3/lib/5.16.3
    .