Story-Interact v0.001014 Perl 5 v5.39.4 x86_64-linux-quadmath

Status
Pass
From
Andreas J. König (ANDK)
Dist
Story-Interact v0.001014
Platform
Perl 5 v5.39.4 x86_64-linux-quadmath
Date
2023-12-30 14:29:54
ID
e6761b6c-a71f-11ee-a8a5-1902947133a2
This distribution has been tested as part of the CPAN Testers
project, supporting the Perl programming language.  See
http://wiki.cpantesters.org/ for more information or email
questions to cpan-testers-discuss@perl.org


--
Dear Toby Inkster,

This is a computer-generated report for Story-Interact-0.001014
on perl 5.39.4, created by CPAN-Reporter-1.2019.

Thank you for uploading your work to CPAN.  Congratulations!
All tests were successful.

Sections of this report:

    * Tester comments
    * Program output
    * Prerequisites
    * Environment and other context

------------------------------
TESTER COMMENTS
------------------------------

Additional comments from tester:

this report is from an automated smoke testing program
and was not reviewed by a human for accuracy

------------------------------
PROGRAM OUTPUT
------------------------------

Output from '/usr/bin/make test':

PERL_DL_NONLAZY=1 "/home/sand/src/perl/repoperls/installed-perls/host/k93msid/v5.39.4/ec94/bin/perl" "-MExtUtils::Command::MM" "-MTest::Harness" "-e" "undef *Test::Harness::Switches; test_harness(0, 'blib/lib', 'blib/arch')" t/*.t t/integration/*.t
# 
# ####
# Carp                 1.54
# DBD::SQLite          1.74
# DBI                  1.643
# Exporter::Shiny      1.006002
# List::Util           1.63
# Module::Runtime      0.016
# Moo                  2.005005
Use of uninitialized value in sprintf at t/00start.t line 50.
# String::Tagged::Markdown 
# String::Tagged::Terminal 0.07
# Term::Choose         1.762
# Test2::Require::AuthorTesting 0.000156
# Test2::Require::Module 0.000156
# Test2::Tools::Spec   0.000156
# Test2::V0            0.000156
# Text::Wrap           2023.0511
# Types::Common        2.004000
# Types::Path::Tiny    0.006
# URI::Query           0.16
# match::simple        0.012
# namespace::clean     0.27
# ####
t/00start.t ......................... ok
LOADED DEV VERSION! at /tmp/loop_over_bdir-2851637-DDQwp6/Story-Interact-0.001014-0/blib/lib/Story/Interact/State.pm line 7.
t/01basic.t ......................... ok
LOADED DEV VERSION! at /tmp/loop_over_bdir-2851637-DDQwp6/Story-Interact-0.001014-0/blib/lib/Story/Interact/State.pm line 7.
t/integration/house-story.t ......... ok
LOADED DEV VERSION! at /tmp/loop_over_bdir-2851637-DDQwp6/Story-Interact-0.001014-0/blib/lib/Story/Interact/State.pm line 7.
t/integration/story-with-prelude.t .. ok
LOADED DEV VERSION! at /tmp/loop_over_bdir-2851637-DDQwp6/Story-Interact-0.001014-0/blib/lib/Story/Interact/State.pm line 7.
t/integration/uri-query.t ........... ok
LOADED DEV VERSION! at /tmp/loop_over_bdir-2851637-DDQwp6/Story-Interact-0.001014-0/blib/lib/Story/Interact/State.pm line 7.
t/integration/waterfall.t ........... ok
All tests successful.
Files=6, Tests=6,  4 wallclock secs ( 0.03 usr  0.03 sys +  2.43 cusr  0.41 csys =  2.90 CPU)
Result: PASS

------------------------------
PREREQUISITES
------------------------------

Prerequisite modules loaded:

requires:

    Module                        Need     Have     
    ----------------------------- -------- ---------
    Bytes::Random::Secure         0        0.29     
    Carp                          0        1.54     
    Compress::Bzip2               0        2.28     
    CryptX                        0        0.080    
    DBD::SQLite                   0        1.74     
    DBI                           0        1.643    
    Exporter::Shiny               0        1.006002 
    List::Util                    1.54     1.63     
    match::simple                 0        0.012    
    Module::Runtime               0        0.016    
    Moo                           0        2.005005 
    namespace::clean              0        0.27     
    perl                          5.010001 5.039004 
    Term::Choose                  0        1.762    
    Text::Wrap                    0        2023.0511
    Types::Common                 0        2.004000 
    Types::Path::Tiny             0        0.006    
    URI::Query                    0        0.16     

build_requires:

    Module                        Need     Have     
    ----------------------------- -------- ---------
    Test2::Require::AuthorTesting 0        0.000156 
    Test2::Require::Module        0        0.000156 
    Test2::Tools::Spec            0        0.000156 
    Test2::V0                     0        0.000156 

configure_requires:

    Module                        Need     Have     
    ----------------------------- -------- ---------
    ExtUtils::MakeMaker           6.17     7.70     

opt_requires:

    Module                        Need     Have     
    ----------------------------- -------- ---------
  ! String::Tagged::Markdown      0        n/a      
    String::Tagged::Terminal      0        0.07     


------------------------------
ENVIRONMENT AND OTHER CONTEXT
------------------------------

Environment variables:

    AUTOMATED_TESTING = 1
    LANG = en_US.UTF-8
    LANGUAGE = en_US:en
    PATH = /home/sand/bin:/usr/local/bin:/usr/bin:/bin:/usr/games:/usr/local/perl/bin:/usr/X11/bin:/sbin:/usr/sbin
    PERL5LIB = 
    PERL5OPT = 
    PERL5_CPANPLUS_IS_RUNNING = 3791638
    PERL5_CPAN_IS_RUNNING = 3791638
    PERL_CANARY_STABILITY_NOPROMPT = 1
    PERL_MM_USE_DEFAULT = 1
    PERL_USE_UNSAFE_INC = 1
    SHELL = /usr/bin/zsh
    TERM = screen

Perl special variables (and OS-specific diagnostics, for MSWin32):

    $^X = /home/sand/src/perl/repoperls/installed-perls/host/k93msid/v5.39.4/ec94/bin/perl
    $UID/$EUID = 1005 / 1005
    $GID = 1005 1005
    $EGID = 1005 1005

Perl module toolchain versions installed:

    Module              Have    
    ------------------- --------
    CPAN                2.36    
    CPAN::Meta          2.150010
    Cwd                 3.90    
    ExtUtils::CBuilder  0.280240
    ExtUtils::Command   7.70    
    ExtUtils::Install   2.22    
    ExtUtils::MakeMaker 7.70    
    ExtUtils::Manifest  1.75    
    ExtUtils::ParseXS   3.51    
    File::Spec          3.90    
    JSON                4.10    
    JSON::PP            4.16    
    Module::Build       0.4234  
    Module::Signature   0.88    
    Parse::CPAN::Meta   2.150010
    Test2               1.302195
    Test::Harness       3.48    
    Test::More          1.302195
    YAML                1.30    
    YAML::Syck          1.34    
    version             0.9930  


--

Summary of my perl5 (revision 5 version 39 subversion 4) configuration:
  Commit id: 56211f03a701e3979a0d01069f8515db1c1fc2f0
  Platform:
    osname=linux
    osvers=6.1.0-7-amd64
    archname=x86_64-linux-quadmath
    uname='linux k93msid 6.1.0-7-amd64 #1 smp preempt_dynamic debian 6.1.20-1 (2023-03-19) x86_64 gnulinux '
    config_args='-Dprefix=/home/sand/src/perl/repoperls/installed-perls/host/k93msid/v5.39.4/ec94 -Dmyhostname=k93msid -Dinstallusrbinperl=n -Uversiononly -Dusedevel -des -Ui_db -Dlibswanted=cl pthread socket inet nsl gdbm dbm malloc dl ld sun m crypt sec util c cposix posix ucb BSD gdbm_compat -Uuseithreads -Uuselongdouble -DEBUGGING=both -Dusequadmath'
    hint=recommended
    useposix=true
    d_sigaction=define
    useithreads=undef
    usemultiplicity=undef
    use64bitint=define
    use64bitall=define
    uselongdouble=undef
    usemymalloc=n
    default_inc_excludes_dot=define
  Compiler:
    cc='cc'
    ccflags ='-fwrapv -DDEBUGGING -fno-strict-aliasing -pipe -fstack-protector-strong -I/usr/local/include -D_LARGEFILE_SOURCE -D_FILE_OFFSET_BITS=64 -D_FORTIFY_SOURCE=2'
    optimize='-O2 -g'
    cppflags='-fwrapv -DDEBUGGING -fno-strict-aliasing -pipe -fstack-protector-strong -I/usr/local/include'
    ccversion=''
    gccversion='12.2.0'
    gccosandvers=''
    intsize=4
    longsize=8
    ptrsize=8
    doublesize=8
    byteorder=12345678
    doublekind=3
    d_longlong=define
    longlongsize=8
    d_longdbl=define
    longdblsize=16
    longdblkind=3
    ivtype='long'
    ivsize=8
    nvtype='__float128'
    nvsize=16
    Off_t='off_t'
    lseeksize=8
    alignbytes=16
    prototype=define
  Linker and Libraries:
    ld='cc'
    ldflags =' -fstack-protector-strong -L/usr/local/lib'
    libpth=/usr/local/lib /usr/lib/x86_64-linux-gnu /usr/lib /usr/lib64
    libs=-lpthread -lnsl -ldl -lm -lcrypt -lutil -lc -lquadmath
    perllibs=-lpthread -lnsl -ldl -lm -lcrypt -lutil -lc -lquadmath
    libc=/lib/x86_64-linux-gnu/libc.so.6
    so=so
    useshrplib=false
    libperl=libperl.a
    gnulibc_version='2.36'
  Dynamic Linking:
    dlsrc=dl_dlopen.xs
    dlext=so
    d_dlsymun=undef
    ccdlflags='-Wl,-E'
    cccdlflags='-fPIC'
    lddlflags='-shared -O2 -g -L/usr/local/lib -fstack-protector-strong'


Characteristics of this binary (from libperl): 
  Compile-time options:
    DEBUGGING
    HAS_LONG_DOUBLE
    HAS_STRTOLD
    HAS_TIMES
    PERLIO_LAYERS
    PERL_COPY_ON_WRITE
    PERL_DONT_CREATE_GVSV
    PERL_HASH_FUNC_SIPHASH13
    PERL_HASH_USE_SBOX32
    PERL_MALLOC_WRAP
    PERL_OP_PARENT
    PERL_PRESERVE_IVUV
    PERL_USE_DEVEL
    PERL_USE_SAFE_PUTENV
    USE_64_BIT_ALL
    USE_64_BIT_INT
    USE_LARGE_FILES
    USE_LOCALE
    USE_LOCALE_COLLATE
    USE_LOCALE_CTYPE
    USE_LOCALE_NUMERIC
    USE_LOCALE_TIME
    USE_PERLIO
    USE_PERL_ATOF
    USE_QUADMATH
  Built under linux
  Compiled at Oct 26 2023 20:04:29
  %ENV:
    PERL5LIB=""
    PERL5OPT=""
    PERL5_CPANPLUS_IS_RUNNING="3791638"
    PERL5_CPAN_IS_RUNNING="3791638"
    PERL_CANARY_STABILITY_NOPROMPT="1"
    PERL_MM_USE_DEFAULT="1"
    PERL_USE_UNSAFE_INC="1"
  @INC:
    /home/sand/src/perl/repoperls/installed-perls/host/k93msid/v5.39.4/ec94/lib/site_perl/5.39.4/x86_64-linux-quadmath
    /home/sand/src/perl/repoperls/installed-perls/host/k93msid/v5.39.4/ec94/lib/site_perl/5.39.4
    /home/sand/src/perl/repoperls/installed-perls/host/k93msid/v5.39.4/ec94/lib/5.39.4/x86_64-linux-quadmath
    /home/sand/src/perl/repoperls/installed-perls/host/k93msid/v5.39.4/ec94/lib/5.39.4
    .