Term-ProgressSpinner v1.01 Perl 5 v5.40.0 i686-linux-64int
- Status
- Pass
- From
- Chris Williams (BINGOS)
- Dist
-
Term-ProgressSpinner v1.01
- Platform
- Perl 5 v5.40.0 i686-linux-64int
- Date
- 2025-04-24 10:14:25
- ID
- e6750524-20f4-11f0-98b0-b3c3213a625c
This distribution has been tested as part of the CPAN Testers
project, supporting the Perl programming language. See
http://wiki.cpantesters.org/ for more information or email
questions to cpan-testers-discuss@perl.org
--
Dear Robert Acock,
This is a computer-generated error report created automatically by
CPANPLUS, version 0.9916. Testers personal comments may appear
at the end of this report.
Thank you for uploading your work to CPAN. Congratulations!
All tests were successful.
TEST RESULTS:
Below is the error stack from stage 'make test':
PERL_DL_NONLAZY=1 "/home/cpan/pit/64bit/perl-5.40.0/bin/perl" "-MExtUtils::Command::MM" "-MTest::Harness" "-e" "undef *Test::Harness::Switches; test_harness(0, 'blib/lib', 'blib/arch')" t/*.t
# Testing Term::ProgressSpinner 1.01, Perl 5.040000, /home/cpan/pit/64bit/perl-5.40.0/bin/perl
t/00-load.t ....... ok
[1;1f[2J
[2K[?25l
[3;1f
[2K[37mâÂÂâ âÂÂ[30;100m [37mâ Ââ Â[30;100m processed [37m5%[30;100m of [37m1[30;100m/[37m20[30;100m [37m0.1[30;100m/[37m1.9[30;100m[0m
[3;1f
[2K[37mâÂÂâÂÂâ âÂÂ[30;100m [37mâ¢Ââ Â[30;100m processed [37m10%[30;100m of [37m2[30;100m/[37m20[30;100m [37m0.2[30;100m/[37m1.8[30;100m[0m
[3;1f
[2K[37mâÂÂâÂÂâÂÂâ âÂÂ[30;100m [37mâ¡Ââ Â[30;100m processed [37m15%[30;100m of [37m3[30;100m/[37m20[30;100m [37m0.3[30;100m/[37m1.7[30;100m[0m
[3;1f
[2K[37mâÂÂâÂÂâÂÂâÂÂâ âÂÂ[30;100m [37mâ Â
â Â[30;100m processed [37m20%[30;100m of [37m4[30;100m/[37m20[30;100m [37m0.4[30;100m/[37m1.6[30;100m[0m
[3;1f
[2K[37mâÂÂâÂÂâÂÂâÂÂâÂÂâ âÂÂ[30;100m [37mâ¢Ââ Â[30;100m processed [37m25%[30;100m of [37m5[30;100m/[37m20[30;100m [37m0.51[30;100m/[37m1.53[30;100m[0m
[3;1f
[2K[37mâÂÂâÂÂâÂÂâÂÂâÂÂâÂÂâ âÂÂ[30;100m [37mâ¡Ââ Â[30;100m processed [37m30%[30;100m of [37m6[30;100m/[37m20[30;100m [37m0.61[30;100m/[37m1.42[30;100m[0m
[3;1f
[2K[37mâÂÂâÂÂâÂÂâÂÂâÂÂâÂÂâÂÂâ âÂÂ[30;100m [37mâ Ââ Â[30;100m processed [37m35%[30;100m of [37m7[30;100m/[37m20[30;100m [37m0.71[30;100m/[37m1.32[30;100m[0m
[3;1f
[2K[37mâÂÂâÂÂâÂÂâÂÂâÂÂâÂÂâÂÂâÂÂâ âÂÂ[30;100m [37mâ¢Ââ Â[30;100m processed [37m40%[30;100m of [37m8[30;100m/[37m20[30;100m [37m0.81[30;100m/[37m1.21[30;100m[0m
[3;1f
[2K[37mâÂÂâÂÂâÂÂâÂÂâÂÂâÂÂâÂÂâÂÂâÂÂâ âÂÂ[30;100m [37mâ¡Ââ Â[30;100m processed [37m45%[30;100m of [37m9[30;100m/[37m20[30;100m [37m0.91[30;100m/[37m1.11[30;100m[0m
[3;1f
[2K[37mâÂÂâÂÂâÂÂâÂÂâÂÂâÂÂâÂÂâÂÂâÂÂâÂÂâ âÂÂ[30;100m [37mâ Ââ Â[30;100m processed [37m50%[30;100m of [37m10[30;100m/[37m20[30;100m [37m1.01[30;100m/[37m1.01[30;100m[0m
[3;1f
[2K[37mâÂÂâÂÂâÂÂâÂÂâÂÂâÂÂâÂÂâÂÂâÂÂâÂÂâÂÂâ âÂÂ[30;100m [37mâ¢Ââ Â[30;100m processed [37m55%[30;100m of [37m11[30;100m/[37m20[30;100m [37m1.11[30;100m/[37m0.91[30;100m[0m
[3;1f
[2K[37mâÂÂâÂÂâÂÂâÂÂâÂÂâÂÂâÂÂâÂÂâÂÂâÂÂâÂÂâÂÂâ âÂÂ[30;100m [37mâ¡Ââ Â[30;100m processed [37m60%[30;100m of [37m12[30;100m/[37m20[30;100m [37m1.21[30;100m/[37m0.81[30;100m[0m
[3;1f
[2K[37mâÂÂâÂÂâÂÂâÂÂâÂÂâÂÂâÂÂâÂÂâÂÂâÂÂâÂÂâÂÂâÂÂâ âÂÂ[30;100m [37mâ Ââ Â[30;100m processed [37m65%[30;100m of [37m13[30;100m/[37m20[30;100m [37m1.31[30;100m/[37m0.71[30;100m[0m
[3;1f
[2K[37mâÂÂâÂÂâÂÂâÂÂâÂÂâÂÂâÂÂâÂÂâÂÂâÂÂâÂÂâÂÂâÂÂâÂÂâ âÂÂ[30;100m [37mâ Ââ Â[30;100m processed [37m70%[30;100m of [37m14[30;100m/[37m20[30;100m [37m1.41[30;100m/[37m0.6[30;100m[0m
[3;1f
[2K[37mâÂÂâÂÂâÂÂâÂÂâÂÂâÂÂâÂÂâÂÂâÂÂâÂÂâÂÂâÂÂâÂÂâÂÂâÂÂâ âÂÂ[30;100m [37mâ Ââ Â[30;100m processed [37m75%[30;100m of [37m15[30;100m/[37m20[30;100m [37m1.51[30;100m/[37m0.5[30;100m[0m
[3;1f
[2K[37mâÂÂâÂÂâÂÂâÂÂâÂÂâÂÂâÂÂâÂÂâÂÂâÂÂâÂÂâÂÂâÂÂâÂÂâÂÂâÂÂâ âÂÂ[30;100m [37mâ Ââ Â[30;100m processed [37m80%[30;100m of [37m16[30;100m/[37m20[30;100m [37m1.61[30;100m/[37m0.4[30;100m[0m
[3;1f
[2K[37mâÂÂâÂÂâÂÂâÂÂâÂÂâÂÂâÂÂâÂÂâÂÂâÂÂâÂÂâÂÂâÂÂâÂÂâÂÂâÂÂâÂÂâ âÂÂ[30;100m [37mâ Ââ Â[30;100m processed [37m85%[30;100m of [37m17[30;100m/[37m20[30;100m [37m1.71[30;100m/[37m0.3[30;100m[0m
[3;1f
[2K[37mâÂÂâÂÂâÂÂâÂÂâÂÂâÂÂâÂÂâÂÂâÂÂâÂÂâÂÂâÂÂâÂÂâÂÂâÂÂâÂÂâÂÂâÂÂâ âÂÂ[30;100m [37mâ Ââ ©[30;100m processed [37m90%[30;100m of [37m18[30;100m/[37m20[30;100m [37m1.81[30;100m/[37m0.2[30;100m[0m
[3;1f
[2K[37mâÂÂâÂÂâÂÂâÂÂâÂÂâÂÂâÂÂâÂÂâÂÂâÂÂâÂÂâÂÂâÂÂâÂÂâÂÂâÂÂâÂÂâÂÂâÂÂâ âÂÂ[30;100m [37mâ Ââ¢Â[30;100m processed [37m95%[30;100m of [37m19[30;100m/[37m20[30;100m [37m1.91[30;100m/[37m0.1[30;100m[0m
[3;1f
[2K[37mâÂÂâÂÂâÂÂâÂÂâÂÂâÂÂâÂÂâÂÂâÂÂâÂÂâÂÂâÂÂâÂÂâÂÂâÂÂâÂÂâÂÂâÂÂâÂÂâÂÂâÂÂâÂÂ[30;100m [37mâ Ââ¡Â[30;100m processed [37m100%[30;100m of [37m20[30;100m/[37m20[30;100m [37m2.02[30;100m/[37m0[30;100m[0m
[?25h
[2K[?25l
[5;1f
[2K[37mâÂÂâ âÂÂ[30;100m [37mâÂÂâÂÂâÂÂ[30;100m processed [37m5%[30;100m of [37m1[30;100m/[37m20[30;100m [37m0.1[30;100m/[37m1.9[30;100m[0m
[5;1f
[2K[37mâÂÂâÂÂâ âÂÂ[30;100m [37mâÂÂâÂÂ
âÂÂ[30;100m processed [37m10%[30;100m of [37m2[30;100m/[37m20[30;100m [37m0.2[30;100m/[37m1.8[30;100m[0m
[5;1f
[2K[37mâÂÂâÂÂâÂÂâ âÂÂ[30;100m [37mâÂÂâÂÂâÂÂ[30;100m processed [37m15%[30;100m of [37m3[30;100m/[37m20[30;100m [37m0.3[30;100m/[37m1.7[30;100m[0m
[5;1f
[2K[37mâÂÂâÂÂâÂÂâÂÂâ âÂÂ[30;100m [37mâÂÂâÂÂâÂÂ[30;100m processed [37m20%[30;100m of [37m4[30;100m/[37m20[30;100m [37m0.4[30;100m/[37m1.6[30;100m[0m
[5;1f
[2K[37mâÂÂâÂÂâÂÂâÂÂâÂÂâ âÂÂ[30;100m [37mâÂÂâÂÂâÂÂ[30;100m processed [37m25%[30;100m of [37m5[30;100m/[37m20[30;100m [37m0.5[30;100m/[37m1.5[30;100m[0m
[5;1f
[2K[37mâÂÂâÂÂâÂÂâÂÂâÂÂâÂÂâ âÂÂ[30;100m [37mâÂÂâÂÂâÂÂ
[30;100m processed [37m30%[30;100m of [37m6[30;100m/[37m20[30;100m [37m0.6[30;100m/[37m1.4[30;100m[0m
[5;1f
[2K[37mâÂÂâÂÂâÂÂâÂÂâÂÂâÂÂâÂÂâ âÂÂ[30;100m [37mâÂÂâÂÂâÂÂ[30;100m processed [37m35%[30;100m of [37m7[30;100m/[37m20[30;100m [37m0.7[30;100m/[37m1.3[30;100m[0m
[5;1f
[2K[37mâÂÂâÂÂâÂÂâÂÂâÂÂâÂÂâÂÂâÂÂâ âÂÂ[30;100m [37mâÂÂ
âÂÂâÂÂ[30;100m processed [37m40%[30;100m of [37m8[30;100m/[37m20[30;100m [37m0.8[30;100m/[37m1.2[30;100m[0m
[5;1f
[2K[37mâÂÂâÂÂâÂÂâÂÂâÂÂâÂÂâÂÂâÂÂâÂÂâ âÂÂ[30;100m [37mâÂÂâÂÂâÂÂ[30;100m processed [37m45%[30;100m of [37m9[30;100m/[37m20[30;100m [37m0.9[30;100m/[37m1.1[30;100m[0m
[5;1f
[2K[37mâÂÂâÂÂâÂÂâÂÂâÂÂâÂÂâÂÂâÂÂâÂÂâÂÂâ âÂÂ[30;100m [37mâÂÂâÂÂ
âÂÂ[30;100m processed [37m50%[30;100m of [37m10[30;100m/[37m20[30;100m [37m1[30;100m/[37m1[30;100m[0m
[5;1f
[2K[37mâÂÂâÂÂâÂÂâÂÂâÂÂâÂÂâÂÂâÂÂâÂÂâÂÂâÂÂâ âÂÂ[30;100m [37mâÂÂâÂÂâÂÂ[30;100m processed [37m55%[30;100m of [37m11[30;100m/[37m20[30;100m [37m1.1[30;100m/[37m0.9[30;100m[0m
[5;1f
[2K[37mâÂÂâÂÂâÂÂâÂÂâÂÂâÂÂâÂÂâÂÂâÂÂâÂÂâÂÂâÂÂâ âÂÂ[30;100m [37mâÂÂâÂÂâÂÂ[30;100m processed [37m60%[30;100m of [37m12[30;100m/[37m20[30;100m [37m1.2[30;100m/[37m0.8[30;100m[0m
[5;1f
[2K[37mâÂÂâÂÂâÂÂâÂÂâÂÂâÂÂâÂÂâÂÂâÂÂâÂÂâÂÂâÂÂâÂÂâ âÂÂ[30;100m [37mâÂÂâÂÂâÂÂ[30;100m processed [37m65%[30;100m of [37m13[30;100m/[37m20[30;100m [37m1.3[30;100m/[37m0.7[30;100m[0m
[5;1f
[2K[37mâÂÂâÂÂâÂÂâÂÂâÂÂâÂÂâÂÂâÂÂâÂÂâÂÂâÂÂâÂÂâÂÂâÂÂâ âÂÂ[30;100m [37mâÂÂâÂÂâÂÂ
[30;100m processed [37m70%[30;100m of [37m14[30;100m/[37m20[30;100m [37m1.4[30;100m/[37m0.6[30;100m[0m
[5;1f
[2K[37mâÂÂâÂÂâÂÂâÂÂâÂÂâÂÂâÂÂâÂÂâÂÂâÂÂâÂÂâÂÂâÂÂâÂÂâÂÂâ âÂÂ[30;100m [37mâÂÂâÂÂâÂÂ[30;100m processed [37m75%[30;100m of [37m15[30;100m/[37m20[30;100m [37m1.5[30;100m/[37m0.5[30;100m[0m
[5;1f
[2K[37mâÂÂâÂÂâÂÂâÂÂâÂÂâÂÂâÂÂâÂÂâÂÂâÂÂâÂÂâÂÂâÂÂâÂÂâÂÂâÂÂâ âÂÂ[30;100m [37mâÂÂ
âÂÂâÂÂ[30;100m processed [37m80%[30;100m of [37m16[30;100m/[37m20[30;100m [37m1.6[30;100m/[37m0.4[30;100m[0m
[5;1f
[2K[37mâÂÂâÂÂâÂÂâÂÂâÂÂâÂÂâÂÂâÂÂâÂÂâÂÂâÂÂâÂÂâÂÂâÂÂâÂÂâÂÂâÂÂâ âÂÂ[30;100m [37mâÂÂâÂÂâÂÂ[30;100m processed [37m85%[30;100m of [37m17[30;100m/[37m20[30;100m [37m1.7[30;100m/[37m0.3[30;100m[0m
[5;1f
[2K[37mâÂÂâÂÂâÂÂâÂÂâÂÂâÂÂâÂÂâÂÂâÂÂâÂÂâÂÂâÂÂâÂÂâÂÂâÂÂâÂÂâÂÂâÂÂâ âÂÂ[30;100m [37mâÂÂâÂÂ
âÂÂ[30;100m processed [37m90%[30;100m of [37m18[30;100m/[37m20[30;100m [37m1.8[30;100m/[37m0.2[30;100m[0m
[5;1f
[2K[37mâÂÂâÂÂâÂÂâÂÂâÂÂâÂÂâÂÂâÂÂâÂÂâÂÂâÂÂâÂÂâÂÂâÂÂâÂÂâÂÂâÂÂâÂÂâÂÂâ âÂÂ[30;100m [37mâÂÂâÂÂâÂÂ[30;100m processed [37m95%[30;100m of [37m19[30;100m/[37m20[30;100m [37m1.91[30;100m/[37m0.1[30;100m[0m
[5;1f
[2K[37mâÂÂâÂÂâÂÂâÂÂâÂÂâÂÂâÂÂâÂÂâÂÂâÂÂâÂÂâÂÂâÂÂâÂÂâÂÂâÂÂâÂÂâÂÂâÂÂâÂÂâÂÂâÂÂ[30;100m [37mâÂÂâÂÂâÂÂ[30;100m processed [37m100%[30;100m of [37m20[30;100m/[37m20[30;100m [37m2.01[30;100m/[37m0[30;100m[0m
[?25h
[2K[?25l
[7;1f
[2K[37mãÂÂ= ãÂÂ[30;100m [37mâÂÂ[30;100m processed [37m5%[30;100m of [37m1[30;100m/[37m20[30;100m [37m0.1[30;100m/[37m1.9[30;100m[0m
[7;1f
[2K[37mãÂÂ== ãÂÂ[30;100m [37mâÂÂ[30;100m processed [37m10%[30;100m of [37m2[30;100m/[37m20[30;100m [37m0.2[30;100m/[37m1.8[30;100m[0m
[7;1f
[2K[37mãÂÂ=== ãÂÂ[30;100m [37mâÂÂ[30;100m processed [37m15%[30;100m of [37m3[30;100m/[37m20[30;100m [37m0.3[30;100m/[37m1.7[30;100m[0m
[7;1f
[2K[37mãÂÂ==== ãÂÂ[30;100m [37mâÂÂ[30;100m processed [37m20%[30;100m of [37m4[30;100m/[37m20[30;100m [37m0.4[30;100m/[37m1.6[30;100m[0m
[7;1f
[2K[37mãÂÂ===== ãÂÂ[30;100m [37m⦿[30;100m processed [37m25%[30;100m of [37m5[30;100m/[37m20[30;100m [37m0.5[30;100m/[37m1.5[30;100m[0m
[7;1f
[2K[37mãÂÂ====== ãÂÂ[30;100m [37mâÂÂ[30;100m processed [37m30%[30;100m of [37m6[30;100m/[37m20[30;100m [37m0.6[30;100m/[37m1.4[30;100m[0m
[7;1f
[2K[37mãÂÂ======= ãÂÂ[30;100m [37mâÂÂ[30;100m processed [37m35%[30;100m of [37m7[30;100m/[37m20[30;100m [37m0.7[30;100m/[37m1.3[30;100m[0m
[7;1f
[2K[37mãÂÂ======== ãÂÂ[30;100m [37mâÂÂ[30;100m processed [37m40%[30;100m of [37m8[30;100m/[37m20[30;100m [37m0.8[30;100m/[37m1.2[30;100m[0m
[7;1f
[2K[37mãÂÂ========= ãÂÂ[30;100m [37mâ¦[30;100m processed [37m45%[30;100m of [37m9[30;100m/[37m20[30;100m [37m0.9[30;100m/[37m1.1[30;100m[0m
[7;1f
[2K[37mãÂÂ========== ãÂÂ[30;100m [37mã»[30;100m processed [37m50%[30;100m of [37m10[30;100m/[37m20[30;100m [37m1[30;100m/[37m1[30;100m[0m
[7;1f
[2K[37mãÂÂ=========== ãÂÂ[30;100m [37mã»[30;100m processed [37m55%[30;100m of [37m11[30;100m/[37m20[30;100m [37m1.1[30;100m/[37m0.9[30;100m[0m
[7;1f
[2K[37mãÂÂ============ ãÂÂ[30;100m [37mâ¦[30;100m processed [37m60%[30;100m of [37m12[30;100m/[37m20[30;100m [37m1.2[30;100m/[37m0.8[30;100m[0m
[7;1f
[2K[37mãÂÂ============= ãÂÂ[30;100m [37mâÂÂ[30;100m processed [37m65%[30;100m of [37m13[30;100m/[37m20[30;100m [37m1.3[30;100m/[37m0.7[30;100m[0m
[7;1f
[2K[37mãÂÂ============== ãÂÂ[30;100m [37mâÂÂ[30;100m processed [37m70%[30;100m of [37m14[30;100m/[37m20[30;100m [37m1.4[30;100m/[37m0.6[30;100m[0m
[7;1f
[2K[37mãÂÂ=============== ãÂÂ[30;100m [37mâÂÂ[30;100m processed [37m75%[30;100m of [37m15[30;100m/[37m20[30;100m [37m1.5[30;100m/[37m0.5[30;100m[0m
[7;1f
[2K[37mãÂÂ================ ãÂÂ[30;100m [37mâÂÂ[30;100m processed [37m80%[30;100m of [37m16[30;100m/[37m20[30;100m [37m1.6[30;100m/[37m0.4[30;100m[0m
[7;1f
[2K[37mãÂÂ================= ãÂÂ[30;100m [37m⦿[30;100m processed [37m85%[30;100m of [37m17[30;100m/[37m20[30;100m [37m1.7[30;100m/[37m0.3[30;100m[0m
[7;1f
[2K[37mãÂÂ================== ãÂÂ[30;100m [37mâÂÂ[30;100m processed [37m90%[30;100m of [37m18[30;100m/[37m20[30;100m [37m1.8[30;100m/[37m0.2[30;100m[0m
[7;1f
[2K[37mãÂÂ=================== ãÂÂ[30;100m [37mâÂÂ[30;100m processed [37m95%[30;100m of [37m19[30;100m/[37m20[30;100m [37m1.91[30;100m/[37m0.1[30;100m[0m
[7;1f
[2K[37mãÂÂ====================ãÂÂ[30;100m [37mâÂÂ[30;100m processed [37m100%[30;100m of [37m20[30;100m/[37m20[30;100m [37m2.01[30;100m/[37m0[30;100m[0m
[?25h
[2K[?25l
[9;1f
[2K[37mâÂÂâ âÂÂ[30;100m [37mâÂÂ[30;100m processed [37m5%[30;100m of [37m1[30;100m/[37m20[30;100m [37m0.1[30;100m/[37m1.9[30;100m[0m
[9;1f
[2K[37mâÂÂâÂÂâ âÂÂ[30;100m [37mâÂÂ[30;100m processed [37m10%[30;100m of [37m2[30;100m/[37m20[30;100m [37m0.2[30;100m/[37m1.8[30;100m[0m
[9;1f
[2K[37mâÂÂâÂÂâÂÂâ âÂÂ[30;100m [37mâÂÂ[30;100m processed [37m15%[30;100m of [37m3[30;100m/[37m20[30;100m [37m0.3[30;100m/[37m1.7[30;100m[0m
[9;1f
[2K[37mâÂÂâÂÂâÂÂâÂÂâ âÂÂ[30;100m [37mâÂÂ[30;100m processed [37m20%[30;100m of [37m4[30;100m/[37m20[30;100m [37m0.4[30;100m/[37m1.6[30;100m[0m
[9;1f
[2K[37mâÂÂâÂÂâÂÂâÂÂâÂÂâ âÂÂ[30;100m [37mâÂÂ[30;100m processed [37m25%[30;100m of [37m5[30;100m/[37m20[30;100m [37m0.5[30;100m/[37m1.5[30;100m[0m
[9;1f
[2K[37mâÂÂâÂÂâÂÂâÂÂâÂÂâÂÂâ âÂÂ[30;100m [37mâÂÂ[30;100m processed [37m30%[30;100m of [37m6[30;100m/[37m20[30;100m [37m0.6[30;100m/[37m1.4[30;100m[0m
[9;1f
[2K[37mâÂÂâÂÂâÂÂâÂÂâÂÂâÂÂâÂÂâ âÂÂ[30;100m [37mâÂÂ[30;100m processed [37m35%[30;100m of [37m7[30;100m/[37m20[30;100m [37m0.7[30;100m/[37m1.3[30;100m[0m
[9;1f
[2K[37mâÂÂâÂÂâÂÂâÂÂâÂÂâÂÂâÂÂâÂÂâ âÂÂ[30;100m [37mâÂÂ[30;100m processed [37m40%[30;100m of [37m8[30;100m/[37m20[30;100m [37m0.8[30;100m/[37m1.2[30;100m[0m
[9;1f
[2K[37mâÂÂâÂÂâÂÂâÂÂâÂÂâÂÂâÂÂâÂÂâÂÂâ âÂÂ[30;100m [37mâÂÂ[30;100m processed [37m45%[30;100m of [37m9[30;100m/[37m20[30;100m [37m0.9[30;100m/[37m1.1[30;100m[0m
[9;1f
[2K[37mâÂÂâÂÂâÂÂâÂÂâÂÂâÂÂâÂÂâÂÂâÂÂâÂÂâ âÂÂ[30;100m [37mâÂÂ[30;100m processed [37m50%[30;100m of [37m10[30;100m/[37m20[30;100m [37m1[30;100m/[37m1[30;100m[0m
[9;1f
[2K[37mâÂÂâÂÂâÂÂâÂÂâÂÂâÂÂâÂÂâÂÂâÂÂâÂÂâÂÂâ âÂÂ[30;100m [37mâÂÂ[30;100m processed [37m55%[30;100m of [37m11[30;100m/[37m20[30;100m [37m1.1[30;100m/[37m0.9[30;100m[0m
[9;1f
[2K[37mâÂÂâÂÂâÂÂâÂÂâÂÂâÂÂâÂÂâÂÂâÂÂâÂÂâÂÂâÂÂâ âÂÂ[30;100m [37mâÂÂ[30;100m processed [37m60%[30;100m of [37m12[30;100m/[37m20[30;100m [37m1.2[30;100m/[37m0.8[30;100m[0m
[9;1f
[2K[37mâÂÂâÂÂâÂÂâÂÂâÂÂâÂÂâÂÂâÂÂâÂÂâÂÂâÂÂâÂÂâÂÂâ âÂÂ[30;100m [37mâÂÂ[30;100m processed [37m65%[30;100m of [37m13[30;100m/[37m20[30;100m [37m1.3[30;100m/[37m0.7[30;100m[0m
[9;1f
[2K[37mâÂÂâÂÂâÂÂâÂÂâÂÂâÂÂâÂÂâÂÂâÂÂâÂÂâÂÂâÂÂâÂÂâÂÂâ âÂÂ[30;100m [37mâÂÂ[30;100m processed [37m70%[30;100m of [37m14[30;100m/[37m20[30;100m [37m1.4[30;100m/[37m0.6[30;100m[0m
[9;1f
[2K[37mâÂÂâÂÂâÂÂâÂÂâÂÂâÂÂâÂÂâÂÂâÂÂâÂÂâÂÂâÂÂâÂÂâÂÂâÂÂâ âÂÂ[30;100m [37mâÂÂ[30;100m processed [37m75%[30;100m of [37m15[30;100m/[37m20[30;100m [37m1.5[30;100m/[37m0.5[30;100m[0m
[9;1f
[2K[37mâÂÂâÂÂâÂÂâÂÂâÂÂâÂÂâÂÂâÂÂâÂÂâÂÂâÂÂâÂÂâÂÂâÂÂâÂÂâÂÂâ âÂÂ[30;100m [37mâÂÂ[30;100m processed [37m80%[30;100m of [37m16[30;100m/[37m20[30;100m [37m1.6[30;100m/[37m0.4[30;100m[0m
[9;1f
[2K[37mâÂÂâÂÂâÂÂâÂÂâÂÂâÂÂâÂÂâÂÂâÂÂâÂÂâÂÂâÂÂâÂÂâÂÂâÂÂâÂÂâÂÂâ âÂÂ[30;100m [37mâÂÂ[30;100m processed [37m85%[30;100m of [37m17[30;100m/[37m20[30;100m [37m1.7[30;100m/[37m0.3[30;100m[0m
[9;1f
[2K[37mâÂÂâÂÂâÂÂâÂÂâÂÂâÂÂâÂÂâÂÂâÂÂâÂÂâÂÂâÂÂâÂÂâÂÂâÂÂâÂÂâÂÂâÂÂâ âÂÂ[30;100m [37mâÂÂ[30;100m processed [37m90%[30;100m of [37m18[30;100m/[37m20[30;100m [37m1.81[30;100m/[37m0.2[30;100m[0m
[9;1f
[2K[37mâÂÂâÂÂâÂÂâÂÂâÂÂâÂÂâÂÂâÂÂâÂÂâÂÂâÂÂâÂÂâÂÂâÂÂâÂÂâÂÂâÂÂâÂÂâÂÂâ âÂÂ[30;100m [37mâÂÂ[30;100m processed [37m95%[30;100m of [37m19[30;100m/[37m20[30;100m [37m1.91[30;100m/[37m0.1[30;100m[0m
[9;1f
[2K[37mâÂÂâÂÂâÂÂâÂÂâÂÂâÂÂâÂÂâÂÂâÂÂâÂÂâÂÂâÂÂâÂÂâÂÂâÂÂâÂÂâÂÂâÂÂâÂÂâÂÂâÂÂâÂÂ[30;100m [37mâÂÂ[30;100m processed [37m100%[30;100m of [37m20[30;100m/[37m20[30;100m [37m2.01[30;100m/[37m0[30;100m[0m
[?25h
[2K[?25l
[11;1f
[2K[37mâÂÂâ âÂÂ[30;100m [37mð [30;100m processed [37m5%[30;100m of [37m1[30;100m/[37m20[30;100m [37m0.1[30;100m/[37m1.9[30;100m[0m
[11;1f
[2K[37mâÂÂâÂÂâ âÂÂ[30;100m [37mð [30;100m processed [37m10%[30;100m of [37m2[30;100m/[37m20[30;100m [37m0.2[30;100m/[37m1.8[30;100m[0m
[11;1f
[2K[37mâÂÂâÂÂâÂÂâ âÂÂ[30;100m [37mð [30;100m processed [37m15%[30;100m of [37m3[30;100m/[37m20[30;100m [37m0.3[30;100m/[37m1.7[30;100m[0m
[11;1f
[2K[37mâÂÂâÂÂâÂÂâÂÂâ âÂÂ[30;100m [37mð [30;100m processed [37m20%[30;100m of [37m4[30;100m/[37m20[30;100m [37m0.4[30;100m/[37m1.6[30;100m[0m
[11;1f
[2K[37mâÂÂâÂÂâÂÂâÂÂâÂÂâ âÂÂ[30;100m [37mð [30;100m processed [37m25%[30;100m of [37m5[30;100m/[37m20[30;100m [37m0.5[30;100m/[37m1.5[30;100m[0m
[11;1f
[2K[37mâÂÂâÂÂâÂÂâÂÂâÂÂâÂÂâ âÂÂ[30;100m [37mð [30;100m processed [37m30%[30;100m of [37m6[30;100m/[37m20[30;100m [37m0.6[30;100m/[37m1.4[30;100m[0m
[11;1f
[2K[37mâÂÂâÂÂâÂÂâÂÂâÂÂâÂÂâÂÂâ âÂÂ[30;100m [37mð [30;100m processed [37m35%[30;100m of [37m7[30;100m/[37m20[30;100m [37m0.7[30;100m/[37m1.3[30;100m[0m
[11;1f
[2K[37mâÂÂâÂÂâÂÂâÂÂâÂÂâÂÂâÂÂâÂÂâ âÂÂ[30;100m [37mð [30;100m processed [37m40%[30;100m of [37m8[30;100m/[37m20[30;100m [37m0.8[30;100m/[37m1.2[30;100m[0m
[11;1f
[2K[37mâÂÂâÂÂâÂÂâÂÂâÂÂâÂÂâÂÂâÂÂâÂÂâ âÂÂ[30;100m [37mð [30;100m processed [37m45%[30;100m of [37m9[30;100m/[37m20[30;100m [37m0.9[30;100m/[37m1.1[30;100m[0m
[11;1f
[2K[37mâÂÂâÂÂâÂÂâÂÂâÂÂâÂÂâÂÂâÂÂâÂÂâÂÂâ âÂÂ[30;100m [37mð [30;100m processed [37m50%[30;100m of [37m10[30;100m/[37m20[30;100m [37m1[30;100m/[37m1[30;100m[0m
[11;1f
[2K[37mâÂÂâÂÂâÂÂâÂÂâÂÂâÂÂâÂÂâÂÂâÂÂâÂÂâÂÂâ âÂÂ[30;100m [37mð [30;100m processed [37m55%[30;100m of [37m11[30;100m/[37m20[30;100m [37m1.1[30;100m/[37m0.9[30;100m[0m
[11;1f
[2K[37mâÂÂâÂÂâÂÂâÂÂâÂÂâÂÂâÂÂâÂÂâÂÂâÂÂâÂÂâÂÂâ âÂÂ[30;100m [37mð [30;100m processed [37m60%[30;100m of [37m12[30;100m/[37m20[30;100m [37m1.2[30;100m/[37m0.8[30;100m[0m
[11;1f
[2K[37mâÂÂâÂÂâÂÂâÂÂâÂÂâÂÂâÂÂâÂÂâÂÂâÂÂâÂÂâÂÂâÂÂâ âÂÂ[30;100m [37mð [30;100m processed [37m65%[30;100m of [37m13[30;100m/[37m20[30;100m [37m1.3[30;100m/[37m0.7[30;100m[0m
[11;1f
[2K[37mâÂÂâÂÂâÂÂâÂÂâÂÂâÂÂâÂÂâÂÂâÂÂâÂÂâÂÂâÂÂâÂÂâÂÂâ âÂÂ[30;100m [37mð [30;100m processed [37m70%[30;100m of [37m14[30;100m/[37m20[30;100m [37m1.4[30;100m/[37m0.6[30;100m[0m
[11;1f
[2K[37mâÂÂâÂÂâÂÂâÂÂâÂÂâÂÂâÂÂâÂÂâÂÂâÂÂâÂÂâÂÂâÂÂâÂÂâÂÂâ âÂÂ[30;100m [37mð [30;100m processed [37m75%[30;100m of [37m15[30;100m/[37m20[30;100m [37m1.5[30;100m/[37m0.5[30;100m[0m
[11;1f
[2K[37mâÂÂâÂÂâÂÂâÂÂâÂÂâÂÂâÂÂâÂÂâÂÂâÂÂâÂÂâÂÂâÂÂâÂÂâÂÂâÂÂâ âÂÂ[30;100m [37mð [30;100m processed [37m80%[30;100m of [37m16[30;100m/[37m20[30;100m [37m1.6[30;100m/[37m0.4[30;100m[0m
[11;1f
[2K[37mâÂÂâÂÂâÂÂâÂÂâÂÂâÂÂâÂÂâÂÂâÂÂâÂÂâÂÂâÂÂâÂÂâÂÂâÂÂâÂÂâÂÂâ âÂÂ[30;100m [37mð [30;100m processed [37m85%[30;100m of [37m17[30;100m/[37m20[30;100m [37m1.7[30;100m/[37m0.3[30;100m[0m
[11;1f
[2K[37mâÂÂâÂÂâÂÂâÂÂâÂÂâÂÂâÂÂâÂÂâÂÂâÂÂâÂÂâÂÂâÂÂâÂÂâÂÂâÂÂâÂÂâÂÂâ âÂÂ[30;100m [37mð [30;100m processed [37m90%[30;100m of [37m18[30;100m/[37m20[30;100m [37m1.81[30;100m/[37m0.2[30;100m[0m
[11;1f
[2K[37mâÂÂâÂÂâÂÂâÂÂâÂÂâÂÂâÂÂâÂÂâÂÂâÂÂâÂÂâÂÂâÂÂâÂÂâÂÂâÂÂâÂÂâÂÂâÂÂâ âÂÂ[30;100m [37mð [30;100m processed [37m95%[30;100m of [37m19[30;100m/[37m20[30;100m [37m1.91[30;100m/[37m0.1[30;100m[0m
[11;1f
[2K[37mâÂÂâÂÂâÂÂâÂÂâÂÂâÂÂâÂÂâÂÂâÂÂâÂÂâÂÂâÂÂâÂÂâÂÂâÂÂâÂÂâÂÂâÂÂâÂÂâÂÂâÂÂâÂÂ[30;100m [37mð [30;100m processed [37m100%[30;100m of [37m20[30;100m/[37m20[30;100m [37m2.01[30;100m/[37m0[30;100m[0m
[?25h
[2K[?25l
[13;1f
[2K[37mâÂÂâ âÂÂ[30;100m [37mð¡[30;100m processed [37m5%[30;100m of [37m1[30;100m/[37m20[30;100m [37m0.1[30;100m/[37m1.9[30;100m[0m
[13;1f
[2K[37mâÂÂâÂÂâ âÂÂ[30;100m [37mð¢[30;100m processed [37m10%[30;100m of [37m2[30;100m/[37m20[30;100m [37m0.2[30;100m/[37m1.8[30;100m[0m
[13;1f
[2K[37mâÂÂâÂÂâÂÂâ âÂÂ[30;100m [37mðµ[30;100m processed [37m15%[30;100m of [37m3[30;100m/[37m20[30;100m [37m0.3[30;100m/[37m1.7[30;100m[0m
[13;1f
[2K[37mâÂÂâÂÂâÂÂâÂÂâ âÂÂ[30;100m [37mð£[30;100m processed [37m20%[30;100m of [37m4[30;100m/[37m20[30;100m [37m0.4[30;100m/[37m1.6[30;100m[0m
[13;1f
[2K[37mâÂÂâÂÂâÂÂâÂÂâÂÂâ âÂÂ[30;100m [37mâ«ï¸Â[30;100m processed [37m25%[30;100m of [37m5[30;100m/[37m20[30;100m [37m0.5[30;100m/[37m1.5[30;100m[0m
[13;1f
[2K[37mâÂÂâÂÂâÂÂâÂÂâÂÂâÂÂâ âÂÂ[30;100m [37mâªï¸Â[30;100m processed [37m30%[30;100m of [37m6[30;100m/[37m20[30;100m [37m0.6[30;100m/[37m1.4[30;100m[0m
[13;1f
[2K[37mâÂÂâÂÂâÂÂâÂÂâÂÂâÂÂâÂÂâ âÂÂ[30;100m [37mð¤[30;100m processed [37m35%[30;100m of [37m7[30;100m/[37m20[30;100m [37m0.7[30;100m/[37m1.3[30;100m[0m
[13;1f
[2K[37mâÂÂâÂÂâÂÂâÂÂâÂÂâÂÂâÂÂâÂÂâ âÂÂ[30;100m [37mð´[30;100m processed [37m40%[30;100m of [37m8[30;100m/[37m20[30;100m [37m0.8[30;100m/[37m1.2[30;100m[0m
[13;1f
[2K[37mâÂÂâÂÂâÂÂâÂÂâÂÂâÂÂâÂÂâÂÂâÂÂâ âÂÂ[30;100m [37mð [30;100m processed [37m45%[30;100m of [37m9[30;100m/[37m20[30;100m [37m0.9[30;100m/[37m1.1[30;100m[0m
[13;1f
[2K[37mâÂÂâÂÂâÂÂâÂÂâÂÂâÂÂâÂÂâÂÂâÂÂâÂÂâ âÂÂ[30;100m [37mð¡[30;100m processed [37m50%[30;100m of [37m10[30;100m/[37m20[30;100m [37m1[30;100m/[37m1[30;100m[0m
[13;1f
[2K[37mâÂÂâÂÂâÂÂâÂÂâÂÂâÂÂâÂÂâÂÂâÂÂâÂÂâÂÂâ âÂÂ[30;100m [37mð¢[30;100m processed [37m55%[30;100m of [37m11[30;100m/[37m20[30;100m [37m1.1[30;100m/[37m0.9[30;100m[0m
[13;1f
[2K[37mâÂÂâÂÂâÂÂâÂÂâÂÂâÂÂâÂÂâÂÂâÂÂâÂÂâÂÂâÂÂâ âÂÂ[30;100m [37mðµ[30;100m processed [37m60%[30;100m of [37m12[30;100m/[37m20[30;100m [37m1.2[30;100m/[37m0.8[30;100m[0m
[13;1f
[2K[37mâÂÂâÂÂâÂÂâÂÂâÂÂâÂÂâÂÂâÂÂâÂÂâÂÂâÂÂâÂÂâÂÂâ âÂÂ[30;100m [37mð£[30;100m processed [37m65%[30;100m of [37m13[30;100m/[37m20[30;100m [37m1.3[30;100m/[37m0.7[30;100m[0m
[13;1f
[2K[37mâÂÂâÂÂâÂÂâÂÂâÂÂâÂÂâÂÂâÂÂâÂÂâÂÂâÂÂâÂÂâÂÂâÂÂâ âÂÂ[30;100m [37mâ«ï¸Â[30;100m processed [37m70%[30;100m of [37m14[30;100m/[37m20[30;100m [37m1.4[30;100m/[37m0.6[30;100m[0m
[13;1f
[2K[37mâÂÂâÂÂâÂÂâÂÂâÂÂâÂÂâÂÂâÂÂâÂÂâÂÂâÂÂâÂÂâÂÂâÂÂâÂÂâ âÂÂ[30;100m [37mâªï¸Â[30;100m processed [37m75%[30;100m of [37m15[30;100m/[37m20[30;100m [37m1.5[30;100m/[37m0.5[30;100m[0m
[13;1f
[2K[37mâÂÂâÂÂâÂÂâÂÂâÂÂâÂÂâÂÂâÂÂâÂÂâÂÂâÂÂâÂÂâÂÂâÂÂâÂÂâÂÂâ âÂÂ[30;100m [37mð¤[30;100m processed [37m80%[30;100m of [37m16[30;100m/[37m20[30;100m [37m1.61[30;100m/[37m0.4[30;100m[0m
[13;1f
[2K[37mâÂÂâÂÂâÂÂâÂÂâÂÂâÂÂâÂÂâÂÂâÂÂâÂÂâÂÂâÂÂâÂÂâÂÂâÂÂâÂÂâÂÂâ âÂÂ[30;100m [37mð´[30;100m processed [37m85%[30;100m of [37m17[30;100m/[37m20[30;100m [37m1.71[30;100m/[37m0.3[30;100m[0m
[13;1f
[2K[37mâÂÂâÂÂâÂÂâÂÂâÂÂâÂÂâÂÂâÂÂâÂÂâÂÂâÂÂâÂÂâÂÂâÂÂâÂÂâÂÂâÂÂâÂÂâ âÂÂ[30;100m [37mð [30;100m processed [37m90%[30;100m of [37m18[30;100m/[37m20[30;100m [37m1.81[30;100m/[37m0.2[30;100m[0m
[13;1f
[2K[37mâÂÂâÂÂâÂÂâÂÂâÂÂâÂÂâÂÂâÂÂâÂÂâÂÂâÂÂâÂÂâÂÂâÂÂâÂÂâÂÂâÂÂâÂÂâÂÂâ âÂÂ[30;100m [37mð¡[30;100m processed [37m95%[30;100m of [37m19[30;100m/[37m20[30;100m [37m1.91[30;100m/[37m0.1[30;100m[0m
[13;1f
[2K[37mâÂÂâÂÂâÂÂâÂÂâÂÂâÂÂâÂÂâÂÂâÂÂâÂÂâÂÂâÂÂâÂÂâÂÂâÂÂâÂÂâÂÂâÂÂâÂÂâÂÂâÂÂâÂÂ[30;100m [37mð¢[30;100m processed [37m100%[30;100m of [37m20[30;100m/[37m20[30;100m [37m2.01[30;100m/[37m0[30;100m[0m
[?25h
[2K[?25l
[15;1f
[2K[37mâÂÂâÂÂ
âÂÂ[30;100m [37mð¡ð£ð¤[30;100m processed [37m5%[30;100m of [37m1[30;100m/[37m20[30;100m [37m0.1[30;100m/[37m1.9[30;100m[0m
[15;1f
[2K[37mâÂÂâÂÂ
âÂÂ
âÂÂ[30;100m [37mð¢â«ï¸Âð´[30;100m processed [37m10%[30;100m of [37m2[30;100m/[37m20[30;100m [37m0.2[30;100m/[37m1.8[30;100m[0m
[15;1f
[2K[37mâÂÂâÂÂ
âÂÂ
âÂÂ
âÂÂ[30;100m [37mðµâªï¸Âð [30;100m processed [37m15%[30;100m of [37m3[30;100m/[37m20[30;100m [37m0.3[30;100m/[37m1.7[30;100m[0m
[15;1f
[2K[37mâÂÂâÂÂ
âÂÂ
âÂÂ
âÂÂ
âÂÂ[30;100m [37mð£ð¤ð¡[30;100m processed [37m20%[30;100m of [37m4[30;100m/[37m20[30;100m [37m0.4[30;100m/[37m1.6[30;100m[0m
[15;1f
[2K[37mâÂÂâÂÂ
âÂÂ
âÂÂ
âÂÂ
âÂÂ
âÂÂ[30;100m [37mâ«ï¸Âð´ð¢[30;100m processed [37m25%[30;100m of [37m5[30;100m/[37m20[30;100m [37m0.5[30;100m/[37m1.5[30;100m[0m
[15;1f
[2K[37mâÂÂâÂÂ
âÂÂ
âÂÂ
âÂÂ
âÂÂ
âÂÂ
âÂÂ[30;100m [37mâªï¸Âð ðµ[30;100m processed [37m30%[30;100m of [37m6[30;100m/[37m20[30;100m [37m0.6[30;100m/[37m1.4[30;100m[0m
[15;1f
[2K[37mâÂÂâÂÂ
âÂÂ
âÂÂ
âÂÂ
âÂÂ
âÂÂ
âÂÂ
âÂÂ[30;100m [37mð¤ð¡ð£[30;100m processed [37m35%[30;100m of [37m7[30;100m/[37m20[30;100m [37m0.7[30;100m/[37m1.3[30;100m[0m
[15;1f
[2K[37mâÂÂâÂÂ
âÂÂ
âÂÂ
âÂÂ
âÂÂ
âÂÂ
âÂÂ
âÂÂ
âÂÂ[30;100m [37mð´ð¢â«ï¸Â[30;100m processed [37m40%[30;100m of [37m8[30;100m/[37m20[30;100m [37m0.8[30;100m/[37m1.2[30;100m[0m
[15;1f
[2K[37mâÂÂâÂÂ
âÂÂ
âÂÂ
âÂÂ
âÂÂ
âÂÂ
âÂÂ
âÂÂ
âÂÂ
âÂÂ[30;100m [37mð ðµâªï¸Â[30;100m processed [37m45%[30;100m of [37m9[30;100m/[37m20[30;100m [37m0.9[30;100m/[37m1.1[30;100m[0m
[15;1f
[2K[37mâÂÂâÂÂ
âÂÂ
âÂÂ
âÂÂ
âÂÂ
âÂÂ
âÂÂ
âÂÂ
âÂÂ
âÂÂ
âÂÂ[30;100m [37mð¡ð£ð¤[30;100m processed [37m50%[30;100m of [37m10[30;100m/[37m20[30;100m [37m1[30;100m/[37m1[30;100m[0m
[15;1f
[2K[37mâÂÂâÂÂ
âÂÂ
âÂÂ
âÂÂ
âÂÂ
âÂÂ
âÂÂ
âÂÂ
âÂÂ
âÂÂ
âÂÂ
âÂÂ[30;100m [37mð¢â«ï¸Âð´[30;100m processed [37m55%[30;100m of [37m11[30;100m/[37m20[30;100m [37m1.1[30;100m/[37m0.9[30;100m[0m
[15;1f
[2K[37mâÂÂâÂÂ
âÂÂ
âÂÂ
âÂÂ
âÂÂ
âÂÂ
âÂÂ
âÂÂ
âÂÂ
âÂÂ
âÂÂ
âÂÂ
âÂÂ[30;100m [37mðµâªï¸Âð [30;100m processed [37m60%[30;100m of [37m12[30;100m/[37m20[30;100m [37m1.2[30;100m/[37m0.8[30;100m[0m
[15;1f
[2K[37mâÂÂâÂÂ
âÂÂ
âÂÂ
âÂÂ
âÂÂ
âÂÂ
âÂÂ
âÂÂ
âÂÂ
âÂÂ
âÂÂ
âÂÂ
âÂÂ
âÂÂ[30;100m [37mð£ð¤ð¡[30;100m processed [37m65%[30;100m of [37m13[30;100m/[37m20[30;100m [37m1.3[30;100m/[37m0.7[30;100m[0m
[15;1f
[2K[37mâÂÂâÂÂ
âÂÂ
âÂÂ
âÂÂ
âÂÂ
âÂÂ
âÂÂ
âÂÂ
âÂÂ
âÂÂ
âÂÂ
âÂÂ
âÂÂ
âÂÂ
âÂÂ[30;100m [37mâ«ï¸Âð´ð¢[30;100m processed [37m70%[30;100m of [37m14[30;100m/[37m20[30;100m [37m1.4[30;100m/[37m0.6[30;100m[0m
[15;1f
[2K[37mâÂÂâÂÂ
âÂÂ
âÂÂ
âÂÂ
âÂÂ
âÂÂ
âÂÂ
âÂÂ
âÂÂ
âÂÂ
âÂÂ
âÂÂ
âÂÂ
âÂÂ
âÂÂ
âÂÂ[30;100m [37mâªï¸Âð ðµ[30;100m processed [37m75%[30;100m of [37m15[30;100m/[37m20[30;100m [37m1.5[30;100m/[37m0.5[30;100m[0m
[15;1f
[2K[37mâÂÂâÂÂ
âÂÂ
âÂÂ
âÂÂ
âÂÂ
âÂÂ
âÂÂ
âÂÂ
âÂÂ
âÂÂ
âÂÂ
âÂÂ
âÂÂ
âÂÂ
âÂÂ
âÂÂ
âÂÂ[30;100m [37mð¤ð¡ð£[30;100m processed [37m80%[30;100m of [37m16[30;100m/[37m20[30;100m [37m1.61[30;100m/[37m0.4[30;100m[0m
[15;1f
[2K[37mâÂÂâÂÂ
âÂÂ
âÂÂ
âÂÂ
âÂÂ
âÂÂ
âÂÂ
âÂÂ
âÂÂ
âÂÂ
âÂÂ
âÂÂ
âÂÂ
âÂÂ
âÂÂ
âÂÂ
âÂÂ
âÂÂ[30;100m [37mð´ð¢â«ï¸Â[30;100m processed [37m85%[30;100m of [37m17[30;100m/[37m20[30;100m [37m1.71[30;100m/[37m0.3[30;100m[0m
[15;1f
[2K[37mâÂÂâÂÂ
âÂÂ
âÂÂ
âÂÂ
âÂÂ
âÂÂ
âÂÂ
âÂÂ
âÂÂ
âÂÂ
âÂÂ
âÂÂ
âÂÂ
âÂÂ
âÂÂ
âÂÂ
âÂÂ
âÂÂ
âÂÂ[30;100m [37mð ðµâªï¸Â[30;100m processed [37m90%[30;100m of [37m18[30;100m/[37m20[30;100m [37m1.81[30;100m/[37m0.2[30;100m[0m
[15;1f
[2K[37mâÂÂâÂÂ
âÂÂ
âÂÂ
âÂÂ
âÂÂ
âÂÂ
âÂÂ
âÂÂ
âÂÂ
âÂÂ
âÂÂ
âÂÂ
âÂÂ
âÂÂ
âÂÂ
âÂÂ
âÂÂ
âÂÂ
âÂÂ
âÂÂ[30;100m [37mð¡ð£ð¤[30;100m processed [37m95%[30;100m of [37m19[30;100m/[37m20[30;100m [37m1.91[30;100m/[37m0.1[30;100m[0m
[15;1f
[2K[37mâÂÂâÂÂ
âÂÂ
âÂÂ
âÂÂ
âÂÂ
âÂÂ
âÂÂ
âÂÂ
âÂÂ
âÂÂ
âÂÂ
âÂÂ
âÂÂ
âÂÂ
âÂÂ
âÂÂ
âÂÂ
âÂÂ
âÂÂ
âÂÂ
âÂÂ[30;100m [37mð¢â«ï¸Âð´[30;100m processed [37m100%[30;100m of [37m20[30;100m/[37m20[30;100m [37m2.01[30;100m/[37m0[30;100m[0m
[?25h
[2K[?25l
[17;1f
[2K[37mâÂÂâ âÂÂ[30;100m [37mð¨[30;100m processed [37m5%[30;100m of [37m1[30;100m/[37m20[30;100m [37m0.1[30;100m/[37m1.9[30;100m[0m
[17;1f
[2K[37mâÂÂâÂÂâ âÂÂ[30;100m [37mð©[30;100m processed [37m10%[30;100m of [37m2[30;100m/[37m20[30;100m [37m0.2[30;100m/[37m1.8[30;100m[0m
[17;1f
[2K[37mâÂÂâÂÂâÂÂâ âÂÂ[30;100m [37mð¦[30;100m processed [37m15%[30;100m of [37m3[30;100m/[37m20[30;100m [37m0.3[30;100m/[37m1.7[30;100m[0m
[17;1f
[2K[37mâÂÂâÂÂâÂÂâÂÂâ âÂÂ[30;100m [37mðª[30;100m processed [37m20%[30;100m of [37m4[30;100m/[37m20[30;100m [37m0.4[30;100m/[37m1.6[30;100m[0m
[17;1f
[2K[37mâÂÂâÂÂâÂÂâÂÂâÂÂâ âÂÂ[30;100m [37mâ¬Âï¸Â[30;100m processed [37m25%[30;100m of [37m5[30;100m/[37m20[30;100m [37m0.5[30;100m/[37m1.5[30;100m[0m
[17;1f
[2K[37mâÂÂâÂÂâÂÂâÂÂâÂÂâÂÂâ âÂÂ[30;100m [37mâ¬Âï¸Â[30;100m processed [37m30%[30;100m of [37m6[30;100m/[37m20[30;100m [37m0.6[30;100m/[37m1.4[30;100m[0m
[17;1f
[2K[37mâÂÂâÂÂâÂÂâÂÂâÂÂâÂÂâÂÂâ âÂÂ[30;100m [37mð«[30;100m processed [37m35%[30;100m of [37m7[30;100m/[37m20[30;100m [37m0.7[30;100m/[37m1.3[30;100m[0m
[17;1f
[2K[37mâÂÂâÂÂâÂÂâÂÂâÂÂâÂÂâÂÂâÂÂâ âÂÂ[30;100m [37mðÂÂÂ¥[30;100m processed [37m40%[30;100m of [37m8[30;100m/[37m20[30;100m [37m0.8[30;100m/[37m1.2[30;100m[0m
[17;1f
[2K[37mâÂÂâÂÂâÂÂâÂÂâÂÂâÂÂâÂÂâÂÂâÂÂâ âÂÂ[30;100m [37mð§[30;100m processed [37m45%[30;100m of [37m9[30;100m/[37m20[30;100m [37m0.9[30;100m/[37m1.1[30;100m[0m
[17;1f
[2K[37mâÂÂâÂÂâÂÂâÂÂâÂÂâÂÂâÂÂâÂÂâÂÂâÂÂâ âÂÂ[30;100m [37mð¨[30;100m processed [37m50%[30;100m of [37m10[30;100m/[37m20[30;100m [37m1[30;100m/[37m1[30;100m[0m
[17;1f
[2K[37mâÂÂâÂÂâÂÂâÂÂâÂÂâÂÂâÂÂâÂÂâÂÂâÂÂâÂÂâ âÂÂ[30;100m [37mð©[30;100m processed [37m55%[30;100m of [37m11[30;100m/[37m20[30;100m [37m1.1[30;100m/[37m0.9[30;100m[0m
[17;1f
[2K[37mâÂÂâÂÂâÂÂâÂÂâÂÂâÂÂâÂÂâÂÂâÂÂâÂÂâÂÂâÂÂâ âÂÂ[30;100m [37mð¦[30;100m processed [37m60%[30;100m of [37m12[30;100m/[37m20[30;100m [37m1.2[30;100m/[37m0.8[30;100m[0m
[17;1f
[2K[37mâÂÂâÂÂâÂÂâÂÂâÂÂâÂÂâÂÂâÂÂâÂÂâÂÂâÂÂâÂÂâÂÂâ âÂÂ[30;100m [37mðª[30;100m processed [37m65%[30;100m of [37m13[30;100m/[37m20[30;100m [37m1.3[30;100m/[37m0.7[30;100m[0m
[17;1f
[2K[37mâÂÂâÂÂâÂÂâÂÂâÂÂâÂÂâÂÂâÂÂâÂÂâÂÂâÂÂâÂÂâÂÂâÂÂâ âÂÂ[30;100m [37mâ¬Âï¸Â[30;100m processed [37m70%[30;100m of [37m14[30;100m/[37m20[30;100m [37m1.4[30;100m/[37m0.6[30;100m[0m
[17;1f
[2K[37mâÂÂâÂÂâÂÂâÂÂâÂÂâÂÂâÂÂâÂÂâÂÂâÂÂâÂÂâÂÂâÂÂâÂÂâÂÂâ âÂÂ[30;100m [37mâ¬Âï¸Â[30;100m processed [37m75%[30;100m of [37m15[30;100m/[37m20[30;100m [37m1.51[30;100m/[37m0.5[30;100m[0m
[17;1f
[2K[37mâÂÂâÂÂâÂÂâÂÂâÂÂâÂÂâÂÂâÂÂâÂÂâÂÂâÂÂâÂÂâÂÂâÂÂâÂÂâÂÂâ âÂÂ[30;100m [37mð«[30;100m processed [37m80%[30;100m of [37m16[30;100m/[37m20[30;100m [37m1.61[30;100m/[37m0.4[30;100m[0m
[17;1f
[2K[37mâÂÂâÂÂâÂÂâÂÂâÂÂâÂÂâÂÂâÂÂâÂÂâÂÂâÂÂâÂÂâÂÂâÂÂâÂÂâÂÂâÂÂâ âÂÂ[30;100m [37mðÂÂÂ¥[30;100m processed [37m85%[30;100m of [37m17[30;100m/[37m20[30;100m [37m1.71[30;100m/[37m0.3[30;100m[0m
[17;1f
[2K[37mâÂÂâÂÂâÂÂâÂÂâÂÂâÂÂâÂÂâÂÂâÂÂâÂÂâÂÂâÂÂâÂÂâÂÂâÂÂâÂÂâÂÂâÂÂâ âÂÂ[30;100m [37mð§[30;100m processed [37m90%[30;100m of [37m18[30;100m/[37m20[30;100m [37m1.81[30;100m/[37m0.2[30;100m[0m
[17;1f
[2K[37mâÂÂâÂÂâÂÂâÂÂâÂÂâÂÂâÂÂâÂÂâÂÂâÂÂâÂÂâÂÂâÂÂâÂÂâÂÂâÂÂâÂÂâÂÂâÂÂâ âÂÂ[30;100m [37mð¨[30;100m processed [37m95%[30;100m of [37m19[30;100m/[37m20[30;100m [37m1.91[30;100m/[37m0.1[30;100m[0m
[17;1f
[2K[37mâÂÂâÂÂâÂÂâÂÂâÂÂâÂÂâÂÂâÂÂâÂÂâÂÂâÂÂâÂÂâÂÂâÂÂâÂÂâÂÂâÂÂâÂÂâÂÂâÂÂâÂÂâÂÂ[30;100m [37mð©[30;100m processed [37m100%[30;100m of [37m20[30;100m/[37m20[30;100m [37m2.01[30;100m/[37m0[30;100m[0m
[?25h
[2K[?25l
[19;1f
[2K[37m[= ][30;100m [37mð¨ð¦â¬Âï¸Â[30;100m processed [37m5%[30;100m of [37m1[30;100m/[37m20[30;100m [37m0.1[30;100m/[37m1.9[30;100m[0m
[19;1f
[2K[37m[== ][30;100m [37mð©ðªð«[30;100m processed [37m10%[30;100m of [37m2[30;100m/[37m20[30;100m [37m0.2[30;100m/[37m1.8[30;100m[0m
[19;1f
[2K[37m[=== ][30;100m [37mð¦â¬Âï¸ÂðÂÂÂ¥[30;100m processed [37m15%[30;100m of [37m3[30;100m/[37m20[30;100m [37m0.3[30;100m/[37m1.7[30;100m[0m
[19;1f
[2K[37m[==== ][30;100m [37mðªâ¬Âï¸Âð§[30;100m processed [37m20%[30;100m of [37m4[30;100m/[37m20[30;100m [37m0.4[30;100m/[37m1.6[30;100m[0m
[19;1f
[2K[37m[===== ][30;100m [37mâ¬Âï¸Âð«ð¨[30;100m processed [37m25%[30;100m of [37m5[30;100m/[37m20[30;100m [37m0.5[30;100m/[37m1.5[30;100m[0m
[19;1f
[2K[37m[====== ][30;100m [37mâ¬Âï¸ÂðÂÂ¥ð©[30;100m processed [37m30%[30;100m of [37m6[30;100m/[37m20[30;100m [37m0.6[30;100m/[37m1.4[30;100m[0m
[19;1f
[2K[37m[======= ][30;100m [37mð«ð§ð¦[30;100m processed [37m35%[30;100m of [37m7[30;100m/[37m20[30;100m [37m0.7[30;100m/[37m1.3[30;100m[0m
[19;1f
[2K[37m[======== ][30;100m [37mðÂÂ¥ð¨ðª[30;100m processed [37m40%[30;100m of [37m8[30;100m/[37m20[30;100m [37m0.8[30;100m/[37m1.2[30;100m[0m
[19;1f
[2K[37m[========= ][30;100m [37mð§ð©â¬Âï¸Â[30;100m processed [37m45%[30;100m of [37m9[30;100m/[37m20[30;100m [37m0.9[30;100m/[37m1.1[30;100m[0m
[19;1f
[2K[37m[========== ][30;100m [37mð¨ð¦â¬Âï¸Â[30;100m processed [37m50%[30;100m of [37m10[30;100m/[37m20[30;100m [37m1[30;100m/[37m1[30;100m[0m
[19;1f
[2K[37m[=========== ][30;100m [37mð©ðªð«[30;100m processed [37m55%[30;100m of [37m11[30;100m/[37m20[30;100m [37m1.1[30;100m/[37m0.9[30;100m[0m
[19;1f
[2K[37m[============ ][30;100m [37mð¦â¬Âï¸ÂðÂÂÂ¥[30;100m processed [37m60%[30;100m of [37m12[30;100m/[37m20[30;100m [37m1.2[30;100m/[37m0.8[30;100m[0m
[19;1f
[2K[37m[============= ][30;100m [37mðªâ¬Âï¸Âð§[30;100m processed [37m65%[30;100m of [37m13[30;100m/[37m20[30;100m [37m1.3[30;100m/[37m0.7[30;100m[0m
[19;1f
[2K[37m[============== ][30;100m [37mâ¬Âï¸Âð«ð¨[30;100m processed [37m70%[30;100m of [37m14[30;100m/[37m20[30;100m [37m1.41[30;100m/[37m0.6[30;100m[0m
[19;1f
[2K[37m[=============== ][30;100m [37mâ¬Âï¸ÂðÂÂ¥ð©[30;100m processed [37m75%[30;100m of [37m15[30;100m/[37m20[30;100m [37m1.51[30;100m/[37m0.5[30;100m[0m
[19;1f
[2K[37m[================ ][30;100m [37mð«ð§ð¦[30;100m processed [37m80%[30;100m of [37m16[30;100m/[37m20[30;100m [37m1.61[30;100m/[37m0.4[30;100m[0m
[19;1f
[2K[37m[================= ][30;100m [37mðÂÂ¥ð¨ðª[30;100m processed [37m85%[30;100m of [37m17[30;100m/[37m20[30;100m [37m1.71[30;100m/[37m0.3[30;100m[0m
[19;1f
[2K[37m[================== ][30;100m [37mð§ð©â¬Âï¸Â[30;100m processed [37m90%[30;100m of [37m18[30;100m/[37m20[30;100m [37m1.81[30;100m/[37m0.2[30;100m[0m
[19;1f
[2K[37m[=================== ][30;100m [37mð¨ð¦â¬Âï¸Â[30;100m processed [37m95%[30;100m of [37m19[30;100m/[37m20[30;100m [37m1.91[30;100m/[37m0.1[30;100m[0m
[19;1f
[2K[37m[====================][30;100m [37mð©ðªð«[30;100m processed [37m100%[30;100m of [37m20[30;100m/[37m20[30;100m [37m2.01[30;100m/[37m0[30;100m[0m
[?25h
[2K[?25l
[21;1f
[2K[37m[# ][30;100m [37mâ ¹[30;100m processed [37m5%[30;100m of [37m1[30;100m/[37m20[30;100m [37m0.1[30;100m/[37m1.9[30;100m[0m
[21;1f
[2K[37m[## ][30;100m [37mâ ¸[30;100m processed [37m10%[30;100m of [37m2[30;100m/[37m20[30;100m [37m0.2[30;100m/[37m1.8[30;100m[0m
[21;1f
[2K[37m[### ][30;100m [37mâ ¼[30;100m processed [37m15%[30;100m of [37m3[30;100m/[37m20[30;100m [37m0.3[30;100m/[37m1.7[30;100m[0m
[21;1f
[2K[37m[#### ][30;100m [37mâ ´[30;100m processed [37m20%[30;100m of [37m4[30;100m/[37m20[30;100m [37m0.4[30;100m/[37m1.6[30;100m[0m
[21;1f
[2K[37m[##### ][30;100m [37mâ ¦[30;100m processed [37m25%[30;100m of [37m5[30;100m/[37m20[30;100m [37m0.5[30;100m/[37m1.5[30;100m[0m
[21;1f
[2K[37m[###### ][30;100m [37mâ §[30;100m processed [37m30%[30;100m of [37m6[30;100m/[37m20[30;100m [37m0.6[30;100m/[37m1.4[30;100m[0m
[21;1f
[2K[37m[####### ][30;100m [37mâ Â[30;100m processed [37m35%[30;100m of [37m7[30;100m/[37m20[30;100m [37m0.7[30;100m/[37m1.3[30;100m[0m
[21;1f
[2K[37m[######## ][30;100m [37mâ Â[30;100m processed [37m40%[30;100m of [37m8[30;100m/[37m20[30;100m [37m0.8[30;100m/[37m1.2[30;100m[0m
[21;1f
[2K[37m[######### ][30;100m [37mâ Â[30;100m processed [37m45%[30;100m of [37m9[30;100m/[37m20[30;100m [37m0.9[30;100m/[37m1.1[30;100m[0m
[21;1f
[2K[37m[########## ][30;100m [37mâ Â[30;100m processed [37m50%[30;100m of [37m10[30;100m/[37m20[30;100m [37m1[30;100m/[37m1[30;100m[0m
[21;1f
[2K[37m[########### ][30;100m [37mâ ¹[30;100m processed [37m55%[30;100m of [37m11[30;100m/[37m20[30;100m [37m1.1[30;100m/[37m0.9[30;100m[0m
[21;1f
[2K[37m[############ ][30;100m [37mâ ¸[30;100m processed [37m60%[30;100m of [37m12[30;100m/[37m20[30;100m [37m1.2[30;100m/[37m0.8[30;100m[0m
[21;1f
[2K[37m[############# ][30;100m [37mâ ¼[30;100m processed [37m65%[30;100m of [37m13[30;100m/[37m20[30;100m [37m1.31[30;100m/[37m0.71[30;100m[0m
[21;1f
[2K[37m[############## ][30;100m [37mâ ´[30;100m processed [37m70%[30;100m of [37m14[30;100m/[37m20[30;100m [37m1.41[30;100m/[37m0.6[30;100m[0m
[21;1f
[2K[37m[############### ][30;100m [37mâ ¦[30;100m processed [37m75%[30;100m of [37m15[30;100m/[37m20[30;100m [37m1.51[30;100m/[37m0.5[30;100m[0m
[21;1f
[2K[37m[################ ][30;100m [37mâ §[30;100m processed [37m80%[30;100m of [37m16[30;100m/[37m20[30;100m [37m1.61[30;100m/[37m0.4[30;100m[0m
[21;1f
[2K[37m[################# ][30;100m [37mâ Â[30;100m processed [37m85%[30;100m of [37m17[30;100m/[37m20[30;100m [37m1.71[30;100m/[37m0.3[30;100m[0m
[21;1f
[2K[37m[################## ][30;100m [37mâ Â[30;100m processed [37m90%[30;100m of [37m18[30;100m/[37m20[30;100m [37m1.81[30;100m/[37m0.2[30;100m[0m
[21;1f
[2K[37m[################### ][30;100m [37mâ Â[30;100m processed [37m95%[30;100m of [37m19[30;100m/[37m20[30;100m [37m1.91[30;100m/[37m0.1[30;100m[0m
[21;1f
[2K[37m[####################][30;100m [37mâ Â[30;100m processed [37m100%[30;100m of [37m20[30;100m/[37m20[30;100m [37m2.01[30;100m/[37m0[30;100m[0m
[?25h
[2K[?25l
[23;1f
[2K[37mâÂÂ⤠âÂÂ[30;100m [37mðÂÂÂ[30;100m processed [37m5%[30;100m of [37m1[30;100m/[37m20[30;100m [37m0.1[30;100m/[37m1.9[30;100m[0m
[23;1f
[2K[37mâÂÂâ¤â¤ âÂÂ[30;100m [37mðÂÂÂ[30;100m processed [37m10%[30;100m of [37m2[30;100m/[37m20[30;100m [37m0.2[30;100m/[37m1.8[30;100m[0m
[23;1f
[2K[37mâÂÂâ¤â¤â¤ âÂÂ[30;100m [37mðÂÂÂ[30;100m processed [37m15%[30;100m of [37m3[30;100m/[37m20[30;100m [37m0.3[30;100m/[37m1.7[30;100m[0m
[23;1f
[2K[37mâÂÂâ¤â¤â¤â¤ âÂÂ[30;100m [37mðÂÂÂ[30;100m processed [37m20%[30;100m of [37m4[30;100m/[37m20[30;100m [37m0.4[30;100m/[37m1.6[30;100m[0m
[23;1f
[2K[37mâÂÂâ¤â¤â¤â¤â¤ âÂÂ[30;100m [37mðÂÂÂ[30;100m processed [37m25%[30;100m of [37m5[30;100m/[37m20[30;100m [37m0.5[30;100m/[37m1.5[30;100m[0m
[23;1f
[2K[37mâÂÂâ¤â¤â¤â¤â¤â¤ âÂÂ[30;100m [37mðÂÂÂ[30;100m processed [37m30%[30;100m of [37m6[30;100m/[37m20[30;100m [37m0.6[30;100m/[37m1.4[30;100m[0m
[23;1f
[2K[37mâÂÂâ¤â¤â¤â¤â¤â¤â¤ âÂÂ[30;100m [37mðÂÂÂ[30;100m processed [37m35%[30;100m of [37m7[30;100m/[37m20[30;100m [37m0.7[30;100m/[37m1.3[30;100m[0m
[23;1f
[2K[37mâÂÂâ¤â¤â¤â¤â¤â¤â¤â¤ âÂÂ[30;100m [37mðÂÂÂ[30;100m processed [37m40%[30;100m of [37m8[30;100m/[37m20[30;100m [37m0.8[30;100m/[37m1.2[30;100m[0m
[23;1f
[2K[37mâÂÂâ¤â¤â¤â¤â¤â¤â¤â¤â¤ âÂÂ[30;100m [37mðÂÂÂ[30;100m processed [37m45%[30;100m of [37m9[30;100m/[37m20[30;100m [37m0.9[30;100m/[37m1.1[30;100m[0m
[23;1f
[2K[37mâÂÂâ¤â¤â¤â¤â¤â¤â¤â¤â¤â¤ âÂÂ[30;100m [37mðÂÂÂ[30;100m processed [37m50%[30;100m of [37m10[30;100m/[37m20[30;100m [37m1[30;100m/[37m1[30;100m[0m
[23;1f
[2K[37mâÂÂâ¤â¤â¤â¤â¤â¤â¤â¤â¤â¤â¤ âÂÂ[30;100m [37mðÂÂÂ[30;100m processed [37m55%[30;100m of [37m11[30;100m/[37m20[30;100m [37m1.1[30;100m/[37m0.9[30;100m[0m
[23;1f
[2K[37mâÂÂâ¤â¤â¤â¤â¤â¤â¤â¤â¤â¤â¤â¤ âÂÂ[30;100m [37mðÂÂÂ[30;100m processed [37m60%[30;100m of [37m12[30;100m/[37m20[30;100m [37m1.2[30;100m/[37m0.8[30;100m[0m
[23;1f
[2K[37mâÂÂâ¤â¤â¤â¤â¤â¤â¤â¤â¤â¤â¤â¤â¤ âÂÂ[30;100m [37mðÂÂÂ[30;100m processed [37m65%[30;100m of [37m13[30;100m/[37m20[30;100m [37m1.31[30;100m/[37m0.71[30;100m[0m
[23;1f
[2K[37mâÂÂâ¤â¤â¤â¤â¤â¤â¤â¤â¤â¤â¤â¤â¤â¤ âÂÂ[30;100m [37mðÂÂÂ[30;100m processed [37m70%[30;100m of [37m14[30;100m/[37m20[30;100m [37m1.41[30;100m/[37m0.6[30;100m[0m
[23;1f
[2K[37mâÂÂâ¤â¤â¤â¤â¤â¤â¤â¤â¤â¤â¤â¤â¤â¤â¤ âÂÂ[30;100m [37mðÂÂÂ[30;100m processed [37m75%[30;100m of [37m15[30;100m/[37m20[30;100m [37m1.51[30;100m/[37m0.5[30;100m[0m
[23;1f
[2K[37mâÂÂâ¤â¤â¤â¤â¤â¤â¤â¤â¤â¤â¤â¤â¤â¤â¤â¤ âÂÂ[30;100m [37mðÂÂÂ[30;100m processed [37m80%[30;100m of [37m16[30;100m/[37m20[30;100m [37m1.61[30;100m/[37m0.4[30;100m[0m
[23;1f
[2K[37mâÂÂâ¤â¤â¤â¤â¤â¤â¤â¤â¤â¤â¤â¤â¤â¤â¤â¤â¤ âÂÂ[30;100m [37mðÂÂÂ[30;100m processed [37m85%[30;100m of [37m17[30;100m/[37m20[30;100m [37m1.71[30;100m/[37m0.3[30;100m[0m
[23;1f
[2K[37mâÂÂâ¤â¤â¤â¤â¤â¤â¤â¤â¤â¤â¤â¤â¤â¤â¤â¤â¤â¤ âÂÂ[30;100m [37mðÂÂÂ[30;100m processed [37m90%[30;100m of [37m18[30;100m/[37m20[30;100m [37m1.81[30;100m/[37m0.2[30;100m[0m
[23;1f
[2K[37mâÂÂâ¤â¤â¤â¤â¤â¤â¤â¤â¤â¤â¤â¤â¤â¤â¤â¤â¤â¤â¤ âÂÂ[30;100m [37mðÂÂÂ[30;100m processed [37m95%[30;100m of [37m19[30;100m/[37m20[30;100m [37m1.91[30;100m/[37m0.1[30;100m[0m
[23;1f
[2K[37mâÂÂâ¤â¤â¤â¤â¤â¤â¤â¤â¤â¤â¤â¤â¤â¤â¤â¤â¤â¤â¤â¤âÂÂ[30;100m [37mðÂÂÂ[30;100m processed [37m100%[30;100m of [37m20[30;100m/[37m20[30;100m [37m2.01[30;100m/[37m0[30;100m[0m
[?25h
[2K[?25l
[25;1f
[2K[37mâÂÂâ¡ âÂÂ[30;100m [37mâÂÂâÂÂâÂÂâÂÂâÂÂâÂÂâÂÂâÂÂâÂÂâÂÂâÂÂâÂÂâÂÂâÂÂâÂÂâÂÂâÂÂâÂÂâÂÂâÂÂ[30;100m processed [37m5%[30;100m of [37m1[30;100m/[37m20[30;100m [37m0.1[30;100m/[37m1.9[30;100m[0m
[25;1f
[2K[37mâÂÂâ¡â¡ âÂÂ[30;100m [37mâÂÂâÂÂâÂÂâÂÂâÂÂâÂÂâÂÂâÂÂâÂÂâÂÂâÂÂâÂÂâÂÂâÂÂâÂÂâÂÂâÂÂâÂÂâÂÂâÂÂ[30;100m processed [37m10%[30;100m of [37m2[30;100m/[37m20[30;100m [37m0.2[30;100m/[37m1.8[30;100m[0m
[25;1f
[2K[37mâÂÂâ¡â¡â¡ âÂÂ[30;100m [37mâÂÂâÂÂâÂÂâÂÂâÂÂâÂÂâÂÂâÂÂâÂÂâÂÂâÂÂâÂÂâÂÂâÂÂâÂÂâÂÂâÂÂâÂÂâÂÂâÂÂ[30;100m processed [37m15%[30;100m of [37m3[30;100m/[37m20[30;100m [37m0.3[30;100m/[37m1.7[30;100m[0m
[25;1f
[2K[37mâÂÂâ¡â¡â¡â¡ âÂÂ[30;100m [37mâÂÂâÂÂâÂÂâÂÂâÂÂâÂÂâÂÂâÂÂâÂÂâÂÂâÂÂâÂÂâÂÂâÂÂâÂÂâÂÂâÂÂâÂÂâÂÂâÂÂ[30;100m processed [37m20%[30;100m of [37m4[30;100m/[37m20[30;100m [37m0.4[30;100m/[37m1.6[30;100m[0m
[25;1f
[2K[37mâÂÂâ¡â¡â¡â¡â¡ âÂÂ[30;100m [37mâÂÂâÂÂâÂÂâÂÂâÂÂâÂÂâÂÂâÂÂâÂÂâÂÂâÂÂâÂÂâÂÂâÂÂâÂÂâÂÂâÂÂâÂÂâÂÂâÂÂ[30;100m processed [37m25%[30;100m of [37m5[30;100m/[37m20[30;100m [37m0.5[30;100m/[37m1.5[30;100m[0m
[25;1f
[2K[37mâÂÂâ¡â¡â¡â¡â¡â¡ âÂÂ[30;100m [37mâÂÂâÂÂâÂÂâÂÂâÂÂâÂÂâÂÂâÂÂâÂÂâÂÂâÂÂâÂÂâÂÂâÂÂâÂÂâÂÂâÂÂâÂÂâÂÂâÂÂ[30;100m processed [37m30%[30;100m of [37m6[30;100m/[37m20[30;100m [37m0.6[30;100m/[37m1.4[30;100m[0m
[25;1f
[2K[37mâÂÂâ¡â¡â¡â¡â¡â¡â¡ âÂÂ[30;100m [37mâÂÂâÂÂâÂÂâÂÂâÂÂâÂÂâÂÂâÂÂâÂÂâÂÂâÂÂâÂÂâÂÂâÂÂâÂÂâÂÂâÂÂâÂÂâÂÂâÂÂ[30;100m processed [37m35%[30;100m of [37m7[30;100m/[37m20[30;100m [37m0.7[30;100m/[37m1.3[30;100m[0m
[25;1f
[2K[37mâÂÂâ¡â¡â¡â¡â¡â¡â¡â¡ âÂÂ[30;100m [37mâÂÂâÂÂâÂÂâÂÂâÂÂâÂÂâÂÂâÂÂâÂÂâÂÂâÂÂâÂÂâÂÂâÂÂâÂÂâÂÂâÂÂâÂÂâÂÂâÂÂ[30;100m processed [37m40%[30;100m of [37m8[30;100m/[37m20[30;100m [37m0.8[30;100m/[37m1.2[30;100m[0m
[25;1f
[2K[37mâÂÂâ¡â¡â¡â¡â¡â¡â¡â¡â¡ âÂÂ[30;100m [37mâÂÂâÂÂâÂÂâÂÂâÂÂâÂÂâÂÂâÂÂâÂÂâÂÂâÂÂâÂÂâÂÂâÂÂâÂÂâÂÂâÂÂâÂÂâÂÂâÂÂ[30;100m processed [37m45%[30;100m of [37m9[30;100m/[37m20[30;100m [37m0.9[30;100m/[37m1.1[30;100m[0m
[25;1f
[2K[37mâÂÂâ¡â¡â¡â¡â¡â¡â¡â¡â¡â¡ âÂÂ[30;100m [37mâÂÂâÂÂâÂÂâÂÂâÂÂâÂÂâÂÂâÂÂâÂÂâÂÂâÂÂâÂÂâÂÂâÂÂâÂÂâÂÂâÂÂâÂÂâÂÂâÂÂ[30;100m processed [37m50%[30;100m of [37m10[30;100m/[37m20[30;100m [37m1[30;100m/[37m1[30;100m[0m
[25;1f
[2K[37mâÂÂâ¡â¡â¡â¡â¡â¡â¡â¡â¡â¡â¡ âÂÂ[30;100m [37mâÂÂâÂÂâÂÂâÂÂâÂÂâÂÂâÂÂâÂÂâÂÂâÂÂâÂÂâÂÂâÂÂâÂÂâÂÂâÂÂâÂÂâÂÂâÂÂâÂÂ[30;100m processed [37m55%[30;100m of [37m11[30;100m/[37m20[30;100m [37m1.1[30;100m/[37m0.9[30;100m[0m
[25;1f
[2K[37mâÂÂâ¡â¡â¡â¡â¡â¡â¡â¡â¡â¡â¡â¡ âÂÂ[30;100m [37mâÂÂâÂÂâÂÂâÂÂâÂÂâÂÂâÂÂâÂÂâÂÂâÂÂâÂÂâÂÂâÂÂâÂÂâÂÂâÂÂâÂÂâÂÂâÂÂâÂÂ[30;100m processed [37m60%[30;100m of [37m12[30;100m/[37m20[30;100m [37m1.21[30;100m/[37m0.81[30;100m[0m
[25;1f
[2K[37mâÂÂâ¡â¡â¡â¡â¡â¡â¡â¡â¡â¡â¡â¡â¡ âÂÂ[30;100m [37mâÂÂâÂÂâÂÂâÂÂâÂÂâÂÂâÂÂâÂÂâÂÂâÂÂâÂÂâÂÂâÂÂâÂÂâÂÂâÂÂâÂÂâÂÂâÂÂâÂÂ[30;100m processed [37m65%[30;100m of [37m13[30;100m/[37m20[30;100m [37m1.31[30;100m/[37m0.71[30;100m[0m
[25;1f
[2K[37mâÂÂâ¡â¡â¡â¡â¡â¡â¡â¡â¡â¡â¡â¡â¡â¡ âÂÂ[30;100m [37mâÂÂâÂÂâÂÂâÂÂâÂÂâÂÂâÂÂâÂÂâÂÂâÂÂâÂÂâÂÂâÂÂâÂÂâÂÂâÂÂâÂÂâÂÂâÂÂâÂÂ[30;100m processed [37m70%[30;100m of [37m14[30;100m/[37m20[30;100m [37m1.41[30;100m/[37m0.6[30;100m[0m
[25;1f
[2K[37mâÂÂâ¡â¡â¡â¡â¡â¡â¡â¡â¡â¡â¡â¡â¡â¡â¡ âÂÂ[30;100m [37mâÂÂâÂÂâÂÂâÂÂâÂÂâÂÂâÂÂâÂÂâÂÂâÂÂâÂÂâÂÂâÂÂâÂÂâÂÂâÂÂâÂÂâÂÂâÂÂâÂÂ[30;100m processed [37m75%[30;100m of [37m15[30;100m/[37m20[30;100m [37m1.51[30;100m/[37m0.5[30;100m[0m
[25;1f
[2K[37mâÂÂâ¡â¡â¡â¡â¡â¡â¡â¡â¡â¡â¡â¡â¡â¡â¡â¡ âÂÂ[30;100m [37mâÂÂâÂÂâÂÂâÂÂâÂÂâÂÂâÂÂâÂÂâÂÂâÂÂâÂÂâÂÂâÂÂâÂÂâÂÂâÂÂâÂÂâÂÂâÂÂâÂÂ[30;100m processed [37m80%[30;100m of [37m16[30;100m/[37m20[30;100m [37m1.61[30;100m/[37m0.4[30;100m[0m
[25;1f
[2K[37mâÂÂâ¡â¡â¡â¡â¡â¡â¡â¡â¡â¡â¡â¡â¡â¡â¡â¡â¡ âÂÂ[30;100m [37mâÂÂâÂÂâÂÂâÂÂâÂÂâÂÂâÂÂâÂÂâÂÂâÂÂâÂÂâÂÂâÂÂâÂÂâÂÂâÂÂâÂÂâÂÂâÂÂâÂÂ[30;100m processed [37m85%[30;100m of [37m17[30;100m/[37m20[30;100m [37m1.71[30;100m/[37m0.3[30;100m[0m
[25;1f
[2K[37mâÂÂâ¡â¡â¡â¡â¡â¡â¡â¡â¡â¡â¡â¡â¡â¡â¡â¡â¡â¡ âÂÂ[30;100m [37mâÂÂâÂÂâÂÂâÂÂâÂÂâÂÂâÂÂâÂÂâÂÂâÂÂâÂÂâÂÂâÂÂâÂÂâÂÂâÂÂâÂÂâÂÂâÂÂâÂÂ[30;100m processed [37m90%[30;100m of [37m18[30;100m/[37m20[30;100m [37m1.81[30;100m/[37m0.2[30;100m[0m
[25;1f
[2K[37mâÂÂâ¡â¡â¡â¡â¡â¡â¡â¡â¡â¡â¡â¡â¡â¡â¡â¡â¡â¡â¡ âÂÂ[30;100m [37mâÂÂâÂÂâÂÂâÂÂâÂÂâÂÂâÂÂâÂÂâÂÂâÂÂâÂÂâÂÂâÂÂâÂÂâÂÂâÂÂâÂÂâÂÂâÂÂâÂÂ[30;100m processed [37m95%[30;100m of [37m19[30;100m/[37m20[30;100m [37m1.91[30;100m/[37m0.1[30;100m[0m
[25;1f
[2K[37mâÂÂâ¡â¡â¡â¡â¡â¡â¡â¡â¡â¡â¡â¡â¡â¡â¡â¡â¡â¡â¡â¡âÂÂ[30;100m [37mâÂÂâÂÂâÂÂâÂÂâÂÂâÂÂâÂÂâÂÂâÂÂâÂÂâÂÂâÂÂâÂÂâÂÂâÂÂâÂÂâÂÂâÂÂâÂÂâÂÂ[30;100m processed [37m100%[30;100m of [37m20[30;100m/[37m20[30;100m [37m2.01[30;100m/[37m0[30;100m[0m
[?25h
[2K[?25l
[27;1f
[2K[37mâÂÂ⪠âÂÂ[30;100m [37mð [30;100m processed [37m5%[30;100m of [37m1[30;100m/[37m20[30;100m [37m0.1[30;100m/[37m1.9[30;100m[0m
[27;1f
[2K[37mâÂÂâªâª âÂÂ[30;100m [37mð [30;100m processed [37m10%[30;100m of [37m2[30;100m/[37m20[30;100m [37m0.2[30;100m/[37m1.8[30;100m[0m
[27;1f
[2K[37mâÂÂâªâªâª âÂÂ[30;100m [37mð [30;100m processed [37m15%[30;100m of [37m3[30;100m/[37m20[30;100m [37m0.3[30;100m/[37m1.7[30;100m[0m
[27;1f
[2K[37mâÂÂâªâªâªâª âÂÂ[30;100m [37mð [30;100m processed [37m20%[30;100m of [37m4[30;100m/[37m20[30;100m [37m0.4[30;100m/[37m1.6[30;100m[0m
[27;1f
[2K[37mâÂÂâªâªâªâªâª âÂÂ[30;100m [37mð [30;100m processed [37m25%[30;100m of [37m5[30;100m/[37m20[30;100m [37m0.5[30;100m/[37m1.5[30;100m[0m
[27;1f
[2K[37mâÂÂâªâªâªâªâªâª âÂÂ[30;100m [37mð [30;100m processed [37m30%[30;100m of [37m6[30;100m/[37m20[30;100m [37m0.6[30;100m/[37m1.4[30;100m[0m
[27;1f
[2K[37mâÂÂâªâªâªâªâªâªâª âÂÂ[30;100m [37mð [30;100m processed [37m35%[30;100m of [37m7[30;100m/[37m20[30;100m [37m0.7[30;100m/[37m1.3[30;100m[0m
[27;1f
[2K[37mâÂÂâªâªâªâªâªâªâªâª âÂÂ[30;100m [37mð [30;100m processed [37m40%[30;100m of [37m8[30;100m/[37m20[30;100m [37m0.8[30;100m/[37m1.2[30;100m[0m
[27;1f
[2K[37mâÂÂâªâªâªâªâªâªâªâªâª âÂÂ[30;100m [37mð [30;100m processed [37m45%[30;100m of [37m9[30;100m/[37m20[30;100m [37m0.9[30;100m/[37m1.1[30;100m[0m
[27;1f
[2K[37mâÂÂâªâªâªâªâªâªâªâªâªâª âÂÂ[30;100m [37mð [30;100m processed [37m50%[30;100m of [37m10[30;100m/[37m20[30;100m [37m1[30;100m/[37m1[30;100m[0m
[27;1f
[2K[37mâÂÂâªâªâªâªâªâªâªâªâªâªâª âÂÂ[30;100m [37mð [30;100m processed [37m55%[30;100m of [37m11[30;100m/[37m20[30;100m [37m1.11[30;100m/[37m0.91[30;100m[0m
[27;1f
[2K[37mâÂÂâªâªâªâªâªâªâªâªâªâªâªâª âÂÂ[30;100m [37mð [30;100m processed [37m60%[30;100m of [37m12[30;100m/[37m20[30;100m [37m1.21[30;100m/[37m0.81[30;100m[0m
[27;1f
[2K[37mâÂÂâªâªâªâªâªâªâªâªâªâªâªâªâª âÂÂ[30;100m [37mð [30;100m processed [37m65%[30;100m of [37m13[30;100m/[37m20[30;100m [37m1.31[30;100m/[37m0.71[30;100m[0m
[27;1f
[2K[37mâÂÂâªâªâªâªâªâªâªâªâªâªâªâªâªâª âÂÂ[30;100m [37mð [30;100m processed [37m70%[30;100m of [37m14[30;100m/[37m20[30;100m [37m1.41[30;100m/[37m0.6[30;100m[0m
[27;1f
[2K[37mâÂÂâªâªâªâªâªâªâªâªâªâªâªâªâªâªâª âÂÂ[30;100m [37mð [30;100m processed [37m75%[30;100m of [37m15[30;100m/[37m20[30;100m [37m1.51[30;100m/[37m0.5[30;100m[0m
[27;1f
[2K[37mâÂÂâªâªâªâªâªâªâªâªâªâªâªâªâªâªâªâª âÂÂ[30;100m [37mð [30;100m processed [37m80%[30;100m of [37m16[30;100m/[37m20[30;100m [37m1.61[30;100m/[37m0.4[30;100m[0m
[27;1f
[2K[37mâÂÂâªâªâªâªâªâªâªâªâªâªâªâªâªâªâªâªâª âÂÂ[30;100m [37mð [30;100m processed [37m85%[30;100m of [37m17[30;100m/[37m20[30;100m [37m1.71[30;100m/[37m0.3[30;100m[0m
[27;1f
[2K[37mâÂÂâªâªâªâªâªâªâªâªâªâªâªâªâªâªâªâªâªâª âÂÂ[30;100m [37mð [30;100m processed [37m90%[30;100m of [37m18[30;100m/[37m20[30;100m [37m1.81[30;100m/[37m0.2[30;100m[0m
[27;1f
[2K[37mâÂÂâªâªâªâªâªâªâªâªâªâªâªâªâªâªâªâªâªâªâª âÂÂ[30;100m [37mð [30;100m processed [37m95%[30;100m of [37m19[30;100m/[37m20[30;100m [37m1.91[30;100m/[37m0.1[30;100m[0m
[27;1f
[2K[37mâÂÂâªâªâªâªâªâªâªâªâªâªâªâªâªâªâªâªâªâªâªâªâÂÂ[30;100m [37mð [30;100m processed [37m100%[30;100m of [37m20[30;100m/[37m20[30;100m [37m2.01[30;100m/[37m0[30;100m[0m
[?25h
[2K[?25l
[29;1f
[2K[37mâÂÂâ âÂÂ[30;100m [37mâ´[30;100m processed [37m5%[30;100m of [37m1[30;100m/[37m20[30;100m [37m0.1[30;100m/[37m1.9[30;100m[0m
[29;1f
[2K[37mâÂÂâ â âÂÂ[30;100m [37mâÂÂ[30;100m processed [37m10%[30;100m of [37m2[30;100m/[37m20[30;100m [37m0.2[30;100m/[37m1.8[30;100m[0m
[29;1f
[2K[37mâÂÂâ â â âÂÂ[30;100m [37mâÂÂ[30;100m processed [37m15%[30;100m of [37m3[30;100m/[37m20[30;100m [37m0.3[30;100m/[37m1.7[30;100m[0m
[29;1f
[2K[37mâÂÂâ â â â âÂÂ[30;100m [37mâÂÂ[30;100m processed [37m20%[30;100m of [37m4[30;100m/[37m20[30;100m [37m0.4[30;100m/[37m1.6[30;100m[0m
[29;1f
[2K[37mâÂÂâ â â â â âÂÂ[30;100m [37mâ¬[30;100m processed [37m25%[30;100m of [37m5[30;100m/[37m20[30;100m [37m0.5[30;100m/[37m1.5[30;100m[0m
[29;1f
[2K[37mâÂÂâ â â â â â âÂÂ[30;100m [37mâÂÂ[30;100m processed [37m30%[30;100m of [37m6[30;100m/[37m20[30;100m [37m0.6[30;100m/[37m1.4[30;100m[0m
[29;1f
[2K[37mâÂÂâ â â â â â â âÂÂ[30;100m [37mâ¤[30;100m processed [37m35%[30;100m of [37m7[30;100m/[37m20[30;100m [37m0.7[30;100m/[37m1.3[30;100m[0m
[29;1f
[2K[37mâÂÂâ â â â â â â â âÂÂ[30;100m [37mâÂÂ[30;100m processed [37m40%[30;100m of [37m8[30;100m/[37m20[30;100m [37m0.8[30;100m/[37m1.2[30;100m[0m
[29;1f
[2K[37mâÂÂâ â â â â â â â â âÂÂ[30;100m [37mâ´[30;100m processed [37m45%[30;100m of [37m9[30;100m/[37m20[30;100m [37m0.9[30;100m/[37m1.1[30;100m[0m
[29;1f
[2K[37mâÂÂâ â â â â â â â â â âÂÂ[30;100m [37mâÂÂ[30;100m processed [37m50%[30;100m of [37m10[30;100m/[37m20[30;100m [37m1[30;100m/[37m1[30;100m[0m
[29;1f
[2K[37mâÂÂâ â â â â â â â â â â âÂÂ[30;100m [37mâÂÂ[30;100m processed [37m55%[30;100m of [37m11[30;100m/[37m20[30;100m [37m1.11[30;100m/[37m0.91[30;100m[0m
[29;1f
[2K[37mâÂÂâ â â â â â â â â â â â âÂÂ[30;100m [37mâÂÂ[30;100m processed [37m60%[30;100m of [37m12[30;100m/[37m20[30;100m [37m1.21[30;100m/[37m0.81[30;100m[0m
[29;1f
[2K[37mâÂÂâ â â â â â â â â â â â â âÂÂ[30;100m [37mâ¬[30;100m processed [37m65%[30;100m of [37m13[30;100m/[37m20[30;100m [37m1.31[30;100m/[37m0.71[30;100m[0m
[29;1f
[2K[37mâÂÂâ â â â â â â â â â â â â â âÂÂ[30;100m [37mâÂÂ[30;100m processed [37m70%[30;100m of [37m14[30;100m/[37m20[30;100m [37m1.41[30;100m/[37m0.6[30;100m[0m
[29;1f
[2K[37mâÂÂâ â â â â â â â â â â â â â â âÂÂ[30;100m [37mâ¤[30;100m processed [37m75%[30;100m of [37m15[30;100m/[37m20[30;100m [37m1.51[30;100m/[37m0.5[30;100m[0m
[29;1f
[2K[37mâÂÂâ â â â â â â â â â â â â â â â âÂÂ[30;100m [37mâÂÂ[30;100m processed [37m80%[30;100m of [37m16[30;100m/[37m20[30;100m [37m1.61[30;100m/[37m0.4[30;100m[0m
[29;1f
[2K[37mâÂÂâ â â â â â â â â â â â â â â â â âÂÂ[30;100m [37mâ´[30;100m processed [37m85%[30;100m of [37m17[30;100m/[37m20[30;100m [37m1.71[30;100m/[37m0.3[30;100m[0m
[29;1f
[2K[37mâÂÂâ â â â â â â â â â â â â â â â â â âÂÂ[30;100m [37mâÂÂ[30;100m processed [37m90%[30;100m of [37m18[30;100m/[37m20[30;100m [37m1.81[30;100m/[37m0.2[30;100m[0m
[29;1f
[2K[37mâÂÂâ â â â â â â â â â â â â â â â â â â âÂÂ[30;100m [37mâÂÂ[30;100m processed [37m95%[30;100m of [37m19[30;100m/[37m20[30;100m [37m1.91[30;100m/[37m0.1[30;100m[0m
[29;1f
[2K[37mâÂÂâ â â â â â â â â â â â â â â â â â â â âÂÂ[30;100m [37mâÂÂ[30;100m processed [37m100%[30;100m of [37m20[30;100m/[37m20[30;100m [37m2.01[30;100m/[37m0[30;100m[0m
[?25h
[2K[?25l
[31;1f
[2K[37mâÂÂâ¶︠âÂÂ[30;100m [37mâ ⠠âÂÂ[30;100m processed [37m5%[30;100m of [37m1[30;100m/[37m20[30;100m [37m0.1[30;100m/[37m1.9[30;100m[0m
[31;1f
[2K[37mâÂÂâ¶ï¸Ââ¶︠âÂÂ[30;100m [37mâ ⠠âÂÂ[30;100m processed [37m10%[30;100m of [37m2[30;100m/[37m20[30;100m [37m0.2[30;100m/[37m1.8[30;100m[0m
[31;1f
[2K[37mâÂÂâ¶ï¸Ââ¶ï¸Ââ¶︠âÂÂ[30;100m [37mâ ⡠âÂÂ[30;100m processed [37m15%[30;100m of [37m3[30;100m/[37m20[30;100m [37m0.3[30;100m/[37m1.7[30;100m[0m
[31;1f
[2K[37mâÂÂâ¶ï¸Ââ¶ï¸Ââ¶ï¸Ââ¶︠âÂÂ[30;100m [37mâ ⠠âÂÂ[30;100m processed [37m20%[30;100m of [37m4[30;100m/[37m20[30;100m [37m0.4[30;100m/[37m1.6[30;100m[0m
[31;1f
[2K[37mâÂÂâ¶ï¸Ââ¶ï¸Ââ¶ï¸Ââ¶ï¸Ââ¶︠âÂÂ[30;100m [37mâ ⠠âÂÂ[30;100m processed [37m25%[30;100m of [37m5[30;100m/[37m20[30;100m [37m0.5[30;100m/[37m1.5[30;100m[0m
[31;1f
[2K[37mâÂÂâ¶ï¸Ââ¶ï¸Ââ¶ï¸Ââ¶ï¸Ââ¶ï¸Ââ¶︠âÂÂ[30;100m [37mâ ⠠âÂÂ[30;100m processed [37m30%[30;100m of [37m6[30;100m/[37m20[30;100m [37m0.6[30;100m/[37m1.4[30;100m[0m
[31;1f
[2K[37mâÂÂâ¶ï¸Ââ¶ï¸Ââ¶ï¸Ââ¶ï¸Ââ¶ï¸Ââ¶ï¸Ââ¶︠âÂÂ[30;100m [37mâ ⠠âÂÂ[30;100m processed [37m35%[30;100m of [37m7[30;100m/[37m20[30;100m [37m0.7[30;100m/[37m1.3[30;100m[0m
[31;1f
[2K[37mâÂÂâ¶ï¸Ââ¶ï¸Ââ¶ï¸Ââ¶ï¸Ââ¶ï¸Ââ¶ï¸Ââ¶ï¸Ââ¶︠âÂÂ[30;100m [37mâ ⠠âÂÂ[30;100m processed [37m40%[30;100m of [37m8[30;100m/[37m20[30;100m [37m0.8[30;100m/[37m1.2[30;100m[0m
[31;1f
[2K[37mâÂÂâ¶ï¸Ââ¶ï¸Ââ¶ï¸Ââ¶ï¸Ââ¶ï¸Ââ¶ï¸Ââ¶ï¸Ââ¶ï¸Ââ¶︠âÂÂ[30;100m [37mâ ⡠âÂÂ[30;100m processed [37m45%[30;100m of [37m9[30;100m/[37m20[30;100m [37m0.9[30;100m/[37m1.1[30;100m[0m
[31;1f
[2K[37mâÂÂâ¶ï¸Ââ¶ï¸Ââ¶ï¸Ââ¶ï¸Ââ¶ï¸Ââ¶ï¸Ââ¶ï¸Ââ¶ï¸Ââ¶ï¸Ââ¶︠âÂÂ[30;100m [37mâ ⠠âÂÂ[30;100m processed [37m50%[30;100m of [37m10[30;100m/[37m20[30;100m [37m1.01[30;100m/[37m1.01[30;100m[0m
[31;1f
[2K[37mâÂÂâ¶ï¸Ââ¶ï¸Ââ¶ï¸Ââ¶ï¸Ââ¶ï¸Ââ¶ï¸Ââ¶ï¸Ââ¶ï¸Ââ¶ï¸Ââ¶ï¸Ââ¶︠âÂÂ[30;100m [37mâ ⠠âÂÂ[30;100m processed [37m55%[30;100m of [37m11[30;100m/[37m20[30;100m [37m1.11[30;100m/[37m0.91[30;100m[0m
[31;1f
[2K[37mâÂÂâ¶ï¸Ââ¶ï¸Ââ¶ï¸Ââ¶ï¸Ââ¶ï¸Ââ¶ï¸Ââ¶ï¸Ââ¶ï¸Ââ¶ï¸Ââ¶ï¸Ââ¶ï¸Ââ¶︠âÂÂ[30;100m [37mâ ⠠âÂÂ[30;100m processed [37m60%[30;100m of [37m12[30;100m/[37m20[30;100m [37m1.21[30;100m/[37m0.81[30;100m[0m
[31;1f
[2K[37mâÂÂâ¶ï¸Ââ¶ï¸Ââ¶ï¸Ââ¶ï¸Ââ¶ï¸Ââ¶ï¸Ââ¶ï¸Ââ¶ï¸Ââ¶ï¸Ââ¶ï¸Ââ¶ï¸Ââ¶ï¸Ââ¶︠âÂÂ[30;100m [37mâ â ÂâÂÂ[30;100m processed [37m65%[30;100m of [37m13[30;100m/[37m20[30;100m [37m1.31[30;100m/[37m0.71[30;100m[0m
[31;1f
[2K[37mâÂÂâ¶ï¸Ââ¶ï¸Ââ¶ï¸Ââ¶ï¸Ââ¶ï¸Ââ¶ï¸Ââ¶ï¸Ââ¶ï¸Ââ¶ï¸Ââ¶ï¸Ââ¶ï¸Ââ¶ï¸Ââ¶ï¸Ââ¶︠âÂÂ[30;100m [37mâ ⠠âÂÂ[30;100m processed [37m70%[30;100m of [37m14[30;100m/[37m20[30;100m [37m1.41[30;100m/[37m0.6[30;100m[0m
[31;1f
[2K[37mâÂÂâ¶ï¸Ââ¶ï¸Ââ¶ï¸Ââ¶ï¸Ââ¶ï¸Ââ¶ï¸Ââ¶ï¸Ââ¶ï¸Ââ¶ï¸Ââ¶ï¸Ââ¶ï¸Ââ¶ï¸Ââ¶ï¸Ââ¶ï¸Ââ¶︠âÂÂ[30;100m [37mâ â¡ÂâÂÂ[30;100m processed [37m75%[30;100m of [37m15[30;100m/[37m20[30;100m [37m1.51[30;100m/[37m0.5[30;100m[0m
[31;1f
[2K[37mâÂÂâ¶ï¸Ââ¶ï¸Ââ¶ï¸Ââ¶ï¸Ââ¶ï¸Ââ¶ï¸Ââ¶ï¸Ââ¶ï¸Ââ¶ï¸Ââ¶ï¸Ââ¶ï¸Ââ¶ï¸Ââ¶ï¸Ââ¶ï¸Ââ¶ï¸Ââ¶︠âÂÂ[30;100m [37mâ ⠠âÂÂ[30;100m processed [37m80%[30;100m of [37m16[30;100m/[37m20[30;100m [37m1.61[30;100m/[37m0.4[30;100m[0m
[31;1f
[2K[37mâÂÂâ¶ï¸Ââ¶ï¸Ââ¶ï¸Ââ¶ï¸Ââ¶ï¸Ââ¶ï¸Ââ¶ï¸Ââ¶ï¸Ââ¶ï¸Ââ¶ï¸Ââ¶ï¸Ââ¶ï¸Ââ¶ï¸Ââ¶ï¸Ââ¶ï¸Ââ¶ï¸Ââ¶︠âÂÂ[30;100m [37mâ ⠠âÂÂ[30;100m processed [37m85%[30;100m of [37m17[30;100m/[37m20[30;100m [37m1.71[30;100m/[37m0.3[30;100m[0m
[31;1f
[2K[37mâÂÂâ¶ï¸Ââ¶ï¸Ââ¶ï¸Ââ¶ï¸Ââ¶ï¸Ââ¶ï¸Ââ¶ï¸Ââ¶ï¸Ââ¶ï¸Ââ¶ï¸Ââ¶ï¸Ââ¶ï¸Ââ¶ï¸Ââ¶ï¸Ââ¶ï¸Ââ¶ï¸Ââ¶ï¸Ââ¶︠âÂÂ[30;100m [37mâ ⠠âÂÂ[30;100m processed [37m90%[30;100m of [37m18[30;100m/[37m20[30;100m [37m1.81[30;100m/[37m0.2[30;100m[0m
[31;1f
[2K[37mâÂÂâ¶ï¸Ââ¶ï¸Ââ¶ï¸Ââ¶ï¸Ââ¶ï¸Ââ¶ï¸Ââ¶ï¸Ââ¶ï¸Ââ¶ï¸Ââ¶ï¸Ââ¶ï¸Ââ¶ï¸Ââ¶ï¸Ââ¶ï¸Ââ¶ï¸Ââ¶ï¸Ââ¶ï¸Ââ¶ï¸Ââ¶︠âÂÂ[30;100m [37mâ ⠠âÂÂ[30;100m processed [37m95%[30;100m of [37m19[30;100m/[37m20[30;100m [37m1.91[30;100m/[37m0.1[30;100m[0m
[31;1f
[2K[37mâÂÂâ¶ï¸Ââ¶ï¸Ââ¶ï¸Ââ¶ï¸Ââ¶ï¸Ââ¶ï¸Ââ¶ï¸Ââ¶ï¸Ââ¶ï¸Ââ¶ï¸Ââ¶ï¸Ââ¶ï¸Ââ¶ï¸Ââ¶ï¸Ââ¶ï¸Ââ¶ï¸Ââ¶ï¸Ââ¶ï¸Ââ¶ï¸Ââ¶ï¸ÂâÂÂ[30;100m [37mâ ⠠âÂÂ[30;100m processed [37m100%[30;100m of [37m20[30;100m/[37m20[30;100m [37m2.01[30;100m/[37m0[30;100m[0m
[?25h[2J[1;1ft/01-test.t ....... ok
[1;1f[2J[?25l
[?25l
[?25l
[?25l
[1;1f
[2K[37mâÂÂâ âÂÂ[37m [37mâÂÂâÂÂâÂÂ[37m processed [37m5%[37m of [37m1[37m/[37m20[37m [37m0.102[37m/[37m1.938[37m[0m
[2;1f
[2K[37mâ âÂÂ[37m [37mâÂÂâÂÂâÂÂ[37m processed [37m0%[37m of [37m0[37m/[37m10[37m [37m0.103[37m/[37m0[37m[0m
[3;1f
[2K[37mâ âÂÂ[37m [37mâÂÂâÂÂâÂÂ[37m processed [37m0%[37m of [37m0[37m/[37m50[37m [37m0.103[37m/[37m0[37m[0m
[4;1f
[2K[37mâ âÂÂ[37m [37mâÂÂâÂÂâÂÂ[37m processed [37m0%[37m of [37m0[37m/[37m30[37m [37m0.104[37m/[37m0[37m[0m
[1;1f
[2K[37mâÂÂâ âÂÂ[37m [37mâÂÂâÂÂ
âÂÂ[37m processed [37m5%[37m of [37m1[37m/[37m20[37m [37m0.206[37m/[37m3.914[37m[0m
[2;1f
[2K[37mâÂÂâÂÂâ âÂÂ[37m [37mâÂÂâÂÂ
âÂÂ[37m processed [37m10%[37m of [37m1[37m/[37m10[37m [37m0.208[37m/[37m1.872[37m[0m
[3;1f
[2K[37mâ âÂÂ[37m [37mâÂÂâÂÂ
âÂÂ[37m processed [37m0%[37m of [37m0[37m/[37m50[37m [37m0.208[37m/[37m0[37m[0m
[4;1f
[2K[37mâ âÂÂ[37m [37mâÂÂâÂÂ
âÂÂ[37m processed [37m0%[37m of [37m0[37m/[37m30[37m [37m0.208[37m/[37m0[37m[0m
[1;1f
[2K[37mâÂÂâ âÂÂ[37m [37mâÂÂâÂÂâÂÂ[37m processed [37m5%[37m of [37m1[37m/[37m20[37m [37m0.31[37m/[37m5.89[37m[0m
[2;1f
[2K[37mâÂÂâÂÂâ âÂÂ[37m [37mâÂÂâÂÂâÂÂ[37m processed [37m10%[37m of [37m1[37m/[37m10[37m [37m0.311[37m/[37m2.799[37m[0m
[3;1f
[2K[37mâ âÂÂ[37m [37mâÂÂâÂÂâÂÂ[37m processed [37m2%[37m of [37m1[37m/[37m50[37m [37m0.31[37m/[37m15.19[37m[0m
[4;1f
[2K[37mâ âÂÂ[37m [37mâÂÂâÂÂâÂÂ[37m processed [37m0%[37m of [37m0[37m/[37m30[37m [37m0.31[37m/[37m0[37m[0m
[1;1f
[2K[37mâÂÂâ âÂÂ[37m [37mâÂÂâÂÂâÂÂ[37m processed [37m5%[37m of [37m1[37m/[37m20[37m [37m0.412[37m/[37m7.828[37m[0m
[2;1f
[2K[37mâÂÂâÂÂâ âÂÂ[37m [37mâÂÂâÂÂâÂÂ[37m processed [37m10%[37m of [37m1[37m/[37m10[37m [37m0.412[37m/[37m3.708[37m[0m
[3;1f
[2K[37mâ âÂÂ[37m [37mâÂÂâÂÂâÂÂ[37m processed [37m2%[37m of [37m1[37m/[37m50[37m [37m0.411[37m/[37m20.139[37m[0m
[4;1f
[2K[37mâÂÂâ âÂÂ[37m [37mâÂÂâÂÂâÂÂ[37m processed [37m3%[37m of [37m1[37m/[37m30[37m [37m0.412[37m/[37m13.321[37m[0m
[1;1f
[2K[37mâÂÂâÂÂâ âÂÂ[37m [37mâÂÂâÂÂâÂÂ[37m processed [37m10%[37m of [37m2[37m/[37m20[37m [37m0.513[37m/[37m4.617[37m[0m
[2;1f
[2K[37mâÂÂâÂÂâ âÂÂ[37m [37mâÂÂâÂÂâÂÂ[37m processed [37m10%[37m of [37m1[37m/[37m10[37m [37m0.513[37m/[37m4.617[37m[0m
[3;1f
[2K[37mâ âÂÂ[37m [37mâÂÂâÂÂâÂÂ[37m processed [37m2%[37m of [37m1[37m/[37m50[37m [37m0.512[37m/[37m25.088[37m[0m
[4;1f
[2K[37mâÂÂâ âÂÂ[37m [37mâÂÂâÂÂâÂÂ[37m processed [37m3%[37m of [37m1[37m/[37m30[37m [37m0.512[37m/[37m16.555[37m[0m
[1;1f
[2K[37mâÂÂâÂÂâ âÂÂ[37m [37mâÂÂâÂÂâÂÂ
[37m processed [37m10%[37m of [37m2[37m/[37m20[37m [37m0.614[37m/[37m5.526[37m[0m
[2;1f
[2K[37mâÂÂâÂÂâÂÂâÂÂâ âÂÂ[37m [37mâÂÂâÂÂâÂÂ
[37m processed [37m20%[37m of [37m2[37m/[37m10[37m [37m0.614[37m/[37m2.456[37m[0m
[3;1f
[2K[37mâ âÂÂ[37m [37mâÂÂâÂÂâÂÂ
[37m processed [37m2%[37m of [37m1[37m/[37m50[37m [37m0.613[37m/[37m30.037[37m[0m
[4;1f
[2K[37mâÂÂâ âÂÂ[37m [37mâÂÂâÂÂâÂÂ
[37m processed [37m3%[37m of [37m1[37m/[37m30[37m [37m0.613[37m/[37m19.82[37m[0m
[1;1f
[2K[37mâÂÂâÂÂâ âÂÂ[37m [37mâÂÂâÂÂâÂÂ[37m processed [37m10%[37m of [37m2[37m/[37m20[37m [37m0.715[37m/[37m6.435[37m[0m
[2;1f
[2K[37mâÂÂâÂÂâÂÂâÂÂâ âÂÂ[37m [37mâÂÂâÂÂâÂÂ[37m processed [37m20%[37m of [37m2[37m/[37m10[37m [37m0.715[37m/[37m2.86[37m[0m
[3;1f
[2K[37mâÂÂâ âÂÂ[37m [37mâÂÂâÂÂâÂÂ[37m processed [37m4%[37m of [37m2[37m/[37m50[37m [37m0.714[37m/[37m17.136[37m[0m
[4;1f
[2K[37mâÂÂâ âÂÂ[37m [37mâÂÂâÂÂâÂÂ[37m processed [37m3%[37m of [37m1[37m/[37m30[37m [37m0.714[37m/[37m23.086[37m[0m
[1;1f
[2K[37mâÂÂâÂÂâ âÂÂ[37m [37mâÂÂ
âÂÂâÂÂ[37m processed [37m10%[37m of [37m2[37m/[37m20[37m [37m0.816[37m/[37m7.344[37m[0m
[2;1f
[2K[37mâÂÂâÂÂâÂÂâÂÂâ âÂÂ[37m [37mâÂÂ
âÂÂâÂÂ[37m processed [37m20%[37m of [37m2[37m/[37m10[37m [37m0.816[37m/[37m3.264[37m[0m
[3;1f
[2K[37mâÂÂâ âÂÂ[37m [37mâÂÂ
âÂÂâÂÂ[37m processed [37m4%[37m of [37m2[37m/[37m50[37m [37m0.815[37m/[37m19.56[37m[0m
[4;1f
[2K[37mâÂÂâ âÂÂ[37m [37mâÂÂ
âÂÂâÂÂ[37m processed [37m6%[37m of [37m2[37m/[37m30[37m [37m0.815[37m/[37m12.768[37m[0m
[1;1f
[2K[37mâÂÂâÂÂâÂÂâ âÂÂ[37m [37mâÂÂâÂÂâÂÂ[37m processed [37m15%[37m of [37m3[37m/[37m20[37m [37m0.917[37m/[37m5.196[37m[0m
[2;1f
[2K[37mâÂÂâÂÂâÂÂâÂÂâ âÂÂ[37m [37mâÂÂâÂÂâÂÂ[37m processed [37m20%[37m of [37m2[37m/[37m10[37m [37m0.917[37m/[37m3.668[37m[0m
[3;1f
[2K[37mâÂÂâ âÂÂ[37m [37mâÂÂâÂÂâÂÂ[37m processed [37m4%[37m of [37m2[37m/[37m50[37m [37m0.916[37m/[37m21.984[37m[0m
[4;1f
[2K[37mâÂÂâ âÂÂ[37m [37mâÂÂâÂÂâÂÂ[37m processed [37m6%[37m of [37m2[37m/[37m30[37m [37m0.916[37m/[37m14.351[37m[0m
[1;1f
[2K[37mâÂÂâÂÂâÂÂâ âÂÂ[37m [37mâÂÂâÂÂ
âÂÂ[37m processed [37m15%[37m of [37m3[37m/[37m20[37m [37m1.018[37m/[37m5.769[37m[0m
[2;1f
[2K[37mâÂÂâÂÂâÂÂâÂÂâÂÂâÂÂâ âÂÂ[37m [37mâÂÂâÂÂ
âÂÂ[37m processed [37m30%[37m of [37m3[37m/[37m10[37m [37m1.018[37m/[37m2.375[37m[0m
[3;1f
[2K[37mâÂÂâ âÂÂ[37m [37mâÂÂâÂÂ
âÂÂ[37m processed [37m4%[37m of [37m2[37m/[37m50[37m [37m1.017[37m/[37m24.408[37m[0m
[4;1f
[2K[37mâÂÂâ âÂÂ[37m [37mâÂÂâÂÂ
âÂÂ[37m processed [37m6%[37m of [37m2[37m/[37m30[37m [37m1.017[37m/[37m15.933[37m[0m
[1;1f
[2K[37mâÂÂâÂÂâÂÂâ âÂÂ[37m [37mâÂÂâÂÂâÂÂ[37m processed [37m15%[37m of [37m3[37m/[37m20[37m [37m1.119[37m/[37m6.341[37m[0m
[2;1f
[2K[37mâÂÂâÂÂâÂÂâÂÂâÂÂâÂÂâ âÂÂ[37m [37mâÂÂâÂÂâÂÂ[37m processed [37m30%[37m of [37m3[37m/[37m10[37m [37m1.119[37m/[37m2.611[37m[0m
[3;1f
[2K[37mâÂÂâ âÂÂ[37m [37mâÂÂâÂÂâÂÂ[37m processed [37m6%[37m of [37m3[37m/[37m50[37m [37m1.118[37m/[37m17.515[37m[0m
[4;1f
[2K[37mâÂÂâ âÂÂ[37m [37mâÂÂâÂÂâÂÂ[37m processed [37m6%[37m of [37m2[37m/[37m30[37m [37m1.118[37m/[37m17.515[37m[0m
[1;1f
[2K[37mâÂÂâÂÂâÂÂâ âÂÂ[37m [37mâÂÂâÂÂâÂÂ[37m processed [37m15%[37m of [37m3[37m/[37m20[37m [37m1.22[37m/[37m6.913[37m[0m
[2;1f
[2K[37mâÂÂâÂÂâÂÂâÂÂâÂÂâÂÂâ âÂÂ[37m [37mâÂÂâÂÂâÂÂ[37m processed [37m30%[37m of [37m3[37m/[37m10[37m [37m1.22[37m/[37m2.847[37m[0m
[3;1f
[2K[37mâÂÂâ âÂÂ[37m [37mâÂÂâÂÂâÂÂ[37m processed [37m6%[37m of [37m3[37m/[37m50[37m [37m1.219[37m/[37m19.098[37m[0m
[4;1f
[2K[37mâÂÂâÂÂâ âÂÂ[37m [37mâÂÂâÂÂâÂÂ[37m processed [37m10%[37m of [37m3[37m/[37m30[37m [37m1.219[37m/[37m10.971[37m[0m
[1;1f
[2K[37mâÂÂâÂÂâÂÂâÂÂâ âÂÂ[37m [37mâÂÂâÂÂâÂÂ[37m processed [37m20%[37m of [37m4[37m/[37m20[37m [37m1.321[37m/[37m5.284[37m[0m
[2;1f
[2K[37mâÂÂâÂÂâÂÂâÂÂâÂÂâÂÂâ âÂÂ[37m [37mâÂÂâÂÂâÂÂ[37m processed [37m30%[37m of [37m3[37m/[37m10[37m [37m1.321[37m/[37m3.082[37m[0m
[3;1f
[2K[37mâÂÂâ âÂÂ[37m [37mâÂÂâÂÂâÂÂ[37m processed [37m6%[37m of [37m3[37m/[37m50[37m [37m1.32[37m/[37m20.68[37m[0m
[4;1f
[2K[37mâÂÂâÂÂâ âÂÂ[37m [37mâÂÂâÂÂâÂÂ[37m processed [37m10%[37m of [37m3[37m/[37m30[37m [37m1.32[37m/[37m11.88[37m[0m
[1;1f
[2K[37mâÂÂâÂÂâÂÂâÂÂâ âÂÂ[37m [37mâÂÂâÂÂâÂÂ
[37m processed [37m20%[37m of [37m4[37m/[37m20[37m [37m1.422[37m/[37m5.688[37m[0m
[2;1f
[2K[37mâÂÂâÂÂâÂÂâÂÂâÂÂâÂÂâÂÂâÂÂâ âÂÂ[37m [37mâÂÂâÂÂâÂÂ
[37m processed [37m40%[37m of [37m4[37m/[37m10[37m [37m1.422[37m/[37m2.133[37m[0m
[3;1f
[2K[37mâÂÂâ âÂÂ[37m [37mâÂÂâÂÂâÂÂ
[37m processed [37m6%[37m of [37m3[37m/[37m50[37m [37m1.421[37m/[37m22.262[37m[0m
[4;1f
[2K[37mâÂÂâÂÂâ âÂÂ[37m [37mâÂÂâÂÂâÂÂ
[37m processed [37m10%[37m of [37m3[37m/[37m30[37m [37m1.421[37m/[37m12.789[37m[0m
[1;1f
[2K[37mâÂÂâÂÂâÂÂâÂÂâ âÂÂ[37m [37mâÂÂâÂÂâÂÂ[37m processed [37m20%[37m of [37m4[37m/[37m20[37m [37m1.523[37m/[37m6.092[37m[0m
[2;1f
[2K[37mâÂÂâÂÂâÂÂâÂÂâÂÂâÂÂâÂÂâÂÂâ âÂÂ[37m [37mâÂÂâÂÂâÂÂ[37m processed [37m40%[37m of [37m4[37m/[37m10[37m [37m1.523[37m/[37m2.284[37m[0m
[3;1f
[2K[37mâÂÂâÂÂâ âÂÂ[37m [37mâÂÂâÂÂâÂÂ[37m processed [37m8%[37m of [37m4[37m/[37m50[37m [37m1.522[37m/[37m17.503[37m[0m
[4;1f
[2K[37mâÂÂâÂÂâ âÂÂ[37m [37mâÂÂâÂÂâÂÂ[37m processed [37m10%[37m of [37m3[37m/[37m30[37m [37m1.522[37m/[37m13.698[37m[0m
[1;1f
[2K[37mâÂÂâÂÂâÂÂâÂÂâ âÂÂ[37m [37mâÂÂ
âÂÂâÂÂ[37m processed [37m20%[37m of [37m4[37m/[37m20[37m [37m1.624[37m/[37m6.496[37m[0m
[2;1f
[2K[37mâÂÂâÂÂâÂÂâÂÂâÂÂâÂÂâÂÂâÂÂâ âÂÂ[37m [37mâÂÂ
âÂÂâÂÂ[37m processed [37m40%[37m of [37m4[37m/[37m10[37m [37m1.624[37m/[37m2.436[37m[0m
[3;1f
[2K[37mâÂÂâÂÂâ âÂÂ[37m [37mâÂÂ
âÂÂâÂÂ[37m processed [37m8%[37m of [37m4[37m/[37m50[37m [37m1.623[37m/[37m18.665[37m[0m
[4;1f
[2K[37mâÂÂâÂÂâÂÂâ âÂÂ[37m [37mâÂÂ
âÂÂâÂÂ[37m processed [37m13%[37m of [37m4[37m/[37m30[37m [37m1.623[37m/[37m10.862[37m[0m
[1;1f
[2K[37mâÂÂâÂÂâÂÂâÂÂâÂÂâ âÂÂ[37m [37mâÂÂâÂÂâÂÂ[37m processed [37m25%[37m of [37m5[37m/[37m20[37m [37m1.724[37m/[37m5.172[37m[0m
[2;1f
[2K[37mâÂÂâÂÂâÂÂâÂÂâÂÂâÂÂâÂÂâÂÂâ âÂÂ[37m [37mâÂÂâÂÂâÂÂ[37m processed [37m40%[37m of [37m4[37m/[37m10[37m [37m1.725[37m/[37m2.587[37m[0m
[3;1f
[2K[37mâÂÂâÂÂâ âÂÂ[37m [37mâÂÂâÂÂâÂÂ[37m processed [37m8%[37m of [37m4[37m/[37m50[37m [37m1.724[37m/[37m19.826[37m[0m
[4;1f
[2K[37mâÂÂâÂÂâÂÂâ âÂÂ[37m [37mâÂÂâÂÂâÂÂ[37m processed [37m13%[37m of [37m4[37m/[37m30[37m [37m1.724[37m/[37m11.538[37m[0m
[1;1f
[2K[37mâÂÂâÂÂâÂÂâÂÂâÂÂâ âÂÂ[37m [37mâÂÂâÂÂ
âÂÂ[37m processed [37m25%[37m of [37m5[37m/[37m20[37m [37m1.825[37m/[37m5.475[37m[0m
[2;1f
[2K[37mâÂÂâÂÂâÂÂâÂÂâÂÂâÂÂâÂÂâÂÂâÂÂâÂÂâ âÂÂ[37m [37mâÂÂâÂÂ
âÂÂ[37m processed [37m50%[37m of [37m5[37m/[37m10[37m [37m1.826[37m/[37m1.826[37m[0m
[3;1f
[2K[37mâÂÂâÂÂâ âÂÂ[37m [37mâÂÂâÂÂ
âÂÂ[37m processed [37m8%[37m of [37m4[37m/[37m50[37m [37m1.825[37m/[37m20.988[37m[0m
[4;1f
[2K[37mâÂÂâÂÂâÂÂâ âÂÂ[37m [37mâÂÂâÂÂ
âÂÂ[37m processed [37m13%[37m of [37m4[37m/[37m30[37m [37m1.825[37m/[37m12.213[37m[0m
[1;1f
[2K[37mâÂÂâÂÂâÂÂâÂÂâÂÂâ âÂÂ[37m [37mâÂÂâÂÂâÂÂ[37m processed [37m25%[37m of [37m5[37m/[37m20[37m [37m1.926[37m/[37m5.778[37m[0m
[2;1f
[2K[37mâÂÂâÂÂâÂÂâÂÂâÂÂâÂÂâÂÂâÂÂâÂÂâÂÂâ âÂÂ[37m [37mâÂÂâÂÂâÂÂ[37m processed [37m50%[37m of [37m5[37m/[37m10[37m [37m1.927[37m/[37m1.927[37m[0m
[3;1f
[2K[37mâÂÂâÂÂâ âÂÂ[37m [37mâÂÂâÂÂâÂÂ[37m processed [37m10%[37m of [37m5[37m/[37m50[37m [37m1.926[37m/[37m17.334[37m[0m
[4;1f
[2K[37mâÂÂâÂÂâÂÂâ âÂÂ[37m [37mâÂÂâÂÂâÂÂ[37m processed [37m13%[37m of [37m4[37m/[37m30[37m [37m1.926[37m/[37m12.889[37m[0m
[1;1f
[2K[37mâÂÂâÂÂâÂÂâÂÂâÂÂâ âÂÂ[37m [37mâÂÂâÂÂâÂÂ[37m processed [37m25%[37m of [37m5[37m/[37m20[37m [37m2.027[37m/[37m6.081[37m[0m
[2;1f
[2K[37mâÂÂâÂÂâÂÂâÂÂâÂÂâÂÂâÂÂâÂÂâÂÂâÂÂâ âÂÂ[37m [37mâÂÂâÂÂâÂÂ[37m processed [37m50%[37m of [37m5[37m/[37m10[37m [37m2.028[37m/[37m2.028[37m[0m
[3;1f
[2K[37mâÂÂâÂÂâ âÂÂ[37m [37mâÂÂâÂÂâÂÂ[37m processed [37m10%[37m of [37m5[37m/[37m50[37m [37m2.027[37m/[37m18.243[37m[0m
[4;1f
[2K[37mâÂÂâÂÂâÂÂâ âÂÂ[37m [37mâÂÂâÂÂâÂÂ[37m processed [37m16%[37m of [37m5[37m/[37m30[37m [37m2.027[37m/[37m10.642[37m[0m
[1;1f
[2K[37mâÂÂâÂÂâÂÂâÂÂâÂÂâÂÂâ âÂÂ[37m [37mâÂÂâÂÂâÂÂ[37m processed [37m30%[37m of [37m6[37m/[37m20[37m [37m2.128[37m/[37m4.965[37m[0m
[2;1f
[2K[37mâÂÂâÂÂâÂÂâÂÂâÂÂâÂÂâÂÂâÂÂâÂÂâÂÂâ âÂÂ[37m [37mâÂÂâÂÂâÂÂ[37m processed [37m50%[37m of [37m5[37m/[37m10[37m [37m2.129[37m/[37m2.129[37m[0m
[3;1f
[2K[37mâÂÂâÂÂâ âÂÂ[37m [37mâÂÂâÂÂâÂÂ[37m processed [37m10%[37m of [37m5[37m/[37m50[37m [37m2.128[37m/[37m19.152[37m[0m
[4;1f
[2K[37mâÂÂâÂÂâÂÂâ âÂÂ[37m [37mâÂÂâÂÂâÂÂ[37m processed [37m16%[37m of [37m5[37m/[37m30[37m [37m2.128[37m/[37m11.172[37m[0m
[1;1f
[2K[37mâÂÂâÂÂâÂÂâÂÂâÂÂâÂÂâ âÂÂ[37m [37mâÂÂâÂÂâÂÂ
[37m processed [37m30%[37m of [37m6[37m/[37m20[37m [37m2.229[37m/[37m5.201[37m[0m
[2;1f
[2K[37mâÂÂâÂÂâÂÂâÂÂâÂÂâÂÂâÂÂâÂÂâÂÂâÂÂâÂÂâÂÂâ âÂÂ[37m [37mâÂÂâÂÂâÂÂ
[37m processed [37m60%[37m of [37m6[37m/[37m10[37m [37m2.23[37m/[37m1.487[37m[0m
[3;1f
[2K[37mâÂÂâÂÂâ âÂÂ[37m [37mâÂÂâÂÂâÂÂ
[37m processed [37m10%[37m of [37m5[37m/[37m50[37m [37m2.229[37m/[37m20.061[37m[0m
[4;1f
[2K[37mâÂÂâÂÂâÂÂâ âÂÂ[37m [37mâÂÂâÂÂâÂÂ
[37m processed [37m16%[37m of [37m5[37m/[37m30[37m [37m2.229[37m/[37m11.702[37m[0m
[1;1f
[2K[37mâÂÂâÂÂâÂÂâÂÂâÂÂâÂÂâ âÂÂ[37m [37mâÂÂâÂÂâÂÂ[37m processed [37m30%[37m of [37m6[37m/[37m20[37m [37m2.33[37m/[37m5.437[37m[0m
[2;1f
[2K[37mâÂÂâÂÂâÂÂâÂÂâÂÂâÂÂâÂÂâÂÂâÂÂâÂÂâÂÂâÂÂâ âÂÂ[37m [37mâÂÂâÂÂâÂÂ[37m processed [37m60%[37m of [37m6[37m/[37m10[37m [37m2.331[37m/[37m1.554[37m[0m
[3;1f
[2K[37mâÂÂâÂÂâ âÂÂ[37m [37mâÂÂâÂÂâÂÂ[37m processed [37m12%[37m of [37m6[37m/[37m50[37m [37m2.33[37m/[37m17.087[37m[0m
[4;1f
[2K[37mâÂÂâÂÂâÂÂâ âÂÂ[37m [37mâÂÂâÂÂâÂÂ[37m processed [37m16%[37m of [37m5[37m/[37m30[37m [37m2.33[37m/[37m12.232[37m[0m
[1;1f
[2K[37mâÂÂâÂÂâÂÂâÂÂâÂÂâÂÂâ âÂÂ[37m [37mâÂÂ
âÂÂâÂÂ[37m processed [37m30%[37m of [37m6[37m/[37m20[37m [37m2.431[37m/[37m5.672[37m[0m
[2;1f
[2K[37mâÂÂâÂÂâÂÂâÂÂâÂÂâÂÂâÂÂâÂÂâÂÂâÂÂâÂÂâÂÂâ âÂÂ[37m [37mâÂÂ
âÂÂâÂÂ[37m processed [37m60%[37m of [37m6[37m/[37m10[37m [37m2.432[37m/[37m1.621[37m[0m
[3;1f
[2K[37mâÂÂâÂÂâ âÂÂ[37m [37mâÂÂ
âÂÂâÂÂ[37m processed [37m12%[37m of [37m6[37m/[37m50[37m [37m2.431[37m/[37m17.827[37m[0m
[4;1f
[2K[37mâÂÂâÂÂâÂÂâÂÂâ âÂÂ[37m [37mâÂÂ
âÂÂâÂÂ[37m processed [37m20%[37m of [37m6[37m/[37m30[37m [37m2.431[37m/[37m9.724[37m[0m
[1;1f
[2K[37mâÂÂâÂÂâÂÂâÂÂâÂÂâÂÂâÂÂâ âÂÂ[37m [37mâÂÂâÂÂâÂÂ[37m processed [37m35%[37m of [37m7[37m/[37m20[37m [37m2.532[37m/[37m4.702[37m[0m
[2;1f
[2K[37mâÂÂâÂÂâÂÂâÂÂâÂÂâÂÂâÂÂâÂÂâÂÂâÂÂâÂÂâÂÂâ âÂÂ[37m [37mâÂÂâÂÂâÂÂ[37m processed [37m60%[37m of [37m6[37m/[37m10[37m [37m2.532[37m/[37m1.688[37m[0m
[3;1f
[2K[37mâÂÂâÂÂâ âÂÂ[37m [37mâÂÂâÂÂâÂÂ[37m processed [37m12%[37m of [37m6[37m/[37m50[37m [37m2.532[37m/[37m18.568[37m[0m
[4;1f
[2K[37mâÂÂâÂÂâÂÂâÂÂâ âÂÂ[37m [37mâÂÂâÂÂâÂÂ[37m processed [37m20%[37m of [37m6[37m/[37m30[37m [37m2.532[37m/[37m10.128[37m[0m
[1;1f
[2K[37mâÂÂâÂÂâÂÂâÂÂâÂÂâÂÂâÂÂâ âÂÂ[37m [37mâÂÂâÂÂ
âÂÂ[37m processed [37m35%[37m of [37m7[37m/[37m20[37m [37m2.633[37m/[37m4.89[37m[0m
[2;1f
[2K[37mâÂÂâÂÂâÂÂâÂÂâÂÂâÂÂâÂÂâÂÂâÂÂâÂÂâÂÂâÂÂâÂÂâÂÂâ âÂÂ[37m [37mâÂÂâÂÂ
âÂÂ[37m processed [37m70%[37m of [37m7[37m/[37m10[37m [37m2.633[37m/[37m1.128[37m[0m
[3;1f
[2K[37mâÂÂâÂÂâ âÂÂ[37m [37mâÂÂâÂÂ
âÂÂ[37m processed [37m12%[37m of [37m6[37m/[37m50[37m [37m2.633[37m/[37m19.309[37m[0m
[4;1f
[2K[37mâÂÂâÂÂâÂÂâÂÂâ âÂÂ[37m [37mâÂÂâÂÂ
âÂÂ[37m processed [37m20%[37m of [37m6[37m/[37m30[37m [37m2.633[37m/[37m10.532[37m[0m
[1;1f
[2K[37mâÂÂâÂÂâÂÂâÂÂâÂÂâÂÂâÂÂâ âÂÂ[37m [37mâÂÂâÂÂâÂÂ[37m processed [37m35%[37m of [37m7[37m/[37m20[37m [37m2.734[37m/[37m5.077[37m[0m
[2;1f
[2K[37mâÂÂâÂÂâÂÂâÂÂâÂÂâÂÂâÂÂâÂÂâÂÂâÂÂâÂÂâÂÂâÂÂâÂÂâ âÂÂ[37m [37mâÂÂâÂÂâÂÂ[37m processed [37m70%[37m of [37m7[37m/[37m10[37m [37m2.734[37m/[37m1.172[37m[0m
[3;1f
[2K[37mâÂÂâÂÂâÂÂâ âÂÂ[37m [37mâÂÂâÂÂâÂÂ[37m processed [37m14%[37m of [37m7[37m/[37m50[37m [37m2.734[37m/[37m16.795[37m[0m
[4;1f
[2K[37mâÂÂâÂÂâÂÂâÂÂâ âÂÂ[37m [37mâÂÂâÂÂâÂÂ[37m processed [37m20%[37m of [37m6[37m/[37m30[37m [37m2.734[37m/[37m10.936[37m[0m
[1;1f
[2K[37mâÂÂâÂÂâÂÂâÂÂâÂÂâÂÂâÂÂâ âÂÂ[37m [37mâÂÂâÂÂâÂÂ[37m processed [37m35%[37m of [37m7[37m/[37m20[37m [37m2.835[37m/[37m5.265[37m[0m
[2;1f
[2K[37mâÂÂâÂÂâÂÂâÂÂâÂÂâÂÂâÂÂâÂÂâÂÂâÂÂâÂÂâÂÂâÂÂâÂÂâ âÂÂ[37m [37mâÂÂâÂÂâÂÂ[37m processed [37m70%[37m of [37m7[37m/[37m10[37m [37m2.836[37m/[37m1.215[37m[0m
[3;1f
[2K[37mâÂÂâÂÂâÂÂâ âÂÂ[37m [37mâÂÂâÂÂâÂÂ[37m processed [37m14%[37m of [37m7[37m/[37m50[37m [37m2.835[37m/[37m17.415[37m[0m
[4;1f
[2K[37mâÂÂâÂÂâÂÂâÂÂâÂÂâ âÂÂ[37m [37mâÂÂâÂÂâÂÂ[37m processed [37m23%[37m of [37m7[37m/[37m30[37m [37m2.835[37m/[37m9.491[37m[0m
[1;1f
[2K[37mâÂÂâÂÂâÂÂâÂÂâÂÂâÂÂâÂÂâÂÂâ âÂÂ[37m [37mâÂÂâÂÂâÂÂ[37m processed [37m40%[37m of [37m8[37m/[37m20[37m [37m2.936[37m/[37m4.404[37m[0m
[2;1f
[2K[37mâÂÂâÂÂâÂÂâÂÂâÂÂâÂÂâÂÂâÂÂâÂÂâÂÂâÂÂâÂÂâÂÂâÂÂâ âÂÂ[37m [37mâÂÂâÂÂâÂÂ[37m processed [37m70%[37m of [37m7[37m/[37m10[37m [37m2.936[37m/[37m1.258[37m[0m
[3;1f
[2K[37mâÂÂâÂÂâÂÂâ âÂÂ[37m [37mâÂÂâÂÂâÂÂ[37m processed [37m14%[37m of [37m7[37m/[37m50[37m [37m2.936[37m/[37m18.035[37m[0m
[4;1f
[2K[37mâÂÂâÂÂâÂÂâÂÂâÂÂâ âÂÂ[37m [37mâÂÂâÂÂâÂÂ[37m processed [37m23%[37m of [37m7[37m/[37m30[37m [37m2.936[37m/[37m9.829[37m[0m
[1;1f
[2K[37mâÂÂâÂÂâÂÂâÂÂâÂÂâÂÂâÂÂâÂÂâ âÂÂ[37m [37mâÂÂâÂÂâÂÂ
[37m processed [37m40%[37m of [37m8[37m/[37m20[37m [37m3.037[37m/[37m4.555[37m[0m
[2;1f
[2K[37mâÂÂâÂÂâÂÂâÂÂâÂÂâÂÂâÂÂâÂÂâÂÂâÂÂâÂÂâÂÂâÂÂâÂÂâÂÂâÂÂâ âÂÂ[37m [37mâÂÂâÂÂâÂÂ
[37m processed [37m80%[37m of [37m8[37m/[37m10[37m [37m3.037[37m/[37m0.759[37m[0m
[3;1f
[2K[37mâÂÂâÂÂâÂÂâ âÂÂ[37m [37mâÂÂâÂÂâÂÂ
[37m processed [37m14%[37m of [37m7[37m/[37m50[37m [37m3.037[37m/[37m18.656[37m[0m
[4;1f
[2K[37mâÂÂâÂÂâÂÂâÂÂâÂÂâ âÂÂ[37m [37mâÂÂâÂÂâÂÂ
[37m processed [37m23%[37m of [37m7[37m/[37m30[37m [37m3.037[37m/[37m10.167[37m[0m
[1;1f
[2K[37mâÂÂâÂÂâÂÂâÂÂâÂÂâÂÂâÂÂâÂÂâ âÂÂ[37m [37mâÂÂâÂÂâÂÂ[37m processed [37m40%[37m of [37m8[37m/[37m20[37m [37m3.138[37m/[37m4.707[37m[0m
[2;1f
[2K[37mâÂÂâÂÂâÂÂâÂÂâÂÂâÂÂâÂÂâÂÂâÂÂâÂÂâÂÂâÂÂâÂÂâÂÂâÂÂâÂÂâ âÂÂ[37m [37mâÂÂâÂÂâÂÂ[37m processed [37m80%[37m of [37m8[37m/[37m10[37m [37m3.138[37m/[37m0.784[37m[0m
[3;1f
[2K[37mâÂÂâÂÂâÂÂâ âÂÂ[37m [37mâÂÂâÂÂâÂÂ[37m processed [37m16%[37m of [37m8[37m/[37m50[37m [37m3.138[37m/[37m16.474[37m[0m
[4;1f
[2K[37mâÂÂâÂÂâÂÂâÂÂâÂÂâ âÂÂ[37m [37mâÂÂâÂÂâÂÂ[37m processed [37m23%[37m of [37m7[37m/[37m30[37m [37m3.138[37m/[37m10.505[37m[0m
[1;1f
[2K[37mâÂÂâÂÂâÂÂâÂÂâÂÂâÂÂâÂÂâÂÂâ âÂÂ[37m [37mâÂÂ
âÂÂâÂÂ[37m processed [37m40%[37m of [37m8[37m/[37m20[37m [37m3.239[37m/[37m4.858[37m[0m
[2;1f
[2K[37mâÂÂâÂÂâÂÂâÂÂâÂÂâÂÂâÂÂâÂÂâÂÂâÂÂâÂÂâÂÂâÂÂâÂÂâÂÂâÂÂâ âÂÂ[37m [37mâÂÂ
âÂÂâÂÂ[37m processed [37m80%[37m of [37m8[37m/[37m10[37m [37m3.239[37m/[37m0.81[37m[0m
[3;1f
[2K[37mâÂÂâÂÂâÂÂâ âÂÂ[37m [37mâÂÂ
âÂÂâÂÂ[37m processed [37m16%[37m of [37m8[37m/[37m50[37m [37m3.239[37m/[37m17.005[37m[0m
[4;1f
[2K[37mâÂÂâÂÂâÂÂâÂÂâÂÂâ âÂÂ[37m [37mâÂÂ
âÂÂâÂÂ[37m processed [37m26%[37m of [37m8[37m/[37m30[37m [37m3.239[37m/[37m9.219[37m[0m
[1;1f
[2K[37mâÂÂâÂÂâÂÂâÂÂâÂÂâÂÂâÂÂâÂÂâÂÂâ âÂÂ[37m [37mâÂÂâÂÂâÂÂ[37m processed [37m45%[37m of [37m9[37m/[37m20[37m [37m3.34[37m/[37m4.082[37m[0m
[2;1f
[2K[37mâÂÂâÂÂâÂÂâÂÂâÂÂâÂÂâÂÂâÂÂâÂÂâÂÂâÂÂâÂÂâÂÂâÂÂâÂÂâÂÂâ âÂÂ[37m [37mâÂÂâÂÂâÂÂ[37m processed [37m80%[37m of [37m8[37m/[37m10[37m [37m3.34[37m/[37m0.835[37m[0m
[3;1f
[2K[37mâÂÂâÂÂâÂÂâ âÂÂ[37m [37mâÂÂâÂÂâÂÂ[37m processed [37m16%[37m of [37m8[37m/[37m50[37m [37m3.34[37m/[37m17.535[37m[0m
[4;1f
[2K[37mâÂÂâÂÂâÂÂâÂÂâÂÂâ âÂÂ[37m [37mâÂÂâÂÂâÂÂ[37m processed [37m26%[37m of [37m8[37m/[37m30[37m [37m3.34[37m/[37m9.506[37m[0m
[1;1f
[2K[37mâÂÂâÂÂâÂÂâÂÂâÂÂâÂÂâÂÂâÂÂâÂÂâ âÂÂ[37m [37mâÂÂâÂÂ
âÂÂ[37m processed [37m45%[37m of [37m9[37m/[37m20[37m [37m3.441[37m/[37m4.206[37m[0m
[2;1f
[2K[37mâÂÂâÂÂâÂÂâÂÂâÂÂâÂÂâÂÂâÂÂâÂÂâÂÂâÂÂâÂÂâÂÂâÂÂâÂÂâÂÂâÂÂâÂÂâ âÂÂ[37m [37mâÂÂâÂÂ
âÂÂ[37m processed [37m90%[37m of [37m9[37m/[37m10[37m [37m3.441[37m/[37m0.382[37m[0m
[3;1f
[2K[37mâÂÂâÂÂâÂÂâ âÂÂ[37m [37mâÂÂâÂÂ
âÂÂ[37m processed [37m16%[37m of [37m8[37m/[37m50[37m [37m3.44[37m/[37m18.06[37m[0m
[4;1f
[2K[37mâÂÂâÂÂâÂÂâÂÂâÂÂâ âÂÂ[37m [37mâÂÂâÂÂ
âÂÂ[37m processed [37m26%[37m of [37m8[37m/[37m30[37m [37m3.441[37m/[37m9.794[37m[0m
[1;1f
[2K[37mâÂÂâÂÂâÂÂâÂÂâÂÂâÂÂâÂÂâÂÂâÂÂâ âÂÂ[37m [37mâÂÂâÂÂâÂÂ[37m processed [37m45%[37m of [37m9[37m/[37m20[37m [37m3.542[37m/[37m4.329[37m[0m
[2;1f
[2K[37mâÂÂâÂÂâÂÂâÂÂâÂÂâÂÂâÂÂâÂÂâÂÂâÂÂâÂÂâÂÂâÂÂâÂÂâÂÂâÂÂâÂÂâÂÂâ âÂÂ[37m [37mâÂÂâÂÂâÂÂ[37m processed [37m90%[37m of [37m9[37m/[37m10[37m [37m3.542[37m/[37m0.394[37m[0m
[3;1f
[2K[37mâÂÂâÂÂâÂÂâÂÂâ âÂÂ[37m [37mâÂÂâÂÂâÂÂ[37m processed [37m18%[37m of [37m9[37m/[37m50[37m [37m3.541[37m/[37m16.131[37m[0m
[4;1f
[2K[37mâÂÂâÂÂâÂÂâÂÂâÂÂâ âÂÂ[37m [37mâÂÂâÂÂâÂÂ[37m processed [37m26%[37m of [37m8[37m/[37m30[37m [37m3.542[37m/[37m10.081[37m[0m
[1;1f
[2K[37mâÂÂâÂÂâÂÂâÂÂâÂÂâÂÂâÂÂâÂÂâÂÂâ âÂÂ[37m [37mâÂÂâÂÂâÂÂ[37m processed [37m45%[37m of [37m9[37m/[37m20[37m [37m3.643[37m/[37m4.453[37m[0m
[2;1f
[2K[37mâÂÂâÂÂâÂÂâÂÂâÂÂâÂÂâÂÂâÂÂâÂÂâÂÂâÂÂâÂÂâÂÂâÂÂâÂÂâÂÂâÂÂâÂÂâ âÂÂ[37m [37mâÂÂâÂÂâÂÂ[37m processed [37m90%[37m of [37m9[37m/[37m10[37m [37m3.643[37m/[37m0.405[37m[0m
[3;1f
[2K[37mâÂÂâÂÂâÂÂâÂÂâ âÂÂ[37m [37mâÂÂâÂÂâÂÂ[37m processed [37m18%[37m of [37m9[37m/[37m50[37m [37m3.642[37m/[37m16.591[37m[0m
[4;1f
[2K[37mâÂÂâÂÂâÂÂâÂÂâÂÂâÂÂâ âÂÂ[37m [37mâÂÂâÂÂâÂÂ[37m processed [37m30%[37m of [37m9[37m/[37m30[37m [37m3.643[37m/[37m8.5[37m[0m
[1;1f
[2K[37mâÂÂâÂÂâÂÂâÂÂâÂÂâÂÂâÂÂâÂÂâÂÂâÂÂâ âÂÂ[37m [37mâÂÂâÂÂâÂÂ[37m processed [37m50%[37m of [37m10[37m/[37m20[37m [37m3.744[37m/[37m3.744[37m[0m
[2;1f
[2K[37mâÂÂâÂÂâÂÂâÂÂâÂÂâÂÂâÂÂâÂÂâÂÂâÂÂâÂÂâÂÂâÂÂâÂÂâÂÂâÂÂâÂÂâÂÂâ âÂÂ[37m [37mâÂÂâÂÂâÂÂ[37m processed [37m90%[37m of [37m9[37m/[37m10[37m [37m3.744[37m/[37m0.416[37m[0m
[3;1f
[2K[37mâÂÂâÂÂâÂÂâÂÂâ âÂÂ[37m [37mâÂÂâÂÂâÂÂ[37m processed [37m18%[37m of [37m9[37m/[37m50[37m [37m3.743[37m/[37m17.051[37m[0m
[4;1f
[2K[37mâÂÂâÂÂâÂÂâÂÂâÂÂâÂÂâ âÂÂ[37m [37mâÂÂâÂÂâÂÂ[37m processed [37m30%[37m of [37m9[37m/[37m30[37m [37m3.744[37m/[37m8.736[37m[0m
[1;1f
[2K[37mâÂÂâÂÂâÂÂâÂÂâÂÂâÂÂâÂÂâÂÂâÂÂâÂÂâ âÂÂ[37m [37mâÂÂâÂÂâÂÂ
[37m processed [37m50%[37m of [37m10[37m/[37m20[37m [37m3.845[37m/[37m3.845[37m[0m
[2;1f
[2K[37mâÂÂâÂÂâÂÂâÂÂâÂÂâÂÂâÂÂâÂÂâÂÂâÂÂâÂÂâÂÂâÂÂâÂÂâÂÂâÂÂâÂÂâÂÂâÂÂâÂÂâÂÂâÂÂ[37m [37mâÂÂâÂÂâÂÂ
[37m processed [37m100%[37m of [37m10[37m/[37m10[37m [37m3.845[37m/[37m0[37m[0m
[3;1f
[2K[37mâÂÂâÂÂâÂÂâÂÂâ âÂÂ[37m [37mâÂÂâÂÂâÂÂ
[37m processed [37m18%[37m of [37m9[37m/[37m50[37m [37m3.844[37m/[37m17.512[37m[0m
[4;1f
[2K[37mâÂÂâÂÂâÂÂâÂÂâÂÂâÂÂâ âÂÂ[37m [37mâÂÂâÂÂâÂÂ
[37m processed [37m30%[37m of [37m9[37m/[37m30[37m [37m3.845[37m/[37m8.972[37m[0m
[1;1f
[2K[37mâÂÂâÂÂâÂÂâÂÂâÂÂâÂÂâÂÂâÂÂâÂÂâÂÂâ âÂÂ[37m [37mâÂÂâÂÂâÂÂ[37m processed [37m50%[37m of [37m10[37m/[37m20[37m [37m3.946[37m/[37m3.946[37m[0m
[2;1f
[2K[37mâÂÂâÂÂâÂÂâÂÂâÂÂâÂÂâÂÂâÂÂâÂÂâÂÂâÂÂâÂÂâÂÂâÂÂâÂÂâÂÂâÂÂâÂÂâÂÂâÂÂâÂÂâÂÂ[37m [37mâÂÂâÂÂâÂÂ[37m processed [37m100%[37m of [37m10[37m/[37m10[37m [37m3.946[37m/[37m0[37m[0m
[3;1f
[2K[37mâÂÂâÂÂâÂÂâÂÂâ âÂÂ[37m [37mâÂÂâÂÂâÂÂ[37m processed [37m20%[37m of [37m10[37m/[37m50[37m [37m3.945[37m/[37m15.78[37m[0m
[4;1f
[2K[37mâÂÂâÂÂâÂÂâÂÂâÂÂâÂÂâ âÂÂ[37m [37mâÂÂâÂÂâÂÂ[37m processed [37m30%[37m of [37m9[37m/[37m30[37m [37m3.946[37m/[37m9.207[37m[0m
[1;1f
[2K[37mâÂÂâÂÂâÂÂâÂÂâÂÂâÂÂâÂÂâÂÂâÂÂâÂÂâ âÂÂ[37m [37mâÂÂ
âÂÂâÂÂ[37m processed [37m50%[37m of [37m10[37m/[37m20[37m [37m4.047[37m/[37m4.047[37m[0m
[2;1f
[2K[37mâÂÂâÂÂâÂÂâÂÂâÂÂâÂÂâÂÂâÂÂâÂÂâÂÂâÂÂâÂÂâÂÂâÂÂâÂÂâÂÂâÂÂâÂÂâÂÂâÂÂâÂÂâÂÂ[37m [37mâÂÂ
âÂÂâÂÂ[37m processed [37m100%[37m of [37m10[37m/[37m10[37m [37m4.047[37m/[37m0[37m[0m
[3;1f
[2K[37mâÂÂâÂÂâÂÂâÂÂâ âÂÂ[37m [37mâÂÂ
âÂÂâÂÂ[37m processed [37m20%[37m of [37m10[37m/[37m50[37m [37m4.046[37m/[37m16.184[37m[0m
[4;1f
[2K[37mâÂÂâÂÂâÂÂâÂÂâÂÂâÂÂâÂÂâ âÂÂ[37m [37mâÂÂ
âÂÂâÂÂ[37m processed [37m33%[37m of [37m10[37m/[37m30[37m [37m4.046[37m/[37m8.215[37m[0m
[1;1f
[2K[37mâÂÂâÂÂâÂÂâÂÂâÂÂâÂÂâÂÂâÂÂâÂÂâÂÂâÂÂâ âÂÂ[37m [37mâÂÂâÂÂâÂÂ[37m processed [37m55%[37m of [37m11[37m/[37m20[37m [37m4.148[37m/[37m3.394[37m[0m
[2;1f
[2K[37mâÂÂâÂÂâÂÂâÂÂâÂÂâÂÂâÂÂâÂÂâÂÂâÂÂâÂÂâÂÂâÂÂâÂÂâÂÂâÂÂâÂÂâÂÂâÂÂâÂÂâÂÂâÂÂ[37m [37mâÂÂâÂÂâÂÂ[37m processed [37m100%[37m of [37m10[37m/[37m10[37m [37m4.148[37m/[37m0[37m[0m
[3;1f
[2K[37mâÂÂâÂÂâÂÂâÂÂâ âÂÂ[37m [37mâÂÂâÂÂâÂÂ[37m processed [37m20%[37m of [37m10[37m/[37m50[37m [37m4.147[37m/[37m16.588[37m[0m
[4;1f
[2K[37mâÂÂâÂÂâÂÂâÂÂâÂÂâÂÂâÂÂâ âÂÂ[37m [37mâÂÂâÂÂâÂÂ[37m processed [37m33%[37m of [37m10[37m/[37m30[37m [37m4.147[37m/[37m8.42[37m[0m
[1;1f
[2K[37mâÂÂâÂÂâÂÂâÂÂâÂÂâÂÂâÂÂâÂÂâÂÂâÂÂâÂÂâ âÂÂ[37m [37mâÂÂâÂÂ
âÂÂ[37m processed [37m55%[37m of [37m11[37m/[37m20[37m [37m4.249[37m/[37m3.476[37m[0m
[3;1f
[2K[37mâÂÂâÂÂâÂÂâÂÂâ âÂÂ[37m [37mâÂÂâÂÂ
âÂÂ[37m processed [37m22%[37m of [37m11[37m/[37m50[37m [37m4.248[37m/[37m15.061[37m[0m
[4;1f
[2K[37mâÂÂâÂÂâÂÂâÂÂâÂÂâÂÂâÂÂâ âÂÂ[37m [37mâÂÂâÂÂ
âÂÂ[37m processed [37m33%[37m of [37m10[37m/[37m30[37m [37m4.248[37m/[37m8.625[37m[0m
[1;1f
[2K[37mâÂÂâÂÂâÂÂâÂÂâÂÂâÂÂâÂÂâÂÂâÂÂâÂÂâÂÂâ âÂÂ[37m [37mâÂÂâÂÂâÂÂ[37m processed [37m55%[37m of [37m11[37m/[37m20[37m [37m4.35[37m/[37m3.559[37m[0m
[3;1f
[2K[37mâÂÂâÂÂâÂÂâÂÂâ âÂÂ[37m [37mâÂÂâÂÂâÂÂ[37m processed [37m22%[37m of [37m11[37m/[37m50[37m [37m4.349[37m/[37m15.419[37m[0m
[4;1f
[2K[37mâÂÂâÂÂâÂÂâÂÂâÂÂâÂÂâÂÂâ âÂÂ[37m [37mâÂÂâÂÂâÂÂ[37m processed [37m36%[37m of [37m11[37m/[37m30[37m [37m4.349[37m/[37m7.732[37m[0m
[1;1f
[2K[37mâÂÂâÂÂâÂÂâÂÂâÂÂâÂÂâÂÂâÂÂâÂÂâÂÂâÂÂâÂÂâ âÂÂ[37m [37mâÂÂâÂÂâÂÂ[37m processed [37m60%[37m of [37m12[37m/[37m20[37m [37m4.45[37m/[37m2.967[37m[0m
[3;1f
[2K[37mâÂÂâÂÂâÂÂâÂÂâ âÂÂ[37m [37mâÂÂâÂÂâÂÂ[37m processed [37m22%[37m of [37m11[37m/[37m50[37m [37m4.45[37m/[37m15.777[37m[0m
[4;1f
[2K[37mâÂÂâÂÂâÂÂâÂÂâÂÂâÂÂâÂÂâ âÂÂ[37m [37mâÂÂâÂÂâÂÂ[37m processed [37m36%[37m of [37m11[37m/[37m30[37m [37m4.45[37m/[37m7.911[37m[0m
[1;1f
[2K[37mâÂÂâÂÂâÂÂâÂÂâÂÂâÂÂâÂÂâÂÂâÂÂâÂÂâÂÂâÂÂâ âÂÂ[37m [37mâÂÂâÂÂâÂÂ[37m processed [37m60%[37m of [37m12[37m/[37m20[37m [37m4.551[37m/[37m3.034[37m[0m
[3;1f
[2K[37mâÂÂâÂÂâÂÂâÂÂâÂÂâ âÂÂ[37m [37mâÂÂâÂÂâÂÂ[37m processed [37m24%[37m of [37m12[37m/[37m50[37m [37m4.551[37m/[37m14.412[37m[0m
[4;1f
[2K[37mâÂÂâÂÂâÂÂâÂÂâÂÂâÂÂâÂÂâ âÂÂ[37m [37mâÂÂâÂÂâÂÂ[37m processed [37m36%[37m of [37m11[37m/[37m30[37m [37m4.551[37m/[37m8.091[37m[0m
[1;1f
[2K[37mâÂÂâÂÂâÂÂâÂÂâÂÂâÂÂâÂÂâÂÂâÂÂâÂÂâÂÂâÂÂâ âÂÂ[37m [37mâÂÂâÂÂâÂÂ
[37m processed [37m60%[37m of [37m12[37m/[37m20[37m [37m4.652[37m/[37m3.101[37m[0m
[3;1f
[2K[37mâÂÂâÂÂâÂÂâÂÂâÂÂâ âÂÂ[37m [37mâÂÂâÂÂâÂÂ
[37m processed [37m24%[37m of [37m12[37m/[37m50[37m [37m4.651[37m/[37m14.728[37m[0m
[4;1f
[2K[37mâÂÂâÂÂâÂÂâÂÂâÂÂâÂÂâÂÂâÂÂâ âÂÂ[37m [37mâÂÂâÂÂâÂÂ
[37m processed [37m40%[37m of [37m12[37m/[37m30[37m [37m4.651[37m/[37m6.976[37m[0m
[1;1f
[2K[37mâÂÂâÂÂâÂÂâÂÂâÂÂâÂÂâÂÂâÂÂâÂÂâÂÂâÂÂâÂÂâÂÂâ âÂÂ[37m [37mâÂÂâÂÂâÂÂ[37m processed [37m65%[37m of [37m13[37m/[37m20[37m [37m4.753[37m/[37m2.559[37m[0m
[3;1f
[2K[37mâÂÂâÂÂâÂÂâÂÂâÂÂâ âÂÂ[37m [37mâÂÂâÂÂâÂÂ[37m processed [37m24%[37m of [37m12[37m/[37m50[37m [37m4.752[37m/[37m15.048[37m[0m
[4;1f
[2K[37mâÂÂâÂÂâÂÂâÂÂâÂÂâÂÂâÂÂâÂÂâ âÂÂ[37m [37mâÂÂâÂÂâÂÂ[37m processed [37m40%[37m of [37m12[37m/[37m30[37m [37m4.752[37m/[37m7.128[37m[0m
[1;1f
[2K[37mâÂÂâÂÂâÂÂâÂÂâÂÂâÂÂâÂÂâÂÂâÂÂâÂÂâÂÂâÂÂâÂÂâ âÂÂ[37m [37mâÂÂ
âÂÂâÂÂ[37m processed [37m65%[37m of [37m13[37m/[37m20[37m [37m4.854[37m/[37m2.614[37m[0m
[3;1f
[2K[37mâÂÂâÂÂâÂÂâÂÂâÂÂâ âÂÂ[37m [37mâÂÂ
âÂÂâÂÂ[37m processed [37m26%[37m of [37m13[37m/[37m50[37m [37m4.853[37m/[37m13.812[37m[0m
[4;1f
[2K[37mâÂÂâÂÂâÂÂâÂÂâÂÂâÂÂâÂÂâÂÂâ âÂÂ[37m [37mâÂÂ
âÂÂâÂÂ[37m processed [37m40%[37m of [37m12[37m/[37m30[37m [37m4.853[37m/[37m7.279[37m[0m
[1;1f
[2K[37mâÂÂâÂÂâÂÂâÂÂâÂÂâÂÂâÂÂâÂÂâÂÂâÂÂâÂÂâÂÂâÂÂâ âÂÂ[37m [37mâÂÂâÂÂâÂÂ[37m processed [37m65%[37m of [37m13[37m/[37m20[37m [37m4.954[37m/[37m2.668[37m[0m
[3;1f
[2K[37mâÂÂâÂÂâÂÂâÂÂâÂÂâ âÂÂ[37m [37mâÂÂâÂÂâÂÂ[37m processed [37m26%[37m of [37m13[37m/[37m50[37m [37m4.954[37m/[37m14.1[37m[0m
[4;1f
[2K[37mâÂÂâÂÂâÂÂâÂÂâÂÂâÂÂâÂÂâÂÂâÂÂâ âÂÂ[37m [37mâÂÂâÂÂâÂÂ[37m processed [37m43%[37m of [37m13[37m/[37m30[37m [37m4.954[37m/[37m6.567[37m[0m
[1;1f
[2K[37mâÂÂâÂÂâÂÂâÂÂâÂÂâÂÂâÂÂâÂÂâÂÂâÂÂâÂÂâÂÂâÂÂâÂÂâ âÂÂ[37m [37mâÂÂâÂÂ
âÂÂ[37m processed [37m70%[37m of [37m14[37m/[37m20[37m [37m5.055[37m/[37m2.166[37m[0m
[3;1f
[2K[37mâÂÂâÂÂâÂÂâÂÂâÂÂâ âÂÂ[37m [37mâÂÂâÂÂ
âÂÂ[37m processed [37m26%[37m of [37m13[37m/[37m50[37m [37m5.054[37m/[37m14.384[37m[0m
[4;1f
[2K[37mâÂÂâÂÂâÂÂâÂÂâÂÂâÂÂâÂÂâÂÂâÂÂâ âÂÂ[37m [37mâÂÂâÂÂ
âÂÂ[37m processed [37m43%[37m of [37m13[37m/[37m30[37m [37m5.055[37m/[37m6.701[37m[0m
[1;1f
[2K[37mâÂÂâÂÂâÂÂâÂÂâÂÂâÂÂâÂÂâÂÂâÂÂâÂÂâÂÂâÂÂâÂÂâÂÂâ âÂÂ[37m [37mâÂÂâÂÂâÂÂ[37m processed [37m70%[37m of [37m14[37m/[37m20[37m [37m5.156[37m/[37m2.21[37m[0m
[3;1f
[2K[37mâÂÂâÂÂâÂÂâÂÂâÂÂâÂÂâ âÂÂ[37m [37mâÂÂâÂÂâÂÂ[37m processed [37m28%[37m of [37m14[37m/[37m50[37m [37m5.155[37m/[37m13.256[37m[0m
[4;1f
[2K[37mâÂÂâÂÂâÂÂâÂÂâÂÂâÂÂâÂÂâÂÂâÂÂâ âÂÂ[37m [37mâÂÂâÂÂâÂÂ[37m processed [37m43%[37m of [37m13[37m/[37m30[37m [37m5.155[37m/[37m6.833[37m[0m
[1;1f
[2K[37mâÂÂâÂÂâÂÂâÂÂâÂÂâÂÂâÂÂâÂÂâÂÂâÂÂâÂÂâÂÂâÂÂâÂÂâ âÂÂ[37m [37mâÂÂâÂÂâÂÂ[37m processed [37m70%[37m of [37m14[37m/[37m20[37m [37m5.257[37m/[37m2.253[37m[0m
[3;1f
[2K[37mâÂÂâÂÂâÂÂâÂÂâÂÂâÂÂâ âÂÂ[37m [37mâÂÂâÂÂâÂÂ[37m processed [37m28%[37m of [37m14[37m/[37m50[37m [37m5.256[37m/[37m13.515[37m[0m
[4;1f
[2K[37mâÂÂâÂÂâÂÂâÂÂâÂÂâÂÂâÂÂâÂÂâÂÂâ âÂÂ[37m [37mâÂÂâÂÂâÂÂ[37m processed [37m46%[37m of [37m14[37m/[37m30[37m [37m5.256[37m/[37m6.17[37m[0m
[1;1f
[2K[37mâÂÂâÂÂâÂÂâÂÂâÂÂâÂÂâÂÂâÂÂâÂÂâÂÂâÂÂâÂÂâÂÂâÂÂâÂÂâ âÂÂ[37m [37mâÂÂâÂÂâÂÂ[37m processed [37m75%[37m of [37m15[37m/[37m20[37m [37m5.358[37m/[37m1.786[37m[0m
[3;1f
[2K[37mâÂÂâÂÂâÂÂâÂÂâÂÂâÂÂâ âÂÂ[37m [37mâÂÂâÂÂâÂÂ[37m processed [37m28%[37m of [37m14[37m/[37m50[37m [37m5.357[37m/[37m13.775[37m[0m
[4;1f
[2K[37mâÂÂâÂÂâÂÂâÂÂâÂÂâÂÂâÂÂâÂÂâÂÂâ âÂÂ[37m [37mâÂÂâÂÂâÂÂ[37m processed [37m46%[37m of [37m14[37m/[37m30[37m [37m5.357[37m/[37m6.289[37m[0m
[1;1f
[2K[37mâÂÂâÂÂâÂÂâÂÂâÂÂâÂÂâÂÂâÂÂâÂÂâÂÂâÂÂâÂÂâÂÂâÂÂâÂÂâ âÂÂ[37m [37mâÂÂâÂÂâÂÂ
[37m processed [37m75%[37m of [37m15[37m/[37m20[37m [37m5.458[37m/[37m1.819[37m[0m
[3;1f
[2K[37mâÂÂâÂÂâÂÂâÂÂâÂÂâÂÂâ âÂÂ[37m [37mâÂÂâÂÂâÂÂ
[37m processed [37m30%[37m of [37m15[37m/[37m50[37m [37m5.458[37m/[37m12.735[37m[0m
[4;1f
[2K[37mâÂÂâÂÂâÂÂâÂÂâÂÂâÂÂâÂÂâÂÂâÂÂâ âÂÂ[37m [37mâÂÂâÂÂâÂÂ
[37m processed [37m46%[37m of [37m14[37m/[37m30[37m [37m5.458[37m/[37m6.407[37m[0m
[1;1f
[2K[37mâÂÂâÂÂâÂÂâÂÂâÂÂâÂÂâÂÂâÂÂâÂÂâÂÂâÂÂâÂÂâÂÂâÂÂâÂÂâ âÂÂ[37m [37mâÂÂâÂÂâÂÂ[37m processed [37m75%[37m of [37m15[37m/[37m20[37m [37m5.559[37m/[37m1.853[37m[0m
[3;1f
[2K[37mâÂÂâÂÂâÂÂâÂÂâÂÂâÂÂâ âÂÂ[37m [37mâÂÂâÂÂâÂÂ[37m processed [37m30%[37m of [37m15[37m/[37m50[37m [37m5.558[37m/[37m12.969[37m[0m
[4;1f
[2K[37mâÂÂâÂÂâÂÂâÂÂâÂÂâÂÂâÂÂâÂÂâÂÂâÂÂâ âÂÂ[37m [37mâÂÂâÂÂâÂÂ[37m processed [37m50%[37m of [37m15[37m/[37m30[37m [37m5.559[37m/[37m5.559[37m[0m
[1;1f
[2K[37mâÂÂâÂÂâÂÂâÂÂâÂÂâÂÂâÂÂâÂÂâÂÂâÂÂâÂÂâÂÂâÂÂâÂÂâÂÂâÂÂâ âÂÂ[37m [37mâÂÂ
âÂÂâÂÂ[37m processed [37m80%[37m of [37m16[37m/[37m20[37m [37m5.66[37m/[37m1.415[37m[0m
[3;1f
[2K[37mâÂÂâÂÂâÂÂâÂÂâÂÂâÂÂâ âÂÂ[37m [37mâÂÂ
âÂÂâÂÂ[37m processed [37m30%[37m of [37m15[37m/[37m50[37m [37m5.659[37m/[37m13.204[37m[0m
[4;1f
[2K[37mâÂÂâÂÂâÂÂâÂÂâÂÂâÂÂâÂÂâÂÂâÂÂâÂÂâ âÂÂ[37m [37mâÂÂ
âÂÂâÂÂ[37m processed [37m50%[37m of [37m15[37m/[37m30[37m [37m5.659[37m/[37m5.659[37m[0m
[1;1f
[2K[37mâÂÂâÂÂâÂÂâÂÂâÂÂâÂÂâÂÂâÂÂâÂÂâÂÂâÂÂâÂÂâÂÂâÂÂâÂÂâÂÂâ âÂÂ[37m [37mâÂÂâÂÂâÂÂ[37m processed [37m80%[37m of [37m16[37m/[37m20[37m [37m5.761[37m/[37m1.44[37m[0m
[3;1f
[2K[37mâÂÂâÂÂâÂÂâÂÂâÂÂâÂÂâ âÂÂ[37m [37mâÂÂâÂÂâÂÂ[37m processed [37m32%[37m of [37m16[37m/[37m50[37m [37m5.76[37m/[37m12.24[37m[0m
[4;1f
[2K[37mâÂÂâÂÂâÂÂâÂÂâÂÂâÂÂâÂÂâÂÂâÂÂâÂÂâ âÂÂ[37m [37mâÂÂâÂÂâÂÂ[37m processed [37m50%[37m of [37m15[37m/[37m30[37m [37m5.76[37m/[37m5.76[37m[0m
[1;1f
[2K[37mâÂÂâÂÂâÂÂâÂÂâÂÂâÂÂâÂÂâÂÂâÂÂâÂÂâÂÂâÂÂâÂÂâÂÂâÂÂâÂÂâ âÂÂ[37m [37mâÂÂâÂÂ
âÂÂ[37m processed [37m80%[37m of [37m16[37m/[37m20[37m [37m5.862[37m/[37m1.466[37m[0m
[3;1f
[2K[37mâÂÂâÂÂâÂÂâÂÂâÂÂâÂÂâ âÂÂ[37m [37mâÂÂâÂÂ
âÂÂ[37m processed [37m32%[37m of [37m16[37m/[37m50[37m [37m5.861[37m/[37m12.455[37m[0m
[4;1f
[2K[37mâÂÂâÂÂâÂÂâÂÂâÂÂâÂÂâÂÂâÂÂâÂÂâÂÂâÂÂâ âÂÂ[37m [37mâÂÂâÂÂ
âÂÂ[37m processed [37m53%[37m of [37m16[37m/[37m30[37m [37m5.861[37m/[37m5.197[37m[0m
[1;1f
[2K[37mâÂÂâÂÂâÂÂâÂÂâÂÂâÂÂâÂÂâÂÂâÂÂâÂÂâÂÂâÂÂâÂÂâÂÂâÂÂâÂÂâÂÂâ âÂÂ[37m [37mâÂÂâÂÂâÂÂ[37m processed [37m85%[37m of [37m17[37m/[37m20[37m [37m5.963[37m/[37m1.052[37m[0m
[3;1f
[2K[37mâÂÂâÂÂâÂÂâÂÂâÂÂâÂÂâ âÂÂ[37m [37mâÂÂâÂÂâÂÂ[37m processed [37m32%[37m of [37m16[37m/[37m50[37m [37m5.962[37m/[37m12.669[37m[0m
[4;1f
[2K[37mâÂÂâÂÂâÂÂâÂÂâÂÂâÂÂâÂÂâÂÂâÂÂâÂÂâÂÂâ âÂÂ[37m [37mâÂÂâÂÂâÂÂ[37m processed [37m53%[37m of [37m16[37m/[37m30[37m [37m5.962[37m/[37m5.287[37m[0m
[1;1f
[2K[37mâÂÂâÂÂâÂÂâÂÂâÂÂâÂÂâÂÂâÂÂâÂÂâÂÂâÂÂâÂÂâÂÂâÂÂâÂÂâÂÂâÂÂâ âÂÂ[37m [37mâÂÂâÂÂâÂÂ[37m processed [37m85%[37m of [37m17[37m/[37m20[37m [37m6.063[37m/[37m1.07[37m[0m
[3;1f
[2K[37mâÂÂâÂÂâÂÂâÂÂâÂÂâÂÂâÂÂâ âÂÂ[37m [37mâÂÂâÂÂâÂÂ[37m processed [37m34%[37m of [37m17[37m/[37m50[37m [37m6.063[37m/[37m11.769[37m[0m
[4;1f
[2K[37mâÂÂâÂÂâÂÂâÂÂâÂÂâÂÂâÂÂâÂÂâÂÂâÂÂâÂÂâ âÂÂ[37m [37mâÂÂâÂÂâÂÂ[37m processed [37m53%[37m of [37m16[37m/[37m30[37m [37m6.063[37m/[37m5.377[37m[0m
[1;1f
[2K[37mâÂÂâÂÂâÂÂâÂÂâÂÂâÂÂâÂÂâÂÂâÂÂâÂÂâÂÂâÂÂâÂÂâÂÂâÂÂâÂÂâÂÂâ âÂÂ[37m [37mâÂÂâÂÂâÂÂ[37m processed [37m85%[37m of [37m17[37m/[37m20[37m [37m6.164[37m/[37m1.088[37m[0m
[3;1f
[2K[37mâÂÂâÂÂâÂÂâÂÂâÂÂâÂÂâÂÂâ âÂÂ[37m [37mâÂÂâÂÂâÂÂ[37m processed [37m34%[37m of [37m17[37m/[37m50[37m [37m6.164[37m/[37m11.965[37m[0m
[4;1f
[2K[37mâÂÂâÂÂâÂÂâÂÂâÂÂâÂÂâÂÂâÂÂâÂÂâÂÂâÂÂâ âÂÂ[37m [37mâÂÂâÂÂâÂÂ[37m processed [37m56%[37m of [37m17[37m/[37m30[37m [37m6.164[37m/[37m4.843[37m[0m
[1;1f
[2K[37mâÂÂâÂÂâÂÂâÂÂâÂÂâÂÂâÂÂâÂÂâÂÂâÂÂâÂÂâÂÂâÂÂâÂÂâÂÂâÂÂâÂÂâÂÂâ âÂÂ[37m [37mâÂÂâÂÂâÂÂ
[37m processed [37m90%[37m of [37m18[37m/[37m20[37m [37m6.265[37m/[37m0.696[37m[0m
[3;1f
[2K[37mâÂÂâÂÂâÂÂâÂÂâÂÂâÂÂâÂÂâ âÂÂ[37m [37mâÂÂâÂÂâÂÂ
[37m processed [37m34%[37m of [37m17[37m/[37m50[37m [37m6.264[37m/[37m12.16[37m[0m
[4;1f
[2K[37mâÂÂâÂÂâÂÂâÂÂâÂÂâÂÂâÂÂâÂÂâÂÂâÂÂâÂÂâ âÂÂ[37m [37mâÂÂâÂÂâÂÂ
[37m processed [37m56%[37m of [37m17[37m/[37m30[37m [37m6.264[37m/[37m4.922[37m[0m
[1;1f
[2K[37mâÂÂâÂÂâÂÂâÂÂâÂÂâÂÂâÂÂâÂÂâÂÂâÂÂâÂÂâÂÂâÂÂâÂÂâÂÂâÂÂâÂÂâÂÂâ âÂÂ[37m [37mâÂÂâÂÂâÂÂ[37m processed [37m90%[37m of [37m18[37m/[37m20[37m [37m6.366[37m/[37m0.707[37m[0m
[3;1f
[2K[37mâÂÂâÂÂâÂÂâÂÂâÂÂâÂÂâÂÂâ âÂÂ[37m [37mâÂÂâÂÂâÂÂ[37m processed [37m36%[37m of [37m18[37m/[37m50[37m [37m6.365[37m/[37m11.316[37m[0m
[4;1f
[2K[37mâÂÂâÂÂâÂÂâÂÂâÂÂâÂÂâÂÂâÂÂâÂÂâÂÂâÂÂâ âÂÂ[37m [37mâÂÂâÂÂâÂÂ[37m processed [37m56%[37m of [37m17[37m/[37m30[37m [37m6.365[37m/[37m5.001[37m[0m
[1;1f
[2K[37mâÂÂâÂÂâÂÂâÂÂâÂÂâÂÂâÂÂâÂÂâÂÂâÂÂâÂÂâÂÂâÂÂâÂÂâÂÂâÂÂâÂÂâÂÂâ âÂÂ[37m [37mâÂÂ
âÂÂâÂÂ[37m processed [37m90%[37m of [37m18[37m/[37m20[37m [37m6.467[37m/[37m0.719[37m[0m
[3;1f
[2K[37mâÂÂâÂÂâÂÂâÂÂâÂÂâÂÂâÂÂâ âÂÂ[37m [37mâÂÂ
âÂÂâÂÂ[37m processed [37m36%[37m of [37m18[37m/[37m50[37m [37m6.466[37m/[37m11.495[37m[0m
[4;1f
[2K[37mâÂÂâÂÂâÂÂâÂÂâÂÂâÂÂâÂÂâÂÂâÂÂâÂÂâÂÂâÂÂâ âÂÂ[37m [37mâÂÂ
âÂÂâÂÂ[37m processed [37m60%[37m of [37m18[37m/[37m30[37m [37m6.466[37m/[37m4.311[37m[0m
[1;1f
[2K[37mâÂÂâÂÂâÂÂâÂÂâÂÂâÂÂâÂÂâÂÂâÂÂâÂÂâÂÂâÂÂâÂÂâÂÂâÂÂâÂÂâÂÂâÂÂâÂÂâ âÂÂ[37m [37mâÂÂâÂÂâÂÂ[37m processed [37m95%[37m of [37m19[37m/[37m20[37m [37m6.568[37m/[37m0.346[37m[0m
[3;1f
[2K[37mâÂÂâÂÂâÂÂâÂÂâÂÂâÂÂâÂÂâ âÂÂ[37m [37mâÂÂâÂÂâÂÂ[37m processed [37m36%[37m of [37m18[37m/[37m50[37m [37m6.567[37m/[37m11.675[37m[0m
[4;1f
[2K[37mâÂÂâÂÂâÂÂâÂÂâÂÂâÂÂâÂÂâÂÂâÂÂâÂÂâÂÂâÂÂâ âÂÂ[37m [37mâÂÂâÂÂâÂÂ[37m processed [37m60%[37m of [37m18[37m/[37m30[37m [37m6.567[37m/[37m4.378[37m[0m
[1;1f
[2K[37mâÂÂâÂÂâÂÂâÂÂâÂÂâÂÂâÂÂâÂÂâÂÂâÂÂâÂÂâÂÂâÂÂâÂÂâÂÂâÂÂâÂÂâÂÂâÂÂâ âÂÂ[37m [37mâÂÂâÂÂ
âÂÂ[37m processed [37m95%[37m of [37m19[37m/[37m20[37m [37m6.668[37m/[37m0.351[37m[0m
[3;1f
[2K[37mâÂÂâÂÂâÂÂâÂÂâÂÂâÂÂâÂÂâÂÂâ âÂÂ[37m [37mâÂÂâÂÂ
âÂÂ[37m processed [37m38%[37m of [37m19[37m/[37m50[37m [37m6.668[37m/[37m10.879[37m[0m
[4;1f
[2K[37mâÂÂâÂÂâÂÂâÂÂâÂÂâÂÂâÂÂâÂÂâÂÂâÂÂâÂÂâÂÂâ âÂÂ[37m [37mâÂÂâÂÂ
âÂÂ[37m processed [37m60%[37m of [37m18[37m/[37m30[37m [37m6.668[37m/[37m4.445[37m[0m
[1;1f
[2K[37mâÂÂâÂÂâÂÂâÂÂâÂÂâÂÂâÂÂâÂÂâÂÂâÂÂâÂÂâÂÂâÂÂâÂÂâÂÂâÂÂâÂÂâÂÂâÂÂâ âÂÂ[37m [37mâÂÂâÂÂâÂÂ[37m processed [37m95%[37m of [37m19[37m/[37m20[37m [37m6.769[37m/[37m0.356[37m[0m
[3;1f
[2K[37mâÂÂâÂÂâÂÂâÂÂâÂÂâÂÂâÂÂâÂÂâ âÂÂ[37m [37mâÂÂâÂÂâÂÂ[37m processed [37m38%[37m of [37m19[37m/[37m50[37m [37m6.769[37m/[37m11.044[37m[0m
[4;1f
[2K[37mâÂÂâÂÂâÂÂâÂÂâÂÂâÂÂâÂÂâÂÂâÂÂâÂÂâÂÂâÂÂâÂÂâ âÂÂ[37m [37mâÂÂâÂÂâÂÂ[37m processed [37m63%[37m of [37m19[37m/[37m30[37m [37m6.769[37m/[37m3.975[37m[0m
[1;1f
[2K[37mâÂÂâÂÂâÂÂâÂÂâÂÂâÂÂâÂÂâÂÂâÂÂâÂÂâÂÂâÂÂâÂÂâÂÂâÂÂâÂÂâÂÂâÂÂâÂÂâÂÂâÂÂâÂÂ[37m [37mâÂÂâÂÂâÂÂ[37m processed [37m100%[37m of [37m20[37m/[37m20[37m [37m6.87[37m/[37m0[37m[0m
[3;1f
[2K[37mâÂÂâÂÂâÂÂâÂÂâÂÂâÂÂâÂÂâÂÂâ âÂÂ[37m [37mâÂÂâÂÂâÂÂ[37m processed [37m38%[37m of [37m19[37m/[37m50[37m [37m6.87[37m/[37m11.209[37m[0m
[4;1f
[2K[37mâÂÂâÂÂâÂÂâÂÂâÂÂâÂÂâÂÂâÂÂâÂÂâÂÂâÂÂâÂÂâÂÂâ âÂÂ[37m [37mâÂÂâÂÂâÂÂ[37m processed [37m63%[37m of [37m19[37m/[37m30[37m [37m6.87[37m/[37m4.035[37m[0m
[1;1f
[2K[37mâÂÂâÂÂâÂÂâÂÂâÂÂâÂÂâÂÂâÂÂâÂÂâÂÂâÂÂâÂÂâÂÂâÂÂâÂÂâÂÂâÂÂâÂÂâÂÂâÂÂâÂÂâÂÂ[37m [37mâÂÂâÂÂâÂÂ[37m processed [37m100%[37m of [37m20[37m/[37m20[37m [37m6.971[37m/[37m0[37m[0m
[3;1f
[2K[37mâÂÂâÂÂâÂÂâÂÂâÂÂâÂÂâÂÂâÂÂâ âÂÂ[37m [37mâÂÂâÂÂâÂÂ[37m processed [37m40%[37m of [37m20[37m/[37m50[37m [37m6.97[37m/[37m10.455[37m[0m
[4;1f
[2K[37mâÂÂâÂÂâÂÂâÂÂâÂÂâÂÂâÂÂâÂÂâÂÂâÂÂâÂÂâÂÂâÂÂâ âÂÂ[37m [37mâÂÂâÂÂâÂÂ[37m processed [37m63%[37m of [37m19[37m/[37m30[37m [37m6.971[37m/[37m4.094[37m[0m
[1;1f
[2K[37mâÂÂâÂÂâÂÂâÂÂâÂÂâÂÂâÂÂâÂÂâÂÂâÂÂâÂÂâÂÂâÂÂâÂÂâÂÂâÂÂâÂÂâÂÂâÂÂâÂÂâÂÂâÂÂ[37m [37mâÂÂâÂÂâÂÂ
[37m processed [37m100%[37m of [37m20[37m/[37m20[37m [37m7.072[37m/[37m0[37m[0m
[3;1f
[2K[37mâÂÂâÂÂâÂÂâÂÂâÂÂâÂÂâÂÂâÂÂâ âÂÂ[37m [37mâÂÂâÂÂâÂÂ
[37m processed [37m40%[37m of [37m20[37m/[37m50[37m [37m7.071[37m/[37m10.606[37m[0m
[4;1f
[2K[37mâÂÂâÂÂâÂÂâÂÂâÂÂâÂÂâÂÂâÂÂâÂÂâÂÂâÂÂâÂÂâÂÂâ âÂÂ[37m [37mâÂÂâÂÂâÂÂ
[37m processed [37m66%[37m of [37m20[37m/[37m30[37m [37m7.071[37m/[37m3.643[37m[0m
[3;1f
[2K[37mâÂÂâÂÂâÂÂâÂÂâÂÂâÂÂâÂÂâÂÂâ âÂÂ[37m [37mâÂÂâÂÂâÂÂ[37m processed [37m42%[37m of [37m21[37m/[37m50[37m [37m7.172[37m/[37m9.904[37m[0m
[4;1f
[2K[37mâÂÂâÂÂâÂÂâÂÂâÂÂâÂÂâÂÂâÂÂâÂÂâÂÂâÂÂâÂÂâÂÂâ âÂÂ[37m [37mâÂÂâÂÂâÂÂ[37m processed [37m66%[37m of [37m20[37m/[37m30[37m [37m7.172[37m/[37m3.695[37m[0m
[3;1f
[2K[37mâÂÂâÂÂâÂÂâÂÂâÂÂâÂÂâÂÂâÂÂâ âÂÂ[37m [37mâÂÂ
âÂÂâÂÂ[37m processed [37m42%[37m of [37m21[37m/[37m50[37m [37m7.272[37m/[37m10.042[37m[0m
[4;1f
[2K[37mâÂÂâÂÂâÂÂâÂÂâÂÂâÂÂâÂÂâÂÂâÂÂâÂÂâÂÂâÂÂâÂÂâÂÂâ âÂÂ[37m [37mâÂÂ
âÂÂâÂÂ[37m processed [37m70%[37m of [37m21[37m/[37m30[37m [37m7.273[37m/[37m3.117[37m[0m
[3;1f
[2K[37mâÂÂâÂÂâÂÂâÂÂâÂÂâÂÂâÂÂâÂÂâÂÂâ âÂÂ[37m [37mâÂÂâÂÂâÂÂ[37m processed [37m44%[37m of [37m22[37m/[37m50[37m [37m7.373[37m/[37m9.384[37m[0m
[4;1f
[2K[37mâÂÂâÂÂâÂÂâÂÂâÂÂâÂÂâÂÂâÂÂâÂÂâÂÂâÂÂâÂÂâÂÂâÂÂâ âÂÂ[37m [37mâÂÂâÂÂâÂÂ[37m processed [37m70%[37m of [37m21[37m/[37m30[37m [37m7.373[37m/[37m3.16[37m[0m
[3;1f
[2K[37mâÂÂâÂÂâÂÂâÂÂâÂÂâÂÂâÂÂâÂÂâÂÂâ âÂÂ[37m [37mâÂÂâÂÂ
âÂÂ[37m processed [37m44%[37m of [37m22[37m/[37m50[37m [37m7.474[37m/[37m9.512[37m[0m
[4;1f
[2K[37mâÂÂâÂÂâÂÂâÂÂâÂÂâÂÂâÂÂâÂÂâÂÂâÂÂâÂÂâÂÂâÂÂâÂÂâÂÂâ âÂÂ[37m [37mâÂÂâÂÂ
âÂÂ[37m processed [37m73%[37m of [37m22[37m/[37m30[37m [37m7.474[37m/[37m2.764[37m[0m
[3;1f
[2K[37mâÂÂâÂÂâÂÂâÂÂâÂÂâÂÂâÂÂâÂÂâÂÂâ âÂÂ[37m [37mâÂÂâÂÂâÂÂ[37m processed [37m46%[37m of [37m23[37m/[37m50[37m [37m7.574[37m/[37m8.891[37m[0m
[4;1f
[2K[37mâÂÂâÂÂâÂÂâÂÂâÂÂâÂÂâÂÂâÂÂâÂÂâÂÂâÂÂâÂÂâÂÂâÂÂâÂÂâ âÂÂ[37m [37mâÂÂâÂÂâÂÂ[37m processed [37m73%[37m of [37m22[37m/[37m30[37m [37m7.575[37m/[37m2.802[37m[0m
[3;1f
[2K[37mâÂÂâÂÂâÂÂâÂÂâÂÂâÂÂâÂÂâÂÂâÂÂâ âÂÂ[37m [37mâÂÂâÂÂâÂÂ[37m processed [37m46%[37m of [37m23[37m/[37m50[37m [37m7.675[37m/[37m9.01[37m[0m
[4;1f
[2K[37mâÂÂâÂÂâÂÂâÂÂâÂÂâÂÂâÂÂâÂÂâÂÂâÂÂâÂÂâÂÂâÂÂâÂÂâÂÂâ âÂÂ[37m [37mâÂÂâÂÂâÂÂ[37m processed [37m76%[37m of [37m23[37m/[37m30[37m [37m7.675[37m/[37m2.424[37m[0m
[3;1f
[2K[37mâÂÂâÂÂâÂÂâÂÂâÂÂâÂÂâÂÂâÂÂâÂÂâÂÂâ âÂÂ[37m [37mâÂÂâÂÂâÂÂ[37m processed [37m48%[37m of [37m24[37m/[37m50[37m [37m7.776[37m/[37m8.424[37m[0m
[4;1f
[2K[37mâÂÂâÂÂâÂÂâÂÂâÂÂâÂÂâÂÂâÂÂâÂÂâÂÂâÂÂâÂÂâÂÂâÂÂâÂÂâ âÂÂ[37m [37mâÂÂâÂÂâÂÂ[37m processed [37m76%[37m of [37m23[37m/[37m30[37m [37m7.776[37m/[37m2.456[37m[0m
[3;1f
[2K[37mâÂÂâÂÂâÂÂâÂÂâÂÂâÂÂâÂÂâÂÂâÂÂâÂÂâ âÂÂ[37m [37mâÂÂâÂÂâÂÂ
[37m processed [37m48%[37m of [37m24[37m/[37m50[37m [37m7.876[37m/[37m8.532[37m[0m
[4;1f
[2K[37mâÂÂâÂÂâÂÂâÂÂâÂÂâÂÂâÂÂâÂÂâÂÂâÂÂâÂÂâÂÂâÂÂâÂÂâÂÂâÂÂâ âÂÂ[37m [37mâÂÂâÂÂâÂÂ
[37m processed [37m80%[37m of [37m24[37m/[37m30[37m [37m7.877[37m/[37m1.969[37m[0m
[3;1f
[2K[37mâÂÂâÂÂâÂÂâÂÂâÂÂâÂÂâÂÂâÂÂâÂÂâÂÂâ âÂÂ[37m [37mâÂÂâÂÂâÂÂ[37m processed [37m50%[37m of [37m25[37m/[37m50[37m [37m7.977[37m/[37m7.977[37m[0m
[4;1f
[2K[37mâÂÂâÂÂâÂÂâÂÂâÂÂâÂÂâÂÂâÂÂâÂÂâÂÂâÂÂâÂÂâÂÂâÂÂâÂÂâÂÂâ âÂÂ[37m [37mâÂÂâÂÂâÂÂ[37m processed [37m80%[37m of [37m24[37m/[37m30[37m [37m7.977[37m/[37m1.994[37m[0m
[3;1f
[2K[37mâÂÂâÂÂâÂÂâÂÂâÂÂâÂÂâÂÂâÂÂâÂÂâÂÂâ âÂÂ[37m [37mâÂÂ
âÂÂâÂÂ[37m processed [37m50%[37m of [37m25[37m/[37m50[37m [37m8.078[37m/[37m8.078[37m[0m
[4;1f
[2K[37mâÂÂâÂÂâÂÂâÂÂâÂÂâÂÂâÂÂâÂÂâÂÂâÂÂâÂÂâÂÂâÂÂâÂÂâÂÂâÂÂâÂÂâ âÂÂ[37m [37mâÂÂ
âÂÂâÂÂ[37m processed [37m83%[37m of [37m25[37m/[37m30[37m [37m8.078[37m/[37m1.655[37m[0m
[3;1f
[2K[37mâÂÂâÂÂâÂÂâÂÂâÂÂâÂÂâÂÂâÂÂâÂÂâÂÂâ âÂÂ[37m [37mâÂÂâÂÂâÂÂ[37m processed [37m52%[37m of [37m26[37m/[37m50[37m [37m8.179[37m/[37m7.55[37m[0m
[4;1f
[2K[37mâÂÂâÂÂâÂÂâÂÂâÂÂâÂÂâÂÂâÂÂâÂÂâÂÂâÂÂâÂÂâÂÂâÂÂâÂÂâÂÂâÂÂâ âÂÂ[37m [37mâÂÂâÂÂâÂÂ[37m processed [37m83%[37m of [37m25[37m/[37m30[37m [37m8.179[37m/[37m1.675[37m[0m
[3;1f
[2K[37mâÂÂâÂÂâÂÂâÂÂâÂÂâÂÂâÂÂâÂÂâÂÂâÂÂâ âÂÂ[37m [37mâÂÂâÂÂ
âÂÂ[37m processed [37m52%[37m of [37m26[37m/[37m50[37m [37m8.279[37m/[37m7.642[37m[0m
[4;1f
[2K[37mâÂÂâÂÂâÂÂâÂÂâÂÂâÂÂâÂÂâÂÂâÂÂâÂÂâÂÂâÂÂâÂÂâÂÂâÂÂâÂÂâÂÂâ âÂÂ[37m [37mâÂÂâÂÂ
âÂÂ[37m processed [37m86%[37m of [37m26[37m/[37m30[37m [37m8.279[37m/[37m1.348[37m[0m
[3;1f
[2K[37mâÂÂâÂÂâÂÂâÂÂâÂÂâÂÂâÂÂâÂÂâÂÂâÂÂâÂÂâ âÂÂ[37m [37mâÂÂâÂÂâÂÂ[37m processed [37m54%[37m of [37m27[37m/[37m50[37m [37m8.38[37m/[37m7.139[37m[0m
[4;1f
[2K[37mâÂÂâÂÂâÂÂâÂÂâÂÂâÂÂâÂÂâÂÂâÂÂâÂÂâÂÂâÂÂâÂÂâÂÂâÂÂâÂÂâÂÂâ âÂÂ[37m [37mâÂÂâÂÂâÂÂ[37m processed [37m86%[37m of [37m26[37m/[37m30[37m [37m8.38[37m/[37m1.364[37m[0m
[3;1f
[2K[37mâÂÂâÂÂâÂÂâÂÂâÂÂâÂÂâÂÂâÂÂâÂÂâÂÂâÂÂâ âÂÂ[37m [37mâÂÂâÂÂâÂÂ[37m processed [37m54%[37m of [37m27[37m/[37m50[37m [37m8.481[37m/[37m7.225[37m[0m
[4;1f
[2K[37mâÂÂâÂÂâÂÂâÂÂâÂÂâÂÂâÂÂâÂÂâÂÂâÂÂâÂÂâÂÂâÂÂâÂÂâÂÂâÂÂâÂÂâÂÂâ âÂÂ[37m [37mâÂÂâÂÂâÂÂ[37m processed [37m90%[37m of [37m27[37m/[37m30[37m [37m8.481[37m/[37m0.942[37m[0m
[3;1f
[2K[37mâÂÂâÂÂâÂÂâÂÂâÂÂâÂÂâÂÂâÂÂâÂÂâÂÂâÂÂâ âÂÂ[37m [37mâÂÂâÂÂâÂÂ[37m processed [37m56%[37m of [37m28[37m/[37m50[37m [37m8.581[37m/[37m6.742[37m[0m
[4;1f
[2K[37mâÂÂâÂÂâÂÂâÂÂâÂÂâÂÂâÂÂâÂÂâÂÂâÂÂâÂÂâÂÂâÂÂâÂÂâÂÂâÂÂâÂÂâÂÂâ âÂÂ[37m [37mâÂÂâÂÂâÂÂ[37m processed [37m90%[37m of [37m27[37m/[37m30[37m [37m8.582[37m/[37m0.954[37m[0m
[3;1f
[2K[37mâÂÂâÂÂâÂÂâÂÂâÂÂâÂÂâÂÂâÂÂâÂÂâÂÂâÂÂâ âÂÂ[37m [37mâÂÂâÂÂâÂÂ
[37m processed [37m56%[37m of [37m28[37m/[37m50[37m [37m8.682[37m/[37m6.822[37m[0m
[4;1f
[2K[37mâÂÂâÂÂâÂÂâÂÂâÂÂâÂÂâÂÂâÂÂâÂÂâÂÂâÂÂâÂÂâÂÂâÂÂâÂÂâÂÂâÂÂâÂÂâÂÂâ âÂÂ[37m [37mâÂÂâÂÂâÂÂ
[37m processed [37m93%[37m of [37m28[37m/[37m30[37m [37m8.682[37m/[37m0.653[37m[0m
[3;1f
[2K[37mâÂÂâÂÂâÂÂâÂÂâÂÂâÂÂâÂÂâÂÂâÂÂâÂÂâÂÂâ âÂÂ[37m [37mâÂÂâÂÂâÂÂ[37m processed [37m57%[37m of [37m29[37m/[37m50[37m [37m8.783[37m/[37m6.626[37m[0m
[4;1f
[2K[37mâÂÂâÂÂâÂÂâÂÂâÂÂâÂÂâÂÂâÂÂâÂÂâÂÂâÂÂâÂÂâÂÂâÂÂâÂÂâÂÂâÂÂâÂÂâÂÂâ âÂÂ[37m [37mâÂÂâÂÂâÂÂ[37m processed [37m93%[37m of [37m28[37m/[37m30[37m [37m8.783[37m/[37m0.661[37m[0m
[3;1f
[2K[37mâÂÂâÂÂâÂÂâÂÂâÂÂâÂÂâÂÂâÂÂâÂÂâÂÂâÂÂâ âÂÂ[37m [37mâÂÂ
âÂÂâÂÂ[37m processed [37m57%[37m of [37m29[37m/[37m50[37m [37m8.883[37m/[37m6.701[37m[0m
[4;1f
[2K[37mâÂÂâÂÂâÂÂâÂÂâÂÂâÂÂâÂÂâÂÂâÂÂâÂÂâÂÂâÂÂâÂÂâÂÂâÂÂâÂÂâÂÂâÂÂâÂÂâ âÂÂ[37m [37mâÂÂ
âÂÂâÂÂ[37m processed [37m96%[37m of [37m29[37m/[37m30[37m [37m8.884[37m/[37m0.37[37m[0m
[3;1f
[2K[37mâÂÂâÂÂâÂÂâÂÂâÂÂâÂÂâÂÂâÂÂâÂÂâÂÂâÂÂâÂÂâ âÂÂ[37m [37mâÂÂâÂÂâÂÂ[37m processed [37m60%[37m of [37m30[37m/[37m50[37m [37m8.984[37m/[37m5.989[37m[0m
[4;1f
[2K[37mâÂÂâÂÂâÂÂâÂÂâÂÂâÂÂâÂÂâÂÂâÂÂâÂÂâÂÂâÂÂâÂÂâÂÂâÂÂâÂÂâÂÂâÂÂâÂÂâ âÂÂ[37m [37mâÂÂâÂÂâÂÂ[37m processed [37m96%[37m of [37m29[37m/[37m30[37m [37m8.984[37m/[37m0.374[37m[0m
[3;1f
[2K[37mâÂÂâÂÂâÂÂâÂÂâÂÂâÂÂâÂÂâÂÂâÂÂâÂÂâÂÂâÂÂâ âÂÂ[37m [37mâÂÂâÂÂ
âÂÂ[37m processed [37m60%[37m of [37m30[37m/[37m50[37m [37m9.085[37m/[37m6.057[37m[0m
[4;1f
[2K[37mâÂÂâÂÂâÂÂâÂÂâÂÂâÂÂâÂÂâÂÂâÂÂâÂÂâÂÂâÂÂâÂÂâÂÂâÂÂâÂÂâÂÂâÂÂâÂÂâÂÂâÂÂâÂÂ[37m [37mâÂÂâÂÂ
âÂÂ[37m processed [37m100%[37m of [37m30[37m/[37m30[37m [37m9.085[37m/[37m0[37m[0m
[3;1f
[2K[37mâÂÂâÂÂâÂÂâÂÂâÂÂâÂÂâÂÂâÂÂâÂÂâÂÂâÂÂâÂÂâ âÂÂ[37m [37mâÂÂâÂÂâÂÂ[37m processed [37m62%[37m of [37m31[37m/[37m50[37m [37m9.185[37m/[37m5.63[37m[0m
[4;1f
[2K[37mâÂÂâÂÂâÂÂâÂÂâÂÂâÂÂâÂÂâÂÂâÂÂâÂÂâÂÂâÂÂâÂÂâÂÂâÂÂâÂÂâÂÂâÂÂâÂÂâÂÂâÂÂâÂÂ[37m [37mâÂÂâÂÂâÂÂ[37m processed [37m100%[37m of [37m30[37m/[37m30[37m [37m9.186[37m/[37m0[37m[0m
[3;1f
[2K[37mâÂÂâÂÂâÂÂâÂÂâÂÂâÂÂâÂÂâÂÂâÂÂâÂÂâÂÂâÂÂâÂÂâ âÂÂ[37m [37mâÂÂâÂÂâÂÂ[37m processed [37m64%[37m of [37m32[37m/[37m50[37m [37m9.286[37m/[37m5.223[37m[0m
[3;1f
[2K[37mâÂÂâÂÂâÂÂâÂÂâÂÂâÂÂâÂÂâÂÂâÂÂâÂÂâÂÂâÂÂâÂÂâ âÂÂ[37m [37mâÂÂâÂÂâÂÂ[37m processed [37m66%[37m of [37m33[37m/[37m50[37m [37m9.386[37m/[37m4.835[37m[0m
[3;1f
[2K[37mâÂÂâÂÂâÂÂâÂÂâÂÂâÂÂâÂÂâÂÂâÂÂâÂÂâÂÂâÂÂâÂÂâÂÂâ âÂÂ[37m [37mâÂÂâÂÂâÂÂ
[37m processed [37m68%[37m of [37m34[37m/[37m50[37m [37m9.487[37m/[37m4.464[37m[0m
[3;1f
[2K[37mâÂÂâÂÂâÂÂâÂÂâÂÂâÂÂâÂÂâÂÂâÂÂâÂÂâÂÂâÂÂâÂÂâÂÂâ âÂÂ[37m [37mâÂÂâÂÂâÂÂ[37m processed [37m70%[37m of [37m35[37m/[37m50[37m [37m9.587[37m/[37m4.109[37m[0m
[3;1f
[2K[37mâÂÂâÂÂâÂÂâÂÂâÂÂâÂÂâÂÂâÂÂâÂÂâÂÂâÂÂâÂÂâÂÂâÂÂâ âÂÂ[37m [37mâÂÂ
âÂÂâÂÂ[37m processed [37m72%[37m of [37m36[37m/[37m50[37m [37m9.688[37m/[37m3.768[37m[0m
[3;1f
[2K[37mâÂÂâÂÂâÂÂâÂÂâÂÂâÂÂâÂÂâÂÂâÂÂâÂÂâÂÂâÂÂâÂÂâÂÂâÂÂâ âÂÂ[37m [37mâÂÂâÂÂâÂÂ[37m processed [37m74%[37m of [37m37[37m/[37m50[37m [37m9.788[37m/[37m3.439[37m[0m
[3;1f
[2K[37mâÂÂâÂÂâÂÂâÂÂâÂÂâÂÂâÂÂâÂÂâÂÂâÂÂâÂÂâÂÂâÂÂâÂÂâÂÂâ âÂÂ[37m [37mâÂÂâÂÂ
âÂÂ[37m processed [37m76%[37m of [37m38[37m/[37m50[37m [37m9.889[37m/[37m3.123[37m[0m
[3;1f
[2K[37mâÂÂâÂÂâÂÂâÂÂâÂÂâÂÂâÂÂâÂÂâÂÂâÂÂâÂÂâÂÂâÂÂâÂÂâÂÂâÂÂâ âÂÂ[37m [37mâÂÂâÂÂâÂÂ[37m processed [37m78%[37m of [37m39[37m/[37m50[37m [37m9.989[37m/[37m2.817[37m[0m
[3;1f
[2K[37mâÂÂâÂÂâÂÂâÂÂâÂÂâÂÂâÂÂâÂÂâÂÂâÂÂâÂÂâÂÂâÂÂâÂÂâÂÂâÂÂâ âÂÂ[37m [37mâÂÂâÂÂâÂÂ[37m processed [37m80%[37m of [37m40[37m/[37m50[37m [37m10.09[37m/[37m2.522[37m[0m
[3;1f
[2K[37mâÂÂâÂÂâÂÂâÂÂâÂÂâÂÂâÂÂâÂÂâÂÂâÂÂâÂÂâÂÂâÂÂâÂÂâÂÂâÂÂâ âÂÂ[37m [37mâÂÂâÂÂâÂÂ[37m processed [37m82%[37m of [37m41[37m/[37m50[37m [37m10.191[37m/[37m2.237[37m[0m
[3;1f
[2K[37mâÂÂâÂÂâÂÂâÂÂâÂÂâÂÂâÂÂâÂÂâÂÂâÂÂâÂÂâÂÂâÂÂâÂÂâÂÂâÂÂâÂÂâ âÂÂ[37m [37mâÂÂâÂÂâÂÂ
[37m processed [37m84%[37m of [37m42[37m/[37m50[37m [37m10.291[37m/[37m1.96[37m[0m
[3;1f
[2K[37mâÂÂâÂÂâÂÂâÂÂâÂÂâÂÂâÂÂâÂÂâÂÂâÂÂâÂÂâÂÂâÂÂâÂÂâÂÂâÂÂâÂÂâ âÂÂ[37m [37mâÂÂâÂÂâÂÂ[37m processed [37m86%[37m of [37m43[37m/[37m50[37m [37m10.392[37m/[37m1.692[37m[0m
[3;1f
[2K[37mâÂÂâÂÂâÂÂâÂÂâÂÂâÂÂâÂÂâÂÂâÂÂâÂÂâÂÂâÂÂâÂÂâÂÂâÂÂâÂÂâÂÂâÂÂâ âÂÂ[37m [37mâÂÂ
âÂÂâÂÂ[37m processed [37m88%[37m of [37m44[37m/[37m50[37m [37m10.492[37m/[37m1.431[37m[0m
[3;1f
[2K[37mâÂÂâÂÂâÂÂâÂÂâÂÂâÂÂâÂÂâÂÂâÂÂâÂÂâÂÂâÂÂâÂÂâÂÂâÂÂâÂÂâÂÂâÂÂâ âÂÂ[37m [37mâÂÂâÂÂâÂÂ[37m processed [37m90%[37m of [37m45[37m/[37m50[37m [37m10.593[37m/[37m1.177[37m[0m
[3;1f
[2K[37mâÂÂâÂÂâÂÂâÂÂâÂÂâÂÂâÂÂâÂÂâÂÂâÂÂâÂÂâÂÂâÂÂâÂÂâÂÂâÂÂâÂÂâÂÂâ âÂÂ[37m [37mâÂÂâÂÂ
âÂÂ[37m processed [37m92%[37m of [37m46[37m/[37m50[37m [37m10.693[37m/[37m0.93[37m[0m
[3;1f
[2K[37mâÂÂâÂÂâÂÂâÂÂâÂÂâÂÂâÂÂâÂÂâÂÂâÂÂâÂÂâÂÂâÂÂâÂÂâÂÂâÂÂâÂÂâÂÂâÂÂâ âÂÂ[37m [37mâÂÂâÂÂâÂÂ[37m processed [37m94%[37m of [37m47[37m/[37m50[37m [37m10.794[37m/[37m0.689[37m[0m
[3;1f
[2K[37mâÂÂâÂÂâÂÂâÂÂâÂÂâÂÂâÂÂâÂÂâÂÂâÂÂâÂÂâÂÂâÂÂâÂÂâÂÂâÂÂâÂÂâÂÂâÂÂâ âÂÂ[37m [37mâÂÂâÂÂâÂÂ[37m processed [37m96%[37m of [37m48[37m/[37m50[37m [37m10.894[37m/[37m0.454[37m[0m
[3;1f
[2K[37mâÂÂâÂÂâÂÂâÂÂâÂÂâÂÂâÂÂâÂÂâÂÂâÂÂâÂÂâÂÂâÂÂâÂÂâÂÂâÂÂâÂÂâÂÂâÂÂâÂÂâÂÂâÂÂ[37m [37mâÂÂâÂÂâÂÂ[37m processed [37m98%[37m of [37m49[37m/[37m50[37m [37m10.995[37m/[37m0.224[37m[0m
[3;1f
[2K[37mâÂÂâÂÂâÂÂâÂÂâÂÂâÂÂâÂÂâÂÂâÂÂâÂÂâÂÂâÂÂâÂÂâÂÂâÂÂâÂÂâÂÂâÂÂâÂÂâÂÂâÂÂâÂÂ[37m [37mâÂÂâÂÂâÂÂ
[37m processed [37m100%[37m of [37m50[37m/[37m50[37m [37m11.095[37m/[37m0[37m[0m
[?25h[?25l
[?25l
[?25l
[?25l
[5;1f
[2K[37mâÂÂâ âÂÂ[37m [37mâÂÂâÂÂ
âÂÂ[37m processed [37m5%[37m of [37m1[37m/[37m20[37m [37m0.401[37m/[37m7.619[37m[0m
[6;1f
[2K[37mâÂÂâÂÂâ âÂÂ[37m [37mâÂÂâÂÂ
âÂÂ[37m processed [37m10%[37m of [37m1[37m/[37m10[37m [37m0.401[37m/[37m3.609[37m[0m
[7;1f
[2K[37mâ âÂÂ[37m [37mâÂÂâÂÂ
âÂÂ[37m processed [37m2%[37m of [37m1[37m/[37m50[37m [37m0.401[37m/[37m19.649[37m[0m
[8;1f
[2K[37mâÂÂâ âÂÂ[37m [37mâÂÂâÂÂ
âÂÂ[37m processed [37m3%[37m of [37m1[37m/[37m30[37m [37m0.401[37m/[37m12.966[37m[0m
[5;1f
[2K[37mâÂÂâÂÂâ âÂÂ[37m [37mâÂÂâÂÂâÂÂ
[37m processed [37m10%[37m of [37m2[37m/[37m20[37m [37m0.803[37m/[37m7.227[37m[0m
[6;1f
[2K[37mâÂÂâÂÂâÂÂâÂÂâ âÂÂ[37m [37mâÂÂâÂÂâÂÂ
[37m processed [37m20%[37m of [37m2[37m/[37m10[37m [37m0.802[37m/[37m3.208[37m[0m
[7;1f
[2K[37mâÂÂâ âÂÂ[37m [37mâÂÂâÂÂâÂÂ
[37m processed [37m4%[37m of [37m2[37m/[37m50[37m [37m0.802[37m/[37m19.248[37m[0m
[8;1f
[2K[37mâÂÂâ âÂÂ[37m [37mâÂÂâÂÂâÂÂ
[37m processed [37m6%[37m of [37m2[37m/[37m30[37m [37m0.803[37m/[37m12.58[37m[0m
[5;1f
[2K[37mâÂÂâÂÂâÂÂâ âÂÂ[37m [37mâÂÂâÂÂ
âÂÂ[37m processed [37m15%[37m of [37m3[37m/[37m20[37m [37m1.205[37m/[37m6.828[37m[0m
[6;1f
[2K[37mâÂÂâÂÂâÂÂâÂÂâÂÂâÂÂâ âÂÂ[37m [37mâÂÂâÂÂ
âÂÂ[37m processed [37m30%[37m of [37m3[37m/[37m10[37m [37m1.204[37m/[37m2.809[37m[0m
[7;1f
[2K[37mâÂÂâ âÂÂ[37m [37mâÂÂâÂÂ
âÂÂ[37m processed [37m6%[37m of [37m3[37m/[37m50[37m [37m1.204[37m/[37m18.863[37m[0m
[8;1f
[2K[37mâÂÂâÂÂâ âÂÂ[37m [37mâÂÂâÂÂ
âÂÂ[37m processed [37m10%[37m of [37m3[37m/[37m30[37m [37m1.204[37m/[37m10.836[37m[0m
[5;1f
[2K[37mâÂÂâÂÂâÂÂâÂÂâ âÂÂ[37m [37mâÂÂâÂÂâÂÂ
[37m processed [37m20%[37m of [37m4[37m/[37m20[37m [37m1.606[37m/[37m6.424[37m[0m
[6;1f
[2K[37mâÂÂâÂÂâÂÂâÂÂâÂÂâÂÂâÂÂâÂÂâ âÂÂ[37m [37mâÂÂâÂÂâÂÂ
[37m processed [37m40%[37m of [37m4[37m/[37m10[37m [37m1.605[37m/[37m2.408[37m[0m
[7;1f
[2K[37mâÂÂâÂÂâ âÂÂ[37m [37mâÂÂâÂÂâÂÂ
[37m processed [37m8%[37m of [37m4[37m/[37m50[37m [37m1.606[37m/[37m18.469[37m[0m
[8;1f
[2K[37mâÂÂâÂÂâÂÂâ âÂÂ[37m [37mâÂÂâÂÂâÂÂ
[37m processed [37m13%[37m of [37m4[37m/[37m30[37m [37m1.606[37m/[37m10.748[37m[0m
[5;1f
[2K[37mâÂÂâÂÂâÂÂâÂÂâÂÂâ âÂÂ[37m [37mâÂÂâÂÂ
âÂÂ[37m processed [37m25%[37m of [37m5[37m/[37m20[37m [37m2.008[37m/[37m6.024[37m[0m
[6;1f
[2K[37mâÂÂâÂÂâÂÂâÂÂâÂÂâÂÂâÂÂâÂÂâÂÂâÂÂâ âÂÂ[37m [37mâÂÂâÂÂ
âÂÂ[37m processed [37m50%[37m of [37m5[37m/[37m10[37m [37m2.007[37m/[37m2.007[37m[0m
[7;1f
[2K[37mâÂÂâÂÂâ âÂÂ[37m [37mâÂÂâÂÂ
âÂÂ[37m processed [37m10%[37m of [37m5[37m/[37m50[37m [37m2.007[37m/[37m18.063[37m[0m
[8;1f
[2K[37mâÂÂâÂÂâÂÂâ âÂÂ[37m [37mâÂÂâÂÂ
âÂÂ[37m processed [37m16%[37m of [37m5[37m/[37m30[37m [37m2.007[37m/[37m10.537[37m[0m
[5;1f
[2K[37mâÂÂâÂÂâÂÂâÂÂâÂÂâÂÂâ âÂÂ[37m [37mâÂÂâÂÂâÂÂ
[37m processed [37m30%[37m of [37m6[37m/[37m20[37m [37m2.409[37m/[37m5.621[37m[0m
[6;1f
[2K[37mâÂÂâÂÂâÂÂâÂÂâÂÂâÂÂâÂÂâÂÂâÂÂâÂÂâÂÂâÂÂâ âÂÂ[37m [37mâÂÂâÂÂâÂÂ
[37m processed [37m60%[37m of [37m6[37m/[37m10[37m [37m2.408[37m/[37m1.605[37m[0m
[7;1f
[2K[37mâÂÂâÂÂâ âÂÂ[37m [37mâÂÂâÂÂâÂÂ
[37m processed [37m12%[37m of [37m6[37m/[37m50[37m [37m2.409[37m/[37m17.666[37m[0m
[8;1f
[2K[37mâÂÂâÂÂâÂÂâÂÂâ âÂÂ[37m [37mâÂÂâÂÂâÂÂ
[37m processed [37m20%[37m of [37m6[37m/[37m30[37m [37m2.409[37m/[37m9.636[37m[0m
[5;1f
[2K[37mâÂÂâÂÂâÂÂâÂÂâÂÂâÂÂâÂÂâ âÂÂ[37m [37mâÂÂâÂÂ
âÂÂ[37m processed [37m35%[37m of [37m7[37m/[37m20[37m [37m2.811[37m/[37m5.22[37m[0m
[6;1f
[2K[37mâÂÂâÂÂâÂÂâÂÂâÂÂâÂÂâÂÂâÂÂâÂÂâÂÂâÂÂâÂÂâÂÂâÂÂâ âÂÂ[37m [37mâÂÂâÂÂ
âÂÂ[37m processed [37m70%[37m of [37m7[37m/[37m10[37m [37m2.81[37m/[37m1.204[37m[0m
[7;1f
[2K[37mâÂÂâÂÂâÂÂâ âÂÂ[37m [37mâÂÂâÂÂ
âÂÂ[37m processed [37m14%[37m of [37m7[37m/[37m50[37m [37m2.81[37m/[37m17.261[37m[0m
[8;1f
[2K[37mâÂÂâÂÂâÂÂâÂÂâÂÂâ âÂÂ[37m [37mâÂÂâÂÂ
âÂÂ[37m processed [37m23%[37m of [37m7[37m/[37m30[37m [37m2.81[37m/[37m9.407[37m[0m
[5;1f
[2K[37mâÂÂâÂÂâÂÂâÂÂâÂÂâÂÂâÂÂâÂÂâ âÂÂ[37m [37mâÂÂâÂÂâÂÂ
[37m processed [37m40%[37m of [37m8[37m/[37m20[37m [37m3.212[37m/[37m4.818[37m[0m
[6;1f
[2K[37mâÂÂâÂÂâÂÂâÂÂâÂÂâÂÂâÂÂâÂÂâÂÂâÂÂâÂÂâÂÂâÂÂâÂÂâÂÂâÂÂâ âÂÂ[37m [37mâÂÂâÂÂâÂÂ
[37m processed [37m80%[37m of [37m8[37m/[37m10[37m [37m3.212[37m/[37m0.803[37m[0m
[7;1f
[2K[37mâÂÂâÂÂâÂÂâ âÂÂ[37m [37mâÂÂâÂÂâÂÂ
[37m processed [37m16%[37m of [37m8[37m/[37m50[37m [37m3.212[37m/[37m16.863[37m[0m
[8;1f
[2K[37mâÂÂâÂÂâÂÂâÂÂâÂÂâ âÂÂ[37m [37mâÂÂâÂÂâÂÂ
[37m processed [37m26%[37m of [37m8[37m/[37m30[37m [37m3.212[37m/[37m9.142[37m[0m
[5;1f
[2K[37mâÂÂâÂÂâÂÂâÂÂâÂÂâÂÂâÂÂâÂÂâÂÂâ âÂÂ[37m [37mâÂÂâÂÂ
âÂÂ[37m processed [37m45%[37m of [37m9[37m/[37m20[37m [37m3.614[37m/[37m4.417[37m[0m
[6;1f
[2K[37mâÂÂâÂÂâÂÂâÂÂâÂÂâÂÂâÂÂâÂÂâÂÂâÂÂâÂÂâÂÂâÂÂâÂÂâÂÂâÂÂâÂÂâÂÂâ âÂÂ[37m [37mâÂÂâÂÂ
âÂÂ[37m processed [37m90%[37m of [37m9[37m/[37m10[37m [37m3.613[37m/[37m0.401[37m[0m
[7;1f
[2K[37mâÂÂâÂÂâÂÂâÂÂâ âÂÂ[37m [37mâÂÂâÂÂ
âÂÂ[37m processed [37m18%[37m of [37m9[37m/[37m50[37m [37m3.613[37m/[37m16.459[37m[0m
[8;1f
[2K[37mâÂÂâÂÂâÂÂâÂÂâÂÂâÂÂâ âÂÂ[37m [37mâÂÂâÂÂ
âÂÂ[37m processed [37m30%[37m of [37m9[37m/[37m30[37m [37m3.614[37m/[37m8.433[37m[0m
[5;1f
[2K[37mâÂÂâÂÂâÂÂâÂÂâÂÂâÂÂâÂÂâÂÂâÂÂâÂÂâ âÂÂ[37m [37mâÂÂâÂÂâÂÂ
[37m processed [37m50%[37m of [37m10[37m/[37m20[37m [37m4.015[37m/[37m4.015[37m[0m
[6;1f
[2K[37mâÂÂâÂÂâÂÂâÂÂâÂÂâÂÂâÂÂâÂÂâÂÂâÂÂâÂÂâÂÂâÂÂâÂÂâÂÂâÂÂâÂÂâÂÂâÂÂâÂÂâÂÂâÂÂ[37m [37mâÂÂâÂÂâÂÂ
[37m processed [37m100%[37m of [37m10[37m/[37m10[37m [37m4.015[37m/[37m0[37m[0m
[7;1f
[2K[37mâÂÂâÂÂâÂÂâÂÂâ âÂÂ[37m [37mâÂÂâÂÂâÂÂ
[37m processed [37m20%[37m of [37m10[37m/[37m50[37m [37m4.015[37m/[37m16.06[37m[0m
[8;1f
[2K[37mâÂÂâÂÂâÂÂâÂÂâÂÂâÂÂâÂÂâ âÂÂ[37m [37mâÂÂâÂÂâÂÂ
[37m processed [37m33%[37m of [37m10[37m/[37m30[37m [37m4.015[37m/[37m8.152[37m[0m
[5;1f
[2K[37mâÂÂâÂÂâÂÂâÂÂâÂÂâÂÂâÂÂâÂÂâÂÂâÂÂâÂÂâ âÂÂ[37m [37mâÂÂ
âÂÂâÂÂ[37m processed [37m55%[37m of [37m11[37m/[37m20[37m [37m4.217[37m/[37m3.45[37m[0m
[7;1f
[2K[37mâÂÂâÂÂâÂÂâÂÂâ âÂÂ[37m [37mâÂÂ
âÂÂâÂÂ[37m processed [37m20%[37m of [37m10[37m/[37m50[37m [37m4.216[37m/[37m16.864[37m[0m
[8;1f
[2K[37mâÂÂâÂÂâÂÂâÂÂâÂÂâÂÂâÂÂâ âÂÂ[37m [37mâÂÂ
âÂÂâÂÂ[37m processed [37m36%[37m of [37m11[37m/[37m30[37m [37m4.216[37m/[37m7.495[37m[0m
[5;1f
[2K[37mâÂÂâÂÂâÂÂâÂÂâÂÂâÂÂâÂÂâÂÂâÂÂâÂÂâÂÂâÂÂâ âÂÂ[37m [37mâÂÂâÂÂâÂÂ[37m processed [37m60%[37m of [37m12[37m/[37m20[37m [37m4.518[37m/[37m3.012[37m[0m
[7;1f
[2K[37mâÂÂâÂÂâÂÂâÂÂâ âÂÂ[37m [37mâÂÂâÂÂâÂÂ[37m processed [37m22%[37m of [37m11[37m/[37m50[37m [37m4.517[37m/[37m16.015[37m[0m
[8;1f
[2K[37mâÂÂâÂÂâÂÂâÂÂâÂÂâÂÂâÂÂâÂÂâ âÂÂ[37m [37mâÂÂâÂÂâÂÂ[37m processed [37m40%[37m of [37m12[37m/[37m30[37m [37m4.517[37m/[37m6.776[37m[0m
[5;1f
[2K[37mâÂÂâÂÂâÂÂâÂÂâÂÂâÂÂâÂÂâÂÂâÂÂâÂÂâÂÂâÂÂâÂÂâ âÂÂ[37m [37mâÂÂâÂÂâÂÂ
[37m processed [37m65%[37m of [37m13[37m/[37m20[37m [37m4.819[37m/[37m2.595[37m[0m
[7;1f
[2K[37mâÂÂâÂÂâÂÂâÂÂâÂÂâ âÂÂ[37m [37mâÂÂâÂÂâÂÂ
[37m processed [37m24%[37m of [37m12[37m/[37m50[37m [37m4.818[37m/[37m15.257[37m[0m
[8;1f
[2K[37mâÂÂâÂÂâÂÂâÂÂâÂÂâÂÂâÂÂâÂÂâÂÂâ âÂÂ[37m [37mâÂÂâÂÂâÂÂ
[37m processed [37m43%[37m of [37m13[37m/[37m30[37m [37m4.819[37m/[37m6.388[37m[0m
[5;1f
[2K[37mâÂÂâÂÂâÂÂâÂÂâÂÂâÂÂâÂÂâÂÂâÂÂâÂÂâÂÂâÂÂâÂÂâÂÂâ âÂÂ[37m [37mâÂÂâÂÂâÂÂ[37m processed [37m70%[37m of [37m14[37m/[37m20[37m [37m5.12[37m/[37m2.194[37m[0m
[7;1f
[2K[37mâÂÂâÂÂâÂÂâÂÂâÂÂâ âÂÂ[37m [37mâÂÂâÂÂâÂÂ[37m processed [37m26%[37m of [37m13[37m/[37m50[37m [37m5.12[37m/[37m14.572[37m[0m
[8;1f
[2K[37mâÂÂâÂÂâÂÂâÂÂâÂÂâÂÂâÂÂâÂÂâÂÂâ âÂÂ[37m [37mâÂÂâÂÂâÂÂ[37m processed [37m46%[37m of [37m14[37m/[37m30[37m [37m5.12[37m/[37m6.01[37m[0m
[5;1f
[2K[37mâÂÂâÂÂâÂÂâÂÂâÂÂâÂÂâÂÂâÂÂâÂÂâÂÂâÂÂâÂÂâÂÂâÂÂâÂÂâ âÂÂ[37m [37mâÂÂâÂÂâÂÂ[37m processed [37m75%[37m of [37m15[37m/[37m20[37m [37m5.422[37m/[37m1.807[37m[0m
[7;1f
[2K[37mâÂÂâÂÂâÂÂâÂÂâÂÂâÂÂâ âÂÂ[37m [37mâÂÂâÂÂâÂÂ[37m processed [37m28%[37m of [37m14[37m/[37m50[37m [37m5.421[37m/[37m13.94[37m[0m
[8;1f
[2K[37mâÂÂâÂÂâÂÂâÂÂâÂÂâÂÂâÂÂâÂÂâÂÂâÂÂâ âÂÂ[37m [37mâÂÂâÂÂâÂÂ[37m processed [37m50%[37m of [37m15[37m/[37m30[37m [37m5.421[37m/[37m5.421[37m[0m
[5;1f
[2K[37mâÂÂâÂÂâÂÂâÂÂâÂÂâÂÂâÂÂâÂÂâÂÂâÂÂâÂÂâÂÂâÂÂâÂÂâÂÂâÂÂâ âÂÂ[37m [37mâÂÂâÂÂâÂÂ[37m processed [37m80%[37m of [37m16[37m/[37m20[37m [37m5.723[37m/[37m1.431[37m[0m
[7;1f
[2K[37mâÂÂâÂÂâÂÂâÂÂâÂÂâÂÂâ âÂÂ[37m [37mâÂÂâÂÂâÂÂ[37m processed [37m30%[37m of [37m15[37m/[37m50[37m [37m5.722[37m/[37m13.351[37m[0m
[8;1f
[2K[37mâÂÂâÂÂâÂÂâÂÂâÂÂâÂÂâÂÂâÂÂâÂÂâÂÂâÂÂâ âÂÂ[37m [37mâÂÂâÂÂâÂÂ[37m processed [37m53%[37m of [37m16[37m/[37m30[37m [37m5.722[37m/[37m5.074[37m[0m
[5;1f
[2K[37mâÂÂâÂÂâÂÂâÂÂâÂÂâÂÂâÂÂâÂÂâÂÂâÂÂâÂÂâÂÂâÂÂâÂÂâÂÂâÂÂâÂÂâ âÂÂ[37m [37mâÂÂâÂÂ
âÂÂ[37m processed [37m85%[37m of [37m17[37m/[37m20[37m [37m6.024[37m/[37m1.063[37m[0m
[7;1f
[2K[37mâÂÂâÂÂâÂÂâÂÂâÂÂâÂÂâ âÂÂ[37m [37mâÂÂâÂÂ
âÂÂ[37m processed [37m32%[37m of [37m16[37m/[37m50[37m [37m6.023[37m/[37m12.799[37m[0m
[8;1f
[2K[37mâÂÂâÂÂâÂÂâÂÂâÂÂâÂÂâÂÂâÂÂâÂÂâÂÂâÂÂâ âÂÂ[37m [37mâÂÂâÂÂ
âÂÂ[37m processed [37m56%[37m of [37m17[37m/[37m30[37m [37m6.024[37m/[37m4.733[37m[0m
[5;1f
[2K[37mâÂÂâÂÂâÂÂâÂÂâÂÂâÂÂâÂÂâÂÂâÂÂâÂÂâÂÂâÂÂâÂÂâÂÂâÂÂâÂÂâÂÂâÂÂâ âÂÂ[37m [37mâÂÂâÂÂâÂÂ[37m processed [37m90%[37m of [37m18[37m/[37m20[37m [37m6.325[37m/[37m0.703[37m[0m
[7;1f
[2K[37mâÂÂâÂÂâÂÂâÂÂâÂÂâÂÂâÂÂâ âÂÂ[37m [37mâÂÂâÂÂâÂÂ[37m processed [37m34%[37m of [37m17[37m/[37m50[37m [37m6.324[37m/[37m12.276[37m[0m
[8;1f
[2K[37mâÂÂâÂÂâÂÂâÂÂâÂÂâÂÂâÂÂâÂÂâÂÂâÂÂâÂÂâÂÂâ âÂÂ[37m [37mâÂÂâÂÂâÂÂ[37m processed [37m60%[37m of [37m18[37m/[37m30[37m [37m6.325[37m/[37m4.217[37m[0m
[5;1f
[2K[37mâÂÂâÂÂâÂÂâÂÂâÂÂâÂÂâÂÂâÂÂâÂÂâÂÂâÂÂâÂÂâÂÂâÂÂâÂÂâÂÂâÂÂâÂÂâÂÂâ âÂÂ[37m [37mâÂÂ
âÂÂâÂÂ[37m processed [37m95%[37m of [37m19[37m/[37m20[37m [37m6.626[37m/[37m0.349[37m[0m
[7;1f
[2K[37mâÂÂâÂÂâÂÂâÂÂâÂÂâÂÂâÂÂâ âÂÂ[37m [37mâÂÂ
âÂÂâÂÂ[37m processed [37m36%[37m of [37m18[37m/[37m50[37m [37m6.626[37m/[37m11.78[37m[0m
[8;1f
[2K[37mâÂÂâÂÂâÂÂâÂÂâÂÂâÂÂâÂÂâÂÂâÂÂâÂÂâÂÂâÂÂâÂÂâ âÂÂ[37m [37mâÂÂ
âÂÂâÂÂ[37m processed [37m63%[37m of [37m19[37m/[37m30[37m [37m6.626[37m/[37m3.891[37m[0m
[5;1f
[2K[37mâÂÂâÂÂâÂÂâÂÂâÂÂâÂÂâÂÂâÂÂâÂÂâÂÂâÂÂâÂÂâÂÂâÂÂâÂÂâÂÂâÂÂâÂÂâÂÂâÂÂâÂÂâÂÂ[37m [37mâÂÂâÂÂâÂÂ[37m processed [37m100%[37m of [37m20[37m/[37m20[37m [37m6.928[37m/[37m0[37m[0m
[7;1f
[2K[37mâÂÂâÂÂâÂÂâÂÂâÂÂâÂÂâÂÂâÂÂâ âÂÂ[37m [37mâÂÂâÂÂâÂÂ[37m processed [37m38%[37m of [37m19[37m/[37m50[37m [37m6.927[37m/[37m11.302[37m[0m
[8;1f
[2K[37mâÂÂâÂÂâÂÂâÂÂâÂÂâÂÂâÂÂâÂÂâÂÂâÂÂâÂÂâÂÂâÂÂâ âÂÂ[37m [37mâÂÂâÂÂâÂÂ[37m processed [37m66%[37m of [37m20[37m/[37m30[37m [37m6.927[37m/[37m3.568[37m[0m
[7;1f
[2K[37mâÂÂâÂÂâÂÂâÂÂâÂÂâÂÂâÂÂâÂÂâ âÂÂ[37m [37mâÂÂâÂÂâÂÂ[37m processed [37m38%[37m of [37m19[37m/[37m50[37m [37m7.028[37m/[37m11.467[37m[0m
[8;1f
[2K[37mâÂÂâÂÂâÂÂâÂÂâÂÂâÂÂâÂÂâÂÂâÂÂâÂÂâÂÂâÂÂâÂÂâÂÂâ âÂÂ[37m [37mâÂÂâÂÂâÂÂ[37m processed [37m70%[37m of [37m21[37m/[37m30[37m [37m7.028[37m/[37m3.012[37m[0m
[7;1f
[2K[37mâÂÂâÂÂâÂÂâÂÂâÂÂâÂÂâÂÂâÂÂâ âÂÂ[37m [37mâÂÂâÂÂâÂÂ
[37m processed [37m40%[37m of [37m20[37m/[37m50[37m [37m7.228[37m/[37m10.842[37m[0m
[8;1f
[2K[37mâÂÂâÂÂâÂÂâÂÂâÂÂâÂÂâÂÂâÂÂâÂÂâÂÂâÂÂâÂÂâÂÂâÂÂâÂÂâ âÂÂ[37m [37mâÂÂâÂÂâÂÂ
[37m processed [37m73%[37m of [37m22[37m/[37m30[37m [37m7.229[37m/[37m2.674[37m[0m
[7;1f
[2K[37mâÂÂâÂÂâÂÂâÂÂâÂÂâÂÂâÂÂâÂÂâ âÂÂ[37m [37mâÂÂ
âÂÂâÂÂ[37m processed [37m42%[37m of [37m21[37m/[37m50[37m [37m7.429[37m/[37m10.259[37m[0m
[8;1f
[2K[37mâÂÂâÂÂâÂÂâÂÂâÂÂâÂÂâÂÂâÂÂâÂÂâÂÂâÂÂâÂÂâÂÂâÂÂâÂÂâ âÂÂ[37m [37mâÂÂ
âÂÂâÂÂ[37m processed [37m76%[37m of [37m23[37m/[37m30[37m [37m7.43[37m/[37m2.346[37m[0m
[7;1f
[2K[37mâÂÂâÂÂâÂÂâÂÂâÂÂâÂÂâÂÂâÂÂâÂÂâ âÂÂ[37m [37mâÂÂâÂÂ
âÂÂ[37m processed [37m44%[37m of [37m22[37m/[37m50[37m [37m7.63[37m/[37m9.711[37m[0m
[8;1f
[2K[37mâÂÂâÂÂâÂÂâÂÂâÂÂâÂÂâÂÂâÂÂâÂÂâÂÂâÂÂâÂÂâÂÂâÂÂâÂÂâÂÂâ âÂÂ[37m [37mâÂÂâÂÂ
âÂÂ[37m processed [37m80%[37m of [37m24[37m/[37m30[37m [37m7.63[37m/[37m1.907[37m[0m
[7;1f
[2K[37mâÂÂâÂÂâÂÂâÂÂâÂÂâÂÂâÂÂâÂÂâÂÂâ âÂÂ[37m [37mâÂÂâÂÂâÂÂ[37m processed [37m46%[37m of [37m23[37m/[37m50[37m [37m7.831[37m/[37m9.193[37m[0m
[8;1f
[2K[37mâÂÂâÂÂâÂÂâÂÂâÂÂâÂÂâÂÂâÂÂâÂÂâÂÂâÂÂâÂÂâÂÂâÂÂâÂÂâÂÂâÂÂâ âÂÂ[37m [37mâÂÂâÂÂâÂÂ[37m processed [37m83%[37m of [37m25[37m/[37m30[37m [37m7.831[37m/[37m1.604[37m[0m
[7;1f
[2K[37mâÂÂâÂÂâÂÂâÂÂâÂÂâÂÂâÂÂâÂÂâÂÂâÂÂâ âÂÂ[37m [37mâÂÂâÂÂâÂÂ
[37m processed [37m48%[37m of [37m24[37m/[37m50[37m [37m8.032[37m/[37m8.701[37m[0m
[8;1f
[2K[37mâÂÂâÂÂâÂÂâÂÂâÂÂâÂÂâÂÂâÂÂâÂÂâÂÂâÂÂâÂÂâÂÂâÂÂâÂÂâÂÂâÂÂâ âÂÂ[37m [37mâÂÂâÂÂâÂÂ
[37m processed [37m86%[37m of [37m26[37m/[37m30[37m [37m8.032[37m/[37m1.308[37m[0m
[7;1f
[2K[37mâÂÂâÂÂâÂÂâÂÂâÂÂâÂÂâÂÂâÂÂâÂÂâÂÂâ âÂÂ[37m [37mâÂÂ
âÂÂâÂÂ[37m processed [37m50%[37m of [37m25[37m/[37m50[37m [37m8.233[37m/[37m8.233[37m[0m
[8;1f
[2K[37mâÂÂâÂÂâÂÂâÂÂâÂÂâÂÂâÂÂâÂÂâÂÂâÂÂâÂÂâÂÂâÂÂâÂÂâÂÂâÂÂâÂÂâÂÂâ âÂÂ[37m [37mâÂÂ
âÂÂâÂÂ[37m processed [37m90%[37m of [37m27[37m/[37m30[37m [37m8.233[37m/[37m0.915[37m[0m
[7;1f
[2K[37mâÂÂâÂÂâÂÂâÂÂâÂÂâÂÂâÂÂâÂÂâÂÂâÂÂâ âÂÂ[37m [37mâÂÂâÂÂ
âÂÂ[37m processed [37m52%[37m of [37m26[37m/[37m50[37m [37m8.434[37m/[37m7.785[37m[0m
[8;1f
[2K[37mâÂÂâÂÂâÂÂâÂÂâÂÂâÂÂâÂÂâÂÂâÂÂâÂÂâÂÂâÂÂâÂÂâÂÂâÂÂâÂÂâÂÂâÂÂâÂÂâ âÂÂ[37m [37mâÂÂâÂÂ
âÂÂ[37m processed [37m93%[37m of [37m28[37m/[37m30[37m [37m8.434[37m/[37m0.635[37m[0m
[7;1f
[2K[37mâÂÂâÂÂâÂÂâÂÂâÂÂâÂÂâÂÂâÂÂâÂÂâÂÂâÂÂâ âÂÂ[37m [37mâÂÂâÂÂâÂÂ[37m processed [37m54%[37m of [37m27[37m/[37m50[37m [37m8.635[37m/[37m7.356[37m[0m
[8;1f
[2K[37mâÂÂâÂÂâÂÂâÂÂâÂÂâÂÂâÂÂâÂÂâÂÂâÂÂâÂÂâÂÂâÂÂâÂÂâÂÂâÂÂâÂÂâÂÂâÂÂâ âÂÂ[37m [37mâÂÂâÂÂâÂÂ[37m processed [37m96%[37m of [37m29[37m/[37m30[37m [37m8.635[37m/[37m0.36[37m[0m
[7;1f
[2K[37mâÂÂâÂÂâÂÂâÂÂâÂÂâÂÂâÂÂâÂÂâÂÂâÂÂâÂÂâ âÂÂ[37m [37mâÂÂâÂÂâÂÂ
[37m processed [37m56%[37m of [37m28[37m/[37m50[37m [37m8.835[37m/[37m6.942[37m[0m
[8;1f
[2K[37mâÂÂâÂÂâÂÂâÂÂâÂÂâÂÂâÂÂâÂÂâÂÂâÂÂâÂÂâÂÂâÂÂâÂÂâÂÂâÂÂâÂÂâÂÂâÂÂâÂÂâÂÂâÂÂ[37m [37mâÂÂâÂÂâÂÂ
[37m processed [37m100%[37m of [37m30[37m/[37m30[37m [37m8.836[37m/[37m0[37m[0m
[7;1f
[2K[37mâÂÂâÂÂâÂÂâÂÂâÂÂâÂÂâÂÂâÂÂâÂÂâÂÂâÂÂâ âÂÂ[37m [37mâÂÂâÂÂâÂÂ[37m processed [37m57%[37m of [37m29[37m/[37m50[37m [37m8.936[37m/[37m6.741[37m[0m
[7;1f
[2K[37mâÂÂâÂÂâÂÂâÂÂâÂÂâÂÂâÂÂâÂÂâÂÂâÂÂâÂÂâÂÂâ âÂÂ[37m [37mâÂÂ
âÂÂâÂÂ[37m processed [37m60%[37m of [37m30[37m/[37m50[37m [37m9.037[37m/[37m6.025[37m[0m
[7;1f
[2K[37mâÂÂâÂÂâÂÂâÂÂâÂÂâÂÂâÂÂâÂÂâÂÂâÂÂâÂÂâÂÂâ âÂÂ[37m [37mâÂÂâÂÂâÂÂ[37m processed [37m62%[37m of [37m31[37m/[37m50[37m [37m9.137[37m/[37m5.6[37m[0m
[7;1f
[2K[37mâÂÂâÂÂâÂÂâÂÂâÂÂâÂÂâÂÂâÂÂâÂÂâÂÂâÂÂâÂÂâÂÂâ âÂÂ[37m [37mâÂÂâÂÂ
âÂÂ[37m processed [37m64%[37m of [37m32[37m/[37m50[37m [37m9.238[37m/[37m5.196[37m[0m
[7;1f
[2K[37mâÂÂâÂÂâÂÂâÂÂâÂÂâÂÂâÂÂâÂÂâÂÂâÂÂâÂÂâÂÂâÂÂâ âÂÂ[37m [37mâÂÂâÂÂâÂÂ[37m processed [37m66%[37m of [37m33[37m/[37m50[37m [37m9.338[37m/[37m4.81[37m[0m
[7;1f
[2K[37mâÂÂâÂÂâÂÂâÂÂâÂÂâÂÂâÂÂâÂÂâÂÂâÂÂâÂÂâÂÂâÂÂâÂÂâ âÂÂ[37m [37mâÂÂâÂÂâÂÂ[37m processed [37m68%[37m of [37m34[37m/[37m50[37m [37m9.439[37m/[37m4.442[37m[0m
[7;1f
[2K[37mâÂÂâÂÂâÂÂâÂÂâÂÂâÂÂâÂÂâÂÂâÂÂâÂÂâÂÂâÂÂâÂÂâÂÂâ âÂÂ[37m [37mâÂÂâÂÂâÂÂ[37m processed [37m70%[37m of [37m35[37m/[37m50[37m [37m9.539[37m/[37m4.088[37m[0m
[7;1f
[2K[37mâÂÂâÂÂâÂÂâÂÂâÂÂâÂÂâÂÂâÂÂâÂÂâÂÂâÂÂâÂÂâÂÂâÂÂâ âÂÂ[37m [37mâÂÂâÂÂâÂÂ
[37m processed [37m72%[37m of [37m36[37m/[37m50[37m [37m9.64[37m/[37m3.749[37m[0m
[7;1f
[2K[37mâÂÂâÂÂâÂÂâÂÂâÂÂâÂÂâÂÂâÂÂâÂÂâÂÂâÂÂâÂÂâÂÂâÂÂâÂÂâ âÂÂ[37m [37mâÂÂâÂÂâÂÂ[37m processed [37m74%[37m of [37m37[37m/[37m50[37m [37m9.74[37m/[37m3.422[37m[0m
[7;1f
[2K[37mâÂÂâÂÂâÂÂâÂÂâÂÂâÂÂâÂÂâÂÂâÂÂâÂÂâÂÂâÂÂâÂÂâÂÂâÂÂâ âÂÂ[37m [37mâÂÂ
âÂÂâÂÂ[37m processed [37m76%[37m of [37m38[37m/[37m50[37m [37m9.841[37m/[37m3.108[37m[0m
[7;1f
[2K[37mâÂÂâÂÂâÂÂâÂÂâÂÂâÂÂâÂÂâÂÂâÂÂâÂÂâÂÂâÂÂâÂÂâÂÂâÂÂâÂÂâ âÂÂ[37m [37mâÂÂâÂÂâÂÂ[37m processed [37m78%[37m of [37m39[37m/[37m50[37m [37m9.941[37m/[37m2.804[37m[0m
[7;1f
[2K[37mâÂÂâÂÂâÂÂâÂÂâÂÂâÂÂâÂÂâÂÂâÂÂâÂÂâÂÂâÂÂâÂÂâÂÂâÂÂâÂÂâ âÂÂ[37m [37mâÂÂâÂÂ
âÂÂ[37m processed [37m80%[37m of [37m40[37m/[37m50[37m [37m10.042[37m/[37m2.511[37m[0m
[7;1f
[2K[37mâÂÂâÂÂâÂÂâÂÂâÂÂâÂÂâÂÂâÂÂâÂÂâÂÂâÂÂâÂÂâÂÂâÂÂâÂÂâÂÂâ âÂÂ[37m [37mâÂÂâÂÂâÂÂ[37m processed [37m82%[37m of [37m41[37m/[37m50[37m [37m10.142[37m/[37m2.226[37m[0m
[7;1f
[2K[37mâÂÂâÂÂâÂÂâÂÂâÂÂâÂÂâÂÂâÂÂâÂÂâÂÂâÂÂâÂÂâÂÂâÂÂâÂÂâÂÂâÂÂâ âÂÂ[37m [37mâÂÂâÂÂâÂÂ[37m processed [37m84%[37m of [37m42[37m/[37m50[37m [37m10.243[37m/[37m1.951[37m[0m
[7;1f
[2K[37mâÂÂâÂÂâÂÂâÂÂâÂÂâÂÂâÂÂâÂÂâÂÂâÂÂâÂÂâÂÂâÂÂâÂÂâÂÂâÂÂâÂÂâ âÂÂ[37m [37mâÂÂâÂÂâÂÂ[37m processed [37m86%[37m of [37m43[37m/[37m50[37m [37m10.343[37m/[37m1.684[37m[0m
[7;1f
[2K[37mâÂÂâÂÂâÂÂâÂÂâÂÂâÂÂâÂÂâÂÂâÂÂâÂÂâÂÂâÂÂâÂÂâÂÂâÂÂâÂÂâÂÂâÂÂâ âÂÂ[37m [37mâÂÂâÂÂâÂÂ
[37m processed [37m88%[37m of [37m44[37m/[37m50[37m [37m10.444[37m/[37m1.424[37m[0m
[7;1f
[2K[37mâÂÂâÂÂâÂÂâÂÂâÂÂâÂÂâÂÂâÂÂâÂÂâÂÂâÂÂâÂÂâÂÂâÂÂâÂÂâÂÂâÂÂâÂÂâ âÂÂ[37m [37mâÂÂâÂÂâÂÂ[37m processed [37m90%[37m of [37m45[37m/[37m50[37m [37m10.544[37m/[37m1.172[37m[0m
[7;1f
[2K[37mâÂÂâÂÂâÂÂâÂÂâÂÂâÂÂâÂÂâÂÂâÂÂâÂÂâÂÂâÂÂâÂÂâÂÂâÂÂâÂÂâÂÂâÂÂâ âÂÂ[37m [37mâÂÂ
âÂÂâÂÂ[37m processed [37m92%[37m of [37m46[37m/[37m50[37m [37m10.645[37m/[37m0.926[37m[0m
[7;1f
[2K[37mâÂÂâÂÂâÂÂâÂÂâÂÂâÂÂâÂÂâÂÂâÂÂâÂÂâÂÂâÂÂâÂÂâÂÂâÂÂâÂÂâÂÂâÂÂâÂÂâ âÂÂ[37m [37mâÂÂâÂÂâÂÂ[37m processed [37m94%[37m of [37m47[37m/[37m50[37m [37m10.745[37m/[37m0.686[37m[0m
[7;1f
[2K[37mâÂÂâÂÂâÂÂâÂÂâÂÂâÂÂâÂÂâÂÂâÂÂâÂÂâÂÂâÂÂâÂÂâÂÂâÂÂâÂÂâÂÂâÂÂâÂÂâ âÂÂ[37m [37mâÂÂâÂÂ
âÂÂ[37m processed [37m96%[37m of [37m48[37m/[37m50[37m [37m10.846[37m/[37m0.452[37m[0m
[7;1f
[2K[37mâÂÂâÂÂâÂÂâÂÂâÂÂâÂÂâÂÂâÂÂâÂÂâÂÂâÂÂâÂÂâÂÂâÂÂâÂÂâÂÂâÂÂâÂÂâÂÂâÂÂâÂÂâÂÂ[37m [37mâÂÂâÂÂâÂÂ[37m processed [37m98%[37m of [37m49[37m/[37m50[37m [37m10.946[37m/[37m0.223[37m[0m
t/02-multiple.t ... ok
[7;1f
[2K[37mâÂÂâÂÂâÂÂâÂÂâÂÂâÂÂâÂÂâÂÂâÂÂâÂÂâÂÂâÂÂâÂÂâÂÂâÂÂâÂÂâÂÂâÂÂâÂÂâÂÂâÂÂâÂÂ[37m [37mâÂÂâÂÂâÂÂ[37m processed [37m100%[37m of [37m50[37m/[37m50[37m [37m11.046[37m/[37m0[37m[0m
[?25ht/manifest.t ...... skipped: Author tests not required for installation
t/pod-coverage.t .. skipped: Author tests not required for installation
t/pod.t ........... skipped: Author tests not required for installation
All tests successful.
Files=6, Tests=3, 54 wallclock secs ( 0.05 usr 0.01 sys + 0.51 cusr 0.04 csys = 0.61 CPU)
Result: PASS
PREREQUISITES:
Here is a list of prerequisites you specified and versions we
managed to load:
Module Name Have Want
ExtUtils::MakeMaker 7.74 0
IO::Handle 1.55 0
Term::ANSIColor 5.01 5.01
Term::Size::Any 0.002 0.002
Test::More 1.302210 0
Time::HiRes 1.9777 0
Perl module toolchain versions installed:
Module Name Have
CPANPLUS 0.9916
CPANPLUS::Dist::Build 0.90
Cwd 3.90
ExtUtils::CBuilder 0.280240
ExtUtils::Command 7.74
ExtUtils::Install 2.22
ExtUtils::MakeMaker 7.74
ExtUtils::Manifest 1.75
ExtUtils::ParseXS 3.51
File::Spec 3.90
Module::Build 0.4234
Pod::Parser 0
Pod::Simple 3.45
Test2 1.302210
Test::Harness 3.50
Test::More 1.302210
version 0.9933
******************************** NOTE ********************************
The comments above are created mechanically, possibly without manual
checking by the sender. As there are many people performing automatic
tests on each upload to CPAN, it is likely that you will receive
identical messages about the same problem.
If you believe that the message is mistaken, please reply to the first
one with correction and/or additional informations, and do not take
it personally. We appreciate your patience. :)
**********************************************************************
Additional comments:
This report was machine-generated by CPANPLUS::Dist::YACSmoke 1.08.
Powered by minismokebox version 0.68
CPANPLUS is prefering Build.PL
------------------------------
ENVIRONMENT AND OTHER CONTEXT
------------------------------
Environment variables:
AUTOMATED_TESTING = 1
LANG = en_GB.UTF-8
LANGUAGE = en_GB:en
NONINTERACTIVE_TESTING = 1
PATH = /usr/local/bin:/usr/bin:/bin:/usr/local/games:/usr/games
PERL5LIB = /home/cpan/pit/jail/4cA5EoRAaL/lib/perl5:/home/cpan/pit/64bit/conf/perl-5.40.0/.cpanplus/5.40.0/build/RLNdhnua8Y/Term-ProgressSpinner-1.01/blib/lib:/home/cpan/pit/64bit/conf/perl-5.40.0/.cpanplus/5.40.0/build/RLNdhnua8Y/Term-ProgressSpinner-1.01/blib/arch
PERL5_CPANPLUS_IS_RUNNING = 28242
PERL5_CPANPLUS_IS_VERSION = 0.9916
PERL5_MINISMOKEBOX = 0.68
PERL5_YACSMOKE_BASE = /home/cpan/pit/64bit/conf/perl-5.40.0
PERL_EXTUTILS_AUTOINSTALL = --defaultdeps
PERL_LOCAL_LIB_ROOT = /home/cpan/pit/jail/4cA5EoRAaL
PERL_MB_OPT = --install_base "/home/cpan/pit/jail/4cA5EoRAaL"
PERL_MM_OPT = INSTALL_BASE=/home/cpan/pit/jail/4cA5EoRAaL
PERL_MM_USE_DEFAULT = 1
PERL_USE_UNSAFE_INC = 1
SHELL = /bin/bash
TERM = screen.xterm-256color
Perl special variables (and OS-specific diagnostics, for MSWin32):
Perl: $^X = /home/cpan/pit/64bit/perl-5.40.0/bin/perl
UID: $< = 1001
EUID: $> = 1001
GID: $( = 1001 1001
EGID: $) = 1001 1001
-------------------------------
--
Summary of my perl5 (revision 5 version 40 subversion 0) configuration:
Platform:
osname=linux
osvers=6.1.0-21-686
archname=i686-linux-64int
uname='linux dagobah 6.1.0-21-686 #1 smp preempt_dynamic debian 6.1.90-1 (2024-05-03) i686 gnulinux '
config_args='-des -Dprefix=/home/cpan/pit/64bit/perl-5.40.0 -Duse64bitint'
hint=recommended
useposix=true
d_sigaction=define
useithreads=undef
usemultiplicity=undef
use64bitint=define
use64bitall=undef
uselongdouble=undef
usemymalloc=n
default_inc_excludes_dot=define
Compiler:
cc='cc'
ccflags ='-fwrapv -fno-strict-aliasing -pipe -fstack-protector-strong -I/usr/local/include -D_LARGEFILE_SOURCE -D_FILE_OFFSET_BITS=64 -D_FORTIFY_SOURCE=2'
optimize='-O2'
cppflags='-fwrapv -fno-strict-aliasing -pipe -fstack-protector-strong -I/usr/local/include'
ccversion=''
gccversion='12.2.0'
gccosandvers=''
intsize=4
longsize=4
ptrsize=4
doublesize=8
byteorder=12345678
doublekind=3
d_longlong=define
longlongsize=8
d_longdbl=define
longdblsize=12
longdblkind=3
ivtype='long long'
ivsize=8
nvtype='double'
nvsize=8
Off_t='off_t'
lseeksize=8
alignbytes=4
prototype=define
Linker and Libraries:
ld='cc'
ldflags =' -fstack-protector-strong -L/usr/local/lib'
libpth=/usr/local/lib /usr/lib/i386-linux-gnu /usr/lib
libs=-lpthread -lgdbm -ldl -lm -lcrypt -lutil -lc
perllibs=-lpthread -ldl -lm -lcrypt -lutil -lc
libc=/lib/i386-linux-gnu/libc.so.6
so=so
useshrplib=false
libperl=libperl.a
gnulibc_version='2.36'
Dynamic Linking:
dlsrc=dl_dlopen.xs
dlext=so
d_dlsymun=undef
ccdlflags='-Wl,-E'
cccdlflags='-fPIC'
lddlflags='-shared -O2 -L/usr/local/lib -fstack-protector-strong'
Characteristics of this binary (from libperl):
Compile-time options:
HAS_LONG_DOUBLE
HAS_STRTOLD
HAS_TIMES
PERLIO_LAYERS
PERL_COPY_ON_WRITE
PERL_DONT_CREATE_GVSV
PERL_HASH_FUNC_SIPHASH13
PERL_HASH_USE_SBOX32
PERL_MALLOC_WRAP
PERL_OP_PARENT
PERL_PRESERVE_IVUV
PERL_USE_SAFE_PUTENV
USE_64_BIT_INT
USE_LARGE_FILES
USE_LOCALE
USE_LOCALE_COLLATE
USE_LOCALE_CTYPE
USE_LOCALE_NUMERIC
USE_LOCALE_TIME
USE_PERLIO
USE_PERL_ATOF
Built under linux
Compiled at Jun 11 2024 12:13:26
%ENV:
PERL5LIB="/home/cpan/pit/jail/4cA5EoRAaL/lib/perl5:/home/cpan/pit/64bit/conf/perl-5.40.0/.cpanplus/5.40.0/build/RLNdhnua8Y/Term-ProgressSpinner-1.01/blib/lib:/home/cpan/pit/64bit/conf/perl-5.40.0/.cpanplus/5.40.0/build/RLNdhnua8Y/Term-ProgressSpinner-1.01/blib/arch"
PERL5_CPANPLUS_IS_RUNNING="28242"
PERL5_CPANPLUS_IS_VERSION="0.9916"
PERL5_MINISMOKEBOX="0.68"
PERL5_YACSMOKE_BASE="/home/cpan/pit/64bit/conf/perl-5.40.0"
PERL_EXTUTILS_AUTOINSTALL="--defaultdeps"
PERL_LOCAL_LIB_ROOT="/home/cpan/pit/jail/4cA5EoRAaL"
PERL_MB_OPT="--install_base "/home/cpan/pit/jail/4cA5EoRAaL""
PERL_MM_OPT="INSTALL_BASE=/home/cpan/pit/jail/4cA5EoRAaL"
PERL_MM_USE_DEFAULT="1"
PERL_USE_UNSAFE_INC="1"
@INC:
/home/cpan/pit/jail/4cA5EoRAaL/lib/perl5/5.40.0/i686-linux-64int
/home/cpan/pit/jail/4cA5EoRAaL/lib/perl5/5.40.0
/home/cpan/pit/jail/4cA5EoRAaL/lib/perl5/i686-linux-64int
/home/cpan/pit/jail/4cA5EoRAaL/lib/perl5
/home/cpan/pit/64bit/conf/perl-5.40.0/.cpanplus/5.40.0/build/RLNdhnua8Y/Term-ProgressSpinner-1.01/blib/lib
/home/cpan/pit/64bit/conf/perl-5.40.0/.cpanplus/5.40.0/build/RLNdhnua8Y/Term-ProgressSpinner-1.01/blib/arch
/home/cpan/pit/64bit/perl-5.40.0/lib/site_perl/5.40.0/i686-linux-64int
/home/cpan/pit/64bit/perl-5.40.0/lib/site_perl/5.40.0
/home/cpan/pit/64bit/perl-5.40.0/lib/5.40.0/i686-linux-64int
/home/cpan/pit/64bit/perl-5.40.0/lib/5.40.0
.