Report for Dancer-Plugin-REST-0.11

Back
From: metabase:user:a0e144f2-373b-11e6-8edd-c6848980b093
Subject: PASS Dancer-Plugin-REST-0.11 v5.25.6 GNU/Linux
Date: 2016-10-13T00:06:33Z

This distribution has been tested as part of the CPAN Testers
project, supporting the Perl programming language.  See
http://wiki.cpantesters.org/ for more information or email
questions to cpan-testers-discuss@perl.org


--
Dear Yanick Champoux,

This is a computer-generated report for Dancer-Plugin-REST-0.11
on perl 5.25.6, created by CPAN-Reporter-1.2018.

Thank you for uploading your work to CPAN.  Congratulations!
All tests were successful.

Sections of this report:

    * Tester comments
    * Program output
    * Prerequisites
    * Environment and other context

------------------------------
TESTER COMMENTS
------------------------------

Additional comments from tester:

this report is from an automated smoke testing program
and was not reviewed by a human for accuracy

------------------------------
PROGRAM OUTPUT
------------------------------

Output from './Build test':

# 
# 
# Generated by Dist::Zilla::Plugin::ReportVersions::Tiny v1.10
# perl: 5.025006 (wanted 5.006) on linux from /home/cpan2/install/bin/perl
# 
# Carp                                          => 1.42       (want any version)
# Dancer                                        => 1.3202     (want 1.3111) 
# Dancer::ModuleLoader                          => 1.3202     (want any version)
# Dancer::Plugin                                => 1.3202     (want any version)
# Dancer::Test                                  => 1.3202     (want any version)
# File::Spec                                    => 3.65       (want any version)
# HTTP::Headers                                 => 6.11       (want any version)
# IO::Handle                                    => 1.35       (want any version)
# IPC::Open3                                    => 1.20       (want any version)
# Module::Build                                 => 0.422      (want 0.3601) 
# Test::More                                    => 1.302059   (want 0.88)   
# strict                                        => 1.11       (want any version)
# warnings                                      => 1.37       (want any version)
# 
# Thanks for using my code.  I hope it works for you.
# If not, please try and include this output in the bug report.
# That will help me reproduce the issue and solve your problem.
# 
t/00-compile.t ........................ ok
t/01_base.t ........................... ok
t/03_resource.t ....................... ok
t/000-report-versions-tiny.t .......... ok
t/02_prepare_serializer_for_format.t .. ok
t/04_helpers.t ........................ ok
t/default-serializer.t ................ ok
t/05_serializer_and_resource.t ........ ok
t/two-posts.t ......................... ok
t/04_plugin_settings.t ................ ok
All tests successful.
Files=10, Tests=50,  1 wallclock secs ( 0.05 usr  0.02 sys +  3.94 cusr  0.19 csys =  4.20 CPU)
Result: PASS

------------------------------
PREREQUISITES
------------------------------

Prerequisite modules loaded:

requires:

    Module               Need   Have    
    -------------------- ------ --------
    Carp                 0      1.42    
    Dancer               1.3111 1.3202  
    Dancer::Plugin       0      1.3202  
    strict               0      1.11    
    warnings             0      1.37    

build_requires:

    Module               Need   Have    
    -------------------- ------ --------
    Dancer::ModuleLoader 0      1.3202  
    Dancer::Test         0      1.3202  
    File::Spec           0      3.65    
    HTTP::Headers        0      6.11    
    IO::Handle           0      1.35    
    IPC::Open3           0      1.20    
    Module::Build        0.3601 0.4220  
    perl                 5.006  5.025006
    Test::More           0.88   1.302059

configure_requires:

    Module               Need   Have    
    -------------------- ------ --------
    Module::Build        0.3601 0.4220  


------------------------------
ENVIRONMENT AND OTHER CONTEXT
------------------------------

Environment variables:

    AUTOMATED_TESTING = 1
    HARNESS_OPTIONS = j5
    LANG = en_US.UTF-8
    PATH = /usr/local/bin:/usr/bin:/bin:/usr/local/games:/usr/games
    PERL5LIB = 
    PERL5OPT = 
    PERL5_CPANPLUS_IS_RUNNING = 11413
    PERL5_CPAN_IS_RUNNING = 11413
    PERL5_CPAN_IS_RUNNING_IN_RECURSION = 12222,11413
    PERLBREW_BASHRC_VERSION = 0.76
    PERLBREW_HOME = /home/dcollins/.perlbrew
    PERLBREW_ROOT = /home/dcollins/toolchain/perl5
    PERL_CR_SMOKER_CURRENT = Dancer-Plugin-Swagger-0.2.0
    PERL_CR_SMOKER_RUNONCE = 1
    PERL_EXTUTILS_AUTOINSTALL = --defaultdeps
    PERL_MM_USE_DEFAULT = 1
    SHELL = /bin/bash
    TERM = putty

Perl special variables (and OS-specific diagnostics, for MSWin32):

    $^X = /home/cpan2/install/bin/perl
    $UID/$EUID = 1003 / 1003
    $GID = 1003 1003
    $EGID = 1003 1003

Perl module toolchain versions installed:

    Module              Have    
    ------------------- --------
    CPAN                2.14    
    CPAN::Meta          2.150010
    Cwd                 3.65    
    ExtUtils::CBuilder  0.280225
    ExtUtils::Command   7.24    
    ExtUtils::Install   2.04    
    ExtUtils::MakeMaker 7.24    
    ExtUtils::Manifest  1.70    
    ExtUtils::ParseXS   3.33    
    File::Spec          3.65    
    JSON                2.90    
    JSON::PP            2.27400 
    Module::Build       0.4220  
    Module::Signature   0.81    
    Parse::CPAN::Meta   2.150010
    Test::Harness       3.36_01 
    Test::More          1.302059
    YAML                1.18    
    YAML::Syck          1.29    
    version             0.9917  


--

Summary of my perl5 (revision 5 version 25 subversion 6) configuration:
  Commit id: 5654fe3cb7747930ab73ec2386527c2d0007459f
  Platform:
    osname=linux
    osvers=3.16.0-4-amd64
    archname=x86_64-linux-thread-multi
    uname='linux digitalis 3.16.0-4-amd64 #1 smp debian 3.16.36-1+deb8u1 (2016-09-03) x86_64 gnulinux '
    config_args='-Dusedevel -DDEBUGGING -Dusethreads -Dprefix=/home/cpan2/install -Uversiononly -des'
    hint=recommended
    useposix=true
    d_sigaction=define
    useithreads=define
    usemultiplicity=define
    use64bitint=define
    use64bitall=define
    uselongdouble=undef
    usemymalloc=n
    bincompat5005=undef
  Compiler:
    cc='cc'
    ccflags ='-D_REENTRANT -D_GNU_SOURCE -fwrapv -DDEBUGGING -fno-strict-aliasing -pipe -fstack-protector-strong -I/usr/local/include -D_LARGEFILE_SOURCE -D_FILE_OFFSET_BITS=64 -D_FORTIFY_SOURCE=2'
    optimize='-O2 -g'
    cppflags='-D_REENTRANT -D_GNU_SOURCE -fwrapv -DDEBUGGING -fno-strict-aliasing -pipe -fstack-protector-strong -I/usr/local/include'
    ccversion=''
    gccversion='4.9.2'
    gccosandvers=''
    intsize=4
    longsize=8
    ptrsize=8
    doublesize=8
    byteorder=12345678
    doublekind=3
    d_longlong=define
    longlongsize=8
    d_longdbl=define
    longdblsize=16
    longdblkind=3
    ivtype='long'
    ivsize=8
    nvtype='double'
    nvsize=8
    Off_t='off_t'
    lseeksize=8
    alignbytes=8
    prototype=define
  Linker and Libraries:
    ld='cc'
    ldflags =' -fstack-protector-strong -L/usr/local/lib'
    libpth=/usr/local/lib /usr/lib/gcc/x86_64-linux-gnu/4.9/include-fixed /usr/include/x86_64-linux-gnu /usr/lib /lib/x86_64-linux-gnu /lib/../lib /usr/lib/x86_64-linux-gnu /usr/lib/../lib /lib
    libs=-lpthread -lnsl -ldl -lm -lcrypt -lutil -lc
    perllibs=-lpthread -lnsl -ldl -lm -lcrypt -lutil -lc
    libc=libc-2.19.so
    so=so
    useshrplib=false
    libperl=libperl.a
    gnulibc_version='2.19'
  Dynamic Linking:
    dlsrc=dl_dlopen.xs
    dlext=so
    d_dlsymun=undef
    ccdlflags='-Wl,-E'
    cccdlflags='-fPIC'
    lddlflags='-shared -O2 -g -L/usr/local/lib -fstack-protector-strong'


Characteristics of this binary (from libperl): 
  Compile-time options:
    DEBUGGING
    HAS_TIMES
    MULTIPLICITY
    PERLIO_LAYERS
    PERL_COPY_ON_WRITE
    PERL_DONT_CREATE_GVSV
    PERL_HASH_FUNC_ONE_AT_A_TIME_HARD
    PERL_IMPLICIT_CONTEXT
    PERL_MALLOC_WRAP
    PERL_OP_PARENT
    PERL_PRESERVE_IVUV
    PERL_TRACK_MEMPOOL
    PERL_USE_DEVEL
    USE_64_BIT_ALL
    USE_64_BIT_INT
    USE_ITHREADS
    USE_LARGE_FILES
    USE_LOCALE
    USE_LOCALE_COLLATE
    USE_LOCALE_CTYPE
    USE_LOCALE_NUMERIC
    USE_LOCALE_TIME
    USE_PERLIO
    USE_PERL_ATOF
    USE_REENTRANT_API
  Built under linux
  Compiled at Sep 29 2016 16:06:12
  %ENV:
    PERL5LIB=""
    PERL5OPT=""
    PERL5_CPANPLUS_IS_RUNNING="11413"
    PERL5_CPAN_IS_RUNNING="11413"
    PERL5_CPAN_IS_RUNNING_IN_RECURSION="12222,11413"
    PERLBREW_BASHRC_VERSION="0.76"
    PERLBREW_HOME="/home/dcollins/.perlbrew"
    PERLBREW_ROOT="/home/dcollins/toolchain/perl5"
    PERL_CR_SMOKER_CURRENT="Dancer-Plugin-Swagger-0.2.0"
    PERL_CR_SMOKER_RUNONCE="1"
    PERL_EXTUTILS_AUTOINSTALL="--defaultdeps"
    PERL_MM_USE_DEFAULT="1"
  @INC:
    /home/cpan2/install/lib/perl5/site_perl/5.25.6/x86_64-linux-thread-multi
    /home/cpan2/install/lib/perl5/site_perl/5.25.6
    /home/cpan2/install/lib/perl5/5.25.6/x86_64-linux-thread-multi
    /home/cpan2/install/lib/perl5/5.25.6
    .