Back
From: metabase:user:33334d28-1806-11e6-a1dd-2bb091461f14
Subject: PASS HTML-Formatter-2.16 v5.24.0 GNU/Linux
Date: 2016-12-15T16:59:54Z
This distribution has been tested as part of the CPAN Testers
project, supporting the Perl programming language. See
http://wiki.cpantesters.org/ for more information or email
questions to cpan-testers-discuss@perl.org
--
Dear Nigel Metheringham,
This is a computer-generated report for HTML-Formatter-2.16
on perl 5.24.0, created by CPAN-Reporter-1.2018.
Thank you for uploading your work to CPAN. Congratulations!
All tests were successful.
Sections of this report:
* Tester comments
* Program output
* Prerequisites
* Environment and other context
------------------------------
TESTER COMMENTS
------------------------------
Additional comments from tester:
none provided
------------------------------
PROGRAM OUTPUT
------------------------------
Output from '/usr/bin/make test':
PERL_DL_NONLAZY=1 "/home/sno/perl5/perlbrew/perls/perl-5.24.0/bin/perl" "-MExtUtils::Command::MM" "-MTest::Harness" "-e" "undef *Test::Harness::Switches; test_harness(0, 'blib/lib', 'blib/arch')" t/*.t
t/00-compile.t ............... ok
#
# Versions for all modules listed in MYMETA.json (including optional ones):
#
# === Configure Requires ===
#
# Module Want Have
# ------------------- ---- ----
# ExtUtils::MakeMaker any 7.24
#
# === Build Requires ===
#
# Module Want Have
# ------------------- ---- ----
# ExtUtils::MakeMaker any 7.24
#
# === Test Requires ===
#
# Module Want Have
# ------------------- ---- --------
# ExtUtils::MakeMaker any 7.24
# File::Slurper any 0.009
# File::Spec any 3.63
# FindBin any 1.51
# IO::Handle any 1.36
# IPC::Open3 any 1.20
# Test::More 0.96 1.302067
# Test::Warnings any 0.026
# blib 1.01 1.06
# bytes any 1.05
# lib any 0.63
#
# === Test Recommends ===
#
# Module Want Have
# ---------- -------- --------
# CPAN::Meta 2.120900 2.150010
#
# === Runtime Requires ===
#
# Module Want Have
# ----------------------------------- ---- -----
# Carp any 1.40
# Data::Dumper any 2.161
# Encode any 2.88
# Font::Metrics::Courier any undef
# Font::Metrics::CourierBold any undef
# Font::Metrics::CourierBoldOblique any undef
# Font::Metrics::CourierOblique any undef
# Font::Metrics::Helvetica any undef
# Font::Metrics::HelveticaBold any undef
# Font::Metrics::HelveticaBoldOblique any undef
# Font::Metrics::HelveticaOblique any undef
# Font::Metrics::TimesBold any undef
# Font::Metrics::TimesBoldItalic any undef
# Font::Metrics::TimesItalic any undef
# Font::Metrics::TimesRoman any undef
# HTML::Element 3.15 5.03
# HTML::TreeBuilder any 5.03
# IO::File any 1.16
# base any 2.23
# integer any 1.01
# parent any 0.236
# strict any 1.11
# utf8 any 1.19
# warnings any 1.36
#
t/00-report-prereqs.t ........ ok
t/01_ps.t .................... ok
t/02_rtf.t ................... ok
t/03_text.t .................. ok
t/04_md.t .................... ok
t/author-critic.t ............ skipped: these tests are for testing by the author
t/author-eol.t ............... skipped: these tests are for testing by the author
t/author-no-tabs.t ........... skipped: these tests are for testing by the author
t/author-pod-spell.t ......... skipped: these tests are for testing by the author
t/author-pod-syntax.t ........ skipped: these tests are for testing by the author
t/author-portability.t ....... skipped: these tests are for testing by the author
t/author-synopsis.t .......... skipped: these tests are for testing by the author
t/release-dist-manifest.t .... skipped: these tests are for release candidate testing
t/release-distmeta.t ......... skipped: these tests are for release candidate testing
t/release-has-version.t ...... skipped: these tests are for release candidate testing
t/release-minimum-version.t .. skipped: these tests are for release candidate testing
t/release-unused-vars.t ...... skipped: these tests are for release candidate testing
t/rt111783.t ................. ok
t/rt69426.t .................. ok
All tests successful.
Files=20, Tests=94, 1 wallclock secs ( 0.02 usr 0.12 sys + 0.21 cusr 0.87 csys = 1.22 CPU)
Result: PASS
------------------------------
PREREQUISITES
------------------------------
Prerequisite modules loaded:
requires:
Module Need Have
----------------------------------- -------- --------
base 0 2.23
Carp 0 1.40
Data::Dumper 0 2.161
Encode 0 2.88
Font::Metrics::Courier 0 0
Font::Metrics::CourierBold 0 0
Font::Metrics::CourierBoldOblique 0 0
Font::Metrics::CourierOblique 0 0
Font::Metrics::Helvetica 0 0
Font::Metrics::HelveticaBold 0 0
Font::Metrics::HelveticaBoldOblique 0 0
Font::Metrics::HelveticaOblique 0 0
Font::Metrics::TimesBold 0 0
Font::Metrics::TimesBoldItalic 0 0
Font::Metrics::TimesItalic 0 0
Font::Metrics::TimesRoman 0 0
HTML::Element 3.15 5.03
HTML::TreeBuilder 0 5.03
integer 0 1.01
IO::File 0 1.16
parent 0 0.236
perl 5.008 5.024000
strict 0 1.11
utf8 0 1.19
warnings 0 1.36
build_requires:
Module Need Have
----------------------------------- -------- --------
blib 1.01 1.06
bytes 0 1.05
ExtUtils::MakeMaker 0 7.24
File::Slurper 0 0.009
File::Spec 0 3.63
FindBin 0 1.51
IO::Handle 0 1.36
IPC::Open3 0 1.20
lib 0 0.63
Test::More 0.96 1.302067
Test::Warnings 0 0.026
configure_requires:
Module Need Have
----------------------------------- -------- --------
ExtUtils::MakeMaker 0 7.24
opt_build_requires:
Module Need Have
----------------------------------- -------- --------
CPAN::Meta 2.120900 2.150010
------------------------------
ENVIRONMENT AND OTHER CONTEXT
------------------------------
Environment variables:
LANG = en_US.UTF-8
NONINTERACTIVE_TESTING = 1
PATH = /home/sno/perl5/perlbrew/bin:/home/sno/perl5/perlbrew/perls/perl-5.24.0/bin:/usr/bin:/home/sno/bin:/usr/local/sbin:/usr/local/bin:/usr/sbin:/usr/bin:/sbin:/bin:/usr/games:/usr/local/games:/home/sno/prj/gkhelper/bin
PERL5LIB =
PERL5OPT =
PERL5_CPANPLUS_IS_RUNNING = 2873
PERL5_CPAN_IS_RUNNING = 2873
PERLBREW_BASHRC_VERSION = 0.75
PERLBREW_HOME = /home/sno/.perlbrew
PERLBREW_MANPATH = /home/sno/perl5/perlbrew/perls/perl-5.24.0/man
PERLBREW_PATH = /home/sno/perl5/perlbrew/bin:/home/sno/perl5/perlbrew/perls/perl-5.24.0/bin
PERLBREW_PERL = perl-5.24.0
PERLBREW_ROOT = /home/sno/perl5/perlbrew
PERLBREW_VERSION = 0.75
PERL_MM_USE_DEFAULT = 1
SHELL = /bin/bash
TERM = xterm
Perl special variables (and OS-specific diagnostics, for MSWin32):
$^X = /home/sno/perl5/perlbrew/perls/perl-5.24.0/bin/perl
$UID/$EUID = 1000 / 1000
$GID = 1000 4 24 27 30 46 109 110 1000
$EGID = 1000 4 24 27 30 46 109 110 1000
Perl module toolchain versions installed:
Module Have
------------------- --------
CPAN 2.14
CPAN::Meta 2.150010
Cwd 3.63
ExtUtils::CBuilder 0.280225
ExtUtils::Command 7.24
ExtUtils::Install 2.04
ExtUtils::MakeMaker 7.24
ExtUtils::Manifest 1.70
ExtUtils::ParseXS 3.31
File::Spec 3.63
JSON 2.90
JSON::PP 2.27400
Module::Build 0.4220
Module::Signature n/a
Parse::CPAN::Meta 2.150010
Test::Harness 3.36
Test::More 1.302067
YAML 1.19
YAML::Syck 1.29
version 0.9917
--
Summary of my perl5 (revision 5 version 24 subversion 0) configuration:
Platform:
osname=linux, osvers=4.2.0-30-generic, archname=i686-linux
uname='linux sno-virtual-machine 4.2.0-30-generic #36~14.04.1-ubuntu smp fri feb 26 18:50:14 utc 2016 i686 i686 i686 gnulinux '
config_args='-de -Dprefix=/home/sno/perl5/perlbrew/perls/perl-5.24.0 -Aeval:scriptdir=/home/sno/perl5/perlbrew/perls/perl-5.24.0/bin'
hint=recommended, useposix=true, d_sigaction=define
useithreads=undef, usemultiplicity=undef
use64bitint=undef, use64bitall=undef, uselongdouble=undef
usemymalloc=n, bincompat5005=undef
Compiler:
cc='cc', ccflags ='-fwrapv -fno-strict-aliasing -pipe -fstack-protector -I/usr/local/include -D_LARGEFILE_SOURCE -D_FILE_OFFSET_BITS=64',
optimize='-O2',
cppflags='-fwrapv -fno-strict-aliasing -pipe -fstack-protector -I/usr/local/include'
ccversion='', gccversion='4.8.4', gccosandvers=''
intsize=4, longsize=4, ptrsize=4, doublesize=8, byteorder=1234, doublekind=3
d_longlong=define, longlongsize=8, d_longdbl=define, longdblsize=12, longdblkind=3
ivtype='long', ivsize=4, nvtype='double', nvsize=8, Off_t='off_t', lseeksize=8
alignbytes=4, prototype=define
Linker and Libraries:
ld='cc', ldflags =' -fstack-protector -L/usr/local/lib'
libpth=/usr/local/lib /usr/lib/gcc/i686-linux-gnu/4.8/include-fixed /usr/include/i386-linux-gnu /usr/lib /lib/i386-linux-gnu /lib/../lib /usr/lib/i386-linux-gnu /usr/lib/../lib /lib /lib64 /usr/lib64
libs=-lpthread -lnsl -ldl -lm -lcrypt -lutil -lc
perllibs=-lpthread -lnsl -ldl -lm -lcrypt -lutil -lc
libc=libc-2.19.so, so=so, useshrplib=false, libperl=libperl.a
gnulibc_version='2.19'
Dynamic Linking:
dlsrc=dl_dlopen.xs, dlext=so, d_dlsymun=undef, ccdlflags='-Wl,-E'
cccdlflags='-fPIC', lddlflags='-shared -O2 -L/usr/local/lib -fstack-protector'
Characteristics of this binary (from libperl):
Compile-time options: HAS_TIMES PERLIO_LAYERS PERL_COPY_ON_WRITE
PERL_DONT_CREATE_GVSV
PERL_HASH_FUNC_ONE_AT_A_TIME_HARD PERL_MALLOC_WRAP
PERL_PRESERVE_IVUV USE_LARGE_FILES USE_LOCALE
USE_LOCALE_COLLATE USE_LOCALE_CTYPE
USE_LOCALE_NUMERIC USE_LOCALE_TIME USE_PERLIO
USE_PERL_ATOF
Locally applied patches:
Devel::PatchPerl 1.38
Built under linux
Compiled at May 11 2016 08:42:26
%ENV:
PERL5LIB=""
PERL5OPT=""
PERL5_CPANPLUS_IS_RUNNING="2873"
PERL5_CPAN_IS_RUNNING="2873"
PERLBREW_BASHRC_VERSION="0.75"
PERLBREW_HOME="/home/sno/.perlbrew"
PERLBREW_MANPATH="/home/sno/perl5/perlbrew/perls/perl-5.24.0/man"
PERLBREW_PATH="/home/sno/perl5/perlbrew/bin:/home/sno/perl5/perlbrew/perls/perl-5.24.0/bin"
PERLBREW_PERL="perl-5.24.0"
PERLBREW_ROOT="/home/sno/perl5/perlbrew"
PERLBREW_VERSION="0.75"
PERL_MM_USE_DEFAULT="1"
@INC:
/home/sno/perl5/perlbrew/perls/perl-5.24.0/lib/site_perl/5.24.0/i686-linux
/home/sno/perl5/perlbrew/perls/perl-5.24.0/lib/site_perl/5.24.0
/home/sno/perl5/perlbrew/perls/perl-5.24.0/lib/5.24.0/i686-linux
/home/sno/perl5/perlbrew/perls/perl-5.24.0/lib/5.24.0
.