Plack-Middleware-Security-Simple vv0.9.0-TRIAL Perl 5 v5.22.3 i686-linux-quadmath

Status
Pass
From
Chris Williams (BINGOS)
Dist
Plack-Middleware-Security-Simple vv0.9.0-TRIAL
Platform
Perl 5 v5.22.3 i686-linux-quadmath
Date
2023-01-07 13:12:12
ID
e627a358-8e8c-11ed-aba6-9a79f339625c
This distribution has been tested as part of the CPAN Testers
project, supporting the Perl programming language.  See
http://wiki.cpantesters.org/ for more information or email
questions to cpan-testers-discuss@perl.org


--

Dear RRWO,

This is a computer-generated error report created automatically by
CPANPLUS, version 0.9914. Testers personal comments may appear
at the end of this report.


Thank you for uploading your work to CPAN.  Congratulations!
All tests were successful.

TEST RESULTS:

Below is the error stack from stage 'make test':

PERL_DL_NONLAZY=1 "/home/cpan/pit/bare-qm/perl-5.22.3/bin/perl" "-MExtUtils::Command::MM" "-MTest::Harness" "-e" "undef *Test::Harness::Switches; test_harness(0, 'blib/lib', 'blib/arch')" t/*.t
# 
# Versions for all modules listed in MYMETA.json (including optional ones):
# 
# === Configure Requires ===
# 
#     Module              Want Have
#     ------------------- ---- ----
#     ExtUtils::MakeMaker  any 7.64
# 
# === Build Requires ===
# 
#     Module              Want Have
#     ------------------- ---- ----
#     ExtUtils::MakeMaker  any 7.64
# 
# === Test Requires ===
# 
#     Module                 Want     Have
#     --------------------- ----- --------
#     File::Spec              any     3.75
#     HTTP::Exception         any  0.04007
#     HTTP::Request::Common   any     6.44
#     Log::Dispatch          2.68     2.70
#     Log::Dispatch::Array    any    1.005
#     Module::Metadata        any 1.000026
#     Plack::Builder          any    undef
#     Plack::Test             any    undef
#     Test::More              any 1.302191
#     Test::Vars            0.015    0.015
#     strict                  any     1.09
# 
# === Test Recommends ===
# 
#     Module         Want     Have
#     ---------- -------- --------
#     CPAN::Meta 2.120900 2.150010
# 
# === Runtime Requires ===
# 
#     Module                Want       Have
#     --------------------- ---- ----------
#     Exporter::Tiny         any   1.006000
#     HTTP::Status           any       6.44
#     Hash::Match            any     v0.7.2
#     Plack::Middleware      any      undef
#     Plack::Response        any     1.0050
#     Plack::Util::Accessor  any      undef
#     Ref::Util              any      0.204
#     Regexp::Common         any 2017060201
#     parent                 any      0.232
#     warnings               any       1.34
# 
# === Runtime Recommends ===
# 
#     Module        Want  Have
#     ------------- ---- -----
#     Ref::Util::XS  any 0.117
# 
t/00-report-prereqs.t ....... ok
t/10-arrayref.t ............. ok
t/10-coderef.t .............. ok
t/10-Hash-Match.t ........... ok
t/10-hashref.t .............. ok
t/20-logging.t .............. ok
t/30-handler.t .............. ok
t/31-status.t ............... ok
t/40-common.t ............... ok
t/author-critic.t ........... skipped: these tests are for testing by the author
t/author-eof.t .............. skipped: these tests are for testing by the author
t/author-eol.t .............. skipped: these tests are for testing by the author
t/author-minimum-version.t .. skipped: these tests are for testing by the author
t/author-no-tabs.t .......... skipped: these tests are for testing by the author
t/author-pod-coverage.t ..... skipped: these tests are for testing by the author
t/author-pod-linkcheck.t .... skipped: these tests are for testing by the author
t/author-pod-syntax.t ....... skipped: these tests are for testing by the author
t/author-portability.t ...... skipped: these tests are for testing by the author
t/author-vars.t ............. skipped: these tests are for testing by the author
t/release-check-manifest.t .. skipped: these tests are for release candidate testing
t/release-fixme.t ........... skipped: these tests are for release candidate testing
t/release-kwalitee.t ........ skipped: these tests are for release candidate testing
t/release-trailing-space.t .. skipped: these tests are for release candidate testing
All tests successful.
Files=23, Tests=95,  2 wallclock secs ( 0.08 usr  0.01 sys +  1.04 cusr  0.12 csys =  1.25 CPU)
Result: PASS


PREREQUISITES:

Here is a list of prerequisites you specified and versions we
managed to load:

	  Module Name                        Have     Want
	  Exporter::Tiny                 1.006000        0
	  ExtUtils::MakeMaker                7.64        0
	  File::Spec                         3.75        0
	  HTTP::Exception                 0.04007        0
	  HTTP::Request::Common              6.44        0
	  HTTP::Status                       6.44        0
	  Hash::Match                      v0.7.2        0
	  Log::Dispatch                      2.70     2.68
	  Log::Dispatch::Array              1.005        0
	  Module::Metadata               1.000026        0
	  Plack::Builder                        0        0
	  Plack::Middleware                     0        0
	  Plack::Response                  1.0050        0
	  Plack::Test                           0        0
	  Plack::Util::Accessor                 0        0
	  Ref::Util                         0.204        0
	  Regexp::Common                 2017060201        0
	  Test::More                     1.302191        0
	  Test::Vars                        0.015    0.015
	  parent                            0.232        0
	  strict                             1.09        0
	  warnings                           1.34        0

Perl module toolchain versions installed:
	Module Name                        Have
	CPANPLUS                         0.9914
	CPANPLUS::Dist::Build              0.90
	Cwd                                3.75
	ExtUtils::CBuilder             0.280236
	ExtUtils::Command                  7.64
	ExtUtils::Install                  2.20
	ExtUtils::MakeMaker                7.64
	ExtUtils::Manifest                 1.73
	ExtUtils::ParseXS                  3.44
	File::Spec                         3.75
	Module::Build                    0.4231
	Pod::Parser                        1.63
	Pod::Simple                        3.29
	Test2                          1.302191
	Test::Harness                      3.44
	Test::More                     1.302191
	version                          0.9929

******************************** NOTE ********************************
The comments above are created mechanically, possibly without manual
checking by the sender.  As there are many people performing automatic
tests on each upload to CPAN, it is likely that you will receive
identical messages about the same problem.

If you believe that the message is mistaken, please reply to the first
one with correction and/or additional informations, and do not take
it personally.  We appreciate your patience. :)
**********************************************************************

Additional comments:


This report was machine-generated by CPANPLUS::Dist::YACSmoke 1.08.
Powered by minismokebox version 0.68

CPANPLUS is prefering Build.PL

------------------------------
ENVIRONMENT AND OTHER CONTEXT
------------------------------

Environment variables:

    AUTOMATED_TESTING = 1
    LANG = en_GB.UTF-8
    LANGUAGE = en_GB:en
    NONINTERACTIVE_TESTING = 1
    PATH = /usr/local/bin:/usr/bin:/bin:/usr/local/games:/usr/games
    PERL5LIB = /home/cpan/pit/jail/jcs64PRB31/lib/perl5:/home/cpan/pit/bare-qm/conf/perl-5.22.3/.cpanplus/5.22.3/build/b3IlUioQ5J/Test-Vars-0.015/blib/lib:/home/cpan/pit/bare-qm/conf/perl-5.22.3/.cpanplus/5.22.3/build/b3IlUioQ5J/Test-Vars-0.015/blib/arch:/home/cpan/pit/bare-qm/conf/perl-5.22.3/.cpanplus/5.22.3/build/KUwBWfDjVx/Plack-Middleware-Security-Simple-v0.9.0/blib/lib:/home/cpan/pit/bare-qm/conf/perl-5.22.3/.cpanplus/5.22.3/build/KUwBWfDjVx/Plack-Middleware-Security-Simple-v0.9.0/blib/arch
    PERL5_CPANPLUS_IS_RUNNING = 16194
    PERL5_CPANPLUS_IS_VERSION = 0.9914
    PERL5_MINISMOKEBOX = 0.68
    PERL5_YACSMOKE_BASE = /home/cpan/pit/bare-qm/conf/perl-5.22.3
    PERL_EXTUTILS_AUTOINSTALL = --defaultdeps
    PERL_LOCAL_LIB_ROOT = /home/cpan/pit/jail/jcs64PRB31
    PERL_MB_OPT = --install_base "/home/cpan/pit/jail/jcs64PRB31"
    PERL_MM_OPT = INSTALL_BASE=/home/cpan/pit/jail/jcs64PRB31
    PERL_MM_USE_DEFAULT = 1
    SHELL = /bin/bash
    TERM = screen.xterm-256color

Perl special variables (and OS-specific diagnostics, for MSWin32):

    Perl: $^X = /home/cpan/pit/bare-qm/perl-5.22.3/bin/perl
    UID:  $<  = 1001
    EUID: $>  = 1001
    GID:  $(  = 1001 1001
    EGID: $)  = 1001 1001


-------------------------------


--

Summary of my perl5 (revision 5 version 22 subversion 3) configuration:
   
  Platform:
    osname=linux, osvers=5.10.0-12-686, archname=i686-linux-quadmath
    uname='linux dagobah 5.10.0-12-686 #1 smp debian 5.10.103-1 (2022-03-07) i686 gnulinux '
    config_args='-des -Dprefix=/home/cpan/pit/bare-qm/perl-5.22.3 -Dusequadmath'
    hint=recommended, useposix=true, d_sigaction=define
    useithreads=undef, usemultiplicity=undef
    use64bitint=undef, use64bitall=undef, uselongdouble=undef
    usemymalloc=n, bincompat5005=undef
  Compiler:
    cc='cc', ccflags ='-fwrapv -fno-strict-aliasing -pipe -fstack-protector-strong -I/usr/local/include -D_LARGEFILE_SOURCE -D_FILE_OFFSET_BITS=64 -D_FORTIFY_SOURCE=2',
    optimize='-O2',
    cppflags='-fwrapv -fno-strict-aliasing -pipe -fstack-protector-strong -I/usr/local/include'
    ccversion='', gccversion='10.2.1 20210110', gccosandvers=''
    intsize=4, longsize=4, ptrsize=4, doublesize=8, byteorder=1234, doublekind=3
    d_longlong=define, longlongsize=8, d_longdbl=define, longdblsize=12, longdblkind=3
    ivtype='long', ivsize=4, nvtype='__float128', nvsize=16, Off_t='off_t', lseeksize=8
    alignbytes=4, prototype=define
  Linker and Libraries:
    ld='cc', ldflags =' -fstack-protector-strong -L/usr/local/lib'
    libpth=/usr/local/lib /usr/include/i386-linux-gnu /usr/lib /lib/i386-linux-gnu /lib/../lib /usr/lib/i386-linux-gnu /usr/lib/../lib /lib /lib64 /usr/lib64
    libs=-lpthread -lnsl -lgdbm -ldl -lm -lcrypt -lutil -lc -lquadmath
    perllibs=-lpthread -lnsl -ldl -lm -lcrypt -lutil -lc -lquadmath
    libc=libc-2.31.so, so=so, useshrplib=false, libperl=libperl.a
    gnulibc_version='2.31'
  Dynamic Linking:
    dlsrc=dl_dlopen.xs, dlext=so, d_dlsymun=undef, ccdlflags='-Wl,-E'
    cccdlflags='-fPIC', lddlflags='-shared -O2 -L/usr/local/lib -fstack-protector-strong'


Characteristics of this binary (from libperl): 
  Compile-time options: HAS_TIMES PERLIO_LAYERS PERL_DONT_CREATE_GVSV
                        PERL_HASH_FUNC_ONE_AT_A_TIME_HARD PERL_MALLOC_WRAP
                        PERL_NEW_COPY_ON_WRITE PERL_PRESERVE_IVUV
                        USE_LARGE_FILES USE_LOCALE USE_LOCALE_COLLATE
                        USE_LOCALE_CTYPE USE_LOCALE_NUMERIC USE_LOCALE_TIME
                        USE_PERLIO USE_PERL_ATOF USE_QUADMATH
  Locally applied patches:
	Devel::PatchPerl 2.08
  Built under linux
  Compiled at Mar 20 2022 13:00:24
  %ENV:
    PERL5LIB="/home/cpan/pit/jail/jcs64PRB31/lib/perl5:/home/cpan/pit/bare-qm/conf/perl-5.22.3/.cpanplus/5.22.3/build/b3IlUioQ5J/Test-Vars-0.015/blib/lib:/home/cpan/pit/bare-qm/conf/perl-5.22.3/.cpanplus/5.22.3/build/b3IlUioQ5J/Test-Vars-0.015/blib/arch:/home/cpan/pit/bare-qm/conf/perl-5.22.3/.cpanplus/5.22.3/build/KUwBWfDjVx/Plack-Middleware-Security-Simple-v0.9.0/blib/lib:/home/cpan/pit/bare-qm/conf/perl-5.22.3/.cpanplus/5.22.3/build/KUwBWfDjVx/Plack-Middleware-Security-Simple-v0.9.0/blib/arch"
    PERL5_CPANPLUS_IS_RUNNING="16194"
    PERL5_CPANPLUS_IS_VERSION="0.9914"
    PERL5_MINISMOKEBOX="0.68"
    PERL5_YACSMOKE_BASE="/home/cpan/pit/bare-qm/conf/perl-5.22.3"
    PERL_EXTUTILS_AUTOINSTALL="--defaultdeps"
    PERL_LOCAL_LIB_ROOT="/home/cpan/pit/jail/jcs64PRB31"
    PERL_MB_OPT="--install_base "/home/cpan/pit/jail/jcs64PRB31""
    PERL_MM_OPT="INSTALL_BASE=/home/cpan/pit/jail/jcs64PRB31"
    PERL_MM_USE_DEFAULT="1"
  @INC:
    /home/cpan/pit/jail/jcs64PRB31/lib/perl5/5.22.3/i686-linux-quadmath
    /home/cpan/pit/jail/jcs64PRB31/lib/perl5/5.22.3
    /home/cpan/pit/jail/jcs64PRB31/lib/perl5/i686-linux-quadmath
    /home/cpan/pit/jail/jcs64PRB31/lib/perl5
    /home/cpan/pit/bare-qm/conf/perl-5.22.3/.cpanplus/5.22.3/build/b3IlUioQ5J/Test-Vars-0.015/blib/lib
    /home/cpan/pit/bare-qm/conf/perl-5.22.3/.cpanplus/5.22.3/build/b3IlUioQ5J/Test-Vars-0.015/blib/arch
    /home/cpan/pit/bare-qm/conf/perl-5.22.3/.cpanplus/5.22.3/build/KUwBWfDjVx/Plack-Middleware-Security-Simple-v0.9.0/blib/lib
    /home/cpan/pit/bare-qm/conf/perl-5.22.3/.cpanplus/5.22.3/build/KUwBWfDjVx/Plack-Middleware-Security-Simple-v0.9.0/blib/arch
    /home/cpan/pit/bare-qm/perl-5.22.3/lib/site_perl/5.22.3/i686-linux-quadmath
    /home/cpan/pit/bare-qm/perl-5.22.3/lib/site_perl/5.22.3
    /home/cpan/pit/bare-qm/perl-5.22.3/lib/5.22.3/i686-linux-quadmath
    /home/cpan/pit/bare-qm/perl-5.22.3/lib/5.22.3
    .