Acme-TLDR v0.004 Perl 5 v5.43.1 amd64-midnightbsd-thread-multi

Status
Pass
From
Carlos Guevara
Dist
Acme-TLDR v0.004
Platform
Perl 5 v5.43.1 amd64-midnightbsd-thread-multi
Date
2025-07-10 03:35:17
ID
e619944c-5d3e-11f0-bd9e-8c97bab46f18
This distribution has been tested as part of the CPAN Testers
project, supporting the Perl programming language.  See
http://wiki.cpantesters.org/ for more information or email
questions to cpan-testers-discuss@perl.org


--
Dear Stanislaw Pusep,

This is a computer-generated report for Acme-TLDR-0.004
on perl 5.43.1, created by CPAN-Reporter-1.2020.

Thank you for uploading your work to CPAN.  Congratulations!
All tests were successful.

Sections of this report:

    * Tester comments
    * Program output
    * Prerequisites
    * Environment and other context

------------------------------
TESTER COMMENTS
------------------------------

Additional comments from tester:

this report is from an automated smoke testing program
and was not reviewed by a human for accuracy

------------------------------
PROGRAM OUTPUT
------------------------------

Output from '/usr/bin/make test':

PERL_DL_NONLAZY=1 "/usr/home/cpan/bin/perl/bin/perl5.43.1" "-MExtUtils::Command::MM" "-MTest::Harness" "-e" "undef *Test::Harness::Switches; test_harness(0, 'blib/lib', 'blib/arch')" t/*.t
t/00-compile.t ............... ok
# Acme::TLDR v0.004, Perl 5.043001, /usr/home/cpan/bin/perl/bin/perl5.43.1
t/00-load.t .................. ok
ExtUtils::Installed cache: /home/cpan/.Acme-TLDR-6e00f618e141707a03f63f2eb40a1db4.cache
no cache found; generating
AI::Chat                                                         => AI::C
AMF::Perl                                                        => AMF::P
API::Vultr                                                       => API::V
Acme::Akashic::Records                                           => A::A::R
Acme::Anything                                                   => A::A
Acme::AsciiEmoji                                                 => A::AE
Acme::Beatnik                                                    => A::B
Acme::Bleach                                                     => *undef*
Acme::BloodType                                                  => A::BT
Acme::CPANAuthors                                                => A::CPANA
Acme::CPANAuthors::Brazilian                                     => A::CPANA::B
Acme::CPANAuthors::MetaSyntactic                                 => A::CPANA::MS
Acme::CPANAuthors::Pumpkings                                     => A::CPANA::P
Acme::CPANAuthors::You::re_using                                 => A::CPANA::You::r
Acme::CPANModulesUtil::Bencher                                   => A::CPANMU::B
Acme::Collector64                                                => A::C64
Acme::Damn                                                       => A::D
Acme::LookOfDisapproval                                          => A::LOfD
Acme::Meta                                                       => A::M
Acme::MetaSyntactic                                              => A::MS
Acme::MetaSyntactic::cpanauthors                                 => A::MS::c
Acme::MetaSyntactic::legothehobbit                               => A::MS::l
Acme::Net::OdiousPlan                                            => A::Net::OP
Acme::PrettyCure                                                 => A::PC
Acme::Rautavistic::Sort                                          => A::R::S
Acme::RunDoc                                                     => A::RunDoc
Acme::Sort::Bozo                                                 => A::S::B
Acme::Test::VW                                                   => A::T::VW
Adapter::Async                                                   => *undef*
Algorithm::Backoff                                               => *undef*
Algorithm::C3                                                    => A::C3
Algorithm::Combinatorics                                         => A::C
Algorithm::CurveFit                                              => A::CFit
Algorithm::Diff                                                  => *undef*
Algorithm::LatticePoints                                         => A::LP
Algorithm::RectanglesContainingDot                               => A::RCDot
Algorithm::RectanglesContainingDot_XS                            => A::RCDXS
Algorithm::SpatialIndex                                          => A::SI
Algorithm::SpatialIndex::Strategy::MedianQuadTree                => A::SI::S::MQT
Alien::Build                                                     => *undef*
Alien::Build::Plugin::Download::GitLab                           => A::B::P::D::GitLab
Alien::Libxml2                                                   => A::L2
Alien::cmake3                                                    => A::c3
Alien::libtermkey                                                => A::l
Alien::libtickit                                                 => *undef*
Amiga::ARexx                                                     => A::AR
Amiga::Exec                                                      => A::E
Amon2                                                            => A2
Amon2::DBI                                                       => A2::DBI
Amon2::Plugin::LogDispatch                                       => A2::P::LogD
Amon2::Plugin::Web::HTTPSession                                  => A2::P::Web::HTTPS
Any::Moose                                                       => Any::M
AnyDBM_File                                                      => AnyDBM_F
AnyMerchant                                                      => AnyM
Apache::Bootstrap                                                => *undef*
Apache::DBI                                                      => A::DBI
Apache::LogFormat::Compiler                                      => A::LogF::C
App::BCVI::InstallManager                                        => App::BCVI::IM
App::Benchmark                                                   => App::B
App::Benchmark::Accessors                                        => App::B::A
App::Bootstrap::Perl                                             => App::B::P
App::CPANIDX::HTTP::Server                                       => App::CPANIDX::HTTP::S
App::Cache                                                       => App::C
App::Cmd::Plugin::Prompt                                         => App::Cmd::P::P
App::Cpan                                                        => *undef*
App::FatPacker                                                   => App::FatP
App::FatPacker::Simple                                           => App::FatP::S
App::Git::Info                                                   => App::Git::I
App::MrShell                                                     => App::MrS
App::Nopaste                                                     => App::N
App::PipeFilter                                                  => App::PF
App::Pod2Epub                                                    => App::Pod2E
App::Prove                                                       => App::P
App::Prove::State                                                => App::P::S
App::Prove::State::Result                                        => App::P::S::R
App::Prove::State::Result::Test                                  => App::P::S::R::T
App::RemoteGnokii                                                => App::RG
App::ShellCompleter::cpanm                                       => App::SC::c
App::SlideServer                                                 => App::SS
App::Stash                                                       => App::S
App::WithSound                                                   => App::WS
App::cpanm::script                                               => App::c::s
App::cpanminus                                                   => App::c
App::cpanminus::reporter                                         => App::c::r
App::csv2sqlite                                                  => App::csv2
App::makebeamerinfo                                              => App::m
App::perlbrew                                                    => App::p
App::perlhl                                                      => *undef*
App::rhich                                                       => App::r
AppConfig                                                        => AppC
Archive::Any::Lite                                               => A::Any::L
Archive::Extract                                                 => *undef*
Archive::Peek                                                    => A::P
Archive::Tar                                                     => A::Tar
Archive::Tar::Constant                                           => A::Tar::C
Archive::Tar::File                                               => A::Tar::F
Archive::Zip                                                     => A::Zip
Archive::Zip::SimpleZip                                          => A::Zip::SZip
Ark::Plugin::Authentication                                      => Ark::P::A
Ark::Plugin::I18N                                                => Ark::P::I18N
Ark::Plugin::ReproxyCallback                                     => Ark::P::RC
Array::Diff                                                      => *undef*
Array::Frugal                                                    => A::F
Array::Group                                                     => A::G
Array::Heap                                                      => A::H
Array::IntSpan                                                   => A::IntS
Array::Iter                                                      => A::I
Array::Set::Naive                                                => A::Set::N
Array::Slice                                                     => A::S
Array::Unique                                                    => A::U
Array::Utils                                                     => *undef*
Aspect::Library::Profiler                                        => A::L::P
Astro::Funtools::Parse                                           => A::F::P
Async::Interrupt                                                 => *undef*
Attribute::Handlers                                              => *undef*
Attribute::Lexical                                               => A::L
Attribute::Params::Validate                                      => A::P::V
Attribute::Property                                              => *undef*
Attribute::Util                                                  => *undef*
Audio::Play::MPG123                                              => A::P::MPG123
Auth::YubiKey::Client::Web                                       => A::YKey::C::Web
Authen::DecHpwd                                                  => A::DecH
Authen::DigestMD5                                                => A::DMD5
Authen::NTLM                                                     => A::NTLM
Authen::Passphrase                                               => *undef*
Authen::Passphrase::SaltedSHA512                                 => A::P::SSHA512
Authen::SASL                                                     => A::SASL
Authen::Simple                                                   => *undef*
Authen::Simple::CDBI                                             => A::S::CDBI
Authen::Simple::Passwd                                           => A::S::P
AutoLoader                                                       => AL
AutoSplit                                                        => AS
B::Concise                                                       => B::C
B::Debug                                                         => B::D
B::Deparse                                                       => *undef*
B::Flags                                                         => B::F
B::Hooks::EndOfScope                                             => B::H::EndOfS
B::Hooks::OP::Check                                              => B::H::OP::C
B::Keywords                                                      => B::K
B::LexInfo                                                       => B::LexI
B::Op_private                                                    => B::O
B::Showlex                                                       => B::S
B::Terse                                                         => B::T
B::Xref                                                          => B::X
Beam::Emitter                                                    => B::E
Beam::Minion                                                     => B::M
Beam::Runner                                                     => B::R
Beam::Service                                                    => *undef*
Beam::Wire                                                       => B::W
Beam::Wire::Moose                                                => B::W::M
Benchmark::Perl::Formance::Plugin::PerlStone2015                 => B::P::F::P::PS2015
Benchmark::Report::GitHub                                        => B::R::GitHub
Benchmark::Timer                                                 => *undef*
Bit::Util                                                        => Bit::U
Bit::Vector                                                      => Bit::V
BorderStyle                                                      => BS
BorderStyles::Standard                                           => BS::S
Bot::Training                                                    => Bot::T
Browser::Open                                                    => *undef*
Buffer::Transactional                                            => *undef*
Business-BR-Ids                                                  => B-BR-Ids
Business::ISBN                                                   => B::ISBN
Business::ISBN::Data                                             => B::ISBN::D
Business::Tax::Canada                                            => B::Tax::C
Business::Tax::VAT                                               => B::Tax::VAT
Bytes::Random::Secure                                            => B::R::S
CASCM::Wrapper                                                   => CASCM::W
CGI-Kwiki                                                        => CGI-K
CGI::Application                                                 => CGI::A
CGI::Application::Plugin::DevPopup                               => CGI::A::P::DevP
CGI::Application::Plugin::Phrasebook                             => CGI::A::P::P
CGI::Capture                                                     => CGI::C
CGI::Compile                                                     => *undef*
CGI::Emulate::PSGI                                               => CGI::E::PSGI
CGI::Expand                                                      => CGI::E
CGI::Form::Table                                                 => CGI::F::T
CGI::Info                                                        => CGI::I
CGI::Lingua                                                      => CGI::L
CGI::Safe                                                        => CGI::S
CGI::Simple                                                      => *undef*
CGI::Struct                                                      => *undef*
CGI::Test                                                        => CGI::T
CGI::Test::Input::Custom                                         => CGI::T::I::C
CPAN::Author                                                     => CPAN::A
CPAN::Bundle                                                     => CPAN::B
CPAN::CacheMgr                                                   => CPAN::CMgr
CPAN::CachingProxy                                               => CPAN::CP
CPAN::Changes                                                    => CPAN::C
CPAN::Common::Index                                              => CPAN::C::I
CPAN::Complete                                                   => *undef*
CPAN::Debug                                                      => CPAN::D
CPAN::DeferredCode                                               => CPAN::DC
CPAN::DistnameInfo                                               => CPAN::DI
CPAN::Distribution                                               => *undef*
CPAN::Distroprefs                                                => *undef*
CPAN::Distrostatus                                               => *undef*
CPAN::Exception::RecursiveDependency                             => CPAN::E::RD
CPAN::Exception::blocked_urllist                                 => CPAN::E::b
CPAN::Exception::yaml_not_installed                              => CPAN::E::y
CPAN::Exception::yaml_process_error                              => *undef*
CPAN::FTP::netrc                                                 => CPAN::FTP::n
CPAN::FirstTime                                                  => CPAN::FT
CPAN::HTTP::Client                                               => CPAN::HTTP::C
CPAN::HTTP::Credentials                                          => *undef*
CPAN::HandleConfig                                               => CPAN::HC
CPAN::Index                                                      => CPAN::I
CPAN::InfoObj                                                    => CPAN::IObj
CPAN::Kwalify                                                    => CPAN::K
CPAN::LWP::UserAgent                                             => CPAN::LWP::UA
CPAN::Meta                                                       => CPAN::M
CPAN::Meta::Check                                                => CPAN::M::C
CPAN::Meta::Converter                                            => *undef*
CPAN::Meta::Feature                                              => CPAN::M::F
CPAN::Meta::History                                              => CPAN::M::H
CPAN::Meta::Merge                                                => CPAN::M::M
CPAN::Meta::Prereqs                                              => CPAN::M::P
CPAN::Meta::Requirements                                         => CPAN::M::R
CPAN::Meta::Requirements::Range                                  => CPAN::M::R::R
CPAN::Meta::Spec                                                 => CPAN::M::S
CPAN::Meta::Validator                                            => CPAN::M::V
CPAN::Meta::YAML                                                 => CPAN::M::YAML
CPAN::Mini                                                       => *undef*
CPAN::Mini::LatestDistVersion                                    => CPAN::M::LDV
CPAN::Mini::Webserver                                            => CPAN::M::W
CPAN::Mirrors                                                    => *undef*
CPAN::Module                                                     => *undef*
CPAN::ParseDistribution                                          => CPAN::PD
CPAN::Perl::Releases                                             => CPAN::P::R
CPAN::Plugin                                                     => CPAN::P
CPAN::Plugin::Specfile                                           => CPAN::P::S
CPAN::Plugin::Sysdeps                                            => *undef*
CPAN::Prompt                                                     => *undef*
CPAN::Queue                                                      => CPAN::Q
CPAN::Reporter                                                   => CPAN::R
CPAN::Requirements::Dynamic                                      => CPAN::R::D
CPAN::Search::Tester                                             => CPAN::S::T
CPAN::Shell                                                      => CPAN::S
CPAN::Tarzip                                                     => CPAN::T
CPAN::Test::Dummy::Perl5::Make                                   => CPAN::T::D::P5::M
CPAN::Test::Dummy::Perl5::Make::CircularPrereq                   => CPAN::T::D::P5::M::CP
CPAN::Test::Dummy::Perl5::Make::OptionalPrereq                   => CPAN::T::D::P5::M::OP
CPAN::Test::Dummy::Perl5::Make::Zip                              => CPAN::T::D::P5::M::Zip
CPAN::Testers::Common::Client                                    => CPAN::T::C::C
CPAN::Testers::Report                                            => CPAN::T::R
CPAN::Version                                                    => CPAN::V
CSS::Flip                                                        => CSS::F
CSS::Tiny                                                        => CSS::T
CSV::HistoryPlayer                                               => CSV::HP
Cache::Cache                                                     => C::C
Cache::FastMmap                                                  => C::FM
Cache::LRU                                                       => C::LRU
Cache::Memcached                                                 => C::M
Cache::Memcached::Managed                                        => C::M::M
Calendar::Simple                                                 => C::S
Canary::Stability                                                => *undef*
Capture::Tiny                                                    => C::T
Carp::Always                                                     => C::A
Carp::Assert                                                     => *undef*
Carp::Assert::More                                               => C::A::M
Carp::Clan                                                       => *undef*
Carp::Clan::Share                                                => C::C::S
Carp::Heavy                                                      => C::H
Carp::Reply                                                      => C::R
Catalyst::Action::REST                                           => C::A::REST
Catalyst::Action::RenderView                                     => C::A::RV
Catalyst::ActionRole::ACL                                        => C::AR::ACL
Catalyst::ActionRole::NotCacheableHeaders                        => C::AR::NotCH
Catalyst::ActionRole::PseudoCache                                => C::AR::PC
Catalyst::Authentication::Credential::Fallback                   => C::A::C::F
Catalyst::Component::InstancePerContext                          => C::C::IPerC
Catalyst::Controller::ActionRole                                 => C::C::AR
Catalyst::Model::CDBI                                            => C::M::CDBI
Catalyst::Model::LDAP                                            => C::M::LDAP
Catalyst::Plugin::Authentication                                 => C::P::A
Catalyst::Plugin::Authorization::Roles                           => C::P::A::R
Catalyst::Plugin::Cache                                          => C::P::C
Catalyst::Plugin::Flash                                          => C::P::F
Catalyst::Plugin::I18N                                           => C::P::I18N
Catalyst::Plugin::I18N::PathPrefix                               => C::P::I18N::PP
Catalyst::Plugin::Images                                         => C::P::I
Catalyst::Plugin::LogWarnings                                    => C::P::LogW
Catalyst::Plugin::PluginLoader                                   => C::P::PL
Catalyst::Plugin::RequireSSL                                     => C::P::RSSL
Catalyst::Plugin::Session                                        => C::P::S
Catalyst::Plugin::Session::State::Cookie                         => C::P::S::S::C
Catalyst::Plugin::Session::Store::Memcached                      => C::P::S::S::M
Catalyst::Plugin::SpecialAction::Trail                           => C::P::SA::T
Catalyst::Plugin::Static::Simple                                 => C::P::S::S
Catalyst::Runtime                                                => *undef*
Catalyst::View::Excel::Template::Plus                            => C::V::E::T::P
Catalyst::View::FillInForm                                       => C::V::FInF
Catalyst::View::TT                                               => C::V::TT
CatalystX::Component::Traits                                     => CX::C::T
CatalystX::InjectComponent                                       => CX::IC
CatalystX::SimpleLogin                                           => CX::SL
Chart::Gnuplot                                                   => C::G
Chat::iFly                                                       => C::iFly
Check::UnitCheck                                                 => C::UC
Chemistry::Elements                                              => C::E
Class::Accessor                                                  => *undef*
Class::Accessor::Assert                                          => C::A::A
Class::Accessor::Chained                                         => C::A::C
Class::Accessor::Class                                           => *undef*
Class::Accessor::Classy                                          => *undef*
Class::Accessor::Complex                                         => *undef*
Class::Accessor::Constructor                                     => *undef*
Class::Accessor::Fast::WithBuilder                               => C::A::F::WB
Class::Accessor::Fast::XS                                        => C::A::F::XS
Class::Accessor::Grouped                                         => C::A::G
Class::Accessor::Installer                                       => C::A::I
Class::Accessor::Lite                                            => C::A::L
Class::AutoloadCAN                                               => C::ACAN
Class::Autouse                                                   => *undef*
Class::C3                                                        => C::C3
Class::C3::Adopt::NEXT                                           => C::C3::A::NEXT
Class::C3::Componentised                                         => C::C3::C
Class::C3::XS                                                    => C::C3::XS
Class::Comparable                                                => *undef*
Class::DBI                                                       => C::DBI
Class::DBI::ClassGenerator                                       => C::DBI::CG
Class::DBI::Loader                                               => C::DBI::L
Class::DBI::Plugin                                               => C::DBI::P
Class::DBI::Plugin::DeepAbstractSearch                           => C::DBI::P::DAS
Class::Data::Accessor                                            => C::D::A
Class::Data::Inheritable                                         => C::D::I
Class::ErrorHandler                                              => C::EH
Class::ExtraAttributes                                           => C::EA
Class::GenSource                                                 => C::GenS
Class::ISA                                                       => C::ISA
Class::InsideOut                                                 => C::IOut
Class::Inspector                                                 => C::I
Class::Iterator                                                  => *undef*
Class::Lego                                                      => C::L
Class::Load                                                      => *undef*
Class::Load::XS                                                  => C::L::XS
Class::Measure                                                   => *undef*
Class::Method::Modifiers                                         => *undef*
Class::MethodMaker                                               => C::MM
Class::Mix                                                       => C::Mix
Class::Mockable                                                  => *undef*
Class::Multimethods                                              => *undef*
Class::NonOO                                                     => C::NonOO
Class::Refresh                                                   => *undef*
Class::Singleton                                                 => *undef*
Class::Spiffy                                                    => *undef*
Class::Struct                                                    => *undef*
Class::Tiny                                                      => *undef*
Class::Tiny::Immutable                                           => C::T::I
Class::Trigger                                                   => *undef*
Class::Unload                                                    => C::U
Class::XSAccessor                                                => C::XSA
Class::XSAccessor::Compat                                        => C::XSA::C
Clone::Choose                                                    => *undef*
Clone::PP                                                        => C::PP
Clone::Util                                                      => *undef*
Code::ART                                                        => C::ART
Code::Embeddable                                                 => *undef*
CodeGen::Cpppp                                                   => CGen::C
Color::ANSI::Util                                                => C::ANSI::U
Color::Library                                                   => *undef*
Color::RGB::Util                                                 => C::RGB::U
ColorThemeBase::Static                                           => CTB::S
ColorThemeRole::ANSI                                             => CTR::ANSI
ColorThemeUtil::ANSI                                             => CTU::ANSI
ColorThemes::Standard                                            => CT::S
ComXo::Call2                                                     => ComXo::C2
Compiler::Lexer                                                  => *undef*
Complete::Bash                                                   => C::B
Complete::Common                                                 => *undef*
Complete::Dpkg                                                   => C::D
Complete::Env                                                    => C::Env
Complete::File                                                   => C::F
Complete::Fish                                                   => *undef*
Complete::Getopt::Long                                           => C::G::L
Complete::Module                                                 => *undef*
Complete::Number                                                 => C::N
Complete::Path                                                   => C::P
Complete::Sah                                                    => C::Sah
Complete::Sequence                                               => *undef*
Complete::Tcsh                                                   => *undef*
Complete::Util                                                   => *undef*
Complete::Zsh                                                    => C::Zsh
Compress::LZV1                                                   => C::LZV1
Compress::Raw::Bzip2                                             => C::Raw::B2
Compress::Raw::Lzma                                              => C::Raw::L
Compress::Raw::Zlib                                              => C::Raw::Z
Compress::Stream::Zstd                                           => C::S::Z
Compress::Zlib                                                   => C::Z
Config::Abstraction                                              => *undef*
Config::Any                                                      => C::Any
Config::Any::TOML                                                => C::Any::TOML
Config::Auto                                                     => *undef*
Config::Extensions                                               => *undef*
Config::General                                                  => *undef*
Config::INI                                                      => C::INI
Config::INI::Reader::Ordered                                     => C::INI::R::O
Config::IOD::Reader                                              => C::IOD::R
Config::IPFilter                                                 => C::IPF
Config::IniFiles                                                 => C::IniF
Config::JFDI                                                     => C::JFDI
Config::MVP                                                      => C::MVP
Config::MySQL                                                    => C::MySQL
Config::Perl::V                                                  => C::P::V
Config::Simple                                                   => *undef*
Config::Tiny                                                     => *undef*
Config::ZOMG                                                     => C::ZOMG
Const::Exporter                                                  => *undef*
Const::Fast                                                      => *undef*
Const::PP                                                        => *undef*
Context::Preserve                                                => *undef*
Convert::ASN1                                                    => C::ASN1
Convert::Ascii85                                                 => C::A85
Convert::Base32                                                  => C::B32
Convert::BinHex                                                  => C::BinHex
Convert::Color                                                   => *undef*
Convert::Color::XTerm                                            => C::C::XT
Convert::Context                                                 => *undef*
Convert::Number::Ethiopic                                        => C::N::E
Convert::RACE                                                    => C::RACE
Cookie::Baker                                                    => *undef*
Cookie::Baker::XS                                                => C::B::XS
Country::Codes                                                   => *undef*
Cpanel::JSON::XS                                                 => C::JSON::XS
Crypt::Argon2                                                    => C::A2
Crypt::Bcrypt                                                    => *undef*
Crypt::Bear                                                      => *undef*
Crypt::Blowfish                                                  => *undef*
Crypt::CAST5_PP                                                  => C::CAST5_PP
Crypt::CBC                                                       => C::CBC
Crypt::DES                                                       => C::DES
Crypt::DES_EDE3                                                  => C::DES_EDE3
Crypt::DES_EEE3                                                  => C::DES_EEE3
Crypt::DH::GMP                                                   => C::DH::GMP
Crypt::Eksblowfish                                               => *undef*
Crypt::HSM                                                       => C::HSM
Crypt::JWT                                                       => C::JWT
Crypt::MySQL                                                     => *undef*
Crypt::OpenSSL::Bignum                                           => C::OSSL::B
Crypt::OpenSSL::Guess                                            => C::OSSL::G
Crypt::OpenSSL::RSA                                              => C::OSSL::RSA
Crypt::OpenSSL::Random                                           => C::OSSL::R
Crypt::PBKDF2                                                    => C::PBKDF2
Crypt::Passphrase                                                => *undef*
Crypt::Passphrase::HSM                                           => C::P::HSM
Crypt::Passphrase::Yescrypt                                      => C::P::Y
Crypt::PasswdMD5                                                 => C::PMD5
Crypt::Password::Util                                            => C::P::U
Crypt::RC4                                                       => C::RC4
Crypt::Random::Seed                                              => C::R::S
Crypt::Random::TESHA2                                            => C::R::TESHA2
Crypt::Rijndael                                                  => *undef*
Crypt::Simple                                                    => *undef*
Crypt::Solitaire                                                 => *undef*
Crypt::SysRandom                                                 => C::SysR
Crypt::SysRandom::XS                                             => C::SysR::XS
Crypt::Twofish2                                                  => C::T2
Crypt::URandom                                                   => C::UR
Crypt::UnixCrypt_XS                                              => C::UCXS
Crypt::XkcdPassword                                              => C::XP
Crypt::Yescrypt                                                  => C::Y
CryptX                                                           => CX
Cwd::Guard                                                       => Cwd::G
DBD::Mock                                                        => DBD::M
DBD::SQLite                                                      => DBD::SQL
DBIx::Connector                                                  => DBIx::C
DBIx::ContextualFetch                                            => DBIx::CF
DBIx::Diff::Schema                                               => DBIx::D::S
DBIx::TableLoader                                                => DBIx::TL
DBIx::TableLoader::CSV                                           => DBIx::TL::CSV
DBIx::TransactionManager                                         => DBIx::TM
DBIx::UpdateTable::FromHoH                                       => DBIx::UT::FHoH
DBIx::Util::Schema                                               => DBIx::U::S
DBM_Filter                                                       => DBM_F
DBM_Filter::compress                                             => DBM_F::c
DBM_Filter::encode                                               => DBM_F::e
DBM_Filter::int32                                                => DBM_F::int32
DBM_Filter::null                                                 => DBM_F::n
DBM_Filter::utf8                                                 => DBM_F::utf8
DB_File                                                          => DB_F
DIME::Tools                                                      => DIME::T
Data::Alias                                                      => D::A
Data::Binary                                                     => D::B
Data::Check::Structure                                           => D::C::S
Data::Clean                                                      => D::C
Data::Clean::ForJSON                                             => D::C::ForJSON
Data::Clean::JSON                                                => D::C::JSON
Data::Clone                                                      => *undef*
Data::Cmp                                                        => D::Cmp
Data::Compare                                                    => *undef*
Data::DPath                                                      => D::DP
Data::Dmp                                                        => D::Dmp
Data::Dump                                                       => D::D
Data::Dump::Color                                                => D::D::C
Data::Dump::OneLine                                              => D::D::OneL
Data::Dump::Partial                                              => D::D::P
Data::Dumper                                                     => *undef*
Data::Dumper::Concise                                            => *undef*
Data::Entropy                                                    => D::E
Data::Float                                                      => D::F
Data::FormValidator                                              => D::FV
Data::FormValidator::Constraints::Words                          => D::FV::C::W
Data::FormValidator::Filters::Demoroniser                        => D::FV::F::D
Data::Format::Pretty                                             => D::F::P
Data::Format::Pretty::Console                                    => D::F::P::C
Data::Format::Pretty::HTML                                       => D::F::P::HTML
Data::Format::Pretty::JSON                                       => D::F::P::JSON
Data::Format::Pretty::PHPSerialization                           => D::F::P::PHPS
Data::Format::Pretty::Perl                                       => D::F::P::P
Data::Format::Pretty::YAML                                       => D::F::P::YAML
Data::GUID                                                       => D::GUID
Data::Inherited                                                  => D::I
Data::Integer                                                    => *undef*
Data::LineBuffer                                                 => D::LB
Data::MessagePack                                                => D::MP
Data::Miscellany                                                 => D::M
Data::ModeMerge                                                  => D::MM
Data::OptList                                                    => D::OptL
Data::Page                                                       => D::P
Data::Page::NoTotalEntries                                       => D::P::NoTE
Data::Pageset                                                    => *undef*
Data::Perl                                                       => *undef*
Data::Phrasebook                                                 => *undef*
Data::Phrasebook::Loader::Ini                                    => D::P::L::Ini
Data::Printer                                                    => *undef*
Data::Reuse                                                      => D::R
Data::Sah::DefaultValue                                          => D::Sah::DV
Data::Sah::Filter                                                => D::Sah::F
Data::Sah::Normalize                                             => D::Sah::N
Data::Sah::Resolve                                               => D::Sah::R
Data::Sah::Terse                                                 => D::Sah::T
Data::Sah::Util::Type                                            => D::Sah::U::T
Data::Section                                                    => D::S
Data::Section::Seekable                                          => D::S::S
Data::Section::Simple                                            => *undef*
Data::Stream::Bulk                                               => D::S::B
Data::TableData::Object                                          => D::TD::O
Data::TableData::Rank                                            => D::TD::R
Data::Taxi                                                       => D::T
Data::UUID                                                       => D::UUID
Data::Unixish                                                    => D::U
Data::Unixish::ANSI                                              => D::U::ANSI
Data::Util                                                       => *undef*
Data::Validate::IP                                               => D::V::IP
Data::Visitor                                                    => D::V
Date::Calc                                                       => *undef*
Date::Calc::XS                                                   => D::C::XS
Date::Manip                                                      => *undef*
Date::Parse                                                      => *undef*
Date::Simple                                                     => *undef*
Date::TimeOfDay                                                  => D::TOfDay
DateTime                                                         => DT
DateTime::Format::Builder                                        => DT::F::B
DateTime::Format::DateParse                                      => DT::F::DP
DateTime::Format::Duration                                       => DT::F::D
DateTime::Format::Flexible                                       => DT::F::F
DateTime::Format::HTTP                                           => DT::F::HTTP
DateTime::Format::ISO8601                                        => DT::F::ISO8601
DateTime::Format::Mail                                           => DT::F::M
DateTime::Format::MySQL                                          => DT::F::MySQL
DateTime::Format::Natural                                        => DT::F::N
DateTime::Format::Pg                                             => DT::F::Pg
DateTime::Format::SQLite                                         => DT::F::SQL
DateTime::Format::Strptime                                       => DT::F::S
DateTime::Format::W3CDTF                                         => DT::F::W3CDTF
DateTime::HiRes                                                  => DT::HiRes
DateTime::Locale                                                 => DT::L
DateTime::TimeZone                                               => DT::TZ
DateTime::TimeZone::Alias                                        => DT::TZ::A
DateTime::TimeZone::Catalog::Extend                              => DT::TZ::C::E
Debug::ShowStuff                                                 => D::SS
Devel::Autoflush                                                 => *undef*
Devel::CallChecker                                               => D::CC
Devel::Caller                                                    => *undef*
Devel::Caller::Util                                              => D::C::U
Devel::CheckBin                                                  => D::CBin
Devel::CheckCompiler                                             => *undef*
Devel::CheckLib                                                  => D::CLib
Devel::CheckOS                                                   => D::COS
Devel::Confess                                                   => *undef*
Devel::Cycle                                                     => *undef*
Devel::FindPerl                                                  => D::FP
Devel::GlobalDestruction                                         => D::GD
Devel::Hide                                                      => D::H
Devel::Leak                                                      => D::L
Devel::LexAlias                                                  => D::LexA
Devel::MAT                                                       => D::MAT
Devel::MAT::Dumper                                               => D::MAT::D
Devel::OverloadInfo                                              => D::OI
Devel::OverrideGlobalRequire                                     => D::OGR
Devel::PPPort                                                    => D::PPP
Devel::PartialDump                                               => D::PD
Devel::PatchPerl                                                 => D::PP
Devel::Peek                                                      => *undef*
Devel::Platform::Info                                            => D::P::I
Devel::SelfStubber                                               => *undef*
Devel::Size                                                      => *undef*
Devel::StackTrace                                                => D::ST
Devel::StackTrace::AsHTML                                        => D::ST::AsHTML
Devel::StackTrace::WithLexicals                                  => D::ST::WL
Devel::Symdump                                                   => *undef*
Digest::BubbleBabble                                             => D::BB
Digest::CRC                                                      => D::CRC
Digest::HMAC                                                     => D::HMAC
Digest::JHash                                                    => D::JH
Digest::MD4                                                      => D::MD4
Digest::MD5                                                      => D::MD5
Digest::Perl::MD5                                                => D::P::MD5
Digest::SHA                                                      => D::SHA
Digest::SHA1                                                     => D::SHA1
Digest::SHA3                                                     => D::SHA3
Digest::base                                                     => D::b
Digest::file                                                     => D::f
Dir::Self                                                        => Dir::S
DirHandle                                                        => DirH
Dist::Build                                                      => *undef*
Dist::CheckConflicts                                             => *undef*
Dist::Util                                                       => *undef*
Distribution::Metadata                                           => *undef*
DynaLoader                                                       => DL
DynaLoader::Functions                                            => DL::F
EBook::EPUB                                                      => EB::EPUB
Email::Address                                                   => E::A
Email::Date::Format                                              => E::D::F
Email::Valid                                                     => E::V
Email::Valid::Loose                                              => E::V::L
Encode::Alias                                                    => *undef*
Encode::Byte                                                     => E::B
Encode::CJKConstants                                             => E::CJKC
Encode::CN                                                       => E::CN
Encode::CN::HZ                                                   => E::CN::HZ
Encode::Config                                                   => E::C
Encode::EBCDIC                                                   => E::EBCDIC
Encode::Encoder                                                  => E::E
Encode::Encoding                                                 => *undef*
Encode::GSM0338                                                  => E::GSM0338
Encode::Guess                                                    => E::G
Encode::JP                                                       => E::JP
Encode::JP::H2Z                                                  => E::JP::H2Z
Encode::JP::JIS7                                                 => E::JP::JIS7
Encode::KR                                                       => E::KR
Encode::KR::2022_KR                                              => E::KR::2022_KR
Encode::Locale                                                   => E::L
Encode::MIME::Header                                             => E::MIME::H
Encode::MIME::Header::ISO_2022_JP                                => E::MIME::H::ISO_2022_JP
Encode::MIME::Name                                               => E::MIME::N
Encode::Symbol                                                   => E::S
Encode::TW                                                       => E::TW
Encode::Unicode                                                  => E::U
Encode::Unicode::UTF7                                            => E::U::UTF7
Encode::ZapCP1252                                                => E::ZapCP1252
Env::Sanctify                                                    => Env::S
Eval::Closure                                                    => *undef*
Excel::Template                                                  => E::T
Excel::Template::Plus                                            => E::T::P
Excel::Writer::XLSX                                              => E::W::XLSX
Exception::Class                                                 => *undef*
Exporter::AutoClean                                              => E::AC
Exporter::Heavy                                                  => E::H
Exporter::Lite                                                   => *undef*
Exporter::Tiny                                                   => *undef*
ExtUtils::Builder                                                => ExtU::B
ExtUtils::Builder::Compiler                                      => ExtU::B::C
ExtUtils::CBuilder                                               => ExtU::CB
ExtUtils::CBuilder::Base                                         => ExtU::CB::B
ExtUtils::CBuilder::Platform::Unix                               => ExtU::CB::P::U
ExtUtils::CBuilder::Platform::VMS                                => ExtU::CB::P::VMS
ExtUtils::CBuilder::Platform::Windows                            => ExtU::CB::P::W
ExtUtils::CBuilder::Platform::Windows::BCC                       => ExtU::CB::P::W::BCC
ExtUtils::CBuilder::Platform::Windows::GCC                       => ExtU::CB::P::W::GCC
ExtUtils::CBuilder::Platform::Windows::MSVC                      => ExtU::CB::P::W::MSVC
ExtUtils::CBuilder::Platform::aix                                => ExtU::CB::P::aix
ExtUtils::CBuilder::Platform::android                            => ExtU::CB::P::a
ExtUtils::CBuilder::Platform::cygwin                             => ExtU::CB::P::c
ExtUtils::CBuilder::Platform::darwin                             => ExtU::CB::P::d
ExtUtils::CBuilder::Platform::dec_osf                            => *undef*
ExtUtils::CBuilder::Platform::os2                                => ExtU::CB::P::os2
ExtUtils::CChecker                                               => ExtU::CC
ExtUtils::Command                                                => ExtU::C
ExtUtils::Command::MM                                            => ExtU::C::MM
ExtUtils::Config                                                 => *undef*
ExtUtils::Constant                                               => *undef*
ExtUtils::Constant::Base                                         => ExtU::C::B
ExtUtils::Constant::ProxySubs                                    => ExtU::C::PS
ExtUtils::Constant::Utils                                        => ExtU::C::U
ExtUtils::Constant::XS                                           => ExtU::C::XS
ExtUtils::Depends                                                => ExtU::D
ExtUtils::Embed                                                  => ExtU::E
ExtUtils::HasCompiler                                            => ExtU::HasC
ExtUtils::Helpers                                                => ExtU::H
ExtUtils::Install                                                => ExtU::I
ExtUtils::InstallPaths                                           => ExtU::IP
ExtUtils::Installed                                              => *undef*
ExtUtils::Liblist                                                => ExtU::L
ExtUtils::Liblist::Kid                                           => ExtU::L::Kid
ExtUtils::MM                                                     => ExtU::MM
ExtUtils::MM_AIX                                                 => ExtU::MM_AIX
ExtUtils::MM_Any                                                 => ExtU::MM_Any
ExtUtils::MM_BeOS                                                => ExtU::MM_BeOS
ExtUtils::MM_Cygwin                                              => ExtU::MM_C
ExtUtils::MM_DOS                                                 => ExtU::MM_DOS
ExtUtils::MM_Darwin                                              => ExtU::MM_D
ExtUtils::MM_MacOS                                               => ExtU::MM_MacOS
ExtUtils::MM_NW5                                                 => ExtU::MM_NW5
ExtUtils::MM_OS2                                                 => ExtU::MM_OS2
ExtUtils::MM_OS390                                               => ExtU::MM_OS390
ExtUtils::MM_QNX                                                 => ExtU::MM_QNX
ExtUtils::MM_UWIN                                                => ExtU::MM_UWIN
ExtUtils::MM_Unix                                                => ExtU::MM_U
ExtUtils::MM_VMS                                                 => ExtU::MM_VMS
ExtUtils::MM_VOS                                                 => ExtU::MM_VOS
ExtUtils::MM_Win32                                               => ExtU::MM_Win32
ExtUtils::MM_Win95                                               => ExtU::MM_Win95
ExtUtils::MY                                                     => ExtU::MY
ExtUtils::MakeMaker                                              => *undef*
ExtUtils::MakeMaker::CPANfile                                    => ExtU::MM::CPAN
ExtUtils::MakeMaker::Config                                      => ExtU::MM::C
ExtUtils::MakeMaker::Locale                                      => ExtU::MM::L
ExtUtils::MakeMaker::version                                     => ExtU::MM::v
ExtUtils::MakeMaker::version::regex                              => ExtU::MM::v::r
ExtUtils::Manifest                                               => ExtU::M
ExtUtils::Miniperl                                               => *undef*
ExtUtils::Mkbootstrap                                            => *undef*
ExtUtils::Mksymlists                                             => *undef*
ExtUtils::PL2Bat                                                 => ExtU::PL2Bat
ExtUtils::Packlist                                               => ExtU::P
ExtUtils::ParseXS                                                => ExtU::PXS
ExtUtils::ParseXS::Constants                                     => ExtU::PXS::C
ExtUtils::ParseXS::CountLines                                    => ExtU::PXS::CL
ExtUtils::ParseXS::Eval                                          => ExtU::PXS::E
ExtUtils::ParseXS::Node                                          => ExtU::PXS::N
ExtUtils::ParseXS::Utilities                                     => ExtU::PXS::U
ExtUtils::PkgConfig                                              => ExtU::PkgC
ExtUtils::Typemaps                                               => ExtU::T
ExtUtils::Typemaps::Cmd                                          => ExtU::T::Cmd
ExtUtils::Typemaps::InputMap                                     => ExtU::T::IMap
ExtUtils::Typemaps::OutputMap                                    => ExtU::T::OMap
ExtUtils::Typemaps::Type                                         => ExtU::T::T
ExtUtils::XSSymSet                                               => ExtU::XSSymSet
ExtUtils::testlib                                                => ExtU::t
FCGI::Client                                                     => FCGI::C
FCGI::ProcManager                                                => FCGI::PM
FFI::CheckLib                                                    => FFI::CLib
Feature::Compat::Try                                             => F::C::Try
Feed::Find                                                       => F::F
File::BaseDir                                                    => F::BDir
File::Basename                                                   => F::B
File::Compare                                                    => F::C
File::Copy                                                       => *undef*
File::Copy::Recursive                                            => F::C::R
File::Copy::Recursive::Reduced                                   => F::C::R::R
File::DesktopEntry                                               => F::DE
File::DosGlob                                                    => F::DosG
File::Fetch                                                      => *undef*
File::Find                                                       => *undef*
File::Find::Iterator                                             => F::F::I
File::Find::Object                                               => F::F::O
File::Find::Rule                                                 => F::F::R
File::Find::Rule::Perl                                           => F::F::R::P
File::Flock::Retry                                               => *undef*
File::Glob                                                       => F::G
File::GlobMapper                                                 => F::GM
File::HomeDir                                                    => F::HDir
File::Listing                                                    => F::L
File::MMagic                                                     => F::MM
File::MimeInfo                                                   => F::MI
File::NFSLock                                                    => F::NFSL
File::Path                                                       => F::P
File::Path::Expand                                               => F::P::E
File::ReadBackwards                                              => F::RB
File::Remove                                                     => F::R
File::ShareDir                                                   => F::SDir
File::ShareDir::Install                                          => F::SDir::I
File::ShareDir::Tarball                                          => F::SDir::T
File::ShareDir::Tiny                                             => *undef*
File::Slurp                                                      => F::S
File::Slurper                                                    => *undef*
File::Spec                                                       => *undef*
File::Spec::AmigaOS                                              => F::S::AOS
File::Spec::Cygwin                                               => F::S::C
File::Spec::Epoc                                                 => F::S::E
File::Spec::Functions                                            => F::S::F
File::Spec::Mac                                                  => F::S::Mac
File::Spec::OS2                                                  => F::S::OS2
File::Spec::Unix                                                 => F::S::U
File::Spec::VMS                                                  => F::S::VMS
File::Spec::Win32                                                => F::S::Win32
File::Temp                                                       => F::T
File::TreeCreate                                                 => F::TC
File::Type                                                       => *undef*
File::Util::Sort                                                 => F::U::S
File::Util::Tempdir                                              => F::U::T
File::Util::Test                                                 => *undef*
File::Which                                                      => F::W
File::chdir                                                      => F::c
File::pushd                                                      => F::p
File::stat                                                       => F::s
FileCache                                                        => FC
FileHandle                                                       => FH
Filesys::Cap                                                     => F::Cap
Filesys::Notify::Simple                                          => F::N::S
Filter::Simple                                                   => *undef*
Filter::Util::Call                                               => F::U::C
Finance::Currency::Convert::Yahoo                                => F::C::C::Y
FindBin                                                          => FBin
Font::AFM                                                        => F::AFM
FormValidator::Lite                                              => FV::L
Format::Human::Bytes                                             => F::H::B
FreezeThaw                                                       => FT
Function::Fallback::CoreOrPP                                     => F::F::COrPP
Future::AsyncAwait                                               => F::AA
GDBM_File                                                        => GDBM_F
GIS::Distance                                                    => GIS::D
GIS::Distance::Fast                                              => GIS::D::F
Gen::Test::Rinci::FuncResult                                     => Gen::T::R::FR
Geo::Distance                                                    => Geo::D
Getopt::Long                                                     => G::L
Getopt::Long::Complete                                           => G::L::C
Getopt::Long::Descriptive                                        => G::L::D
Getopt::Long::EvenLess                                           => G::L::EL
Getopt::Long::Negate::EN                                         => G::L::N::EN
Getopt::Long::Parser                                             => G::L::P
Getopt::Long::Subcommand                                         => G::L::S
Getopt::Long::Util                                               => G::L::U
Getopt::Mini                                                     => G::M
Getopt::Simple                                                   => G::S
Getopt::Std                                                      => G::Std
Getopt::Usaginator                                               => G::U
Graphics::ColorNamesLite::WWW                                    => G::CNL::WWW
Gravatar::URL                                                    => G::URL
HTML-Element-Extended                                            => HTML-E-E
HTML::Entities::Interpolate                                      => HTML::E::I
HTML::Escape                                                     => HTML::E
HTML::FillInForm                                                 => HTML::FInF
HTML::FillInForm::Lite                                           => HTML::FInF::L
HTML::Form                                                       => HTML::F
HTML::FormHandler                                                => HTML::FH
HTML::FormatText::WithLinks                                      => HTML::FT::WL
HTML::Formatter                                                  => *undef*
HTML::Parser                                                     => HTML::P
HTML::Scrubber                                                   => HTML::S
HTML::Selector::XPath                                            => HTML::S::XP
HTML::Shakan                                                     => *undef*
HTML::StickyQuery                                                => HTML::SQ
HTML::TagCloud                                                   => HTML::TagC
HTML::Tagset                                                     => HTML::T
HTML::Template                                                   => *undef*
HTML::Tiny                                                       => *undef*
HTML::Tree                                                       => *undef*
HTML::TreeBuilder::XPath                                         => HTML::TB::XP
HTTP::Body                                                       => HTTP::B
HTTP::BrowserDetect                                              => HTTP::BD
HTTP::CookieJar                                                  => HTTP::CJar
HTTP::Cookies                                                    => HTTP::C
HTTP::Daemon                                                     => HTTP::D
HTTP::Date                                                       => *undef*
HTTP::Entity::Parser                                             => HTTP::E::P
HTTP::Headers::Fast                                              => HTTP::H::F
HTTP::Lite                                                       => HTTP::L
HTTP::Message                                                    => HTTP::M
HTTP::MultiPartParser                                            => HTTP::MPP
HTTP::Negotiate                                                  => HTTP::N
HTTP::Parser::XS                                                 => HTTP::P::XS
HTTP::Request::AsCGI                                             => HTTP::R::AsCGI
HTTP::Server::Simple                                             => HTTP::S::S
HTTP::Server::Simple::PSGI                                       => HTTP::S::S::PSGI
HTTP::Session2                                                   => HTTP::S2
HTTP::Tiny                                                       => HTTP::T
HTTP::Tiny::Plugin                                               => HTTP::T::P
HTTP::Tiny::UNIX                                                 => HTTP::T::UNIX
HTTP::XSHeaders                                                  => HTTP::XSH
Hash::FieldHash                                                  => H::FH
Hash::Flatten                                                    => H::F
Hash::Merge                                                      => H::M
Hash::Merge::Simple                                              => H::M::S
Hash::MoreUtils                                                  => H::MU
Hash::MultiValue                                                 => H::MV
Hash::Objectify                                                  => H::O
Hash::Subset                                                     => H::S
Hash::Util                                                       => H::U
Hash::Util::FieldHash                                            => H::U::FH
Hash::Util::FieldHash::Compat                                    => H::U::FH::C
Hook::LexWrap                                                    => H::LexW
I18N::AcceptLanguage                                             => I18N::AL
I18N::Collate                                                    => I18N::C
I18N::LangTags                                                   => I18N::LT
I18N::LangTags::Detect                                           => I18N::LT::D
I18N::LangTags::List                                             => I18N::LT::L
I18N::Langinfo                                                   => I18N::L
IO::CaptureOutput                                                => IO::CO
IO::Compress                                                     => IO::C
IO::Compress::Adapter::Bzip2                                     => IO::C::A::B2
IO::Compress::Adapter::Deflate                                   => IO::C::A::D
IO::Compress::Adapter::Identity                                  => IO::C::A::I
IO::Compress::Base                                               => IO::C::B
IO::Compress::Base::Common                                       => IO::C::B::C
IO::Compress::Brotli                                             => *undef*
IO::Compress::Bzip2                                              => IO::C::B2
IO::Compress::Deflate                                            => IO::C::D
IO::Compress::Gzip                                               => IO::C::G
IO::Compress::Gzip::Constants                                    => IO::C::G::C
IO::Compress::Lzma                                               => IO::C::L
IO::Compress::RawDeflate                                         => IO::C::RawD
IO::Compress::Zip                                                => IO::C::Zip
IO::Compress::Zip::Constants                                     => IO::C::Zip::C
IO::Compress::Zlib::Constants                                    => IO::C::Z::C
IO::Compress::Zlib::Extra                                        => IO::C::Z::E
IO::Compress::Zstd                                               => IO::C::Z
IO::File                                                         => IO::F
IO::Handle                                                       => IO::H
IO::Handle::Util                                                 => IO::H::U
IO::Interactive                                                  => IO::I
IO::LockedFile                                                   => IO::LF
IO::Pager                                                        => IO::P
IO::Pipe                                                         => *undef*
IO::Pipely                                                       => *undef*
IO::Poll                                                         => *undef*
IO::Prompt::I18N                                                 => IO::P::I18N
IO::Prompt::Tiny                                                 => IO::P::T
IO::Seekable                                                     => IO::S
IO::Select                                                       => *undef*
IO::SessionData                                                  => IO::SD
IO::Socket                                                       => *undef*
IO::Socket::INET                                                 => IO::S::INET
IO::Socket::INET6                                                => IO::S::INET6
IO::Socket::IP                                                   => IO::S::IP
IO::Socket::SSL                                                  => IO::S::SSL
IO::Socket::UNIX                                                 => IO::S::UNIX
IO::String                                                       => *undef*
IO::Stringy                                                      => *undef*
IO::TieCombine                                                   => IO::TieC
IO::Uncompress::Adapter::Bunzip2                                 => IO::U::A::B2
IO::Uncompress::Adapter::Identity                                => IO::U::A::I
IO::Uncompress::Adapter::Inflate                                 => *undef*
IO::Uncompress::AnyInflate                                       => IO::U::AnyI
IO::Uncompress::AnyUncompress                                    => IO::U::AnyU
IO::Uncompress::Base                                             => IO::U::B
IO::Uncompress::Bunzip2                                          => IO::U::B2
IO::Uncompress::Gunzip                                           => IO::U::G
IO::Uncompress::Inflate                                          => IO::U::I
IO::Uncompress::RawInflate                                       => IO::U::RawI
IO::Uncompress::Unzip                                            => IO::U::U
IO::Zlib                                                         => IO::Z
IOD::Examples                                                    => IOD::E
IPC::Open2                                                       => IPC::O2
IPC::Open3                                                       => IPC::O3
IPC::Semaphore                                                   => IPC::S
IPC::SharedMem                                                   => IPC::SMem
IPC::System::Options                                             => IPC::S::O
IPC::System::Simple                                              => IPC::S::S
Image::ExifTool                                                  => I::ET
Image::Size                                                      => I::S
Import::Export                                                   => I::E
Import::Into                                                     => I::I
Iterator::Simple                                                 => *undef*
Iterator::Util                                                   => I::U
JSON::Color                                                      => JSON::C
JSON::MaybeXS                                                    => JSON::MXS
JSON::MultiValueOrdered                                          => JSON::MVO
JSON::PP::Boolean                                                => JSON::PP::B
JSON::Parse                                                      => JSON::P
JSON::Path                                                       => *undef*
JSON::Util                                                       => JSON::U
LWP::MediaTypes                                                  => LWP::MT
LWP::Online                                                      => LWP::O
LWP::Protocol::PSGI                                              => LWP::P::PSGI
LWP::Protocol::Patch::CountBytesIn                               => LWP::P::P::CBIn
LWP::Protocol::http10                                            => LWP::P::h10
LWP::Protocol::http::SocketUnixAlt                               => LWP::P::h::SUAlt
LWP::Protocol::https                                             => LWP::P::h
LWP::UserAgent::Plugin                                           => LWP::UA::P
LWP::UserAgent::Plugin::Retry                                    => LWP::UA::P::R
LWPx::ParanoidAgent                                              => LWPx::PA
Language::Expr                                                   => L::E
Lexical::SealRequireHints                                        => L::SRH
Lexical::Var                                                     => L::Var
Lingua::EN::Inflect                                              => L::EN::I
Lingua::EN::Numbers::Ordinate                                    => L::EN::N::O
Lingua::EN::PluralToSingular                                     => L::EN::PToS
Lingua::EN::Sentence                                             => L::EN::S
Lingua::JA::Regular::Unicode                                     => L::JA::R::U
Lingua::StopWords                                                => L::SW
List::AllUtils                                                   => L::AllU
List::BinarySearch                                               => L::BS
List::BinarySearch::XS                                           => L::BS::XS
List::MoreUtils                                                  => L::MU
List::MoreUtils::XS                                              => L::MU::XS
List::Rank                                                       => L::R
List::SomeUtils                                                  => L::SU
List::SomeUtils::XS                                              => L::SU::XS
List::Util                                                       => L::U
List::Util::Uniq                                                 => L::U::U
List::Util::XS                                                   => L::U::XS
List::UtilsBy                                                    => L::UBy
Locale::Codes                                                    => L::C
Locale::Maketext                                                 => L::M
Locale::Maketext::Guts                                           => L::M::G
Locale::Maketext::GutsLoader                                     => L::M::GL
Locale::Maketext::Lexicon                                        => L::M::L
Locale::Maketext::Simple                                         => L::M::S
Locale::Object                                                   => L::O
Locale::Set                                                      => L::Set
Locale::TextDomain::UTF8                                         => L::TD::UTF8
Log::Abstraction                                                 => Log::A
Log::Any::Adapter::Callback                                      => Log::Any::A::C
Log::Any::Adapter::Daemontools                                   => Log::Any::A::D
Log::Any::Adapter::TAP                                           => Log::Any::A::TAP
Log::Dispatch                                                    => Log::D
Log::Dispatch::Array                                             => Log::D::A
Log::Dispatch::FileRotate                                        => Log::D::FR
Log::Log4perl                                                    => Log::Log4
Log::LogLite                                                     => Log::LogL
Log::Minimal                                                     => Log::M
Log::Trace                                                       => Log::T
Log::ger::Layout::Pattern                                        => Log::ger::L::P
Log::ger::Output::Composite                                      => Log::ger::O::C
Log::ger::Output::File                                           => Log::ger::O::F
Log::ger::Output::Screen                                         => Log::ger::O::S
Log::ger::Output::SimpleFile                                     => Log::ger::O::SF
Log::ger::Output::Syslog                                         => *undef*
Logfile::Rotate                                                  => *undef*
MIME::Base32                                                     => MIME::B32
MIME::Base64                                                     => MIME::B64
MIME::Charset                                                    => MIME::C
MIME::Lite                                                       => MIME::L
MIME::Lite::TT::HTML                                             => MIME::L::TT::HTML
MIME::QuotedPrint                                                => MIME::QP
MIME::Tools                                                      => MIME::T
MIME::Types                                                      => *undef*
MRO::Compat                                                      => MRO::C
MailTools                                                        => MT
Markdown::To::POD                                                => M::To::POD
Math::Base36                                                     => M::B36
Math::Base::Convert                                              => M::B::C
Math::BigFloat                                                   => M::BigF
Math::BigFloat::Trace                                            => M::BigF::T
Math::BigInt                                                     => M::BigInt
Math::BigInt::Calc                                               => M::BigInt::C
Math::BigInt::FastCalc                                           => M::BigInt::FC
Math::BigInt::Lib                                                => M::BigInt::Lib
Math::BigInt::Trace                                              => M::BigInt::T
Math::BigRat                                                     => M::BigRat
Math::BigRat::Trace                                              => M::BigRat::T
Math::Complex                                                    => M::C
Math::MatrixReal                                                 => M::MR
Math::Polygon                                                    => M::P
Math::Random::ISAAC                                              => M::R::ISAAC
Math::Random::ISAAC::XS                                          => M::R::ISAAC::XS
Math::Random::MT                                                 => M::R::MT
Math::Round                                                      => M::R
Math::ScientificNotation::Util                                   => M::SN::U
Math::Symbolic                                                   => M::S
Math::Trig                                                       => M::T
Memoize::AnyDBM_File                                             => M::AnyDBM_F
Memoize::Expire                                                  => M::E
Memoize::NDBM_File                                               => M::NDBM_F
Memoize::SDBM_File                                               => M::SDBM_F
Memoize::Storable                                                => *undef*
Metabase::Client::Simple                                         => M::C::S
Metabase::Fact                                                   => M::F
Minion::Backend::SQLite                                          => M::B::SQL
Mixin::Event::Dispatch                                           => M::E::D
Mixin::Linewise                                                  => M::L
Mock::Config                                                     => *undef*
Mock::MonkeyPatch                                                => M::MP
Module::Build                                                    => M::B
Module::Build::Pluggable                                         => M::B::P
Module::Build::Pluggable::CPANfile                               => M::B::P::CPAN
Module::Build::Pluggable::PPPort                                 => M::B::P::PPP
Module::Build::Tiny                                              => M::B::T
Module::Build::Using::PkgConfig                                  => M::B::U::PkgC
Module::Build::XSUtil                                            => M::B::XSU
Module::CPANTS::Analyse                                          => M::CPANTS::A
Module::CPANfile                                                 => M::CPAN
Module::CoreList                                                 => M::CL
Module::CoreList::DBSchema                                       => M::CL::DBS
Module::CoreList::More                                           => M::CL::M
Module::CoreList::Utils                                          => M::CL::U
Module::DataPack                                                 => M::DP
Module::FatPack                                                  => M::FatP
Module::Find                                                     => *undef*
Module::Functions                                                => *undef*
Module::Implementation                                           => M::I
Module::Install                                                  => *undef*
Module::Installed::Tiny                                          => M::I::T
Module::InstalledVersion                                         => M::IV
Module::List                                                     => *undef*
Module::List::Tiny                                               => M::L::T
Module::Load                                                     => *undef*
Module::Load::Conditional                                        => M::L::C
Module::Load::Util                                               => M::L::U
Module::Loaded                                                   => *undef*
Module::Mask                                                     => M::M
Module::Metadata                                                 => *undef*
Module::Patch                                                    => *undef*
Module::Path                                                     => *undef*
Module::Path::More                                               => M::P::M
Module::Pluggable                                                => *undef*
Module::Refresh                                                  => *undef*
Module::Release::Select                                          => M::R::S
Module::Runtime                                                  => *undef*
Module::Runtime::Conflicts                                       => M::R::C
Module::ScanDeps                                                 => M::SD
Module::Signature                                                => *undef*
Module::Util                                                     => M::U
Module::XSOrPP                                                   => M::XSOrPP
Mojo::JSON::MaybeXS                                              => M::JSON::MXS
Mojo::SQLite                                                     => M::SQL
Monkey::Patch::Action                                            => M::P::A
MooX::HandlesVia                                                 => MooX::HVia
MooX::Types::MooseLike                                           => MooX::T::ML
MooX::Types::MooseLike::Numeric                                  => MooX::T::ML::N
MooseX::ArrayRef                                                 => MX::ARef
MooseX::ConfigFromFile                                           => MX::CFF
MooseX::Emulate::Class::Accessor::Fast                           => MX::E::C::A::F
MooseX::Getopt                                                   => MX::G
MooseX::MethodAttributes                                         => MX::MA
MooseX::OneArgNew                                                => MX::OneArgNew
MooseX::Param                                                    => MX::P
MooseX::RelatedClassRoles                                        => MX::RCR
MooseX::Role::Parameterized                                      => MX::R::P
MooseX::SimpleConfig                                             => MX::SC
MooseX::StrictConstructor                                        => *undef*
MooseX::Traits                                                   => MX::T
MooseX::Traits::Pluggable                                        => MX::T::P
MooseX::Types                                                    => *undef*
MooseX::Types::Common                                            => MX::T::C
MooseX::Types::DateTime                                          => MX::T::DT
MooseX::Types::DateTime::MySQL                                   => MX::T::DT::MySQL
MooseX::Types::ISO8601                                           => MX::T::ISO8601
MooseX::Types::JSON                                              => MX::T::JSON
MooseX::Types::LoadableClass                                     => MX::T::LC
MooseX::Types::Path::Class                                       => MX::T::P::C
MooseX::Types::Path::Tiny                                        => MX::T::P::T
MooseX::Types::Stringlike                                        => MX::T::S
MooseX::Types::Structured                                        => *undef*
MouseX::NativeTraits                                             => MX::NT
MouseX::Traits                                                   => *undef*
MouseX::Types                                                    => *undef*
Mozilla::CA                                                      => M::CA
Mozilla::PublicSuffix                                            => M::PS
NDBM_File                                                        => NDBM_F
Net::Config                                                      => Net::C
Net::DNS::Lite                                                   => Net::DNS::L
Net::Domain                                                      => Net::D
Net::FTP::dataconn                                               => Net::FTP::d
Net::IDN::Encode                                                 => Net::IDN::E
Net::LDAP::Server                                                => Net::LDAP::S
Net::Netrc                                                       => Net::N
Net::OpenID::Common                                              => Net::OID::C
Net::OpenID::Consumer                                            => *undef*
Net::Ping                                                        => Net::P
Net::SSLeay                                                      => Net::SSL
Net::Server                                                      => Net::S
Net::Server::SS::PreFork                                         => Net::S::SS::PreF
Net::Subnet                                                      => *undef*
Net::Time                                                        => Net::T
Net::Whois::IANA                                                 => Net::W::IANA
Net::Whois::IP                                                   => Net::W::IP
Net::hostent                                                     => Net::h
Net::netent                                                      => Net::n
Net::protoent                                                    => Net::p
Net::servent                                                     => Net::s
NetAddr::IP                                                      => NetA::IP
Nice::Try                                                        => N::Try
Nodejs::Util                                                     => N::U
Number::Compare                                                  => N::C
Number::Format                                                   => N::F
Number::Format::BigFloat                                         => N::F::BigF
Number::Format::Metric                                           => N::F::M
Number::WithError                                                => N::WE
OAuth::Lite                                                      => OA::L
ODBM_File                                                        => ODBM_F
OLE::Storage_Lite                                                => OLE::SL
OS2::ExtAttr                                                     => OS2::ExtA
OS2::Process                                                     => OS2::P
Object::Configure                                                => O::C
Object::Container                                                => *undef*
Object::Signature                                                => O::S
Object::Tiny                                                     => O::T
PAR::Dist                                                        => PAR::D
PERLANCAR::AppUtil::PerlStripper                                 => PERLANCAR::AppU::PS
PERLANCAR::File::HomeDir                                         => PERLANCAR::F::HDir
PERLANCAR::Module::List                                          => PERLANCAR::M::L
PHP::Serialization                                               => PHP::S
POE::Test::Loops                                                 => POE::T::L
POSIX::strftime::Compiler                                        => POSIX::s::C
POSIX::strptime                                                  => POSIX::s
PPIx::Regexp                                                     => PPIx::R
PPIx::Utils                                                      => PPIx::U
Package::DeprecationManager                                      => P::DM
Package::MoreUtil                                                => P::MU
Package::Pkg                                                     => P::Pkg
Package::Stash                                                   => P::S
Package::Stash::XS                                               => P::S::XS
Package::Util::Lite                                              => P::U::L
Package::Variant                                                 => P::V
PadWalker                                                        => PadW
Parallel::ForkManager                                            => P::FM
Params::Check                                                    => P::C
Params::Classify                                                 => *undef*
Params::Get                                                      => P::Get
Params::Util                                                     => P::U
Params::Validate                                                 => *undef*
Params::Validate::Strict                                         => P::V::S
Params::ValidationCompiler                                       => P::VC
Parse::CPAN::Authors                                             => P::CPAN::A
Parse::CPAN::Meta                                                => P::CPAN::M
Parse::CPAN::MirroredBy                                          => P::CPAN::MBy
Parse::CPAN::Packages                                            => P::CPAN::P
Parse::CPAN::Packages::Fast                                      => P::CPAN::P::F
Parse::CPAN::Whois                                               => P::CPAN::W
Parse::Distname                                                  => P::D
Parse::RecDescent                                                => P::RecD
Parse::VarName                                                   => P::VarN
Parser::MGC                                                      => P::MGC
Path::AttrRouter                                                 => P::AR
Path::Class                                                      => *undef*
Path::Tiny                                                       => P::T
Perinci::Access::Base                                            => P::A::B
Perinci::Access::HTTP::Client                                    => P::A::HTTP::C
Perinci::Access::Lite                                            => P::A::L
Perinci::Access::Simple::Client                                  => P::A::S::C
Perinci::AccessUtil                                              => P::AU
Perinci::CmdLine::Call                                           => P::CmdL::C
Perinci::CmdLine::Util                                           => P::CmdL::U
Perinci::CmdLine::Util::Config                                   => P::CmdL::U::C
Perinci::CmdLineX::CommonOptions::SelfUpgrade                    => P::CmdLX::CO::SU
Perinci::Examples                                                => P::E
Perinci::Object                                                  => P::O
Perinci::Result::Format                                          => P::R::F
Perinci::Result::Format::Lite                                    => P::R::F::L
Perinci::Sub::ConvertArgs::Argv                                  => P::Sub::CA::A
Perinci::Sub::ConvertArgs::Array                                 => *undef*
Perinci::Sub::DepChecker                                         => P::Sub::DepC
Perinci::Sub::Gen                                                => P::Sub::Gen
Perinci::Sub::GetArgs::Array                                     => P::Sub::GetA::A
Perinci::Sub::Normalize                                          => P::Sub::N
Perinci::Sub::Property::arg::cmdline                             => P::Sub::P::arg::c
Perinci::Sub::PropertyUtil                                       => P::Sub::PU
Perinci::Sub::Util                                               => P::Sub::U
Perl6::Slurp                                                     => P6::S
Perl::Destruct::Level                                            => P::D::L
Perl::MinimumVersion                                             => P::MV
Perl::OSType                                                     => P::OST
Perl::PrereqScanner                                              => P::PS
Perl::PrereqScanner::NotQuiteLite                                => P::PS::NotQL
Perl::Strip                                                      => *undef*
Perl::Stripper                                                   => *undef*
Perl::Tidy                                                       => *undef*
Perl::osnames                                                    => P::o
PerlIO                                                           => PIO
PerlIO::encoding                                                 => PIO::e
PerlIO::gzip                                                     => PIO::g
PerlIO::locale                                                   => PIO::l
PerlIO::mmap                                                     => PIO::m
PerlIO::scalar                                                   => PIO::s
PerlIO::utf8_strict                                              => PIO::utf8
PerlIO::via                                                      => PIO::via
PerlIO::via::QuotedPrint                                         => PIO::via::QP
PerlX::Maybe                                                     => PX::M
PerlX::Maybe::XS                                                 => PX::M::XS
Permute::Named::Iter                                             => P::N::I
Pipe::Find                                                       => P::F
Plack::Middleware::FixMissingBodyInRedirect                      => P::M::FixMBInR
Plack::Middleware::MethodOverride                                => P::M::MO
Plack::Middleware::RemoveRedundantBody                           => P::M::RRB
Plack::Middleware::ReverseProxy                                  => P::M::RP
Plack::Middleware::Session                                       => P::M::S
Plack::Request::WithEncoding                                     => P::R::WE
Plack::Test::ExternalServer                                      => P::T::ES
Pod::Checker                                                     => Pod::C
Pod::Coverage                                                    => *undef*
Pod::Coverage::TrustPod                                          => Pod::C::TPod
Pod::Escapes                                                     => Pod::E
Pod::Eventual                                                    => *undef*
Pod::Functions                                                   => Pod::F
Pod::Html                                                        => Pod::H
Pod::Html::Util                                                  => Pod::H::U
Pod::Markdown                                                    => Pod::M
Pod::ParseLink                                                   => Pod::PL
Pod::Parser                                                      => Pod::P
Pod::Perldoc                                                     => *undef*
Pod::Perldoc::BaseTo                                             => Pod::P::BTo
Pod::Perldoc::GetOptsOO                                          => Pod::P::GetOOO
Pod::Perldoc::ToANSI                                             => Pod::P::ToANSI
Pod::Perldoc::ToChecker                                          => Pod::P::ToC
Pod::Perldoc::ToMan                                              => Pod::P::ToMan
Pod::Perldoc::ToNroff                                            => Pod::P::ToN
Pod::Perldoc::ToPod                                              => Pod::P::ToPod
Pod::Perldoc::ToRtf                                              => Pod::P::ToRtf
Pod::Perldoc::ToTerm                                             => Pod::P::ToT
Pod::Perldoc::ToText                                             => *undef*
Pod::Perldoc::ToTk                                               => Pod::P::ToTk
Pod::Perldoc::ToXml                                              => Pod::P::ToXml
Pod::Simple                                                      => Pod::S
Pod::Simple::BlackBox                                            => Pod::S::BBox
Pod::Simple::Checker                                             => Pod::S::C
Pod::Simple::Debug                                               => Pod::S::D
Pod::Simple::DumpAsText                                          => Pod::S::DAsT
Pod::Simple::DumpAsXML                                           => Pod::S::DAsXML
Pod::Simple::HTML                                                => Pod::S::HTML
Pod::Simple::HTMLBatch                                           => Pod::S::HTMLB
Pod::Simple::HTMLLegacy                                          => Pod::S::HTMLL
Pod::Simple::JustPod                                             => Pod::S::JPod
Pod::Simple::LinkSection                                         => Pod::S::LS
Pod::Simple::Methody                                             => Pod::S::M
Pod::Simple::Progress                                            => Pod::S::P
Pod::Simple::PullParser                                          => Pod::S::PP
Pod::Simple::PullParserEndToken                                  => Pod::S::PPEndT
Pod::Simple::PullParserStartToken                                => Pod::S::PPST
Pod::Simple::PullParserTextToken                                 => Pod::S::PPTT
Pod::Simple::PullParserToken                                     => Pod::S::PPT
Pod::Simple::RTF                                                 => Pod::S::RTF
Pod::Simple::Search                                              => Pod::S::S
Pod::Simple::SimpleTree                                          => Pod::S::ST
Pod::Simple::Text                                                => Pod::S::T
Pod::Simple::TextContent                                         => Pod::S::TC
Pod::Simple::TiedOutFH                                           => Pod::S::TOutFH
Pod::Simple::Transcode                                           => *undef*
Pod::Simple::TranscodeDumb                                       => Pod::S::TD
Pod::Simple::TranscodeSmart                                      => Pod::S::TS
Pod::Simple::XHTML                                               => Pod::S::XHTML
Pod::Simple::XMLOutStream                                        => Pod::S::XMLOutS
Pod::Spell                                                       => *undef*
Pod::Spell::CommonMistakes                                       => Pod::S::CM
Pod::Text                                                        => Pod::T
Pod::Text::Color                                                 => Pod::T::C
Pod::Text::Overstrike                                            => Pod::T::O
Pod::Text::Termcap                                               => Pod::T::T
Pod::Usage                                                       => Pod::U
Probe::Perl                                                      => P::P
Proc::ChildError                                                 => P::CE
Proc::Find::Parents                                              => P::F::P
Proc::InvokeEditor                                               => P::IE
Proc::ProcessTable                                               => P::PT
Progress::Any                                                    => P::Any
Progress::Any::Output::TermProgressBarColor                      => P::Any::O::TPBarC
Protocol::WebSocket                                              => P::WebS
Quantum::Superpositions                                          => Q::S
RDF::Generator::Void                                             => RDF::G::V
RDF::Query                                                       => RDF::Q
RDF::Trine                                                       => RDF::T
RDF::TrineX::Functions                                           => RDF::TX::F
Readonly::Enum                                                   => R::E
Readonly::Values::Syslog                                         => R::V::S
Ref::Util                                                        => Ref::U
Ref::Util::XS                                                    => Ref::U::XS
Regexp::Assemble                                                 => R::A
Regexp::Common                                                   => R::C
Regexp::From::String                                             => R::F::S
Regexp::Grammars                                                 => R::G
Regexp::IPv6                                                     => R::IPv6
Regexp::Pattern::Perl                                            => R::P::P
Regexp::SQL::LIKE                                                => R::SQL::LIKE
Regexp::Stringify                                                => R::S
Regexp::Trie                                                     => R::T
Regexp::Util                                                     => R::U
Role::HasMessage                                                 => R::HasM
Role::Identifiable                                               => R::I
Role::Tiny                                                       => *undef*
Role::TinyCommons::Collection                                    => R::TC::C
RoleBundle::TinyCommons::Iterator                                => RB::TC::I
Rose::Object                                                     => R::O
Router::Boom                                                     => R::B
Router::Simple                                                   => *undef*
Router::Simple::Sinatraish                                       => R::S::S
Rubyish::Attribute                                               => *undef*
SDBM_File                                                        => SDBM_F
SOAP::Lite                                                       => SOAP::L
SQL::Abstract                                                    => SQL::A
SQL::Abstract::Classic                                           => SQL::A::C
SQL::Abstract::Pg                                                => SQL::A::Pg
SQL::Interp                                                      => SQL::I
SQL::Maker                                                       => SQL::M
SQL::QueryMaker                                                  => SQL::QM
SQL::Schema::Versioned                                           => SQL::S::V
SQL::Statement                                                   => SQL::S
SQL::Translator                                                  => SQL::T
Safe::Isa                                                        => S::Isa
Sah::Schemas::Int                                                => Sah::S::Int
Sah::Schemas::JSON                                               => Sah::S::JSON
Sah::Schemas::Rinci                                              => Sah::S::R
Scalar::Defer                                                    => S::D
Scalar::Does                                                     => *undef*
Scalar::List::Utils                                              => S::L::U
Scalar::Readonly                                                 => S::R
Scalar::String                                                   => S::S
Scalar::Util                                                     => S::U
Scalar::Util::LooksLikeNumber                                    => S::U::LLN
Scalar::Util::Numeric                                            => S::U::N
Scalar::Util::Numeric::PP                                        => S::U::N::PP
Scope::Guard                                                     => S::G
Search::Dict                                                     => *undef*
Search::QueryParser                                              => S::QP
Search::Tokenizer                                                => S::T
SelectSaver                                                      => SS
SelfLoader                                                       => SL
Sereal::Decoder                                                  => *undef*
Sereal::Encoder                                                  => S::E
Server::Starter                                                  => *undef*
Session::Token                                                   => *undef*
Set::CrossProduct                                                => Set::CP
Set::Object                                                      => Set::O
Set::Scalar                                                      => Set::S
ShellQuote::Any::Tiny                                            => SQ::Any::T
Socket6                                                          => S6
Software::License                                                => S::L
Sort::ByExample                                                  => S::ByE
Sort::BySpec                                                     => S::ByS
Sort::Naturally                                                  => S::N
Sort::Sub                                                        => S::Sub
Sort::Versions                                                   => S::V
Spreadsheet::GenerateXLSX                                        => S::GXLSX
Spreadsheet::ParseExcel                                          => S::PE
Spreadsheet::Wright                                              => S::W
Spreadsheet::WriteExcel                                          => S::WE
Statistics::CaseResampling                                       => S::CR
Storable::Improved                                               => S::I
Stream::Buffered                                                 => S::B
String::BufferStack                                              => S::BS
String::CRC32                                                    => S::CRC32
String::CamelCase                                                => S::CC
String::Clean                                                    => S::C
String::Elide::Parts                                             => S::E::P
String::Errf                                                     => *undef*
String::Escape                                                   => *undef*
String::Formatter                                                => S::F
String::Indent                                                   => *undef*
String::LineNumber                                               => S::LN
String::Pad                                                      => S::Pad
String::PerlQuote                                                => S::PQ
String::PodQuote                                                 => S::PodQ
String::Query::To::Regexp                                        => S::Q::To::R
String::RewritePrefix                                            => S::RP
String::ShellQuote                                               => S::SQ
String::Tagged                                                   => *undef*
String::Tagged::Terminal                                         => S::T::T
String::TtyLength                                                => S::TtyL
String::Util                                                     => *undef*
String::Wildcard::Bash                                           => S::W::B
Struct::Dumb                                                     => *undef*
Sub::Delete                                                      => Sub::D
Sub::Exporter                                                    => Sub::E
Sub::Exporter::ForMethods                                        => Sub::E::ForM
Sub::Exporter::Progressive                                       => Sub::E::P
Sub::Identify                                                    => Sub::I
Sub::Infix                                                       => *undef*
Sub::Info                                                        => *undef*
Sub::Install                                                     => *undef*
Sub::Iterator                                                    => *undef*
Sub::Name                                                        => Sub::N
Sub::Quote                                                       => Sub::Q
Sub::StrictDecl                                                  => Sub::SD
Sub::Uplevel                                                     => Sub::U
Sub::Util                                                        => *undef*
Syntax::Feature::EachOnArray                                     => S::F::EOnA
Syntax::Highlight::Perl::Improved                                => S::H::P::I
Syntax::Keyword::Dynamically                                     => S::K::D
Syntax::Keyword::Junction                                        => S::K::J
Syntax::Keyword::Match                                           => S::K::M
Sys::Hostname                                                    => Sys::H
Sys::Info                                                        => Sys::I
Sys::Info::Base                                                  => Sys::I::B
Sys::Info::Driver::Unknown                                       => Sys::I::D::U
Sys::Load                                                        => Sys::L
Sys::Path                                                        => Sys::P
Sys::Syslog                                                      => Sys::S
Sys::Syslog::Win32                                               => Sys::S::Win32
TAP::Base                                                        => TAP::B
TAP::Formatter::Base                                             => TAP::F::B
TAP::Formatter::Color                                            => TAP::F::C
TAP::Formatter::Console                                          => *undef*
TAP::Formatter::Console::ParallelSession                         => TAP::F::C::PS
TAP::Formatter::Console::Session                                 => TAP::F::C::S
TAP::Formatter::File                                             => TAP::F::F
TAP::Formatter::File::Session                                    => TAP::F::F::S
TAP::Formatter::Session                                          => TAP::F::S
TAP::Harness                                                     => TAP::H
TAP::Harness::Env                                                => TAP::H::Env
TAP::Object                                                      => TAP::O
TAP::Parser                                                      => TAP::P
TAP::Parser::Aggregator                                          => TAP::P::A
TAP::Parser::Grammar                                             => TAP::P::G
TAP::Parser::Iterator                                            => TAP::P::I
TAP::Parser::Iterator::Array                                     => TAP::P::I::A
TAP::Parser::Iterator::Process                                   => TAP::P::I::P
TAP::Parser::Iterator::Stream                                    => TAP::P::I::S
TAP::Parser::IteratorFactory                                     => TAP::P::IF
TAP::Parser::Multiplexer                                         => TAP::P::M
TAP::Parser::Result                                              => TAP::P::R
TAP::Parser::Result::Bailout                                     => TAP::P::R::B
TAP::Parser::Result::Comment                                     => TAP::P::R::C
TAP::Parser::Result::Plan                                        => TAP::P::R::P
TAP::Parser::Result::Pragma                                      => *undef*
TAP::Parser::Result::Test                                        => TAP::P::R::T
TAP::Parser::Result::Unknown                                     => TAP::P::R::U
TAP::Parser::Result::Version                                     => TAP::P::R::V
TAP::Parser::Result::YAML                                        => TAP::P::R::YAML
TAP::Parser::ResultFactory                                       => TAP::P::RF
TAP::Parser::Scheduler                                           => TAP::P::S
TAP::Parser::Scheduler::Job                                      => TAP::P::S::Job
TAP::Parser::Scheduler::Spinner                                  => TAP::P::S::S
TAP::Parser::Source                                              => *undef*
TAP::Parser::SourceHandler                                       => TAP::P::SH
TAP::Parser::SourceHandler::Executable                           => TAP::P::SH::E
TAP::Parser::SourceHandler::File                                 => TAP::P::SH::F
TAP::Parser::SourceHandler::Handle                               => TAP::P::SH::H
TAP::Parser::SourceHandler::Perl                                 => TAP::P::SH::P
TAP::Parser::SourceHandler::RawTAP                               => TAP::P::SH::RawTAP
TAP::Parser::YAMLish::Reader                                     => TAP::P::YAML::R
TAP::Parser::YAMLish::Writer                                     => TAP::P::YAML::W
TOML::Parser                                                     => TOML::P
TableData                                                        => TD
TableDataRoles::Standard                                         => TDR::S
Taint::Runtime                                                   => T::R
Task::CPAN::Reporter                                             => T::CPAN::R
Task::Weaken                                                     => T::W
Template::Declare                                                => T::D
Template::Provider::Encoding                                     => T::P::E
Template::Timer                                                  => T::T
Term::ANSIColor                                                  => T::ANSIC
Term::App::Roles                                                 => T::App::R
Term::App::Util::Color                                           => T::App::U::C
Term::App::Util::Interactive                                     => T::App::U::I
Term::App::Util::Size                                            => T::App::U::S
Term::Cap                                                        => T::Cap
Term::Choose                                                     => T::C
Term::Choose::LineFold::XS                                       => T::C::LF::XS
Term::Choose::Util                                               => T::C::U
Term::Complete                                                   => *undef*
Term::Detect::Software                                           => T::D::S
Term::Form                                                       => T::F
Term::ReadKey                                                    => T::RKey
Term::ReadLine                                                   => T::RL
Term::ReadLine::Gnu                                              => T::RL::Gnu
Term::Size                                                       => T::S
Term::Table                                                      => *undef*
Term::Table::Cell                                                => T::T::C
Term::Table::CellStack                                           => T::T::CS
Term::Table::HashBase                                            => T::T::HB
Term::Table::LineBreak                                           => T::T::LB
Term::Table::Spacer                                              => T::T::S
Term::Table::Util                                                => T::T::U
Term::TablePrint                                                 => T::TP
Test2                                                            => T2
Test2::API                                                       => T2::API
Test2::API::Breakage                                             => T2::API::B
Test2::API::Context                                              => T2::API::C
Test2::API::Instance                                             => T2::API::I
Test2::API::InterceptResult                                      => T2::API::IR
Test2::API::InterceptResult::Event                               => T2::API::IR::E
Test2::API::InterceptResult::Facet                               => T2::API::IR::F
Test2::API::InterceptResult::Hub                                 => T2::API::IR::Hub
Test2::API::InterceptResult::Squasher                            => T2::API::IR::S
Test2::API::Stack                                                => T2::API::S
Test2::AsyncSubtest                                              => T2::AS
Test2::AsyncSubtest::Event::Attach                               => T2::AS::E::A
Test2::AsyncSubtest::Event::Detach                               => T2::AS::E::D
Test2::AsyncSubtest::Formatter                                   => T2::AS::F
Test2::AsyncSubtest::Hub                                         => T2::AS::Hub
Test2::Bundle                                                    => T2::B
Test2::Bundle::Extended                                          => T2::B::E
Test2::Bundle::More                                              => T2::B::M
Test2::Bundle::Simple                                            => T2::B::S
Test2::Compare                                                   => T2::C
Test2::Compare::Array                                            => T2::C::A
Test2::Compare::Bag                                              => T2::C::Bag
Test2::Compare::Base                                             => T2::C::B
Test2::Compare::Bool                                             => *undef*
Test2::Compare::Custom                                           => T2::C::C
Test2::Compare::DeepRef                                          => T2::C::DRef
Test2::Compare::Delta                                            => T2::C::D
Test2::Compare::Event                                            => T2::C::E
Test2::Compare::EventMeta                                        => T2::C::EM
Test2::Compare::Float                                            => T2::C::F
Test2::Compare::Hash                                             => T2::C::H
Test2::Compare::Isa                                              => T2::C::Isa
Test2::Compare::Meta                                             => T2::C::M
Test2::Compare::Negatable                                        => T2::C::N
Test2::Compare::Number                                           => *undef*
Test2::Compare::Object                                           => T2::C::O
Test2::Compare::OrderedSubset                                    => T2::C::OS
Test2::Compare::Pattern                                          => T2::C::P
Test2::Compare::Ref                                              => T2::C::Ref
Test2::Compare::Regex                                            => T2::C::R
Test2::Compare::Scalar                                           => T2::C::S
Test2::Compare::Set                                              => T2::C::Set
Test2::Compare::String                                           => *undef*
Test2::Compare::Undef                                            => T2::C::U
Test2::Compare::Wildcard                                         => T2::C::W
Test2::Env                                                       => T2::Env
Test2::Event                                                     => T2::E
Test2::Event::Bail                                               => T2::E::B
Test2::Event::Diag                                               => T2::E::D
Test2::Event::Encoding                                           => T2::E::E
Test2::Event::Exception                                          => *undef*
Test2::Event::Fail                                               => T2::E::F
Test2::Event::Generic                                            => T2::E::G
Test2::Event::Note                                               => T2::E::N
Test2::Event::Ok                                                 => T2::E::Ok
Test2::Event::Pass                                               => T2::E::P
Test2::Event::Plan                                               => *undef*
Test2::Event::Skip                                               => T2::E::S
Test2::Event::Subtest                                            => *undef*
Test2::Event::TAP::Version                                       => T2::E::TAP::V
Test2::Event::V2                                                 => T2::E::V2
Test2::Event::Waiting                                            => T2::E::W
Test2::EventFacet                                                => T2::EF
Test2::EventFacet::About                                         => T2::EF::A
Test2::EventFacet::Amnesty                                       => *undef*
Test2::EventFacet::Assert                                        => *undef*
Test2::EventFacet::Control                                       => T2::EF::C
Test2::EventFacet::Error                                         => T2::EF::E
Test2::EventFacet::Hub                                           => T2::EF::Hub
Test2::EventFacet::Info                                          => T2::EF::I
Test2::EventFacet::Info::Table                                   => T2::EF::I::T
Test2::EventFacet::Meta                                          => T2::EF::M
Test2::EventFacet::Parent                                        => T2::EF::P
Test2::EventFacet::Plan                                          => *undef*
Test2::EventFacet::Render                                        => T2::EF::R
Test2::EventFacet::Trace                                         => T2::EF::T
Test2::Formatter                                                 => T2::F
Test2::Formatter::TAP                                            => T2::F::TAP
Test2::Hub                                                       => T2::Hub
Test2::Hub::Interceptor                                          => T2::Hub::I
Test2::Hub::Interceptor::Terminator                              => T2::Hub::I::T
Test2::Hub::Subtest                                              => T2::Hub::S
Test2::IPC                                                       => T2::IPC
Test2::IPC::Driver                                               => T2::IPC::D
Test2::IPC::Driver::Files                                        => T2::IPC::D::F
Test2::Manual                                                    => T2::M
Test2::Manual::Anatomy                                           => T2::M::A
Test2::Manual::Anatomy::API                                      => T2::M::A::API
Test2::Manual::Anatomy::Context                                  => T2::M::A::C
Test2::Manual::Anatomy::EndToEnd                                 => T2::M::A::EndToEnd
Test2::Manual::Anatomy::Event                                    => T2::M::A::E
Test2::Manual::Anatomy::Hubs                                     => T2::M::A::H
Test2::Manual::Anatomy::IPC                                      => T2::M::A::IPC
Test2::Manual::Anatomy::Utilities                                => T2::M::A::U
Test2::Manual::Concurrency                                       => T2::M::C
Test2::Manual::Contributing                                      => *undef*
Test2::Manual::Testing                                           => T2::M::T
Test2::Manual::Testing::Introduction                             => T2::M::T::I
Test2::Manual::Testing::Migrating                                => T2::M::T::M
Test2::Manual::Testing::Planning                                 => T2::M::T::P
Test2::Manual::Testing::Todo                                     => T2::M::T::T
Test2::Manual::Tooling                                           => *undef*
Test2::Manual::Tooling::FirstTool                                => T2::M::T::FT
Test2::Manual::Tooling::Formatter                                => T2::M::T::F
Test2::Manual::Tooling::Nesting                                  => T2::M::T::N
Test2::Manual::Tooling::Plugin::TestExit                         => T2::M::T::P::TE
Test2::Manual::Tooling::Plugin::TestingDone                      => T2::M::T::P::TD
Test2::Manual::Tooling::Plugin::ToolCompletes                    => T2::M::T::P::TC
Test2::Manual::Tooling::Plugin::ToolStarts                       => T2::M::T::P::TS
Test2::Manual::Tooling::Subtest                                  => T2::M::T::S
Test2::Manual::Tooling::TestBuilder                              => T2::M::T::TB
Test2::Manual::Tooling::Testing                                  => *undef*
Test2::Mock                                                      => *undef*
Test2::Plugin                                                    => T2::P
Test2::Plugin::BailOnFail                                        => T2::P::BOnF
Test2::Plugin::DieOnFail                                         => T2::P::DieOnF
Test2::Plugin::ExitSummary                                       => T2::P::ES
Test2::Plugin::IOEvents                                          => T2::P::IOE
Test2::Plugin::NoWarnings                                        => T2::P::NoW
Test2::Plugin::SRand                                             => T2::P::SR
Test2::Plugin::Times                                             => T2::P::T
Test2::Plugin::UTF8                                              => T2::P::UTF8
Test2::Require                                                   => T2::R
Test2::Require::AuthorTesting                                    => T2::R::AT
Test2::Require::AutomatedTesting                                 => *undef*
Test2::Require::EnvVar                                           => T2::R::EnvVar
Test2::Require::ExtendedTesting                                  => T2::R::ET
Test2::Require::Fork                                             => T2::R::F
Test2::Require::Module                                           => T2::R::M
Test2::Require::NonInteractiveTesting                            => T2::R::NonIT
Test2::Require::Perl                                             => T2::R::P
Test2::Require::RealFork                                         => T2::R::RF
Test2::Require::ReleaseTesting                                   => T2::R::RT
Test2::Require::Threads                                          => T2::R::T
Test2::Suite                                                     => T2::S
Test2::Todo                                                      => T2::T
Test2::Tools                                                     => *undef*
Test2::Tools::AsyncSubtest                                       => T2::T::AS
Test2::Tools::Basic                                              => T2::T::B
Test2::Tools::Class                                              => T2::T::C
Test2::Tools::ClassicCompare                                     => T2::T::CC
Test2::Tools::Compare                                            => *undef*
Test2::Tools::Defer                                              => T2::T::D
Test2::Tools::Encoding                                           => T2::T::E
Test2::Tools::Event                                              => *undef*
Test2::Tools::Exception                                          => *undef*
Test2::Tools::Explain                                            => *undef*
Test2::Tools::Exports                                            => *undef*
Test2::Tools::GenTemp                                            => T2::T::GenT
Test2::Tools::Grab                                               => T2::T::G
Test2::Tools::Mock                                               => T2::T::M
Test2::Tools::Ref                                                => T2::T::Ref
Test2::Tools::Refcount                                           => T2::T::R
Test2::Tools::Spec                                               => T2::T::S
Test2::Tools::Subtest                                            => *undef*
Test2::Tools::Target                                             => T2::T::T
Test2::Tools::Tester                                             => *undef*
Test2::Tools::Tiny                                               => *undef*
Test2::Tools::Warnings                                           => T2::T::W
Test2::Util                                                      => T2::U
Test2::Util::ExternalMeta                                        => T2::U::EM
Test2::Util::Facets2Legacy                                       => T2::U::F2L
Test2::Util::Grabber                                             => T2::U::G
Test2::Util::Guard                                               => *undef*
Test2::Util::HashBase                                            => T2::U::HB
Test2::Util::Importer                                            => T2::U::I
Test2::Util::Ref                                                 => T2::U::Ref
Test2::Util::Sig                                                 => T2::U::Sig
Test2::Util::Stash                                               => T2::U::S
Test2::Util::Sub                                                 => T2::U::Sub
Test2::Util::Table                                               => T2::U::T
Test2::Util::Table::Cell                                         => T2::U::T::C
Test2::Util::Table::LineBreak                                    => T2::U::T::LB
Test2::Util::Term                                                => *undef*
Test2::Util::Times                                               => *undef*
Test2::Util::Trace                                               => *undef*
Test2::V0                                                        => T2::V0
Test2::Workflow                                                  => T2::W
Test2::Workflow::BlockBase                                       => T2::W::BB
Test2::Workflow::Build                                           => T2::W::B
Test2::Workflow::Runner                                          => T2::W::R
Test2::Workflow::Task                                            => T2::W::T
Test2::Workflow::Task::Action                                    => T2::W::T::A
Test2::Workflow::Task::Group                                     => T2::W::T::G
Test::API                                                        => T::API
Test::Abortable                                                  => T::A
Test::Assertions                                                 => *undef*
Test::Base                                                       => T::B
Test::Builder                                                    => *undef*
Test::Builder::Formatter                                         => T::B::F
Test::Builder::Module                                            => T::B::M
Test::Builder::Tester                                            => T::B::T
Test::Builder::Tester::Color                                     => T::B::T::C
Test::Builder::TodoDiag                                          => T::B::TD
Test::CPAN::Meta                                                 => T::CPAN::M
Test::CPAN::Meta::JSON                                           => T::CPAN::M::JSON
Test::Carp                                                       => *undef*
Test::CheckDeps                                                  => T::CD
Test::Class                                                      => *undef*
Test::CleanNamespaces                                            => T::CN
Test::Compile                                                    => *undef*
Test::Database                                                   => *undef*
Test::Deep                                                       => *undef*
Test::Deep::Fuzzy                                                => T::D::F
Test::DescribeMe                                                 => T::DMe
Test::Differences                                                => *undef*
Test::Distribution                                               => *undef*
Test::EOF                                                        => T::EOF
Test::EOL                                                        => T::EOL
Test::Exception                                                  => T::E
Test::FailWarnings                                               => T::FW
Test::Fake::HTTPD                                                => T::F::HTTPD
Test::Fatal                                                      => *undef*
Test::File                                                       => *undef*
Test::File::ShareDir                                             => T::F::SDir
Test::Fork                                                       => *undef*
Test::Harness                                                    => T::H
Test::InDistDir                                                  => T::InDDir
Test::Inter                                                      => T::I
Test::JSON                                                       => T::JSON
Test::Kwalitee                                                   => T::K
Test::LWP::UserAgent                                             => T::LWP::UA
Test::LeakTrace                                                  => T::LT
Test::LectroTest                                                 => *undef*
Test::Lib                                                        => T::Lib
Test::LongString                                                 => T::LS
Test::Memory::Cycle                                              => T::M::C
Test::MinimumVersion                                             => T::MV
Test::Mock::Guard                                                => T::M::G
Test::MockModule                                                 => T::MM
Test::MockObject                                                 => T::MO
Test::MockRandom                                                 => T::MR
Test::MockTime                                                   => T::MT
Test::MockTime::HiRes                                            => T::MT::HiRes
Test::More                                                       => T::M
Test::More::UTF8                                                 => T::M::UTF8
Test::Most                                                       => *undef*
Test::Needs                                                      => T::N
Test::NoWarnings                                                 => T::NoW
Test::Number::Delta                                              => T::N::D
Test::Object                                                     => T::O
Test::Output                                                     => *undef*
Test::Pod                                                        => T::Pod
Test::Pod::Coverage                                              => T::Pod::C
Test::RDF                                                        => T::RDF
Test::RandomResult                                               => T::RR
Test::Refcount                                                   => *undef*
Test::Regexp                                                     => *undef*
Test::Reporter                                                   => *undef*
Test::Reporter::Transport::Metabase                              => T::R::T::M
Test::Requires                                                   => *undef*
Test::RequiresInternet                                           => T::RI
Test::Routine                                                    => *undef*
Test::Script                                                     => *undef*
Test::Settings                                                   => *undef*
Test::SharedFork                                                 => T::SF
Test::Simple                                                     => *undef*
Test::Spelling                                                   => *undef*
Test::SubCalls                                                   => T::SubC
Test::Sys::Info                                                  => T::Sys::I
Test::TCP                                                        => T::TCP
Test::Taint                                                      => *undef*
Test::TempDir::Tiny                                              => T::TDir::T
Test::Tester                                                     => *undef*
Test::Tester::Capture                                            => *undef*
Test::Tester::CaptureRunner                                      => T::T::CR
Test::Tester::Delegate                                           => T::T::D
Test::Time                                                       => *undef*
Test::Trap                                                       => *undef*
Test::UseAllModules                                              => T::UseAllM
Test::WWW::Mechanize                                             => T::WWW::M
Test::WWW::Mechanize::Catalyst                                   => T::WWW::M::C
Test::WWW::Mechanize::PSGI                                       => T::WWW::M::PSGI
Test::Warn                                                       => *undef*
Test::Warnings                                                   => *undef*
Test::WithDB                                                     => T::WDB
Test::Without::Module                                            => T::W::M
Test::XML                                                        => T::XML
Test::YAML                                                       => T::YAML
Test::use::ok                                                    => T::use::ok
Test::utf8                                                       => T::utf8
Text::ANSI::Util                                                 => T::ANSI::U
Text::ANSI::WideUtil                                             => T::ANSI::WU
Text::ANSITable                                                  => T::ANSIT
Text::ASCIITable                                                 => T::ASCIIT
Text::Abbrev                                                     => *undef*
Text::Aligner                                                    => *undef*
Text::Autoformat                                                 => *undef*
Text::Balanced                                                   => *undef*
Text::CSV                                                        => T::CSV
Text::CSV_XS                                                     => T::CSV_XS
Text::CharWidth                                                  => T::CW
Text::Demoroniser                                                => *undef*
Text::Diff                                                       => *undef*
Text::Extract::Word                                              => T::E::W
Text::FormatTable                                                => T::FT
Text::Glob                                                       => T::G
Text::Haml                                                       => *undef*
Text::Levenshtein::Flexible                                      => T::L::F
Text::Markdown::Hoedown                                          => T::M::H
Text::MarkdownTable                                              => *undef*
Text::MicroTemplate                                              => *undef*
Text::MicroTemplate::Extended                                    => T::MT::E
Text::NonWideChar::Util                                          => T::NonWC::U
Text::ParseWords                                                 => T::PW
Text::RecordParser                                               => T::RP
Text::Reform                                                     => *undef*
Text::SimpleTable                                                => T::ST
Text::Soundex                                                    => *undef*
Text::Table                                                      => *undef*
Text::Table::ASV                                                 => T::T::ASV
Text::Table::Any                                                 => T::T::Any
Text::Table::CSV                                                 => T::T::CSV
Text::Table::HTML                                                => T::T::HTML
Text::Table::HTML::DataTables                                    => T::T::HTML::DT
Text::Table::LTSV                                                => T::T::LTSV
Text::Table::Manifold                                            => T::T::M
Text::Table::More                                                => *undef*
Text::Table::Org                                                 => T::T::Org
Text::Table::Paragraph                                           => T::T::P
Text::Table::Sprintf                                             => *undef*
Text::Table::TSV                                                 => T::T::TSV
Text::Table::Tiny                                                => T::T::T
Text::Table::TinyBorderStyle                                     => T::T::TBS
Text::Table::TinyColor                                           => T::T::TC
Text::Table::TinyColorWide                                       => T::T::TCW
Text::Table::TinyWide                                            => T::T::TW
Text::Table::XLSX                                                => T::T::XLSX
Text::Tabs                                                       => *undef*
Text::TabularDisplay                                             => T::TD
Text::Template                                                   => *undef*
Text::Template::Simple                                           => *undef*
Text::TestBase                                                   => T::TB
Text::Transliterator                                             => *undef*
Text::UnicodeBox                                                 => T::UBox
Text::Unidecode                                                  => T::U
Text::VisualWidth                                                => T::VW
Text::VisualWidth::PP                                            => T::VW::PP
Text::WideChar::Util                                             => T::WC::U
Text::Wrap                                                       => *undef*
Text::Xslate                                                     => T::X
Text::sprintfn                                                   => T::s
Thread::Queue                                                    => T::Q
Thread::Semaphore                                                => *undef*
Tie::Array                                                       => Tie::A
Tie::Cache                                                       => Tie::C
Tie::File                                                        => Tie::F
Tie::Filehandle::Preempt::Stdin                                  => Tie::F::P::S
Tie::Function                                                    => *undef*
Tie::Handle                                                      => Tie::H
Tie::Handle::Offset                                              => Tie::H::O
Tie::Hash                                                        => *undef*
Tie::Hash::NamedCapture                                          => Tie::H::NC
Tie::IxHash                                                      => Tie::IxH
Tie::Memoize                                                     => Tie::M
Tie::RefHash                                                     => Tie::RefH
Tie::Scalar                                                      => Tie::S
Tie::Simple                                                      => *undef*
Tie::StdHandle                                                   => Tie::StdH
Tie::SubstrHash                                                  => Tie::SH
Tie::ToObject                                                    => Tie::ToO
Time::Duration                                                   => *undef*
Time::Duration::Parse                                            => T::D::P
Time::Duration::Parse::AsHash                                    => T::D::P::AsH
Time::HiRes                                                      => T::HiRes
Time::Local                                                      => T::L
Time::Moment                                                     => *undef*
Time::Piece                                                      => T::P
Time::Piece::MySQL                                               => T::P::MySQL
Time::Seconds                                                    => *undef*
Time::TZOffset                                                   => T::TZO
Time::gmtime                                                     => T::g
Time::localtime                                                  => T::l
Time::tm                                                         => T::tm
Tree::Simple                                                     => *undef*
Tree::Simple::VisitorFactory                                     => T::S::VF
Try::Tiny                                                        => Try::T
Type::Tiny                                                       => *undef*
Type::Tiny::XS                                                   => T::T::XS
Types::Path::Tiny                                                => T::P::T
Types::Serialiser                                                => *undef*
UNIVERSAL::moniker                                               => UNIVERSAL::m
UNIVERSAL::require                                               => UNIVERSAL::r
URI::Fetch                                                       => URI::F
URI::Find                                                        => *undef*
URI::Nested                                                      => URI::N
UUID::Random                                                     => UUID::R
UUID::Tiny                                                       => UUID::T
Unicode::CaseFold                                                => U::CF
Unicode::Collate                                                 => U::C
Unicode::Collate::CJK::Big5                                      => U::C::CJK::Big5
Unicode::Collate::CJK::GB2312                                    => U::C::CJK::GB2312
Unicode::Collate::CJK::JISX0208                                  => U::C::CJK::JISX0208
Unicode::Collate::CJK::Korean                                    => U::C::CJK::K
Unicode::Collate::CJK::Pinyin                                    => U::C::CJK::P
Unicode::Collate::CJK::Stroke                                    => U::C::CJK::S
Unicode::Collate::CJK::Zhuyin                                    => U::C::CJK::Z
Unicode::Collate::Locale                                         => U::C::L
Unicode::EastAsianWidth                                          => U::EAW
Unicode::LineBreak                                               => U::LB
Unicode::Normalize                                               => U::N
Unicode::UCD                                                     => U::UCD
Unicode::UTF8                                                    => U::UTF8
Unix::Passwd::File                                               => U::P::F
Unix::Processors                                                 => U::P
User::grent                                                      => U::g
User::pwent                                                      => U::p
VMS::DCLsym                                                      => VMS::DCL
VMS::Filespec                                                    => VMS::F
VMS::Stdio                                                       => VMS::S
Variable::Disposition                                            => V::D
Variable::Magic                                                  => V::M
Version::Util                                                    => V::U
WWW::Form::UrlEncoded                                            => WWW::F::UrlE
WWW::Form::UrlEncoded::XS                                        => WWW::F::UrlE::XS
WWW::Mechanize                                                   => WWW::M
WWW::RobotRules                                                  => WWW::RR
Web::Scraper                                                     => Web::S
Win32::Locale                                                    => Win32::L
Win32API::File                                                   => Win32API::F
XML::CommonNS                                                    => XML::CNS
XML::Filter::BufferText                                          => XML::F::BT
XML::Namespace                                                   => XML::N
XML::NamespaceFactory                                            => XML::NF
XML::NamespaceSupport                                            => XML::NS
XML::Parser                                                      => XML::P
XML::Parser::Lite                                                => XML::P::L
XML::SAX::Base                                                   => XML::SAX::B
XML::SAX::Expat                                                  => XML::SAX::E
XML::SAX::Writer                                                 => XML::SAX::W
XML::SemanticDiff                                                => XML::SD
XML::Simple                                                      => XML::S
XML::Stream                                                      => *undef*
XML::Twig                                                        => XML::T
XML::Writer                                                      => XML::W
XML::XPath                                                       => XML::XP
XML::XPathEngine                                                 => XML::XPE
XS::APItest                                                      => XS::API
XS::Parse::Keyword                                               => XS::P::K
XS::Parse::Sublike                                               => XS::P::S
XS::Typemap                                                      => XS::T
XSLoader                                                         => XSL
XString                                                          => XS
YAML::Syck                                                       => YAML::S
YAML::Tiny                                                       => YAML::T
YAML::Tiny::Color                                                => YAML::T::C
alias::module                                                    => a::m
autobox::Junctions                                               => a::J
autobox::dump                                                    => a::d
autodie::Scope::Guard                                            => a::S::G
autodie::Scope::GuardStack                                       => a::S::GS
autodie::Util                                                    => a::U
autodie::exception                                               => a::e
autodie::exception::system                                       => a::e::s
autodie::hints                                                   => a::h
autodie::skip                                                    => a::s
bareword::filehandles                                            => b::f
cPanel::PublicAPI                                                => cP::PAPI
common::sense                                                    => c::s
constant::defer                                                  => c::d
encoding::warnings                                               => e::w
http::session                                                    => h::s
lexical::underscore                                              => l::u
lib::filter                                                      => lib::f
libintl-perl                                                     => l-p
libxml-perl                                                      => *undef*
local::lib                                                       => l::lib
match::simple                                                    => m::s
match::simple::XS                                                => m::s::XS
namespace::autoclean                                             => n::a
namespace::clean                                                 => n::c
overload::numbers                                                => o::n
source::encoding                                                 => s::e
threads::shared                                                  => t::s
unicore::Name                                                    => u::N
version::regex                                                   => v::r
warnings::register                                               => w::r
t/10-check.t ................. ok
t/author-critic.t ............ skipped: these tests are for testing by the author
t/author-test-eol.t .......... skipped: these tests are for testing by the author
t/release-cpan-changes.t ..... skipped: these tests are for release candidate testing
t/release-dist-manifest.t .... skipped: these tests are for release candidate testing
t/release-distmeta.t ......... skipped: these tests are for release candidate testing
t/release-kwalitee.t ......... skipped: these tests are for release candidate testing
t/release-minimum-version.t .. skipped: these tests are for release candidate testing
t/release-mojibake.t ......... skipped: these tests are for release candidate testing
t/release-no-tabs.t .......... skipped: these tests are for release candidate testing
t/release-pod-coverage.t ..... skipped: these tests are for release candidate testing
t/release-pod-linkcheck.t .... skipped: these tests are for release candidate testing
t/release-pod-syntax.t ....... skipped: these tests are for release candidate testing
t/release-portability.t ...... skipped: these tests are for release candidate testing
t/release-test-version.t ..... skipped: these tests are for release candidate testing
t/release-unused-vars.t ...... skipped: these tests are for release candidate testing
All tests successful.
Files=18, Tests=4,  2 wallclock secs ( 0.04 usr  0.03 sys +  1.37 cusr  0.46 csys =  1.90 CPU)
Result: PASS

------------------------------
PREREQUISITES
------------------------------

Prerequisite modules loaded:

requires:

    Module              Need Have      
    ------------------- ---- ----------
    File::HomeDir       0    1.006     
    List::MoreUtils     0    0.430     
    Module::CoreList    0    5.20250720

build_requires:

    Module              Need Have      
    ------------------- ---- ----------
    ExtUtils::MakeMaker 0    7.76      

configure_requires:

    Module              Need Have      
    ------------------- ---- ----------
    ExtUtils::MakeMaker 6.30 7.76      


------------------------------
ENVIRONMENT AND OTHER CONTEXT
------------------------------

Environment variables:

    AUTOMATED_TESTING = 1
    DATE_MANIP_TEST_DM5 = 1
    LC_ALL = C
    NONINTERACTIVE_TESTING = 1
    NO_NETWORK_TESTING = 1
    PATH = /home/cpan/bin/perl/bin:/home/cpan/bin:/sbin:/bin:/usr/sbin:/usr/bin:/usr/games:/usr/local/sbin:/usr/local/bin:/home/cpan/bin
    PERL5LIB = 
    PERL5OPT = 
    PERL5_CPANPLUS_IS_RUNNING = 11276
    PERL5_CPAN_IS_RUNNING = 11276
    PERL_MM_USE_DEFAULT = 1
    PERL_USE_UNSAFE_INC = 1
    SHELL = /usr/local/bin/bash
    TERM = screen
    TMPDIR = /home/cpan/tmp

Perl special variables (and OS-specific diagnostics, for MSWin32):

    $^X = /usr/home/cpan/bin/perl/bin/perl5.43.1
    $UID/$EUID = 1002 / 1002
    $GID = 1002 1002
    $EGID = 1002 1002

Perl module toolchain versions installed:

    Module              Have    
    ------------------- --------
    CPAN                2.38    
    CPAN::Meta          2.150010
    Cwd                 3.94    
    ExtUtils::CBuilder  0.280242
    ExtUtils::Command   7.76    
    ExtUtils::Install   2.22    
    ExtUtils::MakeMaker 7.76    
    ExtUtils::Manifest  1.75    
    ExtUtils::ParseXS   3.58    
    File::Spec          3.94    
    JSON                4.10    
    JSON::PP            4.16    
    Module::Build       0.4234  
    Module::Signature   0.93    
    Parse::CPAN::Meta   2.150010
    Test2               1.302214
    Test::Harness       3.52    
    Test::More          1.302214
    YAML                1.31    
    YAML::Syck          1.34    
    version             0.9933  


--

Summary of my perl5 (revision 5 version 43 subversion 1) configuration:
  Commit id: 9ef5300f9a0c33a7b865a307d84e06ada598c612
  Platform:
    osname=midnightbsd
    osvers=3.2.1
    archname=amd64-midnightbsd-thread-multi
    uname='midnightbsd cjg-midnightbsd3 3.2.1 midnightbsd 3.2.1 #15n13132-0869ed7092(stable3.2)-dirty: wed nov 6 12:53:25 est 2024 root@m3264:usrobjusrsrcamd64.amd64sysgeneric amd64 '
    config_args='-des -Dprefix=/home/cpan/bin/perl -Dscriptdir=/home/cpan/bin/perl/bin -Dusedevel -Duse64bitall -Duseithreads'
    hint=recommended
    useposix=true
    d_sigaction=define
    useithreads=define
    usemultiplicity=define
    use64bitint=define
    use64bitall=define
    uselongdouble=undef
    usemymalloc=n
    default_inc_excludes_dot=define
  Compiler:
    cc='cc'
    ccflags ='-DHAS_FPSETMASK -DHAS_FLOATINGPOINT_H -fno-strict-aliasing -pipe -fstack-protector-strong -I/usr/local/include'
    optimize='-O'
    cppflags='-DHAS_FPSETMASK -DHAS_FLOATINGPOINT_H -fno-strict-aliasing -pipe -fstack-protector-strong -I/usr/local/include'
    ccversion=''
    gccversion='MidnightBSD Clang 13.0.0 (git@github.com:llvm/llvm-project.git llvmorg-13.0.0-0-gd7b669b3a303)'
    gccosandvers=''
    intsize=4
    longsize=8
    ptrsize=8
    doublesize=8
    byteorder=12345678
    doublekind=3
    d_longlong=define
    longlongsize=8
    d_longdbl=define
    longdblsize=16
    longdblkind=3
    ivtype='long'
    ivsize=8
    nvtype='double'
    nvsize=8
    Off_t='off_t'
    lseeksize=8
    alignbytes=8
    prototype=define
  Linker and Libraries:
    ld='cc'
    ldflags ='-pthread -Wl,-E  -fstack-protector-strong -L/usr/local/lib'
    libpth=/usr/lib /usr/local/lib /usr/lib/clang/13.0.0/lib
    libs=-lpthread -lgdbm -ldl -lm -lcrypt
    perllibs=-lpthread -ldl -lm -lcrypt
    libc=
    so=so
    useshrplib=false
    libperl=libperl.a
    gnulibc_version=''
  Dynamic Linking:
    dlsrc=dl_dlopen.xs
    dlext=so
    d_dlsymun=undef
    ccdlflags=' '
    cccdlflags='-DPIC -fPIC'
    lddlflags='-shared  -L/usr/local/lib -fstack-protector-strong'


Characteristics of this binary (from libperl): 
  Compile-time options:
    HAS_LONG_DOUBLE
    HAS_STRTOLD
    HAS_TIMES
    MULTIPLICITY
    PERLIO_LAYERS
    PERL_COPY_ON_WRITE
    PERL_DONT_CREATE_GVSV
    PERL_HASH_FUNC_SIPHASH13
    PERL_HASH_USE_SBOX32
    PERL_MALLOC_WRAP
    PERL_OP_PARENT
    PERL_PRESERVE_IVUV
    PERL_USE_DEVEL
    PERL_USE_SAFE_PUTENV
    USE_64_BIT_ALL
    USE_64_BIT_INT
    USE_ITHREADS
    USE_LARGE_FILES
    USE_LOCALE
    USE_LOCALE_COLLATE
    USE_LOCALE_CTYPE
    USE_LOCALE_NUMERIC
    USE_LOCALE_TIME
    USE_PERLIO
    USE_PERL_ATOF
    USE_REENTRANT_API
    USE_THREAD_SAFE_LOCALE
  Built under midnightbsd
  Compiled at Jul  9 2025 19:32:10
  %ENV:
    PERL5LIB=""
    PERL5OPT=""
    PERL5_CPANPLUS_IS_RUNNING="11276"
    PERL5_CPAN_IS_RUNNING="11276"
    PERL_MM_USE_DEFAULT="1"
    PERL_USE_UNSAFE_INC="1"
  @INC:
    /home/cpan/bin/perl/lib/site_perl/5.43.1/amd64-midnightbsd-thread-multi
    /home/cpan/bin/perl/lib/site_perl/5.43.1
    /home/cpan/bin/perl/lib/5.43.1/amd64-midnightbsd-thread-multi
    /home/cpan/bin/perl/lib/5.43.1
    .