Test-ClassAPI v1.07 Perl 5 v5.20.3 OpenBSD.amd64-openbsd

Status
Pass
From
Nigel Horne
Dist
Test-ClassAPI v1.07
Platform
Perl 5 v5.20.3 OpenBSD.amd64-openbsd
Date
2018-08-20 15:08:30
ID
e5fc6cce-a48a-11e8-b26c-f04fb1ade6de
This distribution has been tested as part of the CPAN Testers
project, supporting the Perl programming language.  See
http://wiki.cpantesters.org/ for more information or email
questions to cpan-testers-discuss@perl.org


--
Dear Karen Etheridge,

This is a computer-generated report for Test-ClassAPI-1.07
on perl 5.20.3, created by CPAN-Reporter-1.2018.

Thank you for uploading your work to CPAN.  Congratulations!
All tests were successful.

Sections of this report:

    * Tester comments
    * Program output
    * Prerequisites
    * Environment and other context

------------------------------
TESTER COMMENTS
------------------------------

Additional comments from tester:

none provided

------------------------------
PROGRAM OUTPUT
------------------------------

Output from '/usr/bin/make test':

PERL_DL_NONLAZY=1 /home/njh/perl5/perlbrew/perls/perl-5.20.3/bin/perl5.20.3 "-MExtUtils::Command::MM" "-MTest::Harness" "-e" "undef *Test::Harness::Switches; test_harness(0, 'blib/lib', 'blib/arch')" t/*.t
# 
# Versions for all modules listed in MYMETA.json (including optional ones):
# 
# === Configure Requires ===
# 
#     Module              Want Have
#     ------------------- ---- ----
#     ExtUtils::MakeMaker  any 6.98
# 
# === Build Requires ===
# 
#     Module              Want Have
#     ------------------- ---- ----
#     ExtUtils::MakeMaker  any 6.98
# 
# === Test Requires ===
# 
#     Module              Want     Have
#     ------------------- ---- --------
#     ExtUtils::MakeMaker  any     6.98
#     File::Spec          0.83     3.74
#     Test::More          0.47 1.302140
#     base                 any     2.22
#     warnings             any     1.23
# 
# === Test Recommends ===
# 
#     Module         Want     Have
#     ---------- -------- --------
#     CPAN::Meta 2.120900 2.150010
# 
# === Runtime Requires ===
# 
#     Module           Want     Have
#     ---------------- ---- --------
#     Class::Inspector 1.12     1.32
#     Config::Tiny     2.00     2.23
#     File::Spec       0.83     3.74
#     Params::Util     1.00     1.07
#     Test::More       0.47 1.302140
#     strict            any     1.08
#     vars              any     1.03
# 
# === Other Modules ===
# 
#     Module       Have
#     --------- -------
#     JSON::PP  2.97001
#     Sub::Name missing
#     YAML         1.26
#     autodie      2.23
# 
t/00-report-prereqs.t .. ok
t/01_compile.t ......... ok
t/02_api.t ............. ok
t/03_implements.t ...... ok
t/04_collisions.t ...... ok
All tests successful.
Files=5, Tests=48,  1 wallclock secs ( 0.04 usr  0.02 sys +  0.51 cusr  0.13 csys =  0.70 CPU)
Result: PASS

------------------------------
PREREQUISITES
------------------------------

Prerequisite modules loaded:

requires:

    Module              Need  Have    
    ------------------- ----- --------
    Class::Inspector    1.12  1.32    
    Config::Tiny        2.00  2.23    
    File::Spec          0.83  3.74    
    Params::Util        1.00  1.07    
    perl                5.006 5.020003
    strict              0     1.08    
    Test::More          0.47  1.302140
    vars                0     1.03    

build_requires:

    Module              Need  Have    
    ------------------- ----- --------
    base                0     2.22    
    ExtUtils::MakeMaker 0     6.98    
    File::Spec          0.83  3.74    
    Test::More          0.47  1.302140
    warnings            0     1.23    

configure_requires:

    Module              Need  Have    
    ------------------- ----- --------
    ExtUtils::MakeMaker 0     6.98    
    perl                5.006 5.020003


------------------------------
ENVIRONMENT AND OTHER CONTEXT
------------------------------

Environment variables:

    PATH = /home/njh/perl5/perlbrew/bin:/home/njh/perl5/perlbrew/perls/perl-5.20.3/bin:/home/njh/bin:/bin:/sbin:/usr/bin:/usr/sbin:/usr/X11R6/bin:/usr/local/bin:/usr/local/sbin:/usr/games
    PERL5LIB = 
    PERL5OPT = 
    PERL5_CPANPLUS_IS_RUNNING = 12042
    PERL5_CPAN_IS_RUNNING = 12042
    PERLBREW_HOME = /home/njh/.perlbrew
    PERLBREW_MANPATH = /home/njh/perl5/perlbrew/perls/perl-5.20.3/man
    PERLBREW_PATH = /home/njh/perl5/perlbrew/bin:/home/njh/perl5/perlbrew/perls/perl-5.20.3/bin
    PERLBREW_PERL = perl-5.20.3
    PERLBREW_ROOT = /home/njh/perl5/perlbrew
    PERLBREW_SHELLRC_VERSION = 0.84
    PERLBREW_VERSION = 0.84
    SHELL = /usr/local/bin/bash
    TERM = xterm-256color
    TMPDIR = /tmp

Perl special variables (and OS-specific diagnostics, for MSWin32):

    $^X = /home/njh/perl5/perlbrew/perls/perl-5.20.3/bin/perl5.20.3
    $UID/$EUID = 1000 / 1000
    $GID = 1000 1000 0
    $EGID = 1000 1000 0

Perl module toolchain versions installed:

    Module              Have    
    ------------------- --------
    CPAN                2.16    
    CPAN::Meta          2.150010
    Cwd                 3.74    
    ExtUtils::CBuilder  0.280217
    ExtUtils::Command   1.18    
    ExtUtils::Install   1.67    
    ExtUtils::MakeMaker 6.98    
    ExtUtils::Manifest  1.63    
    ExtUtils::ParseXS   3.24    
    File::Spec          3.74    
    JSON                2.97001 
    JSON::PP            2.97001 
    Module::Build       0.4224  
    Module::Signature   n/a     
    Parse::CPAN::Meta   2.150010
    Test::Harness       3.42    
    Test::More          1.302140
    YAML                1.26    
    YAML::Syck          1.30    
    version             0.9909  


--

Summary of my perl5 (revision 5 version 20 subversion 3) configuration:
   
  Platform:
    osname=openbsd, osvers=6.3, archname=OpenBSD.amd64-openbsd
    uname='openbsd 45.77.200.35.vultr.com 6.3 generic.mp#3 amd64 '
    config_args='-de -Dprefix=/home/njh/perl5/perlbrew/perls/perl-5.20.3 -Dusedevel -Accflags=-O2 -W -Wformat=2 -Wswitch -Wshadow -Wwrite-strings -Wuninitialized -Wall -pipe -fomit-frame-pointer -pedantic -D_FORTIFY_SOURCE=2 -Wpointer-arith -Wstrict-prototypes -fstack-protector -Wstack-protector -Wextra -Wbad-function-cast -Wcast-align -Wcast-qual -Wdisabled-optimization -Wendif-labels -Wfloat-equal -Wformat-nonliteral -Winline -Wmissing-declarations -Wmissing-prototypes -Wnested-externs -Wpointer-arith -Wundef -Wformat-security -ftree-vectorize -mmmx -msse -mfpmath=sse -msse2 -msse3 -msse4.1 -msse4.2 -mtune=native -Aeval:scriptdir=/home/njh/perl5/perlbrew/perls/perl-5.20.3/bin'
    hint=recommended, useposix=true, d_sigaction=define
    useithreads=undef, usemultiplicity=undef
    use64bitint=define, use64bitall=define, uselongdouble=undef
    usemymalloc=n, bincompat5005=undef
  Compiler:
    cc='cc', ccflags ='-O2 -W -Wformat=2 -Wswitch -Wshadow -Wwrite-strings -Wuninitialized -Wall -pipe -fomit-frame-pointer -pedantic -D_FORTIFY_SOURCE=2 -Wpointer-arith -Wstrict-prototypes -fstack-protector -Wstack-protector -Wextra -Wbad-function-cast -Wcast-align -Wcast-qual -Wdisabled-optimization -Wendif-labels -Wfloat-equal -Wformat-nonliteral -Winline -Wmissing-declarations -Wmissing-prototypes -Wnested-externs -Wpointer-arith -Wundef -Wformat-security -ftree-vectorize -mmmx -msse -mfpmath=sse -msse2 -msse3 -msse4.1 -msse4.2 -mtune=native -fno-strict-aliasing -I/usr/local/include',
    optimize='-O2',
    cppflags='-O2 -W -Wformat=2 -Wswitch -Wshadow -Wwrite-strings -Wuninitialized -Wall -pipe -fomit-frame-pointer -pedantic -D_FORTIFY_SOURCE=2 -Wpointer-arith -Wstrict-prototypes -fstack-protector -Wstack-protector -Wextra -Wbad-function-cast -Wcast-align -Wcast-qual -Wdisabled-optimization -Wendif-labels -Wfloat-equal -Wformat-nonliteral -Winline -Wmissing-declarations -Wmissing-prototypes -Wnested-externs -Wpointer-arith -Wundef -Wformat-security -ftree-vectorize -mmmx -msse -mfpmath=sse -msse2 -msse3 -msse4.1 -msse4.2 -mtune=native -fno-strict-aliasing -I/usr/local/include'
    ccversion='', gccversion='4.2.1 Compatible OpenBSD Clang 5.0.1 (tags/RELEASE_501/final)', gccosandvers=''
    intsize=4, longsize=8, ptrsize=8, doublesize=8, byteorder=12345678
    d_longlong=define, longlongsize=8, d_longdbl=define, longdblsize=16
    ivtype='long', ivsize=8, nvtype='double', nvsize=8, Off_t='off_t', lseeksize=8
    alignbytes=8, prototype=define
  Linker and Libraries:
    ld='cc', ldflags ='-Wl,-E  -fstack-protector -L/usr/local/lib'
    libpth=/usr/lib /usr/local/lib
    libs=-lpthread -lm -lutil -lc
    perllibs=-lpthread -lm -lutil -lc
    libc=/usr/lib/libc.so.92.3, so=so, useshrplib=false, libperl=libperl.a
    gnulibc_version=''
  Dynamic Linking:
    dlsrc=dl_dlopen.xs, dlext=so, d_dlsymun=undef, ccdlflags=' '
    cccdlflags='-DPIC -fPIC ', lddlflags='-shared -fPIC  -L/usr/local/lib -fstack-protector'


Characteristics of this binary (from libperl): 
  Compile-time options: HAS_TIMES PERLIO_LAYERS PERL_DONT_CREATE_GVSV
                        PERL_HASH_FUNC_ONE_AT_A_TIME_HARD PERL_MALLOC_WRAP
                        PERL_NEW_COPY_ON_WRITE PERL_PRESERVE_IVUV
                        PERL_USE_DEVEL USE_64_BIT_ALL USE_64_BIT_INT
                        USE_LARGE_FILES USE_LOCALE USE_LOCALE_COLLATE
                        USE_LOCALE_CTYPE USE_LOCALE_NUMERIC USE_PERLIO
                        USE_PERL_ATOF
  Locally applied patches:
	Devel::PatchPerl 1.52
  Built under openbsd
  Compiled at Aug 20 2018 09:15:35
  %ENV:
    PERL5LIB=""
    PERL5OPT=""
    PERL5_CPANPLUS_IS_RUNNING="12042"
    PERL5_CPAN_IS_RUNNING="12042"
    PERLBREW_HOME="/home/njh/.perlbrew"
    PERLBREW_MANPATH="/home/njh/perl5/perlbrew/perls/perl-5.20.3/man"
    PERLBREW_PATH="/home/njh/perl5/perlbrew/bin:/home/njh/perl5/perlbrew/perls/perl-5.20.3/bin"
    PERLBREW_PERL="perl-5.20.3"
    PERLBREW_ROOT="/home/njh/perl5/perlbrew"
    PERLBREW_SHELLRC_VERSION="0.84"
    PERLBREW_VERSION="0.84"
  @INC:
    /home/njh/perl5/perlbrew/perls/perl-5.20.3/lib/site_perl/5.20.3/OpenBSD.amd64-openbsd
    /home/njh/perl5/perlbrew/perls/perl-5.20.3/lib/site_perl/5.20.3
    /home/njh/perl5/perlbrew/perls/perl-5.20.3/lib/5.20.3/OpenBSD.amd64-openbsd
    /home/njh/perl5/perlbrew/perls/perl-5.20.3/lib/5.20.3
    .