Module-Install v1.21 Perl 5 v5.41.10 aarch64-freebsd

Status
Pass
From
Slaven Rezić
Dist
Module-Install v1.21
Platform
Perl 5 v5.41.10 aarch64-freebsd
Date
2025-03-31 12:01:37
ID
e5cce05e-0e27-11f0-a2f0-f73e6e8775ea
This distribution has been tested as part of the CPAN Testers
project, supporting the Perl programming language.  See
http://wiki.cpantesters.org/ for more information or email
questions to cpan-testers-discuss@perl.org


--
Dear Karen Etheridge,

This is a computer-generated report for Module-Install-1.21
on perl 5.41.10, created by CPAN-Reporter-1.2020.

Thank you for uploading your work to CPAN.  Congratulations!
All tests were successful.

Sections of this report:

    * Tester comments
    * Program output
    * Prerequisites
    * Environment and other context

------------------------------
TESTER COMMENTS
------------------------------

Additional comments from tester:

this report is from an automated smoke testing program
and was not reviewed by a human for accuracy

------------------------------
PROGRAM OUTPUT
------------------------------

Output from '/usr/bin/make test':

PERL_DL_NONLAZY=1 "/usr/perl5.41.10/bin/perl5.41.10" "-MExtUtils::Command::MM" "-MTest::Harness" "-e" "undef *Test::Harness::Switches; test_harness(0, 'inc', 'blib/lib', 'blib/arch')" t/*.t t/recursive/*.t
t/01_compile.t .......................... ok
t/02_mymeta.t ........................... skipped: New EU::MM has own MYMETA support
t/03_autoinstall.t ...................... skipped: Skipping dangerous test
t/04_version.t .......................... ok
t/05_share.t ............................ ok
t/06_ppport.t ........................... ok
t/07_perl_version.t ..................... ok
t/09_read.t ............................. ok
t/10_test.t ............................. ok
t/11_extraction.t ....................... ok
t/12_eumm_params.t ...................... ok
t/13_author_tests.t ..................... ok
t/13_author_tests_ext.t ................. skipped: requires Module::Install::AuthorTests
t/13_author_tests_ext2.t ................ skipped: requires Module::Install::ExtraTests 0.007
t/14_auto_include_deps_with_version.t ... skipped: your perl is new enough to have File::Spec 3.30 in core
t/15_wrong_usage.t ...................... ok
t/16_require.t .......................... ok
t/17_sign.t ............................. ok
t/18_all_from.t ......................... ok
t/19_authors.t .......................... ok
t/20_authors_with_special_characters.t .. ok
t/21_makemaker_args.t ................... ok
Use of uninitialized value $cmd in substitution (s///) at /usr/perl5.41.10/lib/5.41.10/ExtUtils/MM_Any.pm line 348.
Use of uninitialized value $mandir in pattern match (m//) at /usr/perl5.41.10/lib/5.41.10/ExtUtils/MM_Unix.pm line 1560.
Use of uninitialized value $mandir in pattern match (m//) at /usr/perl5.41.10/lib/5.41.10/ExtUtils/MM_Unix.pm line 1560.
Use of uninitialized value $mandir in pattern match (m//) at /usr/perl5.41.10/lib/5.41.10/ExtUtils/MM_Unix.pm line 1560.
Use of uninitialized value $mandir in pattern match (m//) at /usr/perl5.41.10/lib/5.41.10/ExtUtils/MM_Unix.pm line 1560.
Use of uninitialized value $mandir in pattern match (m//) at /usr/perl5.41.10/lib/5.41.10/ExtUtils/MM_Unix.pm line 1560.
Use of uninitialized value $mandir in pattern match (m//) at /usr/perl5.41.10/lib/5.41.10/ExtUtils/MM_Unix.pm line 1560.
Use of uninitialized value $mandir in pattern match (m//) at /usr/perl5.41.10/lib/5.41.10/ExtUtils/MM_Unix.pm line 1560.
Use of uninitialized value $mandir in pattern match (m//) at /usr/perl5.41.10/lib/5.41.10/ExtUtils/MM_Unix.pm line 1560.
Use of uninitialized value $mandir in pattern match (m//) at /usr/perl5.41.10/lib/5.41.10/ExtUtils/MM_Unix.pm line 1560.
Use of uninitialized value $cmd in substitution (s///) at /usr/perl5.41.10/lib/5.41.10/ExtUtils/MM_Any.pm line 348.
Use of uninitialized value $mandir in pattern match (m//) at /usr/perl5.41.10/lib/5.41.10/ExtUtils/MM_Unix.pm line 1560.
Use of uninitialized value $mandir in pattern match (m//) at /usr/perl5.41.10/lib/5.41.10/ExtUtils/MM_Unix.pm line 1560.
Use of uninitialized value $mandir in pattern match (m//) at /usr/perl5.41.10/lib/5.41.10/ExtUtils/MM_Unix.pm line 1560.
Use of uninitialized value $mandir in pattern match (m//) at /usr/perl5.41.10/lib/5.41.10/ExtUtils/MM_Unix.pm line 1560.
Use of uninitialized value $mandir in pattern match (m//) at /usr/perl5.41.10/lib/5.41.10/ExtUtils/MM_Unix.pm line 1560.
Use of uninitialized value $mandir in pattern match (m//) at /usr/perl5.41.10/lib/5.41.10/ExtUtils/MM_Unix.pm line 1560.
Use of uninitialized value $mandir in pattern match (m//) at /usr/perl5.41.10/lib/5.41.10/ExtUtils/MM_Unix.pm line 1560.
Use of uninitialized value $mandir in pattern match (m//) at /usr/perl5.41.10/lib/5.41.10/ExtUtils/MM_Unix.pm line 1560.
Use of uninitialized value $mandir in pattern match (m//) at /usr/perl5.41.10/lib/5.41.10/ExtUtils/MM_Unix.pm line 1560.
Use of uninitialized value $cmd in substitution (s///) at /usr/perl5.41.10/lib/5.41.10/ExtUtils/MM_Any.pm line 348.
Use of uninitialized value $mandir in pattern match (m//) at /usr/perl5.41.10/lib/5.41.10/ExtUtils/MM_Unix.pm line 1560.
Use of uninitialized value $mandir in pattern match (m//) at /usr/perl5.41.10/lib/5.41.10/ExtUtils/MM_Unix.pm line 1560.
Use of uninitialized value $mandir in pattern match (m//) at /usr/perl5.41.10/lib/5.41.10/ExtUtils/MM_Unix.pm line 1560.
Use of uninitialized value $mandir in pattern match (m//) at /usr/perl5.41.10/lib/5.41.10/ExtUtils/MM_Unix.pm line 1560.
Use of uninitialized value $mandir in pattern match (m//) at /usr/perl5.41.10/lib/5.41.10/ExtUtils/MM_Unix.pm line 1560.
Use of uninitialized value $mandir in pattern match (m//) at /usr/perl5.41.10/lib/5.41.10/ExtUtils/MM_Unix.pm line 1560.
Use of uninitialized value $mandir in pattern match (m//) at /usr/perl5.41.10/lib/5.41.10/ExtUtils/MM_Unix.pm line 1560.
Use of uninitialized value $mandir in pattern match (m//) at /usr/perl5.41.10/lib/5.41.10/ExtUtils/MM_Unix.pm line 1560.
Use of uninitialized value $mandir in pattern match (m//) at /usr/perl5.41.10/lib/5.41.10/ExtUtils/MM_Unix.pm line 1560.
Use of uninitialized value $cmd in substitution (s///) at /usr/perl5.41.10/lib/5.41.10/ExtUtils/MM_Any.pm line 348.
Use of uninitialized value $mandir in pattern match (m//) at /usr/perl5.41.10/lib/5.41.10/ExtUtils/MM_Unix.pm line 1560.
Use of uninitialized value $mandir in pattern match (m//) at /usr/perl5.41.10/lib/5.41.10/ExtUtils/MM_Unix.pm line 1560.
Use of uninitialized value $mandir in pattern match (m//) at /usr/perl5.41.10/lib/5.41.10/ExtUtils/MM_Unix.pm line 1560.
Use of uninitialized value $mandir in pattern match (m//) at /usr/perl5.41.10/lib/5.41.10/ExtUtils/MM_Unix.pm line 1560.
Use of uninitialized value $mandir in pattern match (m//) at /usr/perl5.41.10/lib/5.41.10/ExtUtils/MM_Unix.pm line 1560.
Use of uninitialized value $mandir in pattern match (m//) at /usr/perl5.41.10/lib/5.41.10/ExtUtils/MM_Unix.pm line 1560.
Use of uninitialized value $mandir in pattern match (m//) at /usr/perl5.41.10/lib/5.41.10/ExtUtils/MM_Unix.pm line 1560.
Use of uninitialized value $mandir in pattern match (m//) at /usr/perl5.41.10/lib/5.41.10/ExtUtils/MM_Unix.pm line 1560.
Use of uninitialized value $mandir in pattern match (m//) at /usr/perl5.41.10/lib/5.41.10/ExtUtils/MM_Unix.pm line 1560.
old INSTALLDIRS (probably set by makemaker_args) is overriden by installdirs
Use of uninitialized value $cmd in substitution (s///) at /usr/perl5.41.10/lib/5.41.10/ExtUtils/MM_Any.pm line 348.
Use of uninitialized value $mandir in pattern match (m//) at /usr/perl5.41.10/lib/5.41.10/ExtUtils/MM_Unix.pm line 1560.
Use of uninitialized value $mandir in pattern match (m//) at /usr/perl5.41.10/lib/5.41.10/ExtUtils/MM_Unix.pm line 1560.
Use of uninitialized value $mandir in pattern match (m//) at /usr/perl5.41.10/lib/5.41.10/ExtUtils/MM_Unix.pm line 1560.
Use of uninitialized value $mandir in pattern match (m//) at /usr/perl5.41.10/lib/5.41.10/ExtUtils/MM_Unix.pm line 1560.
Use of uninitialized value $mandir in pattern match (m//) at /usr/perl5.41.10/lib/5.41.10/ExtUtils/MM_Unix.pm line 1560.
Use of uninitialized value $mandir in pattern match (m//) at /usr/perl5.41.10/lib/5.41.10/ExtUtils/MM_Unix.pm line 1560.
Use of uninitialized value $mandir in pattern match (m//) at /usr/perl5.41.10/lib/5.41.10/ExtUtils/MM_Unix.pm line 1560.
Use of uninitialized value $mandir in pattern match (m//) at /usr/perl5.41.10/lib/5.41.10/ExtUtils/MM_Unix.pm line 1560.
Use of uninitialized value $mandir in pattern match (m//) at /usr/perl5.41.10/lib/5.41.10/ExtUtils/MM_Unix.pm line 1560.
Use of uninitialized value $cmd in substitution (s///) at /usr/perl5.41.10/lib/5.41.10/ExtUtils/MM_Any.pm line 348.
Use of uninitialized value $mandir in pattern match (m//) at /usr/perl5.41.10/lib/5.41.10/ExtUtils/MM_Unix.pm line 1560.
Use of uninitialized value $mandir in pattern match (m//) at /usr/perl5.41.10/lib/5.41.10/ExtUtils/MM_Unix.pm line 1560.
Use of uninitialized value $mandir in pattern match (m//) at /usr/perl5.41.10/lib/5.41.10/ExtUtils/MM_Unix.pm line 1560.
Use of uninitialized value $mandir in pattern match (m//) at /usr/perl5.41.10/lib/5.41.10/ExtUtils/MM_Unix.pm line 1560.
Use of uninitialized value $mandir in pattern match (m//) at /usr/perl5.41.10/lib/5.41.10/ExtUtils/MM_Unix.pm line 1560.
Use of uninitialized value $mandir in pattern match (m//) at /usr/perl5.41.10/lib/5.41.10/ExtUtils/MM_Unix.pm line 1560.
Use of uninitialized value $mandir in pattern match (m//) at /usr/perl5.41.10/lib/5.41.10/ExtUtils/MM_Unix.pm line 1560.
Use of uninitialized value $mandir in pattern match (m//) at /usr/perl5.41.10/lib/5.41.10/ExtUtils/MM_Unix.pm line 1560.
Use of uninitialized value $mandir in pattern match (m//) at /usr/perl5.41.10/lib/5.41.10/ExtUtils/MM_Unix.pm line 1560.
t/22_installdirs.t ...................... ok
t/23_pl_files.t ......................... ok
t/24_multiple_license_blocks.t .......... ok
t/25_perl_version_from.t ................ ok
t/26_unknown_func.t ..................... ok
Warning: prerequisite Test::More 9999 not found. We have 1.302209.
t/27_build_requires_and_include.t ....... ok
t/28_makemaker_args.t ................... ok
t/29_requires_from.t .................... ok
t/30_build_subdirs.t .................... ok
t/31_add_metadata.t ..................... ok
t/32_module_name.t ...................... ok
t/33_copy.t ............................. ok
t/34_readwrite.t ........................ ok
t/recursive/test.t ...................... ok
All tests successful.
Files=36, Tests=547, 19 wallclock secs ( 0.27 usr  0.06 sys + 14.63 cusr  4.84 csys = 19.81 CPU)
Result: PASS

------------------------------
PREREQUISITES
------------------------------

Prerequisite modules loaded:

requires:

    Module              Need   Have      
    ------------------- ------ ----------
    Devel::PPPort       3.16   3.73      
    ExtUtils::Install   1.52   2.22      
    ExtUtils::MakeMaker 6.59   7.72      
    ExtUtils::ParseXS   2.19   3.57      
    File::Path          0      2.18      
    File::Remove        1.42   1.61      
    File::Spec          3.28   3.93      
    Module::Build       0.29   0.4234    
    Module::CoreList    2.17   5.20250321
    Module::ScanDeps    1.09   1.37      
    Parse::CPAN::Meta   1.4413 2.150010  
    perl                5.006  5.041010  
    YAML::Tiny          1.38   1.76      

build_requires:

    Module              Need   Have      
    ------------------- ------ ----------
    autodie             0      2.37      
    ExtUtils::MakeMaker 6.59   7.72      
    Test::Harness       3.13   3.50      
    Test::More          0.86   1.302209  
    YAML::Tiny          1.33   1.76      

configure_requires:

    Module              Need   Have      
    ------------------- ------ ----------
    ExtUtils::MakeMaker 6.59   7.72      
    YAML::Tiny          1.33   1.76      


------------------------------
ENVIRONMENT AND OTHER CONTEXT
------------------------------

Environment variables:

    AUTOMATED_TESTING = 1
    LANG = C.UTF-8
    PATH = /usr/local/bin:/usr/bin:/bin:/usr/local/sbin:/usr/sbin:/sbin:/home/cpansand/bin/sh:/home/cpansand/bin:/usr/games:/home/cpansand/devel:/home/eserte/src/srezic-misc/scripts
    PERL5LIB = 
    PERL5OPT = 
    PERL5_CPANPLUS_IS_RUNNING = 22763
    PERL5_CPAN_IS_RUNNING = 22763
    PERL5_CPAN_IS_RUNNING_IN_RECURSION = 22649,22763
    PERL_BATCH = yes
    PERL_CANARY_STABILITY_NOPROMPT = 1
    PERL_CPAN_REPORTER_CONFIG = /var/tmp/cpansmoker-1023/2025033111/cpanreporter_000_config.ini
    PERL_EXTUTILS_AUTOINSTALL = --defaultdeps
    PERL_USE_UNSAFE_INC = 1
    SHELL = /bin/sh
    TMPDIR = /var/tmp/cpansmoker-1023/2025033111

Perl special variables (and OS-specific diagnostics, for MSWin32):

    $^X = /usr/perl5.41.10/bin/perl5.41.10
    $UID/$EUID = 1023 / 1023
    $GID = 1023 1023
    $EGID = 1023 1023

Perl module toolchain versions installed:

    Module              Have    
    ------------------- --------
    CPAN                2.38    
    CPAN::Meta          2.150010
    Cwd                 3.92    
    ExtUtils::CBuilder  0.280240
    ExtUtils::Command   7.72    
    ExtUtils::Install   2.22    
    ExtUtils::MakeMaker 7.72    
    ExtUtils::Manifest  1.75    
    ExtUtils::ParseXS   3.57    
    File::Spec          3.93    
    JSON                4.10    
    JSON::PP            4.16    
    Module::Build       0.4234  
    Module::Signature   n/a     
    Parse::CPAN::Meta   2.150010
    Test2               1.302209
    Test::Harness       3.50    
    Test::More          1.302209
    YAML                1.31    
    YAML::Syck          1.34    
    version             0.9933  


--

Summary of my perl5 (revision 5 version 41 subversion 10) configuration:
   
  Platform:
    osname=freebsd
    osvers=14.2-stable
    archname=aarch64-freebsd
    uname='freebsd cloud9.bbbike.org 14.2-stable freebsd 14.2-stable stable14-n270853-d6552ebf26bc generic arm64 '
    config_args='-ds -e -Dprefix=/usr/perl5.41.10 -Uinstallusrbinperl -Dusedevel -Dusemallocwrap=no -Dcf_email=srezic@cpan.org -Doptimize=-O2 -pipe'
    hint=recommended
    useposix=true
    d_sigaction=define
    useithreads=undef
    usemultiplicity=undef
    use64bitint=define
    use64bitall=define
    uselongdouble=undef
    usemymalloc=n
    default_inc_excludes_dot=define
  Compiler:
    cc='cc'
    ccflags ='-DHAS_FPSETMASK -DHAS_FLOATINGPOINT_H -DNO_POSIX_2008_LOCALE -fno-strict-aliasing -pipe -fstack-protector-strong -I/usr/local/include'
    optimize='-O2 -pipe'
    cppflags='-DHAS_FPSETMASK -DHAS_FLOATINGPOINT_H -DNO_POSIX_2008_LOCALE -fno-strict-aliasing -pipe -fstack-protector-strong -I/usr/local/include'
    ccversion=''
    gccversion='FreeBSD Clang 19.1.7 (https://github.com/llvm/llvm-project.git llvmorg-19.1.7-0-gcd708029e0b2)'
    gccosandvers=''
    intsize=4
    longsize=8
    ptrsize=8
    doublesize=8
    byteorder=12345678
    doublekind=3
    d_longlong=define
    longlongsize=8
    d_longdbl=define
    longdblsize=16
    longdblkind=1
    ivtype='long'
    ivsize=8
    nvtype='double'
    nvsize=8
    Off_t='off_t'
    lseeksize=8
    alignbytes=8
    prototype=define
  Linker and Libraries:
    ld='cc'
    ldflags ='-Wl,-E  -fstack-protector-strong -L/usr/local/lib'
    libpth=/usr/lib /usr/local/lib /usr/lib/clang/19/lib
    libs=-lpthread -lgdbm -ldl -lm -lcrypt -lutil -lc
    perllibs=-lpthread -ldl -lm -lcrypt -lutil -lc
    libc=
    so=so
    useshrplib=false
    libperl=libperl.a
    gnulibc_version=''
  Dynamic Linking:
    dlsrc=dl_dlopen.xs
    dlext=so
    d_dlsymun=undef
    ccdlflags=' '
    cccdlflags='-DPIC -fPIC'
    lddlflags='-shared  -L/usr/local/lib -fstack-protector-strong'


Characteristics of this binary (from libperl): 
  Compile-time options:
    HAS_LONG_DOUBLE
    HAS_STRTOLD
    HAS_TIMES
    PERLIO_LAYERS
    PERL_COPY_ON_WRITE
    PERL_DONT_CREATE_GVSV
    PERL_HASH_FUNC_SIPHASH13
    PERL_HASH_USE_SBOX32
    PERL_OP_PARENT
    PERL_PRESERVE_IVUV
    PERL_USE_DEVEL
    PERL_USE_SAFE_PUTENV
    USE_64_BIT_ALL
    USE_64_BIT_INT
    USE_LARGE_FILES
    USE_LOCALE
    USE_LOCALE_COLLATE
    USE_LOCALE_CTYPE
    USE_LOCALE_NUMERIC
    USE_LOCALE_TIME
    USE_PERLIO
    USE_PERL_ATOF
  Built under freebsd
  Compiled at Mar 29 2025 07:01:17
  %ENV:
    PERL5LIB=""
    PERL5OPT=""
    PERL5_CPANPLUS_IS_RUNNING="22763"
    PERL5_CPAN_IS_RUNNING="22763"
    PERL5_CPAN_IS_RUNNING_IN_RECURSION="22649,22763"
    PERL_BATCH="yes"
    PERL_CANARY_STABILITY_NOPROMPT="1"
    PERL_CPAN_REPORTER_CONFIG="/var/tmp/cpansmoker-1023/2025033111/cpanreporter_000_config.ini"
    PERL_EXTUTILS_AUTOINSTALL="--defaultdeps"
    PERL_USE_UNSAFE_INC="1"
  @INC:
    /usr/perl5.41.10/lib/site_perl/5.41.10/aarch64-freebsd
    /usr/perl5.41.10/lib/site_perl/5.41.10
    /usr/perl5.41.10/lib/5.41.10/aarch64-freebsd
    /usr/perl5.41.10/lib/5.41.10
    .