Software-License v0.104007 Perl 5 v5.34.3 darwin-thread-multi-2level

Status
Pass
From
Roland van Ipenburg (IPENBURG)
Dist
Software-License v0.104007
Platform
Perl 5 v5.34.3 darwin-thread-multi-2level
Date
2025-05-06 17:02:31
ID
e5cba046-2a9b-11f0-a00c-ae86b4be4f00
This distribution has been tested as part of the CPAN Testers
project, supporting the Perl programming language.  See
http://wiki.cpantesters.org/ for more information or email
questions to cpan-testers-discuss@perl.org


--
Dear Leon Timmermans,

This is a computer-generated report for Software-License-0.104007
on perl 5.34.3, created by CPAN-Reporter-1.2020.

Thank you for uploading your work to CPAN.  Congratulations!
All tests were successful.

Sections of this report:

    * Tester comments
    * Program output
    * Prerequisites
    * Environment and other context

------------------------------
TESTER COMMENTS
------------------------------

Additional comments from tester:

none provided

------------------------------
PROGRAM OUTPUT
------------------------------

Output from '/usr/bin/make test':

PERL_DL_NONLAZY=1 "/opt/local/bin/perl5.34" "-MExtUtils::Command::MM" "-MTest::Harness" "-e" "undef *Test::Harness::Switches; test_harness(0, 'blib/lib', 'blib/arch')" t/*.t
# 
# Versions for all modules listed in MYMETA.json (including optional ones):
# 
# === Configure Requires ===
# 
#     Module              Want Have
#     ------------------- ---- ----
#     ExtUtils::MakeMaker 6.78 7.74
# 
# === Build Requires ===
# 
#     Module              Want Have
#     ------------------- ---- ----
#     ExtUtils::MakeMaker  any 7.74
# 
# === Test Requires ===
# 
#     Module              Want     Have
#     ------------------- ---- --------
#     ExtUtils::MakeMaker  any     7.74
#     File::Spec           any     3.80
#     Test::More          0.96 1.302209
#     Try::Tiny            any     0.32
# 
# === Test Recommends ===
# 
#     Module         Want     Have
#     ---------- -------- --------
#     CPAN::Meta 2.120900 2.150010
# 
# === Runtime Requires ===
# 
#     Module          Want     Have
#     -------------- ----- --------
#     Carp             any     1.52
#     Data::Section    any 0.200008
#     File::Spec       any     3.80
#     IO::Dir          any     1.55
#     Module::Load     any     0.36
#     Text::Template   any     1.61
#     parent           any    0.244
#     perl           5.012 5.034003
#     strict           any     1.12
#     utf8             any     1.24
#     warnings         any     1.51
# 
t/00-report-prereqs.t ....... ok
t/apache_2_0.t .............. ok
t/basic.t ................... ok
t/bsd-url.t ................. ok
t/creative_commons.t ........ skipped: requires Software::License::CCpack to test this
t/custom.t .................. ok
t/from-spdx-expression.t .... ok
t/guess_license_from_pod.t .. ok
t/guess_meta_license.t ...... ok
t/meta-names.t .............. ok
t/program.t ................. ok
t/round-trip.t .............. ok
t/short_name.t .............. ok
t/spdx-expression.t ......... ok
t/two-dots.t ................ ok
t/utils.t ................... ok
All tests successful.
Files=16, Tests=232, 13 wallclock secs ( 0.33 usr  0.17 sys +  9.62 cusr  1.74 csys = 11.86 CPU)
Result: PASS

------------------------------
PREREQUISITES
------------------------------

Prerequisite modules loaded:

requires:

    Module              Need  Have    
    ------------------- ----- --------
    Carp                0     1.52    
    Data::Section       0     0.200008
    File::Spec          0     3.80    
    IO::Dir             0     1.55    
    Module::Load        0     0.36    
    parent              0     0.244   
    perl                5.012 5.034003
    strict              0     1.12    
    Text::Template      0     1.61    
    utf8                0     1.24    
    warnings            0     1.51    

build_requires:

    Module              Need  Have    
    ------------------- ----- --------
    ExtUtils::MakeMaker 0     7.74    
    File::Spec          0     3.80    
    Test::More          0.96  1.302209
    Try::Tiny           0     0.32    

configure_requires:

    Module              Need  Have    
    ------------------- ----- --------
    ExtUtils::MakeMaker 6.78  7.74    


------------------------------
ENVIRONMENT AND OTHER CONTEXT
------------------------------

Environment variables:

    LANG = en_US.UTF-8
    LC_ALL = en_US.UTF-8
    LC_CTYPE = UTF-8
    PATH = /opt/local/bin:/Users/roland/perl5/bin:/opt/local/bin:/opt/local/sbin:/bin:/sbin:/usr/bin:/usr/sbin
    PERL5LIB = /Users/roland/perl5/lib/perl5
    PERL5OPT = 
    PERL5_CPANPLUS_IS_RUNNING = 806
    PERL5_CPAN_IS_RUNNING = 806
    PERL_LOCAL_LIB_ROOT = /Users/roland/perl5
    PERL_MB_OPT = --install_base "/Users/roland/perl5"
    PERL_MM_OPT = INSTALL_BASE=/Users/roland/perl5
    PERL_USE_UNSAFE_INC = 1
    SHELL = /bin/bash
    TEMP = /var/tmp/
    TERM = xterm-color

Perl special variables (and OS-specific diagnostics, for MSWin32):

    $^X = /opt/local/bin/perl5.34
    $UID/$EUID = 502 / 502
    $GID = 502 502 81 79 80
    $EGID = 502 502 81 79 80

Perl module toolchain versions installed:

    Module              Have    
    ------------------- --------
    CPAN                2.38    
    CPAN::Meta          2.150010
    Cwd                 3.80    
    ExtUtils::CBuilder  0.280236
    ExtUtils::Command   7.74    
    ExtUtils::Install   2.22    
    ExtUtils::MakeMaker 7.74    
    ExtUtils::Manifest  1.75    
    ExtUtils::ParseXS   3.57    
    File::Spec          3.80    
    JSON                4.10    
    JSON::PP            4.16    
    Module::Build       0.4234  
    Module::Signature   n/a     
    Parse::CPAN::Meta   2.150010
    Test2               1.302209
    Test::Harness       3.50    
    Test::More          1.302209
    YAML                n/a     
    YAML::Syck          n/a     
    version             0.9933  


--

Summary of my perl5 (revision 5 version 34 subversion 3) configuration:
   
  Platform:
    osname=darwin
    osvers=8.11.0
    archname=darwin-thread-multi-2level
    uname='darwin queens.local 8.11.0 darwin kernel version 8.11.0: wed oct 10 18:26:00 pdt 2007; root:xnu-792.24.17~1release_ppc power macintosh powerpc '
    config_args='-des -Dprefix=/opt/local -Dscriptdir=/opt/local/bin -Dvendorprefix=/opt/local -Dusemultiplicity=y -Dusethreads -Duseshrplib -Dcc=/usr/bin/cc -Dman1ext=1pm -Dman3ext=3pm -Dinstallstyle=lib/perl5 -Dman1dir=/opt/local/share/man/man1 -Dman3dir=/opt/local/share/man/man3 -Dsitebin=/opt/local/libexec/perl5.34/sitebin -Dsiteman1dir=/opt/local/share/perl5.34/siteman/man1 -Dsiteman3dir=/opt/local/share/perl5.34/siteman/man3 -Dvendorbin=/opt/local/libexec/perl5.34 -Dvendorman1dir=/opt/local/share/perl5.34/man/man1 -Dvendorman3dir=/opt/local/share/perl5.34/man/man3 -Dpager=/usr/bin/less -sR -Dperlpath=/opt/local/bin/perl5.34 -Dstartperl=#!/opt/local/bin/perl5.34 -Acppflags=-I/opt/local/include -Accflags=-pipe -Os  -Alddlflags=-L/opt/local/lib -Wl,-headerpad_max_install_names  -Aldflags=-L/opt/local/lib -Wl,-headerpad_max_install_names '
    hint=recommended
    useposix=true
    d_sigaction=define
    useithreads=define
    usemultiplicity=define
    use64bitint=undef
    use64bitall=undef
    uselongdouble=undef
    usemymalloc=n
    default_inc_excludes_dot=define
  Compiler:
    cc='/usr/bin/cc'
    ccflags ='-fno-common -DPERL_DARWIN -pipe -Os  -fno-strict-aliasing -I/opt/local/include -D_FORTIFY_SOURCE=2 -DPERL_USE_SAFE_PUTENV'
    optimize='-O3'
    cppflags='-I/opt/local/include -fno-common -DPERL_DARWIN -pipe -Os  -fno-strict-aliasing -I/opt/local/include'
    ccversion=''
    gccversion='4.2.1 (Apple Inc. build 5666) (dot 3) (MacPorts apple-gcc42 5666.3_16)'
    gccosandvers=''
    intsize=4
    longsize=4
    ptrsize=4
    doublesize=8
    byteorder=4321
    doublekind=4
    d_longlong=define
    longlongsize=8
    d_longdbl=define
    longdblsize=16
    longdblkind=6
    ivtype='long'
    ivsize=4
    nvtype='double'
    nvsize=8
    Off_t='off_t'
    lseeksize=8
    alignbytes=8
    prototype=define
  Linker and Libraries:
    ld='env MACOSX_DEPLOYMENT_TARGET=10.3 /usr/bin/cc'
    ldflags =' -L/opt/local/lib -Wl,-headerpad_max_install_names '
    libpth=/opt/local/lib /usr/lib
    libs=-lpthread -lgdbm -ldbm -ldl -lm -lc
    perllibs=-lpthread -ldl -lm -lc
    libc=
    so=dylib
    useshrplib=true
    libperl=libperl.dylib
    gnulibc_version=''
  Dynamic Linking:
    dlsrc=dl_dlopen.xs
    dlext=bundle
    d_dlsymun=undef
    ccdlflags=' '
    cccdlflags=' '
    lddlflags=' -bundle -undefined dynamic_lookup -L/opt/local/lib -Wl,-headerpad_max_install_names '


Characteristics of this binary (from libperl): 
  Compile-time options:
    HAS_TIMES
    MULTIPLICITY
    PERLIO_LAYERS
    PERL_COPY_ON_WRITE
    PERL_DONT_CREATE_GVSV
    PERL_IMPLICIT_CONTEXT
    PERL_MALLOC_WRAP
    PERL_OP_PARENT
    PERL_PRESERVE_IVUV
    PERL_USE_SAFE_PUTENV
    USE_ITHREADS
    USE_LARGE_FILES
    USE_LOCALE
    USE_LOCALE_COLLATE
    USE_LOCALE_CTYPE
    USE_LOCALE_NUMERIC
    USE_LOCALE_TIME
    USE_PERLIO
    USE_PERL_ATOF
    USE_REENTRANT_API
    USE_THREAD_SAFE_LOCALE
  Built under darwin
  Compiled at May 24 2024 22:30:39
  %ENV:
    PERL5LIB="/Users/roland/perl5/lib/perl5"
    PERL5OPT=""
    PERL5_CPANPLUS_IS_RUNNING="806"
    PERL5_CPAN_IS_RUNNING="806"
    PERL_LOCAL_LIB_ROOT="/Users/roland/perl5"
    PERL_MB_OPT="--install_base "/Users/roland/perl5""
    PERL_MM_OPT="INSTALL_BASE=/Users/roland/perl5"
    PERL_USE_UNSAFE_INC="1"
  @INC:
    /Users/roland/perl5/lib/perl5/darwin-thread-multi-2level
    /Users/roland/perl5/lib/perl5
    /opt/local/lib/perl5/site_perl/5.34/darwin-thread-multi-2level
    /opt/local/lib/perl5/site_perl/5.34
    /opt/local/lib/perl5/vendor_perl/5.34/darwin-thread-multi-2level
    /opt/local/lib/perl5/vendor_perl/5.34
    /opt/local/lib/perl5/5.34/darwin-thread-multi-2level
    /opt/local/lib/perl5/5.34
    .