Test-CleanNamespaces v0.24 Perl 5 v5.18.0 i386-netbsd

Status
Pass
From
Chris Williams (BINGOS)
Dist
Test-CleanNamespaces v0.24
Platform
Perl 5 v5.18.0 i386-netbsd
Date
2019-09-07 02:55:06
ID
e5af67d6-d11a-11e9-99fe-b031dbec7dbf
This distribution has been tested as part of the CPAN Testers
project, supporting the Perl programming language.  See
http://wiki.cpantesters.org/ for more information or email
questions to cpan-testers-discuss@perl.org


--

Dear Karen Etheridge,

This is a computer-generated error report created automatically by
CPANPLUS, version 0.9178. Testers personal comments may appear
at the end of this report.


Thank you for uploading your work to CPAN.  Congratulations!
All tests were successful.

TEST RESULTS:

Below is the error stack from stage 'make test':

PERL_DL_NONLAZY=1 "/home/cpan/pit/bare/perl-5.18.0/bin/perl" "-MExtUtils::Command::MM" "-MTest::Harness" "-e" "undef *Test::Harness::Switches; test_harness(0, 'blib/lib', 'blib/arch')" t/*.t
# 
# Versions for all modules listed in MYMETA.json (including optional ones):
# 
# === Configure Requires ===
# 
#     Module                       Want     Have
#     ------------------------ -------- --------
#     CPAN::Meta::Requirements 2.120620    2.131
#     ExtUtils::MakeMaker           any     7.36
#     Module::Metadata              any 1.000036
# 
# === Build Requires ===
# 
#     Module              Want Have
#     ------------------- ---- ----
#     ExtUtils::MakeMaker  any 7.36
# 
# === Test Requires ===
# 
#     Module                 Want     Have
#     --------------------- ----- --------
#     ExtUtils::MakeMaker     any     7.36
#     File::Spec              any     3.75
#     File::Spec::Functions   any     3.75
#     File::pushd             any    1.016
#     Scalar::Util            any     1.52
#     Sub::Exporter           any    0.987
#     Test::Deep              any    1.128
#     Test::More             0.96 1.302164
#     Test::Needs             any 0.002006
#     Test::Tester            any 1.302164
#     Test::Warnings        0.009    0.026
#     constant                any     1.27
#     if                      any   0.0602
#     lib                     any     0.63
#     namespace::clean        any     0.27
#     overload                any     1.22
#     parent                  any    0.225
# 
# === Test Recommends ===
# 
#     Module         Want     Have
#     ---------- -------- --------
#     CPAN::Meta 2.120900 2.150010
# 
# === Test Suggests ===
# 
#     Module                          Want     Have
#     --------------------------- -------- --------
#     Class::MOP::Class                any  missing
#     Moo                              any 2.003004
#     Moo::Role                        any 2.003004
#     Moose                            any  missing
#     Moose::Exporter                  any  missing
#     Moose::Role                      any  missing
#     MooseX::Role::Parameterized      any  missing
#     Mouse                            any  missing
#     Mouse::Role                      any  missing
#     Role::Tiny                  1.003000 2.000008
#     metaclass                        any  missing
# 
# === Runtime Requires ===
# 
#     Module              Want     Have
#     --------------- -------- --------
#     Exporter            5.57     5.68
#     File::Find           any     1.23
#     File::Spec           any     3.75
#     Module::Runtime      any    0.016
#     Package::Stash      0.14     0.38
#     Role::Tiny      1.003000 2.000008
#     Sub::Identify        any     0.14
#     Test::Builder        any 1.302164
#     strict               any     1.07
#     warnings             any     1.18
# 
# === Runtime Recommends ===
# 
#     Module             Want Have
#     ------------------ ---- ----
#     Package::Stash::XS  any 0.29
# 
# === Runtime Suggests ===
# 
#     Module     Want     Have
#     ---------- ---- --------
#     Role::Tiny  any 2.000008
# 
# === Other Modules ===
# 
#     Module             Have
#     --------------- -------
#     Encode             2.49
#     File::Temp       0.2309
#     JSON::PP           4.04
#     Module::Runtime   0.016
#     Pod::Coverage   missing
#     Sub::Name          0.21
#     YAML            missing
#     autodie            2.13
# 
t/00-report-prereqs.t ......... ok
t/basic.t ..................... ok
t/class_mop.t ................. skipped: Need Class::MOP
t/clean-namespaces.t .......... ok
t/find_modules.t .............. ok
t/moo.t ....................... ok
t/moose-parameterized-role.t .. skipped: Need Moose, MooseX::Role::Parameterized
t/moose.t ..................... skipped: Need Moose
t/mouse.t ..................... skipped: Need Mouse
t/overload.t .................. ok
t/role_tiny.t ................. ok
t/self.t ...................... ok
t/zzz-check-breaks.t .......... ok
All tests successful.
Files=13, Tests=134,  2 wallclock secs ( 0.06 usr  0.03 sys +  1.35 cusr  1.07 csys =  2.51 CPU)
Result: PASS


PREREQUISITES:

Here is a list of prerequisites you specified and versions we
managed to load:

	  Module Name                        Have     Want
	  Exporter                           5.68     5.57
	  ExtUtils::MakeMaker                7.36        0
	  File::Find                         1.23        0
	  File::Spec                         3.75        0
	  File::Spec::Functions              3.75        0
	  File::pushd                       1.016        0
	  Module::Runtime                   0.016        0
	  Package::Stash                     0.38     0.14
	  Role::Tiny                     2.000008 1.003000
	  Scalar::Util                       1.52        0
	  Sub::Exporter                     0.987        0
	  Sub::Identify                      0.14        0
	  Test::Builder                  1.302164        0
	  Test::Deep                        1.128        0
	  Test::More                     1.302164     0.96
	  Test::Needs                    0.002006        0
	  Test::Tester                   1.302164        0
	  Test::Warnings                    0.026    0.009
	  constant                           1.27        0
	  if                               0.0602        0
	  lib                                0.63        0
	  namespace::clean                   0.27        0
	  overload                           1.22        0
	  parent                            0.225        0
	  strict                             1.07        0
	  warnings                           1.18        0

Perl module toolchain versions installed:
	Module Name                        Have
	CPANPLUS                         0.9178
	CPANPLUS::Dist::Build              0.90
	Cwd                                3.75
	ExtUtils::CBuilder             0.280231
	ExtUtils::Command                  7.36
	ExtUtils::Install                  2.14
	ExtUtils::MakeMaker                7.36
	ExtUtils::Manifest                 1.72
	ExtUtils::ParseXS                  3.35
	File::Spec                         3.75
	Module::Build                    0.4229
	Pod::Parser                        1.60
	Pod::Simple                        3.28
	Test2                          1.302164
	Test::Harness                      3.42
	Test::More                     1.302164
	version                          0.9924

******************************** NOTE ********************************
The comments above are created mechanically, possibly without manual
checking by the sender.  As there are many people performing automatic
tests on each upload to CPAN, it is likely that you will receive
identical messages about the same problem.

If you believe that the message is mistaken, please reply to the first
one with correction and/or additional informations, and do not take
it personally.  We appreciate your patience. :)
**********************************************************************

Additional comments:


This report was machine-generated by CPANPLUS::Dist::YACSmoke 1.08.
Powered by minismokebox version 0.68

CPANPLUS is prefering Build.PL

------------------------------
ENVIRONMENT AND OTHER CONTEXT
------------------------------

Environment variables:

    AUTOMATED_TESTING = 1
    NONINTERACTIVE_TESTING = 1
    PATH = /home/cpan/bin:/bin:/sbin:/usr/bin:/usr/sbin:/usr/X11R7/bin:/usr/pkg/bin:/usr/pkg/sbin:/usr/games:/usr/local/bin:/usr/local/sbin
    PERL5LIB = /home/cpan/pit/jail/4ndtF4lqQG/lib/perl5:/home/cpan/pit/bare/conf/perl-5.18.0/.cpanplus/5.18.0/build/hYokmnKiX7/Test-CleanNamespaces-0.24/blib/lib:/home/cpan/pit/bare/conf/perl-5.18.0/.cpanplus/5.18.0/build/hYokmnKiX7/Test-CleanNamespaces-0.24/blib/arch
    PERL5_CPANPLUS_IS_RUNNING = 26282
    PERL5_CPANPLUS_IS_VERSION = 0.9178
    PERL5_MINISMOKEBOX = 0.68
    PERL5_YACSMOKE_BASE = /home/cpan/pit/bare/conf/perl-5.18.0
    PERL_EXTUTILS_AUTOINSTALL = --defaultdeps
    PERL_LOCAL_LIB_ROOT = /home/cpan/pit/jail/4ndtF4lqQG
    PERL_MB_OPT = --install_base "/home/cpan/pit/jail/4ndtF4lqQG"
    PERL_MM_OPT = INSTALL_BASE=/home/cpan/pit/jail/4ndtF4lqQG
    PERL_MM_USE_DEFAULT = 1
    PERL_USE_UNSAFE_INC = 1
    SHELL = /usr/pkg/bin/bash
    TERM = screen

Perl special variables (and OS-specific diagnostics, for MSWin32):

    Perl: $^X = /home/cpan/pit/bare/perl-5.18.0/bin/perl
    UID:  $<  = 1001
    EUID: $>  = 1001
    GID:  $(  = 100 100
    EGID: $)  = 100 100


-------------------------------


--

Summary of my perl5 (revision 5 version 18 subversion 0) configuration:
   
  Platform:
    osname=netbsd, osvers=8.1, archname=i386-netbsd
    uname='netbsd naboo.bingosnet.co.uk 8.1 netbsd 8.1 (generic) #0: fri may 31 08:43:59 utc 2019 mkrepro@mkrepro.netbsd.org:usrsrcsysarchi386compilegeneric i386 '
    config_args='-des -Dprefix=/home/cpan/pit/bare/perl-5.18.0'
    hint=recommended, useposix=true, d_sigaction=define
    useithreads=undef, usemultiplicity=undef
    useperlio=define, d_sfio=undef, uselargefiles=define, usesocks=undef
    use64bitint=undef, use64bitall=undef, uselongdouble=undef
    usemymalloc=n, bincompat5005=undef
  Compiler:
    cc='cc', ccflags ='-fwrapv -fno-strict-aliasing -pipe -fstack-protector -I/usr/pkg/include',
    optimize='-O',
    cppflags='-fwrapv -fno-strict-aliasing -pipe -fstack-protector -I/usr/pkg/include'
    ccversion='', gccversion='5.5.0', gccosandvers=''
    intsize=4, longsize=4, ptrsize=4, doublesize=8, byteorder=1234
    d_longlong=define, longlongsize=8, d_longdbl=define, longdblsize=12
    ivtype='long', ivsize=4, nvtype='double', nvsize=8, Off_t='off_t', lseeksize=8
    alignbytes=4, prototype=define
  Linker and Libraries:
    ld='cc', ldflags =' -Wl,-rpath,/usr/pkg/lib -Wl,-rpath,/usr/local/lib -fstack-protector -L/usr/pkg/lib'
    libpth=/usr/pkg/lib /lib /usr/lib
    libs=-lgdbm -lm -lcrypt -lutil -lc -lposix
    perllibs=-lm -lcrypt -lutil -lc -lposix
    libc=/lib/libc.so, so=so, useshrplib=false, libperl=libperl.a
    gnulibc_version=''
  Dynamic Linking:
    dlsrc=dl_dlopen.xs, dlext=so, d_dlsymun=undef, ccdlflags='-Wl,-E '
    cccdlflags='-DPIC -fPIC ', lddlflags='-shared  -L/usr/pkg/lib -fstack-protector'


Characteristics of this binary (from libperl): 
  Compile-time options: HAS_TIMES PERLIO_LAYERS PERL_DONT_CREATE_GVSV
                        PERL_HASH_FUNC_ONE_AT_A_TIME_HARD PERL_MALLOC_WRAP
                        PERL_PRESERVE_IVUV PERL_SAWAMPERSAND USE_LARGE_FILES
                        USE_LOCALE USE_LOCALE_COLLATE USE_LOCALE_CTYPE
                        USE_LOCALE_NUMERIC USE_PERLIO USE_PERL_ATOF
  Locally applied patches:
	Devel::PatchPerl 1.64
  Built under netbsd
  Compiled at Aug  2 2019 23:37:36
  %ENV:
    PERL5LIB="/home/cpan/pit/jail/4ndtF4lqQG/lib/perl5:/home/cpan/pit/bare/conf/perl-5.18.0/.cpanplus/5.18.0/build/hYokmnKiX7/Test-CleanNamespaces-0.24/blib/lib:/home/cpan/pit/bare/conf/perl-5.18.0/.cpanplus/5.18.0/build/hYokmnKiX7/Test-CleanNamespaces-0.24/blib/arch"
    PERL5_CPANPLUS_IS_RUNNING="26282"
    PERL5_CPANPLUS_IS_VERSION="0.9178"
    PERL5_MINISMOKEBOX="0.68"
    PERL5_YACSMOKE_BASE="/home/cpan/pit/bare/conf/perl-5.18.0"
    PERL_EXTUTILS_AUTOINSTALL="--defaultdeps"
    PERL_LOCAL_LIB_ROOT="/home/cpan/pit/jail/4ndtF4lqQG"
    PERL_MB_OPT="--install_base "/home/cpan/pit/jail/4ndtF4lqQG""
    PERL_MM_OPT="INSTALL_BASE=/home/cpan/pit/jail/4ndtF4lqQG"
    PERL_MM_USE_DEFAULT="1"
    PERL_USE_UNSAFE_INC="1"
  @INC:
    /home/cpan/pit/jail/4ndtF4lqQG/lib/perl5/5.18.0/i386-netbsd
    /home/cpan/pit/jail/4ndtF4lqQG/lib/perl5/5.18.0
    /home/cpan/pit/jail/4ndtF4lqQG/lib/perl5/i386-netbsd
    /home/cpan/pit/jail/4ndtF4lqQG/lib/perl5
    /home/cpan/pit/bare/conf/perl-5.18.0/.cpanplus/5.18.0/build/hYokmnKiX7/Test-CleanNamespaces-0.24/blib/lib
    /home/cpan/pit/bare/conf/perl-5.18.0/.cpanplus/5.18.0/build/hYokmnKiX7/Test-CleanNamespaces-0.24/blib/arch
    /home/cpan/pit/bare/perl-5.18.0/lib/site_perl/5.18.0/i386-netbsd
    /home/cpan/pit/bare/perl-5.18.0/lib/site_perl/5.18.0
    /home/cpan/pit/bare/perl-5.18.0/lib/5.18.0/i386-netbsd
    /home/cpan/pit/bare/perl-5.18.0/lib/5.18.0
    .